{"text_format":"1","workbook":"xlsx","n_sheets":7,"sheets":["Operating Instructions","Quiz Instructions + Notes","Quiz Maker","Indexing","GIFT Generator","Version History","Processing"],"not_rendered":{"charts":0,"images":1,"macros":1,"external_links":0,"defined_names":0,"comments":0,"pivot_tables":0},"unopened":[],"bounds":{"document_bytes":16777216,"sheet_cells":100000,"rows_first":2000,"rows_last":500,"rows_between":2000,"halvings":0,"cell_chars":16384,"cell_head_chars":4096},"cells_cut":0,"cells_raw":0,"read":"whole","date_system":"1900"}

{"sheet":"Operating Instructions","index":0,"n_rows":113,"n_cols":87,"rows_kept":113,"cut":false,"hidden":false,"merged":[[45,1,45,86],[64,3,64,16383],[68,1,68,16383],[43,3,43,16383],[24,1,24,86],[30,1,30,86],[39,1,39,16383],[41,1,41,16383],[42,3,42,16383],[62,1,62,16383],[63,3,63,16383],[9,0,9,86],[10,0,10,86],[11,0,11,86],[12,0,12,86],[37,0,37,16383],[29,0,29,16383],[26,3,26,86],[25,3,25,86],[27,3,27,86],[31,1,31,16383],[32,2,32,16383],[33,1,33,16383],[83,3,83,16383],[75,3,75,16383],[85,1,85,86],[87,1,87,86],[5,0,7,86],[16,0,16,86],[18,1,18,86],[20,1,20,86],[22,1,22,86],[14,0,14,86],[60,3,60,16383],[47,0,47,86],[49,0,49,16383],[59,1,59,16383],[57,0,57,86],[78,1,78,16383],[80,3,80,86],[79,3,79,16383],[81,3,81,16383],[82,1,82,86],[66,1,66,16383],[69,3,69,16383],[71,1,71,16383],[72,3,72,16383],[74,1,74,16383],[88,3,88,16383],[90,1,90,16383],[91,3,91,16383],[93,1,93,86],[94,3,94,16383],[95,3,95,16383],[100,1,100,16383],[101,3,101,16383],[103,1,103,86],[104,3,104,16383],[106,1,106,16383],[108,1,108,16383],[110,1,110,16383],[112,1,112,16383],[97,1,97,86]]}
["Quizlet Integrated Moodle Quiz Generator, V2.00",null,null,null,null,null,null,null,null,null,null,null,null,null,null,null,null,null,null,null,null,null,null,null,null,null,null,null,null,null,null,null,null,null,null,null,null,null,null,null,null,null,null,null,null,null,null,null,null,null,null,null,null,null,null,null,null,null,null,null,null,null,null,null,null,null,null,null,null,null,null,null,null,null,null,null,null,null,null,null,null,null,null,null,null,null,"Jordan Svien, Bunkyo English Communication Center, Hiroshima Bunkyo University"]
["Last updated: May 7, 2020",null,null,null,null,null,null,null,null,null,null,null,null,null,null,null,null,null,null,null,null,null,null,null,null,null,null,null,null,null,null,null,null,null,null,null,null,null,null,null,null,null,null,null,null,null,null,null,null,null,null,null,null,null,null,null,null,null,null,null,null,null,null,null,null,null,null,null,null,null,null,null,null,null,null,null,null,null,null,null,null,null,null,null,null,null,"jsvien.becc@gmail.com"]
[null,null,null,null,null,null,null,null,null,null,null,null,null,null,null,null,null,null,null,null,null,null,null,null,null,null,null,null,null,null,null,null,null,null,null,null,null,null,null,null,null,null,null,null,null,null,null,null,null,null,null,null,null,null,null,null,null,null,null,null,null,null,null,null,null,null,null,null,null,null,null,null,null,null,null,null,null,null,null,null,null,null,null,null,null,null,"hbubecc.wixsite.com/jordan/tools"]
[]
[]
["Welcome to the Quizlet Integrated Moodle Quiz Generator! This tool allows you to automatically generate GIFT import quiz question strings for uploading to Moodle based on your Quizlet sets. Excel will select which words are to be tested based on Quizlet study data and your difficulty specification, or you can select the questions manually. Read the directions below for operating procedures. Please send any feedback, questions, comments, troubleshooting, or update requests to jsvien.becc@gmail.com."]
[]
[]
[]
["Operating notes:"]
["1. If this Excel sheet opens in Protected View, click 'Allow Editing' to disable Protected View."]
["2. If macros are disabled, please enable them. "]
["3. In Excel formula options (File, Options, Formulas, Calculation Options), set Workbook Calculations to Manual."]
[]
["Step 1: Prepare Quizlet Data  (Your Quizlet account + Quiz Maker tab)"]
[]
["The quiz generator utilizes the class data from your quizlet sets via your Quizlet Teacher account. If you do not have a Quizlet Teacher account, the quiz maker can still be used in a limited capacity (See below)."]
[]
[null,"1. In your Quizlet Teacher account, open the class you wish to retrieve the study data from and select \"Progress\"."]
[]
[null,"2. Select the set and the appropriate time frame. Then, to the right, select \"Mastery\". (Note: The maximum set size is 300 terms.)"]
[]
[null,"3. Select all by pressing Control+A, then copy the data with Control+C. (On a Mac, use Command+A to select all and Command+C to copy.)"]
[]
[null,"4. In the \"Quiz Maker\" tab of this Excel workbook, press the blue Load Quizlet Data button in section 1 of the workbook."]
[null,null,null,"Note 1: In cells B2 and B3, you can enter the class and set title for your record keeping, although this is not mandatory. Class numbers can also be set by pressing the class buttons."]
[null,null,null,"Note 2: If you did not copy the data from Quizlet, or if the clipboard contents have been cleared (for example by pressing the delete key), the button will not work. Press End at the error message, re-copy the data and try again."]
[null,null,null,"Note 3: After loading the data, if you wish to make a copy of it, press the green Make Archive Copy of Quizlet Data button. You will be taken to a new sheet with a copy of the data."]
[]
["If you do not have a Quizlet Teacher account, the quiz generator can still be used to transcribe a Quizlet set and select words manually to be tested."]
[null,"1. In your Quizlet account, open the set you wish to transcribe."]
[null,"2. Press the Export button (located within the \"…\" option). Click inside the text box, and press Control+C to copy the data (Command+C on a Mac)."]
[null,null,"Note: Do not use Quizlet's Make a Copy button, as it is not compatible with this generator."]
[null,"3. In the \"Quiz Maker\" tab of this Excel workbook, press the lavender Load Quizlet Set List Only button in section 1 of the workbook."]
[]
["Step 2: Creating a Quiz  (Quiz Maker tab)"]
[]
["Quizzes are customizable with four difficulty levels or manual question selection. For details about Quiz specifications, read the Quiz Instructions + Notes tab."]
[]
[null,"1. In column K of  Quiz Overview and Specifications (section 3), determine the content to be tested, quiz difficulty structure, random question order setting, and number of questions. See the \"Quiz Instructions + Notes\" tab for further details."]
[]
[null,"2. After inputting quiz settings, click the light green Create / Update Quiz button to create your quiz. It will appear in section 4."]
[null,null,null,"Note 1: If you are unsatisfied with terms to be quizzed, pressing the Create / Update Quiz button again will send a new quiz with the same specifications, potentially resulting in different words of similar difficulties."]
[null,null,null,"Note 2: You can continue to update the quiz settings after making the initial quiz. Press Create / Update Quiz again to make a new quiz with the updated settings."]
[]
[null,"3. Once you are satisfied with your quiz, press the blue Send Quiz to GIFT Generator button. You will be taken to the GIFT Generator workbook tab."]
[]
["Step 3: Using the GIFT Strings Generator  (GIFT Generator tab)"]
[]
["The GIFT Import Strings generator can generate the following lines of question code that can be imported to Moodle via the GIFT formatting import function:"]
[]
[null,"1. Short Answer Questions -> Default and most appropriate type"]
[null,"2. Multiple Choice Questions"]
[null,"3. Missing Word Questions"]
[null,"4. True or False Questions"]
[null,"5. Essay Questions"]
[]
["The GIFT Generator will be preloaded with your quiz questions using the Short Answer format (where students must manually type in the answer text). If you are satisfied with this setting and have no quiz adjustments, skip to step 14. To manually edit the quiz, change question types, or add titles, categories, feedback, or additional answers, see steps 1-13."]
[]
[null,"1. Select the question type you wish to produce by clicking the yellow Cell B2 in the Control Panel (Column B) and subsequently clicking the drop down arrow."]
[null,null,null,"Note 1: If you wish to have multiple question types, select \"Variable\" from the drop down menu in cell B2. Then, enter each question type into Column D by clicking the drop down arrow within each cell before entering question text and answers."]
[]
[null,"2. (Optional) Enter a name for your question set in Cell B16 of the Control Panel (Column B)."]
[null,null,null,"Note 1: This name will appear in the title of each question in Moodle once the import process is completed (even if importing to multiple categories)."]
[null,null,null,"Note 2: If a class and/or set title was entered in the Quiz Maker tab, these names will be used by default. This may be overwritten as desired."]
[]
[null,"3. (Optional) Choose if you wish for question instructions to appear (ON) or not appear (OFF) before each question by pressing the light blue button in the Control Panel (Column B)."]
[]
[null,"4. (Optional) To attach a Moodle Question Bank category to your questions, press the purple button in the Control Panel (Column B). Then, enter the category name into Cell B18."]
[null,null,null,"Note: By using a \"/\", subcategories can be designated, i.e. Vocabulary/Test 1. Subcategories can also be assigned to individual questions (see step 12)."]
[]
[null,"5. Enter any updates to your question text into Column H."]
[null,null,null,"Note: In the case of missing word questions, enter your question text as normal, including the answer word. The code generator will automatically take it out."]
[]
[null,"6. Enter any updates to the correct answers to the questions in the green Column I."]
[null,null,null,"Note 1: In the case of true or false questions, enter T or F into Column I."]
[null,null,null,"Note 2: In the case of essay questions, enter X into Column I."]
[]
[null,"7. If not using the \"Short Answer\" question type, enter incorrect answers in the pink incorrect answer Columns K through N."]
[null,null,null,"Note 1: In the case of short answer questions, wrong answer Columns are replaced by alternative answers columns, allowing for alternative correct answers."]
[null,null,null,"Note 2: If you need more incorrect answer choices, click the blue \"Show/Hide Additional Answer Columns\" button in the Control Panel (Column B). Click it again to hide these additional columns."]
[null,null,null,"Note 3: In the case of true or false questions, wrong answer columns are not used."]
[null,"8. (Optional) To provide answer feedback, click the pink button in the Control Panel (Column B). Then, enter feedback into the appropriate columns."]
[null,null,null,"Note: Feedback shortcuts can be assigned in Columns BE to BI. Follow the instructions as specified there."]
[]
[null,"9. (Optional) To assign partial credit to incorrect answers, click the yellow button in the Control Panel (Column B). Enter the partial credit out of 100 into the appropriate columns."]
[]
[null,"10. (Optional) Enter a question title for each question in Column E, or leave Column E blank to use the question text (step 5) as each question's title."]
[null,null,null,"Note: If a question set name was entered in step 2 (cell B16), this name will appear in every question title before the specific title or question text."]
[]
[null,"11. (Optional) If question instructions have been turned on (see step 3), you may write specific directions for any question in Column G."]
[null,null,null,"Note: If Column G is left blank and question instructions are ON, default instructions will appear based on the question type.  To change these default instructions, edit the text that appears next to the appropriate question type in Column BL."]
[]
[null,"12. (Optional) If categories have been turned on (see step 4), you may specify specific subcategories for each question in Column F."]
[null,null,null,"Note 1: Moodle will automatically create these subcategories in the Question Bank if they do not exist already."]
[null,null,null,"Note 2: If using multiple subcategories, it may be beneficial to use a non-quiz specific question set title (see step 2)."]
[]
[null,"13. Once all quiz changes have been made, click the gray \"Update Quiz Strings\" button located near the top of the Control Panel (column B)."]
[]
[]
[null,"14. When steps 1-13 are finished, or if you had no quiz adjustments, click on the green \"Copy Data to Clipboard\" button in the Control Panel (Column B)."]
[null,null,null,"Note: The data can also be copied manually."]
[]
[null,"15. Open a text editor software tool such as Notepad (on a PC) or TextEdit (on a Mac) and paste your copied code."]
[null,null,null,"Note: If you used the copy button the above step and you have fewer than 100 questions, you will need to scroll to the top of the text editor to see your pasted code text."]
[]
[null,"16. Save the text file. If you have Japanese text, change the encoding option on the Save screen to UTF-8."]
[]
[null,"17. Open your Moodle Question Bank and choose \"Import\". Then, Select \"GIFT Formatting\" and upload your text document."]
[]
[null,"18. Follow the on-screen directions in Moodle to finalize your questions."]
[]
[null,"19. When you are ready to clear your question data and begin afresh, press the red button located below the Control Panel (Column B)."]

{"sheet":"Quiz Instructions + Notes","index":1,"n_rows":52,"n_cols":52,"rows_kept":52,"cut":false,"hidden":false,"merged":[[0,0,0,16383],[42,1,43,16383]]}
["Quiz Instructions + Special Character Notes:"]
[]
["A: Quiz Maker Specifications"]
[]
[null,"1. Quiz What? (Cell K4)"]
[null,null,"This setting determines what will be tested in Moodle, the terms or the definitions. Select Terms or Definitions from the drop down menu to test the respective column. The column not chosen becomes default prompt."]
[]
[null,"2. Difficulty (Cell K5)"]
[null,null,"There are four difficulty modes (Range, Easy, Medium, and Hard) as well as a Manual input mode. Select the desired difficulty setting from the drop down menu."]
[null,null,null,"Range difficulty: Selected words are spaced evenly from the entire list, ensuring easy, medium, and difficult words are chosen."]
[null,null,null,"Easy difficulty: Selected words come only the easiest 50% of the list (ignoring the top 50% most difficult words). Requires the quiz to be 50% or smaller than the original list."]
[null,null,null,"Medium difficulty: Selected words come from the middle 50% of the list (ignoring the easiest and most difficulty 25%, respectively, of the list). Requires the quiz to be 50% or smaller than the original list."]
[null,null,null,"Hard difficulty: Selected words come from only the most difficult 50% of the list (ignoring the bottom 50% easiest words). Requires the quiz to be 50% or smaller than the original list."]
[null,null,null,"Manual Mode: By selecting Manual mode, teachers may specify which terms will be quizzed by typing any character into column H."]
[null,null,null,null,"-To clear the manually selected words, click the red Clear Manually Selected Words button."]
[]
[null,"3. Random Question Order (Cell K6)"]
[null,null,"When this is set to \"No\", the quiz questions will be displayed in order from easiest to hardest based on the study data, or in numerical order in case of Manual Mode. If set to \"Yes\", question order will be shuffled."]
[]
[null,"4. Question Count (Cell K7, For use with Non-Manual Mode only)"]
[null,null,"Input or select from the drop down menu the number of questions to be generated. The total may not exceed 50 nor the total number of terms in the Quizlet set."]
[null,null,null,"-Due to how Easy, Medium, and Hard difficulties are configured, the total may not exceed half the total number of terms in the Quizlet set."]
[]
[null,"5. Manual Terms (Cell K8, for use with Manual Mode only)"]
[null,null,"Excel will total how many words you have selected for manual testing here. No input is necessary. The total may not exceed 50."]
[]
[]
["B: Special Character Notes"]
[]
[null,"1. For answer terms containing commas, the generator will automatically add the text before, between, and after up to three commas as alternative correct answer choices."]
[null,null,null,"Note: To accommodate Japanese text, both , and 、are accepted as commas."]
[null,null,null,"Example 1:",null,null,null,null,null,null,null,null,null,null,null,null,null,null,null,null,null,null,null,null,"Example 2:",null,null,null,null,null,null,null,null,null,null,null,null,null,null,null,null,null,null,null,null,null,null,null,null,null,"Example 3:"]
[null,null,null,null,"Definition:  飲み物",null,null,null,null,null,null,null,null,null,null,null,null,null,null,null,null,null,null,null,null,"Definition:  難しい",null,null,null,null,null,null,null,null,null,null,null,null,null,null,null,null,null,null,null,null,null,null,null,null,null,"Definition:  Simple"]
[null,null,null,null,"Correct Answer:  drink, beverage",null,null,null,null,null,null,null,null,null,null,null,null,null,null,null,null,null,null,null,null,"Correct Answer:  difficult, hard, tricky, challenging",null,null,null,null,null,null,null,null,null,null,null,null,null,null,null,null,null,null,null,null,null,null,null,null,null,"Correct Answer:  簡単な、単純な、容易な"]
[null,null,null,null,"Alternative Answer 1:  drink",null,null,null,null,null,null,null,null,null,null,null,null,null,null,null,null,null,null,null,null,"Alternative Answer 1:  difficult",null,null,null,null,null,null,null,null,null,null,null,null,null,null,null,null,null,null,null,null,null,null,null,null,null,"Alternative Answer 1:  簡単な"]
[null,null,null,null,"Alternative Answer 2:  beverage",null,null,null,null,null,null,null,null,null,null,null,null,null,null,null,null,null,null,null,null,"Alternative Answer 2:  hard",null,null,null,null,null,null,null,null,null,null,null,null,null,null,null,null,null,null,null,null,null,null,null,null,null,"Alternative Answer 2:  単純な"]
[null,null,null,null,null,null,null,null,null,null,null,null,null,null,null,null,null,null,null,null,null,null,null,null,null,"Alternative Answer 3:  tricky",null,null,null,null,null,null,null,null,null,null,null,null,null,null,null,null,null,null,null,null,null,null,null,null,null,"Alternative Answer 3:  容易な"]
[null,null,null,null,null,null,null,null,null,null,null,null,null,null,null,null,null,null,null,null,null,null,null,null,null,"Alternative Answer 4:  challenging"]
[]
[null,null,"In cases where this is not desired, or if additional alternative answers are necessary, please manually update the GIFT generator."]
[]
[]
[null,"2. For answer terms containing parentheses, the generator will accept the answer without parentheses as an alternative correct answer. The generator will also automatically add the text before or after the first set of parentheses as alternative correct answers."]
[]
[null,null,null,"Note: To accommodate Japanese text, both () and （）are accepted as parentheses."]
[null,null,null,"Example 1:",null,null,null,null,null,null,null,null,null,null,null,null,null,null,null,null,null,null,null,null,"Example 2:",null,null,null,null,null,null,null,null,null,null,null,null,null,null,null,null,null,null,null,null,null,null,null,null,null,"Example 3:"]
[null,null,null,null,"Definition: 飲む",null,null,null,null,null,null,null,null,null,null,null,null,null,null,null,null,null,null,null,null,"Definition:  （薬）を飲む",null,null,null,null,null,null,null,null,null,null,null,null,null,null,null,null,null,null,null,null,null,null,null,null,null,"Definition:  注文する"]
[null,null,null,null,"Correct Answer:  (to) drink",null,null,null,null,null,null,null,null,null,null,null,null,null,null,null,null,null,null,null,null,"Correct Answer:  take (medicine)",null,null,null,null,null,null,null,null,null,null,null,null,null,null,null,null,null,null,null,null,null,null,null,null,null,"Correct Answer:  order (verb)"]
[null,null,null,null,"Alternative Answer:  to drink",null,null,null,null,null,null,null,null,null,null,null,null,null,null,null,null,null,null,null,null,"Alternative Answer 1:  take medicine",null,null,null,null,null,null,null,null,null,null,null,null,null,null,null,null,null,null,null,null,null,null,null,null,null,"Alternative Answer 1 :  order verb"]
[null,null,null,null,"Alternative Answer:  drink",null,null,null,null,null,null,null,null,null,null,null,null,null,null,null,null,null,null,null,null,"Alternative Answer 2:  take",null,null,null,null,null,null,null,null,null,null,null,null,null,null,null,null,null,null,null,null,null,null,null,null,null,"Alternative Answer 2 :  order"]
[]
[null,null,"In cases where this is not desired, or if additional alternative answers are necessary, please manually update the GIFT generator."]

{"sheet":"Quiz Maker","index":2,"n_rows":302,"n_cols":126,"rows_kept":302,"cut":false,"hidden":false,"merged":[[0,0,0,1],[0,3,0,6],[0,12,0,15],[0,9,0,10],[9,9,10,10],[8,9,8,10],[1,9,1,10]]}
["1. Quizlet Data Loading and \nClass/Set Labeling",null,null,"           2. Quizlet Study Data",null,null,null,null,null,"3. Quiz Specifications",null,null,"4. Quiz to be Generated",null,null,null,null,null,null,null,null,null,null,null,null,null,null,null,null,null,null,null,null,null,null,null,null,null,null,null,null,null,null,null,null,null,null,null,null,null,null,null,null,null,null,null,null,null,null,null,null,null,null,null,null,null,null,null,null,null,null,null,null,null,null,null,null,null,null,null,null,null,null,null,null,null,null,null,null,null,null,null,null,null,null,null,null,null,null,null,null,null,null,null,null,null,null,null,null,null,null,{"$f":"COLUMN()-105","v":7},{"$f":"COLUMN()-105","v":8},9,10,11,12,13,14,15]
["Class:",null,null,"Number","Term","Definition","Percent",{"$f":"IF(K5=\"Manual\",\"Manual\",\"\")","v":""},null,"Specifications",null,null,"Number",{"$f":"IF($K$4=\"Terms\",\"Definition\",\"Terms\")","v":"Definition"},{"$f":"IF($K$4=\"Terms\",\"Terms\",\"Definition\")","v":"Terms"},"Percent","Alternate Answer 1","Alternate Answer 2","Alternate Answer 3","Alternate Answer 4","Alternate Answer 5","Alternate Answer 6","Alternate Answer 7","Alternate Answer 8","Alternate Answer 9","Term",",1 Find",",2 Find",",3 Find","(1 Find",")1 Find","(2 Find",")2Find","Len","Percent Adj","Original Rank","Adj Rank","Percentile","Rand","RankIf","Terms","Definition","Score","Selected terms","Selected Definition","Selected Score","Diff Rand","Diff Rank","Diff Percentile","Rand","Rankif","Terms","Definition","Score","Diff Selected Terms","Diff Selected Definition","Diff Selected Score","Easy Rand","Easy Rank","Easy Percentile","Rand","Rankif","Terms","Definition","Score","Easy Selected Terms","Easy Selected Definition","Easy Selected Score","Medium Rand","Medium Rank","Medium Percentile","Rand","Rankif","Terms","Definition","Score","Medium Selected Terms","Medium Selected Definition","Medium Selected Score",null,null,"Q's",null,null,"Range",null,null,null,"Easy",null,null,null,"Medium",null,null,null,"Hard",null,null,"Y Count","S-terms","S-Def","S-Per",null,"No","Rank",{"$f":"IF($K$4=\"terms\",\"Definition\",\"terms\")","v":"Definition"},{"$f":"IF($K$4=\"Terms\",\"Terms\",\"Definition\")","v":"Terms"},"Percent","Question","Rand","Alternate Answer 1","Alternate Answer 2","Alternate Answer 3","Alternate Answer 4","Alternate Answer 5","Alternate Answer 6","Alternate Answer 7","Alternative Answer 8","Alternative Answer 9","(",")","（"," （","） ","）"]
["Set:",null,null,{"$f":"IF(E3=\"\",\"\",1)","v":""},null,null,null,null,null,"Set Term Count:",{"$f":"MAX(D:D)","v":0},null,{"$f":"IF($K$5=\"Manual\",IF(CC3<=$K$8,CC3,\"\"),IF(CC3<=$K$7,CC3,\"\"))","v":1},{"$f":"IFERROR(IF($K$6=\"Yes\",VLOOKUP($M3,$DB:$DE,2,0),DC3),\"\")","v":""},{"$f":"IFERROR(IF($K$6=\"Yes\",VLOOKUP($M3,$DB:$DE,3,0),DD3),\"\")","v":""},{"$f":"IFERROR(IF($K$6=\"Yes\",VLOOKUP($M3,$DB:$DE,4,0),DE3),\"\")","v":""},{"$f":"IFERROR(IF($K$6=\"YES\",VLOOKUP($M3,$DB:$DN,DH$1,0),DH3),\"\")","v":""},"","","","","","",{"$f":"IFERROR(IF($K$6=\"YES\",VLOOKUP($M3,$DB:$DP,DO$1,0),DO3),\"\")","v":""},null,{"$f":"DD3","v":""},{"$f":"IFERROR(IFERROR(FIND(\"、\",Z3,1),FIND(\",\",Z3,1)),\"\")","v":""},{"$f":"IFERROR(IFERROR(FIND(\"、\",Z3,AA3+1),FIND(\",\",Z3,AA3+1)),\"\")","v":""},{"$f":"IFERROR(IFERROR(FIND(\"、\",Z3,AB3+1),FIND(\",\",Z3,AB3+1)),\"\")","v":""},{"$f":"IFERROR(IFERROR(FIND(\"（\",SUBSTITUTE(Z3,\" （\",\"（\"),1),FIND(\"(\",SUBSTITUTE(Z3,\" (\",\"(\"),1)),\"\")","v":""},{"$f":"IFERROR(IFERROR(FIND(\"）\",Z3,1),FIND(\")\",Z3,1)),\"\")","v":""},{"$f":"IFERROR(IFERROR(FIND(\"（\",SUBSTITUTE(Z3,\" （\",\"（\"),AD3+1),FIND(\"(\",SUBSTITUTE(Z3,\" (\",\"(\"),AD3+1)),\"\")","v":""},{"$f":"IFERROR(IFERROR(FIND(\"）\",Z3,AE3+1),FIND(\")\",Z3,AE3+1)),\"\")","v":""},{"$f":"LEN(Z3)","v":0},{"$f":"IFERROR(G3+(RAND()/200),\"\")","v":3.2403322779677095E-3},{"$f":"IFERROR(RANK(G3,$G$3:$G$303,0),\"\")","v":""},{"$f":"IFERROR(RANK(AI3,$AI$3:$AI$102,0),\"\")","v":39},{"$f":"IFERROR(ROUNDUP(AK3/(COUNT(G:G))*$K$7,0),\"\")","v":""},{"$f":"IF(G3=\"\",\"\",RAND())","v":""},{"$f":"IF(E3=\"\",\"\",_xlfn.MAXIFS($AM$3:$AM$301,$AL$3:$AL$301,$AL3))","v":""},{"$f":"IF(E3=\"\",\"\",E3)","v":""},{"$f":"IF(F3=\"\",\"\",F3)","v":""},"",{"$f":"IFERROR(VLOOKUP($AN3,$AM$2:$AQ$301,3,0),\"\")","v":""},{"$f":"IFERROR(VLOOKUP($AN3,$AM$2:$AQ$301,4,0),\"\")","v":""},{"$f":"IFERROR(VLOOKUP($AN3,$AM$2:$AQ$301,5,0),\"\")","v":""},{"$f":"IFERROR(IF($AI3=\"\",\"\",IF($AJ3<AVERAGE($AJ$3:$AJ$301),\"\",$AJ3+RAND())),\"\")","v":""},{"$f":"IFERROR(RANK(AU3,$AU$3:$AU$301,1),\"\")","v":""},{"$f":"IFERROR(ROUNDUP(AV3/(COUNT(AU$2:AU$301))*$K$7,0),\"\")","v":""},{"$f":"IF(AW3=\"\",\"\",RAND())","v":""},{"$f":"IF(AV3=\"\",\"\",_xlfn.MAXIFS($AX$3:$AX$301,$AW$3:$AW$301,$AW3))","v":""},{"$f":"IF(E3=\"\",\"\",E3)","v":""},{"$f":"IF(F3=\"\",\"\",F3)","v":""},"",{"$f":"IFERROR(IF(AY3=\"\",\"\",VLOOKUP($AY3,$AX$2:$BB$301,3,0)),\"\")","v":""},{"$f":"IFERROR(IF(AY3=\"\",\"\",VLOOKUP($AY3,$AX$2:$BB$301,4,0)),\"\")","v":""},{"$f":"IFERROR(IF(AY3=\"\",\"\",VLOOKUP($AY3,$AX$2:$BB$301,5,0)),\"\")","v":""},{"$f":"IFERROR(IF($AI3=\"\",\"\",IF($AJ3>AVERAGE($AJ$3:$AJ$301),\"\",$AJ3+RAND())),\"\")","v":""},{"$f":"IFERROR(RANK(BF3,$BF$3:$BF$301,1),\"\")","v":""},{"$f":"IFERROR(ROUNDUP(BG3/(COUNT(BF$2:BF$301))*$K$7,0),\"\")","v":""},{"$f":"IF(BH3=\"\",\"\",RAND())","v":""},{"$f":"IF(BG3=\"\",\"\",_xlfn.MAXIFS($BI$3:$BI$301,$BH$3:$BH$301,$BH3))","v":""},{"$f":"IF(E3=\"\",\"\",E3)","v":""},{"$f":"IF(F3=\"\",\"\",F3)","v":""},"",{"$f":"IFERROR(IF($BJ3=\"\",\"\",VLOOKUP($BJ3,$BI$2:$BP$301,3,0)),\"\")","v":""},{"$f":"IFERROR(IF($BJ3=\"\",\"\",VLOOKUP($BJ3,$BI$2:$BP$301,4,0)),\"\")","v":""},{"$f":"IFERROR(IF($BJ3=\"\",\"\",VLOOKUP($BJ3,$BI$2:$BP$301,5,0)),\"\")","v":""},{"$f":"IFERROR(IF($AI3=\"\",\"\",IF($AJ3>1.5*AVERAGE($AJ$3:$AJ$301),\"\",IF($AJ3<0.5*AVERAGE($AJ$3:$AJ$301),\"\",$AJ3+RAND()))),\"\")","v":""},{"$f":"IFERROR(RANK($BQ3,$BQ$3:$BQ$301,1),\"\")","v":""},{"$f":"IFERROR(ROUNDUP(BR3/(COUNT(BQ$2:BQ$301))*$K$7,0),\"\")","v":""},{"$f":"IF(BS3=\"\",\"\",RAND())","v":""},{"$f":"IF(BR3=\"\",\"\",_xlfn.MAXIFS($BT$3:$BT$301,$BS$3:$BS$301,$BS3))","v":""},{"$f":"IF(E3=\"\",\"\",E3)","v":""},{"$f":"IF(F3=\"\",\"\",F3)","v":""},"",{"$f":"IFERROR(IF($BU3=\"\",\"\",VLOOKUP($BU3,$BT$2:$BX$301,3,0)),\"\")","v":""},{"$f":"IFERROR(IF($BU3=\"\",\"\",VLOOKUP($BU3,$BT$2:$BX$301,4,0)),\"\")","v":""},{"$f":"IFERROR(IF($BU3=\"\",\"\",VLOOKUP($BU3,$BT$2:$BX$301,5,0)),\"\")","v":""},null,1,"Question","Terms","Definition","Percent","Question","Terms","Definition","Percent","Question","Terms","Definition","Percent","Question","Terms","Definition","Percent",null,{"$f":"IFERROR(RANK(CV3,$CV$3:$CV$302,0),\"\")","v":""},{"$f":"IF(H3=\"\",\"\",COUNTA($H$3:H3))","v":""},{"$f":"IF($H3<>\"\",IF(E3=\"\",\"\",E3),\"\")","v":""},{"$f":"IF($H3<>\"\",IF(F3=\"\",\"\",F3),\"\")","v":""},{"$f":"IF($H3<>\"\",IF(G3=\"\",\"\",G3),\"\")","v":""},null,{"$f":"M3","v":1},{"$f":"IFERROR(RANK(DG3,$DG$3:$DG$52,0),\"\")","v":5},{"$f":"IFERROR(IF($K$5=\"manual\",VLOOKUP($M3,$CU:$CY,IF($K$4=\"terms\",Indexing!L$4,Indexing!L$3),0),VLOOKUP($M3,$CD$4:$CS$53,IF($K$4=\"terms\",Indexing!L$2,Indexing!L$1)+VLOOKUP($K$5,Indexing!$A:$C,3,0),0)),\"\")","v":""},{"$f":"IFERROR(IF($K$5=\"manual\",VLOOKUP($M3,$CU:$CY,IF($K$4=\"terms\",Indexing!M$4,Indexing!M$3),0),VLOOKUP($M3,$CD$4:$CS$53,IF($K$4=\"terms\",Indexing!M$2,Indexing!M$1)+VLOOKUP($K$5,Indexing!$A:$C,3,0),0)),\"\")","v":""},{"$f":"IFERROR(IF($K$5=\"manual\",VLOOKUP($M3,$CU:$CY,IF($K$4=\"terms\",Indexing!N$4,Indexing!N$3),0),VLOOKUP($M3,$CD$4:$CS$53,IF($K$4=\"terms\",Indexing!N$2,Indexing!N$1)+VLOOKUP($K$5,Indexing!$A:$C,3,0),0)),\"\")","v":""},{"$f":"M3","v":1},{"$f":"IF(M3=\"\",\"\",RAND())","v":0.30662212501610409},{"$f":"IFERROR(IF(AA3=\"\",\"\",LEFT(Z3,AA3-1)),)","v":""},{"$f":"IFERROR(IF(AB3=\"\",IF(AA3=\"\",\"\",LEFT(RIGHT($Z3,$AH3-AA3-1),AH3-AA3)),LEFT(RIGHT($Z3,$AH3-AA3-1),AB3-AA3-2)),\"\")","v":""},{"$f":"IFERROR(IF(AC3=\"\",IF(AB3=\"\",\"\",LEFT(RIGHT($Z3,$AH3-AB3-1),AH3-AB3)),LEFT(RIGHT($Z3,$AH3-AB3-1),AC3-AB3-2)),\"\")","v":""},{"$f":"IFERROR(IF(AC3=\"\",\"\",RIGHT(Z3,AH3-AC3-1)),\"\")","v":""},{"$f":"IFERROR(IF(AF3=\"\",IF(AD3>1,LEFT(SUBSTITUTE(SUBSTITUTE(Z3,\"（\",\"(\"),\" (\",\"(\"),AD3-1),\"\"),\"\"),\"\")","v":""},{"$f":"IFERROR(IF(AF3=\"\",IF(AD3=1,RIGHT(Z3,AH3-AE3-1),\"\"),\"\"),\"\")","v":""},{"$f":"IFERROR(IF(AF3>=1,LEFT(RIGHT(Z3,AH3-AE3-1),AF3-AE3-2),\"\"),\"\")","v":""},{"$f":"IF(AD3=\"\",\"\",SUBSTITUTE(SUBSTITUTE(SUBSTITUTE(SUBSTITUTE(SUBSTITUTE(SUBSTITUTE(Z3,DQ3,\"\"),DR3,\"\"),DT3,\"\"),DV3,\"\"),DS3,\"\"),DU3,\"\"))","v":""},null,"(",")","（"," （","）","）"]
[null,null,null,{"$f":"IF(E4=\"\",\"\",1+D3)","v":""},null,null,null,null,null,"Quiz What?","Terms",null,2,"","","","","","","","","","",{"$f":"IFERROR(IF($K$6=\"YES\",VLOOKUP($M4,$DB:$DP,DO$1,0),DO4),\"\")","v":""},null,{"$f":"DD4","v":""},{"$f":"IFERROR(IFERROR(FIND(\"、\",Z4,1),FIND(\",\",Z4,1)),\"\")","v":""},{"$f":"IFERROR(IFERROR(FIND(\"、\",Z4,AA4+1),FIND(\",\",Z4,AA4+1)),\"\")","v":""},{"$f":"IFERROR(IFERROR(FIND(\"、\",Z4,AB4+1),FIND(\",\",Z4,AB4+1)),\"\")","v":""},{"$f":"IFERROR(IFERROR(FIND(\"（\",SUBSTITUTE(Z4,\" （\",\"（\"),1),FIND(\"(\",SUBSTITUTE(Z4,\" (\",\"(\"),1)),\"\")","v":""},{"$f":"IFERROR(IFERROR(FIND(\"）\",Z4,1),FIND(\")\",Z4,1)),\"\")","v":""},{"$f":"IFERROR(IFERROR(FIND(\"（\",SUBSTITUTE(Z4,\" （\",\"（\"),AD4+1),FIND(\"(\",SUBSTITUTE(Z4,\" (\",\"(\"),AD4+1)),\"\")","v":""},{"$f":"IFERROR(IFERROR(FIND(\"）\",Z4,AE4+1),FIND(\")\",Z4,AE4+1)),\"\")","v":""},{"$f":"LEN(Z4)","v":0},2.7525444067012755E-3,"",48,"","","",{"$f":"IF(E4=\"\",\"\",E4)","v":""},{"$f":"IF(F4=\"\",\"\",F4)","v":""},{"$f":"IF(G4=\"\",\"\",G4)","v":""},"","","","","","","","",{"$f":"IF(E4=\"\",\"\",E4)","v":""},{"$f":"IF(F4=\"\",\"\",F4)","v":""},{"$f":"IF(G4=\"\",\"\",G4)","v":""},"","","","","","","","",{"$f":"IF(E4=\"\",\"\",E4)","v":""},{"$f":"IF(F4=\"\",\"\",F4)","v":""},{"$f":"IF(G4=\"\",\"\",G4)","v":""},"","","","","","","","",{"$f":"IF(E4=\"\",\"\",E4)","v":""},{"$f":"IF(F4=\"\",\"\",F4)","v":""},{"$f":"IF(G4=\"\",\"\",G4)","v":""},{"$f":"IFERROR(IF($BU4=\"\",\"\",VLOOKUP($BU4,$BT$2:$BX$301,3,0)),\"\")","v":""},"","",null,2,{"$f":"IF(CC3<=$K$7,CC3,\"\")","v":1},{"$f":"IFERROR(VLOOKUP($CD4,$AL$2:$AT$301,7,0),\"\")","v":""},{"$f":"IFERROR(VLOOKUP($CD4,$AL$2:$AT$301,8,0),\"\")","v":""},{"$f":"IFERROR(VLOOKUP($CD4,$AL$2:$AT$301,9,0),\"\")","v":""},{"$f":"IF($CC3<=$K$7,$CC3,\"\")","v":1},{"$f":"IFERROR(VLOOKUP($CH4,$BH$2:$BP$301,7,0),\"\")","v":""},{"$f":"IFERROR(VLOOKUP($CH4,$BH$2:$BP$301,8,0),\"\")","v":""},{"$f":"IFERROR(VLOOKUP($CH4,$BH$2:$BP$301,9,0),\"\")","v":""},{"$f":"IF($CC3<=$K$7,$CC3,\"\")","v":1},{"$f":"IFERROR(VLOOKUP($CL4,$BS$2:$CA$301,7,0),\"\")","v":""},{"$f":"IFERROR(VLOOKUP($CL4,$BS$2:$CA$301,8,0),\"\")","v":""},{"$f":"IFERROR(VLOOKUP($CL4,$BS$2:$CA$301,9,0),\"\")","v":""},{"$f":"IF($CC3<=$K$7,$CC3,\"\")","v":1},{"$f":"IFERROR(VLOOKUP($CP4,$AW$2:$BE$301,7,0),\"\")","v":""},{"$f":"IFERROR(VLOOKUP($CP4,$AW$2:$BE$301,8,0),\"\")","v":""},{"$f":"IFERROR(VLOOKUP($CP4,$AW$2:$BE$301,9,0),\"\")","v":""},null,{"$f":"IFERROR(RANK(CV4,$CV$3:$CV$302,0),\"\")","v":""},{"$f":"IF(H4=\"\",\"\",COUNTA($H$3:H4))","v":""},{"$f":"IF($H4<>\"\",IF(E4=\"\",\"\",E4),\"\")","v":""},{"$f":"IF($H4<>\"\",IF(F4=\"\",\"\",F4),\"\")","v":""},{"$f":"IF($H4<>\"\",IF(G4=\"\",\"\",G4),\"\")","v":""},null,2,4,{"$f":"IFERROR(IF($K$5=\"manual\",VLOOKUP($M4,$CU:$CY,IF($K$4=\"terms\",Indexing!L$4,Indexing!L$3),0),VLOOKUP($M4,$CD$4:$CS$53,IF($K$4=\"terms\",Indexing!L$2,Indexing!L$1)+VLOOKUP($K$5,Indexing!$A:$C,3,0),0)),\"\")","v":""},{"$f":"IFERROR(IF($K$5=\"manual\",VLOOKUP($M4,$CU:$CY,IF($K$4=\"terms\",Indexing!M$4,Indexing!M$3),0),VLOOKUP($M4,$CD$4:$CS$53,IF($K$4=\"terms\",Indexing!M$2,Indexing!M$1)+VLOOKUP($K$5,Indexing!$A:$C,3,0),0)),\"\")","v":""},{"$f":"IFERROR(IF($K$5=\"manual\",VLOOKUP($M4,$CU:$CY,IF($K$4=\"terms\",Indexing!N$4,Indexing!N$3),0),VLOOKUP($M4,$CD$4:$CS$53,IF($K$4=\"terms\",Indexing!N$2,Indexing!N$1)+VLOOKUP($K$5,Indexing!$A:$C,3,0),0)),\"\")","v":""},2,0.40925132854048796,"",{"$f":"IFERROR(IF(AB4=\"\",IF(AA4=\"\",\"\",LEFT(RIGHT($Z4,$AH4-AA4-1),AH4-AA4)),LEFT(RIGHT($Z4,$AH4-AA4-1),AB4-AA4-2)),\"\")","v":""},"","",{"$f":"IFERROR(IF(AF4=\"\",IF(AD4>1,LEFT(SUBSTITUTE(SUBSTITUTE(Z4,\"（\",\"(\"),\" (\",\"(\"),AD4-1),\"\"),\"\"),\"\")","v":""},"",{"$f":"IFERROR(IF(AF4>=1,LEFT(RIGHT(Z4,AH4-AE4-1),AF4-AE4-3),\"\"),\"\")","v":""},{"$f":"IF(AD4=\"\",\"\",SUBSTITUTE(SUBSTITUTE(SUBSTITUTE(SUBSTITUTE(SUBSTITUTE(SUBSTITUTE(Z4,DQ4,\"\"),DR4,\"\"),DT4,\"\"),DV4,\"\"),DS4,\"\"),DU4,\"\"))","v":""},null,"(",")","（"," （","）","）"]
[null,null,null,"",null,null,null,null,null,"Difficulty:","Range",null,3,"","","","","","","","","","","",null,"","","","","","","","",{"$f":"LEN(Z5)","v":0},2.1862918852589798E-3,"",58,"","","","","","","","","","","","","","","","","","","","","","","","","","","","","","","","","","","","","","","","","","",null,3,2,"","","",2,"","","",2,"","","",2,"","","",null,"",{"$f":"IF(H5=\"\",\"\",COUNTA($H$3:H5))","v":""},"","","",null,3,8,{"$f":"IFERROR(IF($K$5=\"manual\",VLOOKUP($M5,$CU:$CY,IF($K$4=\"terms\",Indexing!L$4,Indexing!L$3),0),VLOOKUP($M5,$CD$4:$CS$53,IF($K$4=\"terms\",Indexing!L$2,Indexing!L$1)+VLOOKUP($K$5,Indexing!$A:$C,3,0),0)),\"\")","v":""},{"$f":"IFERROR(IF($K$5=\"manual\",VLOOKUP($M5,$CU:$CY,IF($K$4=\"terms\",Indexing!M$4,Indexing!M$3),0),VLOOKUP($M5,$CD$4:$CS$53,IF($K$4=\"terms\",Indexing!M$2,Indexing!M$1)+VLOOKUP($K$5,Indexing!$A:$C,3,0),0)),\"\")","v":""},{"$f":"IFERROR(IF($K$5=\"manual\",VLOOKUP($M5,$CU:$CY,IF($K$4=\"terms\",Indexing!N$4,Indexing!N$3),0),VLOOKUP($M5,$CD$4:$CS$53,IF($K$4=\"terms\",Indexing!N$2,Indexing!N$1)+VLOOKUP($K$5,Indexing!$A:$C,3,0),0)),\"\")","v":""},3,0.11677828764015952,"","","","",{"$f":"IFERROR(IF(AF5=\"\",IF(AD5>1,LEFT(SUBSTITUTE(SUBSTITUTE(Z5,\"（\",\"(\"),\" (\",\"(\"),AD5-1),\"\"),\"\"),\"\")","v":""},"","","",null,"(",")","（"," （","）","）"]
[null,null,null,"",null,null,null,null,null,"Random Q Order:","No",null,4,"","","","","","","","","","","",null,"","","","","","","","",{"$f":"LEN(Z6)","v":0},4.5555034491125742E-3,"",6,"","","","","","","","","","","","","","","","","","","","","","","","","","","","","","","","","","","","","","","","","","",null,4,3,"","","",3,"","","",3,"","","",3,"","","",null,"",{"$f":"IF(H6=\"\",\"\",COUNTA($H$3:H6))","v":""},"","","",null,4,1,{"$f":"IFERROR(IF($K$5=\"manual\",VLOOKUP($M6,$CU:$CY,IF($K$4=\"terms\",Indexing!L$4,Indexing!L$3),0),VLOOKUP($M6,$CD$4:$CS$53,IF($K$4=\"terms\",Indexing!L$2,Indexing!L$1)+VLOOKUP($K$5,Indexing!$A:$C,3,0),0)),\"\")","v":""},{"$f":"IFERROR(IF($K$5=\"manual\",VLOOKUP($M6,$CU:$CY,IF($K$4=\"terms\",Indexing!M$4,Indexing!M$3),0),VLOOKUP($M6,$CD$4:$CS$53,IF($K$4=\"terms\",Indexing!M$2,Indexing!M$1)+VLOOKUP($K$5,Indexing!$A:$C,3,0),0)),\"\")","v":""},{"$f":"IFERROR(IF($K$5=\"manual\",VLOOKUP($M6,$CU:$CY,IF($K$4=\"terms\",Indexing!N$4,Indexing!N$3),0),VLOOKUP($M6,$CD$4:$CS$53,IF($K$4=\"terms\",Indexing!N$2,Indexing!N$1)+VLOOKUP($K$5,Indexing!$A:$C,3,0),0)),\"\")","v":""},4,0.8029255687838005,"","","","","","","","",null,"(",")","（"," （","）","）"]
[null,null,null,"",null,null,null,null,null,{"$f":"IF(K5=\"Selected\",\"\",\"Questions:\")","v":"Questions:"},10,null,5,"","","","","","","","","","","",null,"","","","","","","","",0,2.089629135594503E-3,"",60,"","","","","","","","","","","","","","","","","","","","","","","","","","","","","","","","","","","","","","","","","","",null,5,4,"","","",4,"","","",4,"","","",4,"","","",null,"",{"$f":"IF(H7=\"\",\"\",COUNTA($H$3:H7))","v":""},"","","",null,5,7,{"$f":"IFERROR(IF($K$5=\"manual\",VLOOKUP($M7,$CU:$CY,IF($K$4=\"terms\",Indexing!L$4,Indexing!L$3),0),VLOOKUP($M7,$CD$4:$CS$53,IF($K$4=\"terms\",Indexing!L$2,Indexing!L$1)+VLOOKUP($K$5,Indexing!$A:$C,3,0),0)),\"\")","v":""},{"$f":"IFERROR(IF($K$5=\"manual\",VLOOKUP($M7,$CU:$CY,IF($K$4=\"terms\",Indexing!M$4,Indexing!M$3),0),VLOOKUP($M7,$CD$4:$CS$53,IF($K$4=\"terms\",Indexing!M$2,Indexing!M$1)+VLOOKUP($K$5,Indexing!$A:$C,3,0),0)),\"\")","v":""},{"$f":"IFERROR(IF($K$5=\"manual\",VLOOKUP($M7,$CU:$CY,IF($K$4=\"terms\",Indexing!N$4,Indexing!N$3),0),VLOOKUP($M7,$CD$4:$CS$53,IF($K$4=\"terms\",Indexing!N$2,Indexing!N$1)+VLOOKUP($K$5,Indexing!$A:$C,3,0),0)),\"\")","v":""},5,0.17480545701547057,"","","","",{"$f":"IFERROR(IF(AF7=\"\",IF(AD7>1,LEFT(SUBSTITUTE(SUBSTITUTE(Z7,\"（\",\"(\"),\" (\",\"(\"),AD7-1),\"\"),\"\"),\"\")","v":""},"","","",null,"(",")","（"," （","）","）"]
[null,null,null,"",null,null,null,null,null,{"$f":"IF(K5=\"Manual\",\"Manual Terms:\",\"\")","v":""},{"$f":"IF(K5=\"Manual\",COUNTA(H3:H302),\"\")","v":""},null,6,"","","",{"$f":"IFERROR(IF($K$6=\"YES\",VLOOKUP($M8,$DB:$DN,DH$1,0),DH8),\"\")","v":""},{"$f":"IFERROR(IF($K$6=\"YES\",VLOOKUP($M8,$DB:$DN,DI$1,0),DI8),\"\")","v":""},{"$f":"IFERROR(IF($K$6=\"YES\",VLOOKUP($M8,$DB:$DN,DJ$1,0),DJ8),\"\")","v":""},{"$f":"IFERROR(IF($K$6=\"YES\",VLOOKUP($M8,$DB:$DN,DK$1,0),DK8),\"\")","v":""},{"$f":"IFERROR(IF($K$6=\"YES\",VLOOKUP($M8,$DB:$DN,DL$1,0),DL8),\"\")","v":""},{"$f":"IFERROR(IF($K$6=\"YES\",VLOOKUP($M8,$DB:$DN,DM$1,0),DM8),\"\")","v":""},{"$f":"IFERROR(IF($K$6=\"YES\",VLOOKUP($M8,$DB:$DN,DN$1,0),DN8),\"\")","v":""},"",null,"","","","","","","","",0,2.088931470376833E-3,"",61,"","","","","","","","","","","","","","","","","","","","","","","","","","","","","","","","","","","","","","","","","","",null,6,5,"","","",5,"","","",5,"","","",5,"","","",null,"",{"$f":"IF(H8=\"\",\"\",COUNTA($H$3:H8))","v":""},"","","",null,6,10,{"$f":"IFERROR(IF($K$5=\"manual\",VLOOKUP($M8,$CU:$CY,IF($K$4=\"terms\",Indexing!L$4,Indexing!L$3),0),VLOOKUP($M8,$CD$4:$CS$53,IF($K$4=\"terms\",Indexing!L$2,Indexing!L$1)+VLOOKUP($K$5,Indexing!$A:$C,3,0),0)),\"\")","v":""},{"$f":"IFERROR(IF($K$5=\"manual\",VLOOKUP($M8,$CU:$CY,IF($K$4=\"terms\",Indexing!M$4,Indexing!M$3),0),VLOOKUP($M8,$CD$4:$CS$53,IF($K$4=\"terms\",Indexing!M$2,Indexing!M$1)+VLOOKUP($K$5,Indexing!$A:$C,3,0),0)),\"\")","v":""},{"$f":"IFERROR(IF($K$5=\"manual\",VLOOKUP($M8,$CU:$CY,IF($K$4=\"terms\",Indexing!N$4,Indexing!N$3),0),VLOOKUP($M8,$CD$4:$CS$53,IF($K$4=\"terms\",Indexing!N$2,Indexing!N$1)+VLOOKUP($K$5,Indexing!$A:$C,3,0),0)),\"\")","v":""},6,5.8062956966549062E-2,"","","","",{"$f":"IFERROR(IF(AF8=\"\",IF(AD8>1,LEFT(SUBSTITUTE(SUBSTITUTE(Z8,\"（\",\"(\"),\" (\",\"(\"),AD8-1),\"\"),\"\"),\"\")","v":""},"","","",null,"(",")","（"," （","）","）"]
[null,null,null,"",null,null,null,null,null,{"$f":"IFERROR(IF(K21=\"\",IF(K20=\"\",IF(K19=\"\",\"\",VLOOKUP(K19,Indexing!P:R,3,0)),VLOOKUP(K20,Indexing!P:R,3,0)),VLOOKUP(K21,Indexing!P:R,3,0)),\"\")","v":"Error!"},null,null,7,"","","","","","","","","","","",null,"","","","","","","","",0,1.8578391439109708E-3,"",65,"","","","","","","","","","","","","","","","","","","","","","","","","","","","","","","","","","","","","","","","","","",null,7,6,"","","",6,"","","",6,"","","",6,"","","",null,"",{"$f":"IF(H9=\"\",\"\",COUNTA($H$3:H9))","v":""},"","","",null,7,2,{"$f":"IFERROR(IF($K$5=\"manual\",VLOOKUP($M9,$CU:$CY,IF($K$4=\"terms\",Indexing!L$4,Indexing!L$3),0),VLOOKUP($M9,$CD$4:$CS$53,IF($K$4=\"terms\",Indexing!L$2,Indexing!L$1)+VLOOKUP($K$5,Indexing!$A:$C,3,0),0)),\"\")","v":""},{"$f":"IFERROR(IF($K$5=\"manual\",VLOOKUP($M9,$CU:$CY,IF($K$4=\"terms\",Indexing!M$4,Indexing!M$3),0),VLOOKUP($M9,$CD$4:$CS$53,IF($K$4=\"terms\",Indexing!M$2,Indexing!M$1)+VLOOKUP($K$5,Indexing!$A:$C,3,0),0)),\"\")","v":""},{"$f":"IFERROR(IF($K$5=\"manual\",VLOOKUP($M9,$CU:$CY,IF($K$4=\"terms\",Indexing!N$4,Indexing!N$3),0),VLOOKUP($M9,$CD$4:$CS$53,IF($K$4=\"terms\",Indexing!N$2,Indexing!N$1)+VLOOKUP($K$5,Indexing!$A:$C,3,0),0)),\"\")","v":""},7,0.77500267626184394,"","","","",{"$f":"IFERROR(IF(AF9=\"\",IF(AD9>1,LEFT(SUBSTITUTE(SUBSTITUTE(Z9,\"（\",\"(\"),\" (\",\"(\"),AD9-1),\"\"),\"\"),\"\")","v":""},"","","",null,"(",")","（"," （","）","）"]
[null,null,null,"",null,null,null,null,null,{"$f":"IFERROR(IF(K21=\"\",IF(K20=\"\",IF(K19=\"\",\"\",VLOOKUP(K19,Indexing!P:R,2,0)),VLOOKUP(K20,Indexing!P:R,2,0)),VLOOKUP(K21,Indexing!P:R,2,0)),\"\")","v":"Question count exceeds original set size"},null,null,8,"","","","","","","","","","","",null,"","","","","","","","",0,3.5092476513246752E-3,"",28,"","","","","","","","","","","","","","","","","","","","","","","","","","","","","","","","","","","","","","","","","","",null,8,7,"","","",7,"","","",7,"","","",7,"","","",null,"",{"$f":"IF(H10=\"\",\"\",COUNTA($H$3:H10))","v":""},"","","",null,8,9,{"$f":"IFERROR(IF($K$5=\"manual\",VLOOKUP($M10,$CU:$CY,IF($K$4=\"terms\",Indexing!L$4,Indexing!L$3),0),VLOOKUP($M10,$CD$4:$CS$53,IF($K$4=\"terms\",Indexing!L$2,Indexing!L$1)+VLOOKUP($K$5,Indexing!$A:$C,3,0),0)),\"\")","v":""},{"$f":"IFERROR(IF($K$5=\"manual\",VLOOKUP($M10,$CU:$CY,IF($K$4=\"terms\",Indexing!M$4,Indexing!M$3),0),VLOOKUP($M10,$CD$4:$CS$53,IF($K$4=\"terms\",Indexing!M$2,Indexing!M$1)+VLOOKUP($K$5,Indexing!$A:$C,3,0),0)),\"\")","v":""},{"$f":"IFERROR(IF($K$5=\"manual\",VLOOKUP($M10,$CU:$CY,IF($K$4=\"terms\",Indexing!N$4,Indexing!N$3),0),VLOOKUP($M10,$CD$4:$CS$53,IF($K$4=\"terms\",Indexing!N$2,Indexing!N$1)+VLOOKUP($K$5,Indexing!$A:$C,3,0),0)),\"\")","v":""},8,7.949795928664527E-2,"","","","","","","","",null,"(",")","（"," （","）","）"]
[null,null,null,"",null,null,null,null,null,null,null,null,9,"","","","","","","","","","","",null,"","","","","","","","",0,4.4198293423429738E-5,"",99,"","","","","","","","","","","","","","","","","","","","","","","","","","","","","","","","","","","","","","","","","","",null,9,8,"","","",8,"","","",8,"","","",8,"","","",null,"",{"$f":"IF(H11=\"\",\"\",COUNTA($H$3:H11))","v":""},"","","",null,9,6,{"$f":"IFERROR(IF($K$5=\"manual\",VLOOKUP($M11,$CU:$CY,IF($K$4=\"terms\",Indexing!L$4,Indexing!L$3),0),VLOOKUP($M11,$CD$4:$CS$53,IF($K$4=\"terms\",Indexing!L$2,Indexing!L$1)+VLOOKUP($K$5,Indexing!$A:$C,3,0),0)),\"\")","v":""},{"$f":"IFERROR(IF($K$5=\"manual\",VLOOKUP($M11,$CU:$CY,IF($K$4=\"terms\",Indexing!M$4,Indexing!M$3),0),VLOOKUP($M11,$CD$4:$CS$53,IF($K$4=\"terms\",Indexing!M$2,Indexing!M$1)+VLOOKUP($K$5,Indexing!$A:$C,3,0),0)),\"\")","v":""},{"$f":"IFERROR(IF($K$5=\"manual\",VLOOKUP($M11,$CU:$CY,IF($K$4=\"terms\",Indexing!N$4,Indexing!N$3),0),VLOOKUP($M11,$CD$4:$CS$53,IF($K$4=\"terms\",Indexing!N$2,Indexing!N$1)+VLOOKUP($K$5,Indexing!$A:$C,3,0),0)),\"\")","v":""},9,0.27848442914475235,"","","","","","","","",null,"(",")","（"," （","）","）"]
[null,null,null,"",null,null,null,null,null,null,null,null,10,"","","","","","","","","","","",null,"","","","","","","","",{"$f":"LEN(Z12)","v":0},8.6452263387407077E-5,"",98,"","","","","","","","","","","","","","","","","","","","","","","","","","","","","","","","","","","","","","","","","","",null,10,9,"","","",9,"","","",9,"","","",9,"","","",null,"",{"$f":"IF(H12=\"\",\"\",COUNTA($H$3:H12))","v":""},"","","",null,10,3,{"$f":"IFERROR(IF($K$5=\"manual\",VLOOKUP($M12,$CU:$CY,IF($K$4=\"terms\",Indexing!L$4,Indexing!L$3),0),VLOOKUP($M12,$CD$4:$CS$53,IF($K$4=\"terms\",Indexing!L$2,Indexing!L$1)+VLOOKUP($K$5,Indexing!$A:$C,3,0),0)),\"\")","v":""},{"$f":"IFERROR(IF($K$5=\"manual\",VLOOKUP($M12,$CU:$CY,IF($K$4=\"terms\",Indexing!M$4,Indexing!M$3),0),VLOOKUP($M12,$CD$4:$CS$53,IF($K$4=\"terms\",Indexing!M$2,Indexing!M$1)+VLOOKUP($K$5,Indexing!$A:$C,3,0),0)),\"\")","v":""},{"$f":"IFERROR(IF($K$5=\"manual\",VLOOKUP($M12,$CU:$CY,IF($K$4=\"terms\",Indexing!N$4,Indexing!N$3),0),VLOOKUP($M12,$CD$4:$CS$53,IF($K$4=\"terms\",Indexing!N$2,Indexing!N$1)+VLOOKUP($K$5,Indexing!$A:$C,3,0),0)),\"\")","v":""},10,0.7692979900737229,"","","","","","","","",null,"(",")","（"," （","）","）"]
[null,null,null,"",null,null,null,null,null,null,null,null,"","","","","","","","","","","","",null,"",{"$f":"IFERROR(FIND(\",\",Z13,1),\"\")","v":""},{"$f":"IFERROR(FIND(\",\",Z13,AA13+1),\"\")","v":""},{"$f":"IFERROR(FIND(\",\",Z13,AB13+1),\"\")","v":""},"",{"$f":"IFERROR(FIND(\")\",Z13,1),\"\")","v":""},"",{"$f":"IFERROR(FIND(\")\",Z13,AE13+1),\"\")","v":""},0,2.9499557148059863E-3,"",45,"","","","","","","","","","","","","","","","","","","","","","","","","","","","","","","","","","","","","","","","","","",null,11,10,"","","",10,"","","",10,"","","",10,"","","",null,"",{"$f":"IF(H13=\"\",\"\",COUNTA($H$3:H13))","v":""},"","","",null,"","",{"$f":"IFERROR(IF($K$5=\"manual\",VLOOKUP($M13,$CU:$CY,IF($K$4=\"terms\",Indexing!L$4,Indexing!L$3),0),VLOOKUP($M13,$CD$4:$CS$53,IF($K$4=\"terms\",Indexing!L$2,Indexing!L$1)+VLOOKUP($K$5,Indexing!$A:$C,3,0),0)),\"\")","v":""},{"$f":"IFERROR(IF($K$5=\"manual\",VLOOKUP($M13,$CU:$CY,IF($K$4=\"terms\",Indexing!M$4,Indexing!M$3),0),VLOOKUP($M13,$CD$4:$CS$53,IF($K$4=\"terms\",Indexing!M$2,Indexing!M$1)+VLOOKUP($K$5,Indexing!$A:$C,3,0),0)),\"\")","v":""},{"$f":"IFERROR(IF($K$5=\"manual\",VLOOKUP($M13,$CU:$CY,IF($K$4=\"terms\",Indexing!N$4,Indexing!N$3),0),VLOOKUP($M13,$CD$4:$CS$53,IF($K$4=\"terms\",Indexing!N$2,Indexing!N$1)+VLOOKUP($K$5,Indexing!$A:$C,3,0),0)),\"\")","v":""},"","","","","","","","","","",null,"(",")","（"," （","）","）"]
[null,null,null,"",null,null,null,null,null,null,null,null,"","","","","","","","","","","","",null,"","","","","","","","",0,2.5868938220722153E-3,"",50,"","","","","","","","","","","","","","","","","","","","","","","","","","","","","","","","","","","","","","","","","","",null,12,"","","","","","","","","","","","","","","","",null,"",{"$f":"IF(H14=\"\",\"\",COUNTA($H$3:H14))","v":""},"","","",null,"","",{"$f":"IFERROR(IF($K$5=\"manual\",VLOOKUP($M14,$CU:$CY,IF($K$4=\"terms\",Indexing!L$4,Indexing!L$3),0),VLOOKUP($M14,$CD$4:$CS$53,IF($K$4=\"terms\",Indexing!L$2,Indexing!L$1)+VLOOKUP($K$5,Indexing!$A:$C,3,0),0)),\"\")","v":""},{"$f":"IFERROR(IF($K$5=\"manual\",VLOOKUP($M14,$CU:$CY,IF($K$4=\"terms\",Indexing!M$4,Indexing!M$3),0),VLOOKUP($M14,$CD$4:$CS$53,IF($K$4=\"terms\",Indexing!M$2,Indexing!M$1)+VLOOKUP($K$5,Indexing!$A:$C,3,0),0)),\"\")","v":""},{"$f":"IFERROR(IF($K$5=\"manual\",VLOOKUP($M14,$CU:$CY,IF($K$4=\"terms\",Indexing!N$4,Indexing!N$3),0),VLOOKUP($M14,$CD$4:$CS$53,IF($K$4=\"terms\",Indexing!N$2,Indexing!N$1)+VLOOKUP($K$5,Indexing!$A:$C,3,0),0)),\"\")","v":""},"","","","","","","","","","",null,"(",")","（"," （","）","）"]
[null,null,null,"",null,null,null,null,null,null,null,null,"","","","","","","","","","","","",null,"","","","","","","","",0,3.3652427215289547E-3,"",34,"","","","","","","","","","","","","","","","","","","","","","","","","","","","","","","","","","","","","","","","","","",null,13,"","","","","","","","","","","","","","","","",null,"",{"$f":"IF(H15=\"\",\"\",COUNTA($H$3:H15))","v":""},"","","",null,"","",{"$f":"IFERROR(IF($K$5=\"manual\",VLOOKUP($M15,$CU:$CY,IF($K$4=\"terms\",Indexing!L$4,Indexing!L$3),0),VLOOKUP($M15,$CD$4:$CS$53,IF($K$4=\"terms\",Indexing!L$2,Indexing!L$1)+VLOOKUP($K$5,Indexing!$A:$C,3,0),0)),\"\")","v":""},{"$f":"IFERROR(IF($K$5=\"manual\",VLOOKUP($M15,$CU:$CY,IF($K$4=\"terms\",Indexing!M$4,Indexing!M$3),0),VLOOKUP($M15,$CD$4:$CS$53,IF($K$4=\"terms\",Indexing!M$2,Indexing!M$1)+VLOOKUP($K$5,Indexing!$A:$C,3,0),0)),\"\")","v":""},{"$f":"IFERROR(IF($K$5=\"manual\",VLOOKUP($M15,$CU:$CY,IF($K$4=\"terms\",Indexing!N$4,Indexing!N$3),0),VLOOKUP($M15,$CD$4:$CS$53,IF($K$4=\"terms\",Indexing!N$2,Indexing!N$1)+VLOOKUP($K$5,Indexing!$A:$C,3,0),0)),\"\")","v":""},"","","","","","","","","","",null,"(",")","（"," （","）","）"]
[null,null,null,"",null,null,null,null,null,null,null,null,"","","","","","","","","","","","",null,"","","","","","","","",0,3.3258561587430186E-3,"",35,"","","","","","","","","","","","","","","","","","","","","","","","","","","","","","","","","","","","","","","","","","",null,14,"","","","","","","","","","","","","","","","",null,"",{"$f":"IF(H16=\"\",\"\",COUNTA($H$3:H16))","v":""},"","","",null,"","",{"$f":"IFERROR(IF($K$5=\"manual\",VLOOKUP($M16,$CU:$CY,IF($K$4=\"terms\",Indexing!L$4,Indexing!L$3),0),VLOOKUP($M16,$CD$4:$CS$53,IF($K$4=\"terms\",Indexing!L$2,Indexing!L$1)+VLOOKUP($K$5,Indexing!$A:$C,3,0),0)),\"\")","v":""},{"$f":"IFERROR(IF($K$5=\"manual\",VLOOKUP($M16,$CU:$CY,IF($K$4=\"terms\",Indexing!M$4,Indexing!M$3),0),VLOOKUP($M16,$CD$4:$CS$53,IF($K$4=\"terms\",Indexing!M$2,Indexing!M$1)+VLOOKUP($K$5,Indexing!$A:$C,3,0),0)),\"\")","v":""},{"$f":"IFERROR(IF($K$5=\"manual\",VLOOKUP($M16,$CU:$CY,IF($K$4=\"terms\",Indexing!N$4,Indexing!N$3),0),VLOOKUP($M16,$CD$4:$CS$53,IF($K$4=\"terms\",Indexing!N$2,Indexing!N$1)+VLOOKUP($K$5,Indexing!$A:$C,3,0),0)),\"\")","v":""},"","","","","","","","","","",null,"(",")","（"," （","）","）"]
[null,null,null,"",null,null,null,null,null,null,null,null,"","","","","","","","","","","","",null,"","","","","","","","",0,4.1661832647263714E-3,"",16,"","","","","","","","","","","","","","","","","","","","","","","","","","","","","","","","","","","","","","","","","","",null,15,"","","","","","","","","","","","","","","","",null,"",{"$f":"IF(H17=\"\",\"\",COUNTA($H$3:H17))","v":""},"","","",null,"","",{"$f":"IFERROR(IF($K$5=\"manual\",VLOOKUP($M17,$CU:$CY,IF($K$4=\"terms\",Indexing!L$4,Indexing!L$3),0),VLOOKUP($M17,$CD$4:$CS$53,IF($K$4=\"terms\",Indexing!L$2,Indexing!L$1)+VLOOKUP($K$5,Indexing!$A:$C,3,0),0)),\"\")","v":""},{"$f":"IFERROR(IF($K$5=\"manual\",VLOOKUP($M17,$CU:$CY,IF($K$4=\"terms\",Indexing!M$4,Indexing!M$3),0),VLOOKUP($M17,$CD$4:$CS$53,IF($K$4=\"terms\",Indexing!M$2,Indexing!M$1)+VLOOKUP($K$5,Indexing!$A:$C,3,0),0)),\"\")","v":""},{"$f":"IFERROR(IF($K$5=\"manual\",VLOOKUP($M17,$CU:$CY,IF($K$4=\"terms\",Indexing!N$4,Indexing!N$3),0),VLOOKUP($M17,$CD$4:$CS$53,IF($K$4=\"terms\",Indexing!N$2,Indexing!N$1)+VLOOKUP($K$5,Indexing!$A:$C,3,0),0)),\"\")","v":""},"","","","","","","","","","",null,"(",")","（"," （","）","）"]
[null,null,null,"",null,null,null,null,null,null,null,null,"","","","","","","","","","","","",null,"","","","","","","","",0,4.0246834436402541E-3,"",18,"","","","","","","","","","","","","","","","","","","","","","","","","","","","","","","","","","","","","","","","","","",null,16,"","","","","","","","","","","","","","","","",null,"",{"$f":"IF(H18=\"\",\"\",COUNTA($H$3:H18))","v":""},"","","",null,"","",{"$f":"IFERROR(IF($K$5=\"manual\",VLOOKUP($M18,$CU:$CY,IF($K$4=\"terms\",Indexing!L$4,Indexing!L$3),0),VLOOKUP($M18,$CD$4:$CS$53,IF($K$4=\"terms\",Indexing!L$2,Indexing!L$1)+VLOOKUP($K$5,Indexing!$A:$C,3,0),0)),\"\")","v":""},{"$f":"IFERROR(IF($K$5=\"manual\",VLOOKUP($M18,$CU:$CY,IF($K$4=\"terms\",Indexing!M$4,Indexing!M$3),0),VLOOKUP($M18,$CD$4:$CS$53,IF($K$4=\"terms\",Indexing!M$2,Indexing!M$1)+VLOOKUP($K$5,Indexing!$A:$C,3,0),0)),\"\")","v":""},{"$f":"IFERROR(IF($K$5=\"manual\",VLOOKUP($M18,$CU:$CY,IF($K$4=\"terms\",Indexing!N$4,Indexing!N$3),0),VLOOKUP($M18,$CD$4:$CS$53,IF($K$4=\"terms\",Indexing!N$2,Indexing!N$1)+VLOOKUP($K$5,Indexing!$A:$C,3,0),0)),\"\")","v":""},"","","","","","","","","","",null,"(",")","（"," （","）","）"]
[null,null,null,"",null,null,null,null,null,null,{"$f":"IF(K7/K3>0.5,VLOOKUP(K5,Indexing!A:E,4,0),\"\")","v":{"$error":"#DIV/0!"}},null,"","","","","","","","","","","","",null,"","","","","","","","",0,3.5958534492099765E-3,"",26,"","","","","","","","","","","","","","","","","","","","","","","","","","","","","","","","","","","","","","","","","","",null,17,"","","","","","","","","","","","","","","","",null,"",{"$f":"IF(H19=\"\",\"\",COUNTA($H$3:H19))","v":""},"","","",null,"","",{"$f":"IFERROR(IF($K$5=\"manual\",VLOOKUP($M19,$CU:$CY,IF($K$4=\"terms\",Indexing!L$4,Indexing!L$3),0),VLOOKUP($M19,$CD$4:$CS$53,IF($K$4=\"terms\",Indexing!L$2,Indexing!L$1)+VLOOKUP($K$5,Indexing!$A:$C,3,0),0)),\"\")","v":""},{"$f":"IFERROR(IF($K$5=\"manual\",VLOOKUP($M19,$CU:$CY,IF($K$4=\"terms\",Indexing!M$4,Indexing!M$3),0),VLOOKUP($M19,$CD$4:$CS$53,IF($K$4=\"terms\",Indexing!M$2,Indexing!M$1)+VLOOKUP($K$5,Indexing!$A:$C,3,0),0)),\"\")","v":""},{"$f":"IFERROR(IF($K$5=\"manual\",VLOOKUP($M19,$CU:$CY,IF($K$4=\"terms\",Indexing!N$4,Indexing!N$3),0),VLOOKUP($M19,$CD$4:$CS$53,IF($K$4=\"terms\",Indexing!N$2,Indexing!N$1)+VLOOKUP($K$5,Indexing!$A:$C,3,0),0)),\"\")","v":""},"","","","","","","","","","",null,"(",")","（"," （","）","）"]
[null,null,null,"",null,null,null,null,null,null,{"$f":"IF(K7>K3,\"Error 2\",\"\")","v":"Error 2"},null,"","","","","","","","","","","","",null,"","","","","","","","",0,1.2878921649190839E-3,"",74,"","","","","","","","","","","","","","","","","","","","","","","","","","","","","","","","","","","","","","","","","","",null,18,"","","","","","","","","","","","","","","","",null,"",{"$f":"IF(H20=\"\",\"\",COUNTA($H$3:H20))","v":""},"","","",null,"","",{"$f":"IFERROR(IF($K$5=\"manual\",VLOOKUP($M20,$CU:$CY,IF($K$4=\"terms\",Indexing!L$4,Indexing!L$3),0),VLOOKUP($M20,$CD$4:$CS$53,IF($K$4=\"terms\",Indexing!L$2,Indexing!L$1)+VLOOKUP($K$5,Indexing!$A:$C,3,0),0)),\"\")","v":""},{"$f":"IFERROR(IF($K$5=\"manual\",VLOOKUP($M20,$CU:$CY,IF($K$4=\"terms\",Indexing!M$4,Indexing!M$3),0),VLOOKUP($M20,$CD$4:$CS$53,IF($K$4=\"terms\",Indexing!M$2,Indexing!M$1)+VLOOKUP($K$5,Indexing!$A:$C,3,0),0)),\"\")","v":""},{"$f":"IFERROR(IF($K$5=\"manual\",VLOOKUP($M20,$CU:$CY,IF($K$4=\"terms\",Indexing!N$4,Indexing!N$3),0),VLOOKUP($M20,$CD$4:$CS$53,IF($K$4=\"terms\",Indexing!N$2,Indexing!N$1)+VLOOKUP($K$5,Indexing!$A:$C,3,0),0)),\"\")","v":""},"","","","","","","","","","",null,"(",")","（"," （","）","）"]
[null,null,null,"",null,null,null,null,null,null,{"$f":"IF(K7>50,\"Error 3\",\"\")","v":""},null,"","","","","","","","","","","","",null,"","","","","","","","",0,4.4576680925097825E-3,"",10,"","","","","","","","","","","","","","","","","","","","","","","","","","","","","","","","","","","","","","","","","","",null,19,"","","","","","","","","","","","","","","","",null,"",{"$f":"IF(H21=\"\",\"\",COUNTA($H$3:H21))","v":""},"","","",null,"","",{"$f":"IFERROR(IF($K$5=\"manual\",VLOOKUP($M21,$CU:$CY,IF($K$4=\"terms\",Indexing!L$4,Indexing!L$3),0),VLOOKUP($M21,$CD$4:$CS$53,IF($K$4=\"terms\",Indexing!L$2,Indexing!L$1)+VLOOKUP($K$5,Indexing!$A:$C,3,0),0)),\"\")","v":""},{"$f":"IFERROR(IF($K$5=\"manual\",VLOOKUP($M21,$CU:$CY,IF($K$4=\"terms\",Indexing!M$4,Indexing!M$3),0),VLOOKUP($M21,$CD$4:$CS$53,IF($K$4=\"terms\",Indexing!M$2,Indexing!M$1)+VLOOKUP($K$5,Indexing!$A:$C,3,0),0)),\"\")","v":""},{"$f":"IFERROR(IF($K$5=\"manual\",VLOOKUP($M21,$CU:$CY,IF($K$4=\"terms\",Indexing!N$4,Indexing!N$3),0),VLOOKUP($M21,$CD$4:$CS$53,IF($K$4=\"terms\",Indexing!N$2,Indexing!N$1)+VLOOKUP($K$5,Indexing!$A:$C,3,0),0)),\"\")","v":""},"","","","","","","","","","",null,"(",")","（"," （","）","）"]
[null,null,null,"",null,null,null,null,null,null,null,null,"","","","","","","","","","","","",null,"","","","","","","","",0,7.8516998425126768E-4,"",83,"","","","","","","","","","","","","","","","","","","","","","","","","","","","","","","","","","","","","","","","","","",null,20,"","","","","","","","","","","","","","","","",null,"",{"$f":"IF(H22=\"\",\"\",COUNTA($H$3:H22))","v":""},"","","",null,"","",{"$f":"IFERROR(IF($K$5=\"manual\",VLOOKUP($M22,$CU:$CY,IF($K$4=\"terms\",Indexing!L$4,Indexing!L$3),0),VLOOKUP($M22,$CD$4:$CS$53,IF($K$4=\"terms\",Indexing!L$2,Indexing!L$1)+VLOOKUP($K$5,Indexing!$A:$C,3,0),0)),\"\")","v":""},{"$f":"IFERROR(IF($K$5=\"manual\",VLOOKUP($M22,$CU:$CY,IF($K$4=\"terms\",Indexing!M$4,Indexing!M$3),0),VLOOKUP($M22,$CD$4:$CS$53,IF($K$4=\"terms\",Indexing!M$2,Indexing!M$1)+VLOOKUP($K$5,Indexing!$A:$C,3,0),0)),\"\")","v":""},{"$f":"IFERROR(IF($K$5=\"manual\",VLOOKUP($M22,$CU:$CY,IF($K$4=\"terms\",Indexing!N$4,Indexing!N$3),0),VLOOKUP($M22,$CD$4:$CS$53,IF($K$4=\"terms\",Indexing!N$2,Indexing!N$1)+VLOOKUP($K$5,Indexing!$A:$C,3,0),0)),\"\")","v":""},"","","","","","","","","","",null,"(",")","（"," （","）","）"]
[null,null,null,"",null,null,null,null,null,null,null,null,"","","","","","","","","","","","",null,"","","","","","","","",0,3.7875194671113709E-3,"",22,"","","","","","","","","","","","","","","","","","","","","","","","","","","","","","","","","","","","","","","","","","",null,21,"","","","","","","","","","","","","","","","",null,"",{"$f":"IF(H23=\"\",\"\",COUNTA($H$3:H23))","v":""},"","","",null,"","",{"$f":"IFERROR(IF($K$5=\"manual\",VLOOKUP($M23,$CU:$CY,IF($K$4=\"terms\",Indexing!L$4,Indexing!L$3),0),VLOOKUP($M23,$CD$4:$CS$53,IF($K$4=\"terms\",Indexing!L$2,Indexing!L$1)+VLOOKUP($K$5,Indexing!$A:$C,3,0),0)),\"\")","v":""},{"$f":"IFERROR(IF($K$5=\"manual\",VLOOKUP($M23,$CU:$CY,IF($K$4=\"terms\",Indexing!M$4,Indexing!M$3),0),VLOOKUP($M23,$CD$4:$CS$53,IF($K$4=\"terms\",Indexing!M$2,Indexing!M$1)+VLOOKUP($K$5,Indexing!$A:$C,3,0),0)),\"\")","v":""},{"$f":"IFERROR(IF($K$5=\"manual\",VLOOKUP($M23,$CU:$CY,IF($K$4=\"terms\",Indexing!N$4,Indexing!N$3),0),VLOOKUP($M23,$CD$4:$CS$53,IF($K$4=\"terms\",Indexing!N$2,Indexing!N$1)+VLOOKUP($K$5,Indexing!$A:$C,3,0),0)),\"\")","v":""},"","","","","","","","","","",null,"(",")","（"," （","）","）"]
[null,null,null,"",null,null,null,null,null,null,null,null,"","","","","","","","","","","","",null,"","","","","","","","",0,7.9755943513105997E-4,"",82,"","","","","","","","","","","","","","","","","","","","","","","","","","","","","","","","","","","","","","","","","","",null,22,"","","","","","","","","","","","","","","","",null,"",{"$f":"IF(H24=\"\",\"\",COUNTA($H$3:H24))","v":""},"","","",null,"","",{"$f":"IFERROR(IF($K$5=\"manual\",VLOOKUP($M24,$CU:$CY,IF($K$4=\"terms\",Indexing!L$4,Indexing!L$3),0),VLOOKUP($M24,$CD$4:$CS$53,IF($K$4=\"terms\",Indexing!L$2,Indexing!L$1)+VLOOKUP($K$5,Indexing!$A:$C,3,0),0)),\"\")","v":""},{"$f":"IFERROR(IF($K$5=\"manual\",VLOOKUP($M24,$CU:$CY,IF($K$4=\"terms\",Indexing!M$4,Indexing!M$3),0),VLOOKUP($M24,$CD$4:$CS$53,IF($K$4=\"terms\",Indexing!M$2,Indexing!M$1)+VLOOKUP($K$5,Indexing!$A:$C,3,0),0)),\"\")","v":""},{"$f":"IFERROR(IF($K$5=\"manual\",VLOOKUP($M24,$CU:$CY,IF($K$4=\"terms\",Indexing!N$4,Indexing!N$3),0),VLOOKUP($M24,$CD$4:$CS$53,IF($K$4=\"terms\",Indexing!N$2,Indexing!N$1)+VLOOKUP($K$5,Indexing!$A:$C,3,0),0)),\"\")","v":""},"","","","","","","","","","",null,"(",")","（"," （","）","）"]
[null,null,null,"",null,null,null,null,null,null,null,null,"","","","","","","","","","","","",null,"","","","","","","","",0,4.4848062468223863E-3,"",9,"","","","","","","","","","","","","","","","","","","","","","","","","","","","","","","","","","","","","","","","","","",null,23,"","","","","","","","","","","","","","","","",null,"",{"$f":"IF(H25=\"\",\"\",COUNTA($H$3:H25))","v":""},"","","",null,"","",{"$f":"IFERROR(IF($K$5=\"manual\",VLOOKUP($M25,$CU:$CY,IF($K$4=\"terms\",Indexing!L$4,Indexing!L$3),0),VLOOKUP($M25,$CD$4:$CS$53,IF($K$4=\"terms\",Indexing!L$2,Indexing!L$1)+VLOOKUP($K$5,Indexing!$A:$C,3,0),0)),\"\")","v":""},{"$f":"IFERROR(IF($K$5=\"manual\",VLOOKUP($M25,$CU:$CY,IF($K$4=\"terms\",Indexing!M$4,Indexing!M$3),0),VLOOKUP($M25,$CD$4:$CS$53,IF($K$4=\"terms\",Indexing!M$2,Indexing!M$1)+VLOOKUP($K$5,Indexing!$A:$C,3,0),0)),\"\")","v":""},{"$f":"IFERROR(IF($K$5=\"manual\",VLOOKUP($M25,$CU:$CY,IF($K$4=\"terms\",Indexing!N$4,Indexing!N$3),0),VLOOKUP($M25,$CD$4:$CS$53,IF($K$4=\"terms\",Indexing!N$2,Indexing!N$1)+VLOOKUP($K$5,Indexing!$A:$C,3,0),0)),\"\")","v":""},"","","","","","","","","","",null,"(",")","（"," （","）","）"]
[null,null,null,"",null,null,null,null,null,null,null,null,"","","","","","","","","","","","",null,"","","","","","","","",0,3.2258675308831065E-3,"",40,"","","","","","","","","","","","","","","","","","","","","","","","","","","","","","","","","","","","","","","","","","",null,24,"","","","","","","","","","","","","","","","",null,"",{"$f":"IF(H26=\"\",\"\",COUNTA($H$3:H26))","v":""},"","","",null,"","",{"$f":"IFERROR(IF($K$5=\"manual\",VLOOKUP($M26,$CU:$CY,IF($K$4=\"terms\",Indexing!L$4,Indexing!L$3),0),VLOOKUP($M26,$CD$4:$CS$53,IF($K$4=\"terms\",Indexing!L$2,Indexing!L$1)+VLOOKUP($K$5,Indexing!$A:$C,3,0),0)),\"\")","v":""},{"$f":"IFERROR(IF($K$5=\"manual\",VLOOKUP($M26,$CU:$CY,IF($K$4=\"terms\",Indexing!M$4,Indexing!M$3),0),VLOOKUP($M26,$CD$4:$CS$53,IF($K$4=\"terms\",Indexing!M$2,Indexing!M$1)+VLOOKUP($K$5,Indexing!$A:$C,3,0),0)),\"\")","v":""},{"$f":"IFERROR(IF($K$5=\"manual\",VLOOKUP($M26,$CU:$CY,IF($K$4=\"terms\",Indexing!N$4,Indexing!N$3),0),VLOOKUP($M26,$CD$4:$CS$53,IF($K$4=\"terms\",Indexing!N$2,Indexing!N$1)+VLOOKUP($K$5,Indexing!$A:$C,3,0),0)),\"\")","v":""},"","","","","","","","","","",null,"(",")","（"," （","）","）"]
[null,null,null,"",null,null,null,null,null,null,null,null,"","","","","","","","","","","","",null,"","","","","","","","",0,4.2818954927650206E-3,"",14,"","","","","","","","","","","","","","","","","","","","","","","","","","","","","","","","","","","","","","","","","","",null,25,"","","","","","","","","","","","","","","","",null,"",{"$f":"IF(H27=\"\",\"\",COUNTA($H$3:H27))","v":""},"","","",null,"","",{"$f":"IFERROR(IF($K$5=\"manual\",VLOOKUP($M27,$CU:$CY,IF($K$4=\"terms\",Indexing!L$4,Indexing!L$3),0),VLOOKUP($M27,$CD$4:$CS$53,IF($K$4=\"terms\",Indexing!L$2,Indexing!L$1)+VLOOKUP($K$5,Indexing!$A:$C,3,0),0)),\"\")","v":""},{"$f":"IFERROR(IF($K$5=\"manual\",VLOOKUP($M27,$CU:$CY,IF($K$4=\"terms\",Indexing!M$4,Indexing!M$3),0),VLOOKUP($M27,$CD$4:$CS$53,IF($K$4=\"terms\",Indexing!M$2,Indexing!M$1)+VLOOKUP($K$5,Indexing!$A:$C,3,0),0)),\"\")","v":""},{"$f":"IFERROR(IF($K$5=\"manual\",VLOOKUP($M27,$CU:$CY,IF($K$4=\"terms\",Indexing!N$4,Indexing!N$3),0),VLOOKUP($M27,$CD$4:$CS$53,IF($K$4=\"terms\",Indexing!N$2,Indexing!N$1)+VLOOKUP($K$5,Indexing!$A:$C,3,0),0)),\"\")","v":""},"","","","","","","","","","",null,"(",")","（"," （","）","）"]
[null,null,null,"",null,null,null,null,null,null,null,null,"","","","","","","","","","","","",null,"","","","","","","","",0,6.798081251315469E-4,"",86,"","","","","","","","","","","","","","","","","","","","","","","","","","","","","","","","","","","","","","","","","","",null,26,"","","","","","","","","","","","","","","","",null,"",{"$f":"IF(H28=\"\",\"\",COUNTA($H$3:H28))","v":""},"","","",null,"","",{"$f":"IFERROR(IF($K$5=\"manual\",VLOOKUP($M28,$CU:$CY,IF($K$4=\"terms\",Indexing!L$4,Indexing!L$3),0),VLOOKUP($M28,$CD$4:$CS$53,IF($K$4=\"terms\",Indexing!L$2,Indexing!L$1)+VLOOKUP($K$5,Indexing!$A:$C,3,0),0)),\"\")","v":""},{"$f":"IFERROR(IF($K$5=\"manual\",VLOOKUP($M28,$CU:$CY,IF($K$4=\"terms\",Indexing!M$4,Indexing!M$3),0),VLOOKUP($M28,$CD$4:$CS$53,IF($K$4=\"terms\",Indexing!M$2,Indexing!M$1)+VLOOKUP($K$5,Indexing!$A:$C,3,0),0)),\"\")","v":""},{"$f":"IFERROR(IF($K$5=\"manual\",VLOOKUP($M28,$CU:$CY,IF($K$4=\"terms\",Indexing!N$4,Indexing!N$3),0),VLOOKUP($M28,$CD$4:$CS$53,IF($K$4=\"terms\",Indexing!N$2,Indexing!N$1)+VLOOKUP($K$5,Indexing!$A:$C,3,0),0)),\"\")","v":""},"","","","","","","","","","",null,"(",")","（"," （","）","）"]
[null,null,null,"",null,null,null,null,null,null,null,null,"","","","","","","","","","","","",null,"","","","","","","","",0,1.2920145957332585E-3,"",73,"","","","","","","","","","","","","","","","","","","","","","","","","","","","","","","","","","","","","","","","","","",null,27,"","","","","","","","","","","","","","","","",null,"",{"$f":"IF(H29=\"\",\"\",COUNTA($H$3:H29))","v":""},"","","",null,"","",{"$f":"IFERROR(IF($K$5=\"manual\",VLOOKUP($M29,$CU:$CY,IF($K$4=\"terms\",Indexing!L$4,Indexing!L$3),0),VLOOKUP($M29,$CD$4:$CS$53,IF($K$4=\"terms\",Indexing!L$2,Indexing!L$1)+VLOOKUP($K$5,Indexing!$A:$C,3,0),0)),\"\")","v":""},{"$f":"IFERROR(IF($K$5=\"manual\",VLOOKUP($M29,$CU:$CY,IF($K$4=\"terms\",Indexing!M$4,Indexing!M$3),0),VLOOKUP($M29,$CD$4:$CS$53,IF($K$4=\"terms\",Indexing!M$2,Indexing!M$1)+VLOOKUP($K$5,Indexing!$A:$C,3,0),0)),\"\")","v":""},{"$f":"IFERROR(IF($K$5=\"manual\",VLOOKUP($M29,$CU:$CY,IF($K$4=\"terms\",Indexing!N$4,Indexing!N$3),0),VLOOKUP($M29,$CD$4:$CS$53,IF($K$4=\"terms\",Indexing!N$2,Indexing!N$1)+VLOOKUP($K$5,Indexing!$A:$C,3,0),0)),\"\")","v":""},"","","","","","","","","","",null,"(",")","（"," （","）","）"]
[null,null,null,"",null,null,null,null,null,null,null,null,"","","","","","","","","","","","",null,"","","","","","","","",0,4.8312257741053508E-3,"",2,"","","","","","","","","","","","","","","","","","","","","","","","","","","","","","","","","","","","","","","","","","",null,28,"","","","","","","","","","","","","","","","",null,"",{"$f":"IF(H30=\"\",\"\",COUNTA($H$3:H30))","v":""},"","","",null,"","",{"$f":"IFERROR(IF($K$5=\"manual\",VLOOKUP($M30,$CU:$CY,IF($K$4=\"terms\",Indexing!L$4,Indexing!L$3),0),VLOOKUP($M30,$CD$4:$CS$53,IF($K$4=\"terms\",Indexing!L$2,Indexing!L$1)+VLOOKUP($K$5,Indexing!$A:$C,3,0),0)),\"\")","v":""},{"$f":"IFERROR(IF($K$5=\"manual\",VLOOKUP($M30,$CU:$CY,IF($K$4=\"terms\",Indexing!M$4,Indexing!M$3),0),VLOOKUP($M30,$CD$4:$CS$53,IF($K$4=\"terms\",Indexing!M$2,Indexing!M$1)+VLOOKUP($K$5,Indexing!$A:$C,3,0),0)),\"\")","v":""},{"$f":"IFERROR(IF($K$5=\"manual\",VLOOKUP($M30,$CU:$CY,IF($K$4=\"terms\",Indexing!N$4,Indexing!N$3),0),VLOOKUP($M30,$CD$4:$CS$53,IF($K$4=\"terms\",Indexing!N$2,Indexing!N$1)+VLOOKUP($K$5,Indexing!$A:$C,3,0),0)),\"\")","v":""},"","","","","","","","","","",null,"(",")","（"," （","）","）"]
[null,null,null,"",null,null,null,null,null,null,null,null,"","","","","","","","","","","","",null,"","","","","","","","",0,2.3994477658228169E-3,"",55,"","","","","","","","","","","","","","","","","","","","","","","","","","","","","","","","","","","","","","","","","","",null,29,"","","","","","","","","","","","","","","","",null,"",{"$f":"IF(H31=\"\",\"\",COUNTA($H$3:H31))","v":""},"","","",null,"","",{"$f":"IFERROR(IF($K$5=\"manual\",VLOOKUP($M31,$CU:$CY,IF($K$4=\"terms\",Indexing!L$4,Indexing!L$3),0),VLOOKUP($M31,$CD$4:$CS$53,IF($K$4=\"terms\",Indexing!L$2,Indexing!L$1)+VLOOKUP($K$5,Indexing!$A:$C,3,0),0)),\"\")","v":""},{"$f":"IFERROR(IF($K$5=\"manual\",VLOOKUP($M31,$CU:$CY,IF($K$4=\"terms\",Indexing!M$4,Indexing!M$3),0),VLOOKUP($M31,$CD$4:$CS$53,IF($K$4=\"terms\",Indexing!M$2,Indexing!M$1)+VLOOKUP($K$5,Indexing!$A:$C,3,0),0)),\"\")","v":""},{"$f":"IFERROR(IF($K$5=\"manual\",VLOOKUP($M31,$CU:$CY,IF($K$4=\"terms\",Indexing!N$4,Indexing!N$3),0),VLOOKUP($M31,$CD$4:$CS$53,IF($K$4=\"terms\",Indexing!N$2,Indexing!N$1)+VLOOKUP($K$5,Indexing!$A:$C,3,0),0)),\"\")","v":""},"","","","","","","","","","",null,"(",")","（"," （","）","）"]
[null,null,null,"",null,null,null,null,null,null,null,null,"","","","","","","","","","","","",null,"","","","","","","","",0,8.9887408815394478E-4,"",81,"","","","","","","","","","","","","","","","","","","","","","","","","","","","","","","","","","","","","","","","","","",null,30,"","","","","","","","","","","","","","","","",null,"",{"$f":"IF(H32=\"\",\"\",COUNTA($H$3:H32))","v":""},"","","",null,"","",{"$f":"IFERROR(IF($K$5=\"manual\",VLOOKUP($M32,$CU:$CY,IF($K$4=\"terms\",Indexing!L$4,Indexing!L$3),0),VLOOKUP($M32,$CD$4:$CS$53,IF($K$4=\"terms\",Indexing!L$2,Indexing!L$1)+VLOOKUP($K$5,Indexing!$A:$C,3,0),0)),\"\")","v":""},{"$f":"IFERROR(IF($K$5=\"manual\",VLOOKUP($M32,$CU:$CY,IF($K$4=\"terms\",Indexing!M$4,Indexing!M$3),0),VLOOKUP($M32,$CD$4:$CS$53,IF($K$4=\"terms\",Indexing!M$2,Indexing!M$1)+VLOOKUP($K$5,Indexing!$A:$C,3,0),0)),\"\")","v":""},{"$f":"IFERROR(IF($K$5=\"manual\",VLOOKUP($M32,$CU:$CY,IF($K$4=\"terms\",Indexing!N$4,Indexing!N$3),0),VLOOKUP($M32,$CD$4:$CS$53,IF($K$4=\"terms\",Indexing!N$2,Indexing!N$1)+VLOOKUP($K$5,Indexing!$A:$C,3,0),0)),\"\")","v":""},"","","","","","","","","","",null,"(",")","（"," （","）","）"]
[null,null,null,"",null,null,null,null,null,null,null,null,"","","","","","","","","","","","",null,"","","","","","","","",0,3.6955719072355621E-4,"",93,"","","","","","","","","","","","","","","","","","","","","","","","","","","","","","","","","","","","","","","","","","",null,31,"","","","","","","","","","","","","","","","",null,"",{"$f":"IF(H33=\"\",\"\",COUNTA($H$3:H33))","v":""},"","","",null,"","",{"$f":"IFERROR(IF($K$5=\"manual\",VLOOKUP($M33,$CU:$CY,IF($K$4=\"terms\",Indexing!L$4,Indexing!L$3),0),VLOOKUP($M33,$CD$4:$CS$53,IF($K$4=\"terms\",Indexing!L$2,Indexing!L$1)+VLOOKUP($K$5,Indexing!$A:$C,3,0),0)),\"\")","v":""},{"$f":"IFERROR(IF($K$5=\"manual\",VLOOKUP($M33,$CU:$CY,IF($K$4=\"terms\",Indexing!M$4,Indexing!M$3),0),VLOOKUP($M33,$CD$4:$CS$53,IF($K$4=\"terms\",Indexing!M$2,Indexing!M$1)+VLOOKUP($K$5,Indexing!$A:$C,3,0),0)),\"\")","v":""},{"$f":"IFERROR(IF($K$5=\"manual\",VLOOKUP($M33,$CU:$CY,IF($K$4=\"terms\",Indexing!N$4,Indexing!N$3),0),VLOOKUP($M33,$CD$4:$CS$53,IF($K$4=\"terms\",Indexing!N$2,Indexing!N$1)+VLOOKUP($K$5,Indexing!$A:$C,3,0),0)),\"\")","v":""},"","","","","","","","","","",null,"(",")","（"," （","）","）"]
[null,null,null,"",null,null,null,null,null,null,null,null,"","","","","","","","","","","","",null,"","","","","","","","",0,2.9906778805809677E-3,"",43,"","","","","","","","","","","","","","","","","","","","","","","","","","","","","","","","","","","","","","","","","","",null,32,"","","","","","","","","","","","","","","","",null,"",{"$f":"IF(H34=\"\",\"\",COUNTA($H$3:H34))","v":""},"","","",null,"","",{"$f":"IFERROR(IF($K$5=\"manual\",VLOOKUP($M34,$CU:$CY,IF($K$4=\"terms\",Indexing!L$4,Indexing!L$3),0),VLOOKUP($M34,$CD$4:$CS$53,IF($K$4=\"terms\",Indexing!L$2,Indexing!L$1)+VLOOKUP($K$5,Indexing!$A:$C,3,0),0)),\"\")","v":""},{"$f":"IFERROR(IF($K$5=\"manual\",VLOOKUP($M34,$CU:$CY,IF($K$4=\"terms\",Indexing!M$4,Indexing!M$3),0),VLOOKUP($M34,$CD$4:$CS$53,IF($K$4=\"terms\",Indexing!M$2,Indexing!M$1)+VLOOKUP($K$5,Indexing!$A:$C,3,0),0)),\"\")","v":""},{"$f":"IFERROR(IF($K$5=\"manual\",VLOOKUP($M34,$CU:$CY,IF($K$4=\"terms\",Indexing!N$4,Indexing!N$3),0),VLOOKUP($M34,$CD$4:$CS$53,IF($K$4=\"terms\",Indexing!N$2,Indexing!N$1)+VLOOKUP($K$5,Indexing!$A:$C,3,0),0)),\"\")","v":""},"","","","","","","","","","",null,"(",")","（"," （","）","）"]
[null,null,null,"",null,null,null,null,null,null,null,null,{"$f":"IF($K$5=\"Manual\",IF(CC35<=$K$8,CC35,\"\"),IF(CC35<=$K$7,CC35,\"\"))","v":""},{"$f":"IFERROR(IF($K$6=\"Yes\",VLOOKUP($M35,$DB:$DE,2,0),DC35),\"\")","v":""},{"$f":"IFERROR(IF($K$6=\"Yes\",VLOOKUP($M35,$DB:$DE,3,0),DD35),\"\")","v":""},{"$f":"IFERROR(IF($K$6=\"Yes\",VLOOKUP($M35,$DB:$DE,4,0),DE35),\"\")","v":""},"","","","","","","","",null,"","","","","","","","",0,4.7892803869882088E-3,"",3,"","","","","","","","","","","","",{"$f":"IF(AW35=\"\",\"\",RAND())","v":""},"","","","","","","","","","",{"$f":"IF(BH35=\"\",\"\",RAND())","v":""},"","","","","","","","","","",{"$f":"IF(BS35=\"\",\"\",RAND())","v":""},"","","","","","","",null,33,"","","","","","","","","","","","","","","","",null,"",{"$f":"IF(H35=\"\",\"\",COUNTA($H$3:H35))","v":""},"","","",null,{"$f":"M35","v":""},{"$f":"IFERROR(RANK(DG35,$DG$3:$DG$52,0),\"\")","v":""},{"$f":"IFERROR(IF($K$5=\"manual\",VLOOKUP($M35,$CU:$CY,IF($K$4=\"terms\",Indexing!L$4,Indexing!L$3),0),VLOOKUP($M35,$CD$4:$CS$53,IF($K$4=\"terms\",Indexing!L$2,Indexing!L$1)+VLOOKUP($K$5,Indexing!$A:$C,3,0),0)),\"\")","v":""},{"$f":"IFERROR(IF($K$5=\"manual\",VLOOKUP($M35,$CU:$CY,IF($K$4=\"terms\",Indexing!M$4,Indexing!M$3),0),VLOOKUP($M35,$CD$4:$CS$53,IF($K$4=\"terms\",Indexing!M$2,Indexing!M$1)+VLOOKUP($K$5,Indexing!$A:$C,3,0),0)),\"\")","v":""},{"$f":"IFERROR(IF($K$5=\"manual\",VLOOKUP($M35,$CU:$CY,IF($K$4=\"terms\",Indexing!N$4,Indexing!N$3),0),VLOOKUP($M35,$CD$4:$CS$53,IF($K$4=\"terms\",Indexing!N$2,Indexing!N$1)+VLOOKUP($K$5,Indexing!$A:$C,3,0),0)),\"\")","v":""},{"$f":"M35","v":""},{"$f":"IF(M35=\"\",\"\",RAND())","v":""},{"$f":"IFERROR(IF(AA35=\"\",\"\",LEFT(Z35,AA35-1)),)","v":""},"",{"$f":"IFERROR(IF(AC35=\"\",IF(AB35=\"\",\"\",LEFT(RIGHT($Z35,$AH35-AB35-1),AH35-AB35)),LEFT(RIGHT($Z35,$AH35-AB35-1),AC35-AB35-2)),\"\")","v":""},{"$f":"IFERROR(IF(AC35=\"\",\"\",RIGHT(Z35,AH35-AC35-1)),\"\")","v":""},"",{"$f":"IFERROR(IF(AF35=\"\",IF(AD35=1,RIGHT(Z35,AH35-AE35-1),\"\"),\"\"),\"\")","v":""},{"$f":"IFERROR(IF(AF35>=1,LEFT(RIGHT(Z35,AH35-AE35-1),AF35-AE35-3),\"\"),\"\")","v":""},"",null,"(",")","（"," （","）","）"]
[null,null,null,"",null,null,null,null,null,null,null,null,"","","","","","","","","","","","",null,"","","","","","","","",0,1.0230186266606089E-3,"",79,"","","","","","","","","","","","","","","","","","","","","","","","","","","","","","","","","","","","","","","","","","",null,34,{"$f":"IF(CC35<=$K$7,CC35,\"\")","v":""},{"$f":"IFERROR(VLOOKUP($CD36,$AL$2:$AT$301,7,0),\"\")","v":""},{"$f":"IFERROR(VLOOKUP($CD36,$AL$2:$AT$301,8,0),\"\")","v":""},{"$f":"IFERROR(VLOOKUP($CD36,$AL$2:$AT$301,9,0),\"\")","v":""},{"$f":"IF($CC35<=$K$7,$CC35,\"\")","v":""},{"$f":"IFERROR(VLOOKUP($CH36,$BH$2:$BP$301,7,0),\"\")","v":""},{"$f":"IFERROR(VLOOKUP($CH36,$BH$2:$BP$301,8,0),\"\")","v":""},{"$f":"IFERROR(VLOOKUP($CH36,$BH$2:$BP$301,9,0),\"\")","v":""},{"$f":"IF($CC35<=$K$7,$CC35,\"\")","v":""},{"$f":"IFERROR(VLOOKUP($CL36,$BS$2:$CA$301,7,0),\"\")","v":""},{"$f":"IFERROR(VLOOKUP($CL36,$BS$2:$CA$301,8,0),\"\")","v":""},{"$f":"IFERROR(VLOOKUP($CL36,$BS$2:$CA$301,9,0),\"\")","v":""},{"$f":"IF($CC35<=$K$7,$CC35,\"\")","v":""},{"$f":"IFERROR(VLOOKUP($CP36,$AW$2:$BE$301,7,0),\"\")","v":""},{"$f":"IFERROR(VLOOKUP($CP36,$AW$2:$BE$301,8,0),\"\")","v":""},{"$f":"IFERROR(VLOOKUP($CP36,$AW$2:$BE$301,9,0),\"\")","v":""},null,"",{"$f":"IF(H36=\"\",\"\",COUNTA($H$3:H36))","v":""},"","","",null,"","",{"$f":"IFERROR(IF($K$5=\"manual\",VLOOKUP($M36,$CU:$CY,IF($K$4=\"terms\",Indexing!L$4,Indexing!L$3),0),VLOOKUP($M36,$CD$4:$CS$53,IF($K$4=\"terms\",Indexing!L$2,Indexing!L$1)+VLOOKUP($K$5,Indexing!$A:$C,3,0),0)),\"\")","v":""},{"$f":"IFERROR(IF($K$5=\"manual\",VLOOKUP($M36,$CU:$CY,IF($K$4=\"terms\",Indexing!M$4,Indexing!M$3),0),VLOOKUP($M36,$CD$4:$CS$53,IF($K$4=\"terms\",Indexing!M$2,Indexing!M$1)+VLOOKUP($K$5,Indexing!$A:$C,3,0),0)),\"\")","v":""},{"$f":"IFERROR(IF($K$5=\"manual\",VLOOKUP($M36,$CU:$CY,IF($K$4=\"terms\",Indexing!N$4,Indexing!N$3),0),VLOOKUP($M36,$CD$4:$CS$53,IF($K$4=\"terms\",Indexing!N$2,Indexing!N$1)+VLOOKUP($K$5,Indexing!$A:$C,3,0),0)),\"\")","v":""},"","","","","","","","","","",null,"(",")","（"," （","）","）"]
[null,null,null,"",null,null,null,null,null,null,null,null,"","","","","","","","","","","","",null,"","","","","","","","",0,1.179028727616524E-3,"",76,"","","","","","","","","","","","","","","","","","","","","","","","","","","","","","","","","","","","","","","","","","",null,35,"","","","","","","","","","","","","","","","",null,"",{"$f":"IF(H37=\"\",\"\",COUNTA($H$3:H37))","v":""},"","","",null,"","",{"$f":"IFERROR(IF($K$5=\"manual\",VLOOKUP($M37,$CU:$CY,IF($K$4=\"terms\",Indexing!L$4,Indexing!L$3),0),VLOOKUP($M37,$CD$4:$CS$53,IF($K$4=\"terms\",Indexing!L$2,Indexing!L$1)+VLOOKUP($K$5,Indexing!$A:$C,3,0),0)),\"\")","v":""},{"$f":"IFERROR(IF($K$5=\"manual\",VLOOKUP($M37,$CU:$CY,IF($K$4=\"terms\",Indexing!M$4,Indexing!M$3),0),VLOOKUP($M37,$CD$4:$CS$53,IF($K$4=\"terms\",Indexing!M$2,Indexing!M$1)+VLOOKUP($K$5,Indexing!$A:$C,3,0),0)),\"\")","v":""},{"$f":"IFERROR(IF($K$5=\"manual\",VLOOKUP($M37,$CU:$CY,IF($K$4=\"terms\",Indexing!N$4,Indexing!N$3),0),VLOOKUP($M37,$CD$4:$CS$53,IF($K$4=\"terms\",Indexing!N$2,Indexing!N$1)+VLOOKUP($K$5,Indexing!$A:$C,3,0),0)),\"\")","v":""},"","","","","","","","","","",null,"(",")","（"," （","）","）"]
[null,null,null,"",null,null,null,null,null,null,null,null,"","","","","","","","","","","","",null,"","","","","","","","",0,3.511700103295756E-3,"",27,"","","","","","","","","","","","","","","","","","","","","","","","","","","","","","","","","","","","","","","","","","",null,36,"","","","","","","","","","","","","","","","",null,"",{"$f":"IF(H38=\"\",\"\",COUNTA($H$3:H38))","v":""},"","","",null,"","",{"$f":"IFERROR(IF($K$5=\"manual\",VLOOKUP($M38,$CU:$CY,IF($K$4=\"terms\",Indexing!L$4,Indexing!L$3),0),VLOOKUP($M38,$CD$4:$CS$53,IF($K$4=\"terms\",Indexing!L$2,Indexing!L$1)+VLOOKUP($K$5,Indexing!$A:$C,3,0),0)),\"\")","v":""},{"$f":"IFERROR(IF($K$5=\"manual\",VLOOKUP($M38,$CU:$CY,IF($K$4=\"terms\",Indexing!M$4,Indexing!M$3),0),VLOOKUP($M38,$CD$4:$CS$53,IF($K$4=\"terms\",Indexing!M$2,Indexing!M$1)+VLOOKUP($K$5,Indexing!$A:$C,3,0),0)),\"\")","v":""},{"$f":"IFERROR(IF($K$5=\"manual\",VLOOKUP($M38,$CU:$CY,IF($K$4=\"terms\",Indexing!N$4,Indexing!N$3),0),VLOOKUP($M38,$CD$4:$CS$53,IF($K$4=\"terms\",Indexing!N$2,Indexing!N$1)+VLOOKUP($K$5,Indexing!$A:$C,3,0),0)),\"\")","v":""},"","","","","","","","","","",null,"(",")","（"," （","）","）"]
[null,null,null,"",null,null,null,null,null,null,null,null,"","","","","","","","","","","","",null,"","","","","","","","",0,2.0080534229274687E-3,"",62,"","","","","","","","","","","","","","","","","","","","","","","","","","","","","","","","","","","","","","","","","","",null,37,"","","","","","","","","","","","","","","","",null,"",{"$f":"IF(H39=\"\",\"\",COUNTA($H$3:H39))","v":""},"","","",null,"","",{"$f":"IFERROR(IF($K$5=\"manual\",VLOOKUP($M39,$CU:$CY,IF($K$4=\"terms\",Indexing!L$4,Indexing!L$3),0),VLOOKUP($M39,$CD$4:$CS$53,IF($K$4=\"terms\",Indexing!L$2,Indexing!L$1)+VLOOKUP($K$5,Indexing!$A:$C,3,0),0)),\"\")","v":""},{"$f":"IFERROR(IF($K$5=\"manual\",VLOOKUP($M39,$CU:$CY,IF($K$4=\"terms\",Indexing!M$4,Indexing!M$3),0),VLOOKUP($M39,$CD$4:$CS$53,IF($K$4=\"terms\",Indexing!M$2,Indexing!M$1)+VLOOKUP($K$5,Indexing!$A:$C,3,0),0)),\"\")","v":""},{"$f":"IFERROR(IF($K$5=\"manual\",VLOOKUP($M39,$CU:$CY,IF($K$4=\"terms\",Indexing!N$4,Indexing!N$3),0),VLOOKUP($M39,$CD$4:$CS$53,IF($K$4=\"terms\",Indexing!N$2,Indexing!N$1)+VLOOKUP($K$5,Indexing!$A:$C,3,0),0)),\"\")","v":""},"","","","","","","","","","",null,"(",")","（"," （","）","）"]
[null,null,null,"",null,null,null,null,null,null,null,null,"","","","","","","","","","","","",null,"","","","","","","","",0,2.7024370370418728E-3,"",49,"","","","","","","","","","","","","","","","","","","","","","","","","","","","","","","","","","","","","","","","","","",null,38,"","","","","","","","","","","","","","","","",null,"",{"$f":"IF(H40=\"\",\"\",COUNTA($H$3:H40))","v":""},"","","",null,"","",{"$f":"IFERROR(IF($K$5=\"manual\",VLOOKUP($M40,$CU:$CY,IF($K$4=\"terms\",Indexing!L$4,Indexing!L$3),0),VLOOKUP($M40,$CD$4:$CS$53,IF($K$4=\"terms\",Indexing!L$2,Indexing!L$1)+VLOOKUP($K$5,Indexing!$A:$C,3,0),0)),\"\")","v":""},{"$f":"IFERROR(IF($K$5=\"manual\",VLOOKUP($M40,$CU:$CY,IF($K$4=\"terms\",Indexing!M$4,Indexing!M$3),0),VLOOKUP($M40,$CD$4:$CS$53,IF($K$4=\"terms\",Indexing!M$2,Indexing!M$1)+VLOOKUP($K$5,Indexing!$A:$C,3,0),0)),\"\")","v":""},{"$f":"IFERROR(IF($K$5=\"manual\",VLOOKUP($M40,$CU:$CY,IF($K$4=\"terms\",Indexing!N$4,Indexing!N$3),0),VLOOKUP($M40,$CD$4:$CS$53,IF($K$4=\"terms\",Indexing!N$2,Indexing!N$1)+VLOOKUP($K$5,Indexing!$A:$C,3,0),0)),\"\")","v":""},"","","","","","","","","","",null,"(",")","（"," （","）","）"]
[null,null,null,"",null,null,null,null,null,null,null,null,"","","","","","","","","","","","",null,"","","","","","","","",0,4.3910576347126881E-3,"",11,"","","","","","","","","","","","","","","","","","","","","","","","","","","","","","","","","","","","","","","","","","",null,39,"","","","","","","","","","","","","","","","",null,"",{"$f":"IF(H41=\"\",\"\",COUNTA($H$3:H41))","v":""},"","","",null,"","",{"$f":"IFERROR(IF($K$5=\"manual\",VLOOKUP($M41,$CU:$CY,IF($K$4=\"terms\",Indexing!L$4,Indexing!L$3),0),VLOOKUP($M41,$CD$4:$CS$53,IF($K$4=\"terms\",Indexing!L$2,Indexing!L$1)+VLOOKUP($K$5,Indexing!$A:$C,3,0),0)),\"\")","v":""},{"$f":"IFERROR(IF($K$5=\"manual\",VLOOKUP($M41,$CU:$CY,IF($K$4=\"terms\",Indexing!M$4,Indexing!M$3),0),VLOOKUP($M41,$CD$4:$CS$53,IF($K$4=\"terms\",Indexing!M$2,Indexing!M$1)+VLOOKUP($K$5,Indexing!$A:$C,3,0),0)),\"\")","v":""},{"$f":"IFERROR(IF($K$5=\"manual\",VLOOKUP($M41,$CU:$CY,IF($K$4=\"terms\",Indexing!N$4,Indexing!N$3),0),VLOOKUP($M41,$CD$4:$CS$53,IF($K$4=\"terms\",Indexing!N$2,Indexing!N$1)+VLOOKUP($K$5,Indexing!$A:$C,3,0),0)),\"\")","v":""},"","","","","","","","","","",null,"(",")","（"," （","）","）"]
[null,null,null,"",null,null,null,null,null,null,null,null,"","","","","","","","","","","","",null,"","","","","","","","",0,5.4470423464217821E-4,"",90,"","","","","","","","","","","","","","","","","","","","","","","","","","","","","","","","","","","","","","","","","","",null,40,"","","","","","","","","","","","","","","","",null,"",{"$f":"IF(H42=\"\",\"\",COUNTA($H$3:H42))","v":""},"","","",null,"","",{"$f":"IFERROR(IF($K$5=\"manual\",VLOOKUP($M42,$CU:$CY,IF($K$4=\"terms\",Indexing!L$4,Indexing!L$3),0),VLOOKUP($M42,$CD$4:$CS$53,IF($K$4=\"terms\",Indexing!L$2,Indexing!L$1)+VLOOKUP($K$5,Indexing!$A:$C,3,0),0)),\"\")","v":""},{"$f":"IFERROR(IF($K$5=\"manual\",VLOOKUP($M42,$CU:$CY,IF($K$4=\"terms\",Indexing!M$4,Indexing!M$3),0),VLOOKUP($M42,$CD$4:$CS$53,IF($K$4=\"terms\",Indexing!M$2,Indexing!M$1)+VLOOKUP($K$5,Indexing!$A:$C,3,0),0)),\"\")","v":""},{"$f":"IFERROR(IF($K$5=\"manual\",VLOOKUP($M42,$CU:$CY,IF($K$4=\"terms\",Indexing!N$4,Indexing!N$3),0),VLOOKUP($M42,$CD$4:$CS$53,IF($K$4=\"terms\",Indexing!N$2,Indexing!N$1)+VLOOKUP($K$5,Indexing!$A:$C,3,0),0)),\"\")","v":""},"","","","","","","","","","",null,"(",")","（"," （","）","）"]
[null,null,null,"",null,null,null,null,null,null,null,null,"","","","","","","","","","","","",null,"","","","","","","","",0,3.3158191491736632E-3,"",37,"","","","","","","","","","","","","","","","","","","","","","","","","","","","","","","","","","","","","","","","","","",null,41,"","","","","","","","","","","","","","","","",null,"",{"$f":"IF(H43=\"\",\"\",COUNTA($H$3:H43))","v":""},"","","",null,"","",{"$f":"IFERROR(IF($K$5=\"manual\",VLOOKUP($M43,$CU:$CY,IF($K$4=\"terms\",Indexing!L$4,Indexing!L$3),0),VLOOKUP($M43,$CD$4:$CS$53,IF($K$4=\"terms\",Indexing!L$2,Indexing!L$1)+VLOOKUP($K$5,Indexing!$A:$C,3,0),0)),\"\")","v":""},{"$f":"IFERROR(IF($K$5=\"manual\",VLOOKUP($M43,$CU:$CY,IF($K$4=\"terms\",Indexing!M$4,Indexing!M$3),0),VLOOKUP($M43,$CD$4:$CS$53,IF($K$4=\"terms\",Indexing!M$2,Indexing!M$1)+VLOOKUP($K$5,Indexing!$A:$C,3,0),0)),\"\")","v":""},{"$f":"IFERROR(IF($K$5=\"manual\",VLOOKUP($M43,$CU:$CY,IF($K$4=\"terms\",Indexing!N$4,Indexing!N$3),0),VLOOKUP($M43,$CD$4:$CS$53,IF($K$4=\"terms\",Indexing!N$2,Indexing!N$1)+VLOOKUP($K$5,Indexing!$A:$C,3,0),0)),\"\")","v":""},"","","","","","","","","","",null,"(",")","（"," （","）","）"]
[null,null,null,"",null,null,null,null,null,null,null,null,"","","","","","","","","","","","",null,"","","","","","","","",0,9.7664423437826552E-6,"",100,"","","","","","","","","","","","","","","","","","","","","","","","","","","","","","","","","","","","","","","","","","",null,42,"","","","","","","","","","","","","","","","",null,"",{"$f":"IF(H44=\"\",\"\",COUNTA($H$3:H44))","v":""},"","","",null,"","",{"$f":"IFERROR(IF($K$5=\"manual\",VLOOKUP($M44,$CU:$CY,IF($K$4=\"terms\",Indexing!L$4,Indexing!L$3),0),VLOOKUP($M44,$CD$4:$CS$53,IF($K$4=\"terms\",Indexing!L$2,Indexing!L$1)+VLOOKUP($K$5,Indexing!$A:$C,3,0),0)),\"\")","v":""},{"$f":"IFERROR(IF($K$5=\"manual\",VLOOKUP($M44,$CU:$CY,IF($K$4=\"terms\",Indexing!M$4,Indexing!M$3),0),VLOOKUP($M44,$CD$4:$CS$53,IF($K$4=\"terms\",Indexing!M$2,Indexing!M$1)+VLOOKUP($K$5,Indexing!$A:$C,3,0),0)),\"\")","v":""},{"$f":"IFERROR(IF($K$5=\"manual\",VLOOKUP($M44,$CU:$CY,IF($K$4=\"terms\",Indexing!N$4,Indexing!N$3),0),VLOOKUP($M44,$CD$4:$CS$53,IF($K$4=\"terms\",Indexing!N$2,Indexing!N$1)+VLOOKUP($K$5,Indexing!$A:$C,3,0),0)),\"\")","v":""},"","","","","","","","","","",null,"(",")","（"," （","）","）"]
[null,null,null,"",null,null,null,null,null,null,null,null,"","","","","","","","","","","","",null,"","","","","","","","",0,1.5247560354342332E-3,"",69,"","","","","","","","","","","","","","","","","","","","","","","","","","","","","","","","","","","","","","","","","","",null,43,"","","","","","","","","","","","","","","","",null,"",{"$f":"IF(H45=\"\",\"\",COUNTA($H$3:H45))","v":""},"","","",null,"","",{"$f":"IFERROR(IF($K$5=\"manual\",VLOOKUP($M45,$CU:$CY,IF($K$4=\"terms\",Indexing!L$4,Indexing!L$3),0),VLOOKUP($M45,$CD$4:$CS$53,IF($K$4=\"terms\",Indexing!L$2,Indexing!L$1)+VLOOKUP($K$5,Indexing!$A:$C,3,0),0)),\"\")","v":""},{"$f":"IFERROR(IF($K$5=\"manual\",VLOOKUP($M45,$CU:$CY,IF($K$4=\"terms\",Indexing!M$4,Indexing!M$3),0),VLOOKUP($M45,$CD$4:$CS$53,IF($K$4=\"terms\",Indexing!M$2,Indexing!M$1)+VLOOKUP($K$5,Indexing!$A:$C,3,0),0)),\"\")","v":""},{"$f":"IFERROR(IF($K$5=\"manual\",VLOOKUP($M45,$CU:$CY,IF($K$4=\"terms\",Indexing!N$4,Indexing!N$3),0),VLOOKUP($M45,$CD$4:$CS$53,IF($K$4=\"terms\",Indexing!N$2,Indexing!N$1)+VLOOKUP($K$5,Indexing!$A:$C,3,0),0)),\"\")","v":""},"","","","","","","","","","",null,"(",")","（"," （","）","）"]
[null,null,null,"",null,null,null,null,null,null,null,null,"","","","","","","","","","","","",null,"","","","","","","","",0,4.4916433381738379E-3,"",8,"","","","","","","","","","","","","","","","","","","","","","","","","","","","","","","","","","","","","","","","","","",null,44,"","","","","","","","","","","","","","","","",null,"",{"$f":"IF(H46=\"\",\"\",COUNTA($H$3:H46))","v":""},"","","",null,"","",{"$f":"IFERROR(IF($K$5=\"manual\",VLOOKUP($M46,$CU:$CY,IF($K$4=\"terms\",Indexing!L$4,Indexing!L$3),0),VLOOKUP($M46,$CD$4:$CS$53,IF($K$4=\"terms\",Indexing!L$2,Indexing!L$1)+VLOOKUP($K$5,Indexing!$A:$C,3,0),0)),\"\")","v":""},{"$f":"IFERROR(IF($K$5=\"manual\",VLOOKUP($M46,$CU:$CY,IF($K$4=\"terms\",Indexing!M$4,Indexing!M$3),0),VLOOKUP($M46,$CD$4:$CS$53,IF($K$4=\"terms\",Indexing!M$2,Indexing!M$1)+VLOOKUP($K$5,Indexing!$A:$C,3,0),0)),\"\")","v":""},{"$f":"IFERROR(IF($K$5=\"manual\",VLOOKUP($M46,$CU:$CY,IF($K$4=\"terms\",Indexing!N$4,Indexing!N$3),0),VLOOKUP($M46,$CD$4:$CS$53,IF($K$4=\"terms\",Indexing!N$2,Indexing!N$1)+VLOOKUP($K$5,Indexing!$A:$C,3,0),0)),\"\")","v":""},"","","","","","","","","","",null,"(",")","（"," （","）","）"]
[null,null,null,"",null,null,null,null,null,null,null,null,"","","","","","","","","","","","",null,"","","","","","","","",0,1.7076675749608987E-3,"",67,"","","","","","","","","","","","","","","","","","","","","","","","","","","","","","","","","","","","","","","","","","",null,45,"","","","","","","","","","","","","","","","",null,"",{"$f":"IF(H47=\"\",\"\",COUNTA($H$3:H47))","v":""},"","","",null,"","",{"$f":"IFERROR(IF($K$5=\"manual\",VLOOKUP($M47,$CU:$CY,IF($K$4=\"terms\",Indexing!L$4,Indexing!L$3),0),VLOOKUP($M47,$CD$4:$CS$53,IF($K$4=\"terms\",Indexing!L$2,Indexing!L$1)+VLOOKUP($K$5,Indexing!$A:$C,3,0),0)),\"\")","v":""},{"$f":"IFERROR(IF($K$5=\"manual\",VLOOKUP($M47,$CU:$CY,IF($K$4=\"terms\",Indexing!M$4,Indexing!M$3),0),VLOOKUP($M47,$CD$4:$CS$53,IF($K$4=\"terms\",Indexing!M$2,Indexing!M$1)+VLOOKUP($K$5,Indexing!$A:$C,3,0),0)),\"\")","v":""},{"$f":"IFERROR(IF($K$5=\"manual\",VLOOKUP($M47,$CU:$CY,IF($K$4=\"terms\",Indexing!N$4,Indexing!N$3),0),VLOOKUP($M47,$CD$4:$CS$53,IF($K$4=\"terms\",Indexing!N$2,Indexing!N$1)+VLOOKUP($K$5,Indexing!$A:$C,3,0),0)),\"\")","v":""},"","","","","","","","","","",null,"(",")","（"," （","）","）"]
[null,null,null,"",null,null,null,null,null,null,null,null,"","","","","","","","","","","","",null,"","","","","","","","",0,3.6635146334302091E-4,"",94,"","","","","","","","","","","","","","","","","","","","","","","","","","","","","","","","","","","","","","","","","","",null,46,"","","","","","","","","","","","","","","","",null,"",{"$f":"IF(H48=\"\",\"\",COUNTA($H$3:H48))","v":""},"","","",null,"","",{"$f":"IFERROR(IF($K$5=\"manual\",VLOOKUP($M48,$CU:$CY,IF($K$4=\"terms\",Indexing!L$4,Indexing!L$3),0),VLOOKUP($M48,$CD$4:$CS$53,IF($K$4=\"terms\",Indexing!L$2,Indexing!L$1)+VLOOKUP($K$5,Indexing!$A:$C,3,0),0)),\"\")","v":""},{"$f":"IFERROR(IF($K$5=\"manual\",VLOOKUP($M48,$CU:$CY,IF($K$4=\"terms\",Indexing!M$4,Indexing!M$3),0),VLOOKUP($M48,$CD$4:$CS$53,IF($K$4=\"terms\",Indexing!M$2,Indexing!M$1)+VLOOKUP($K$5,Indexing!$A:$C,3,0),0)),\"\")","v":""},{"$f":"IFERROR(IF($K$5=\"manual\",VLOOKUP($M48,$CU:$CY,IF($K$4=\"terms\",Indexing!N$4,Indexing!N$3),0),VLOOKUP($M48,$CD$4:$CS$53,IF($K$4=\"terms\",Indexing!N$2,Indexing!N$1)+VLOOKUP($K$5,Indexing!$A:$C,3,0),0)),\"\")","v":""},"","","","","","","","","","",null,"(",")","（"," （","）","）"]
[null,null,null,"",null,null,null,null,null,null,null,null,"","","","","","","","","","","","",null,"","","","","","","","",0,2.4775485761168851E-3,"",53,"","","","","","","","","","","","","","","","","","","","","","","","","","","","","","","","","","","","","","","","","","",null,47,"","","","","","","","","","","","","","","","",null,"",{"$f":"IF(H49=\"\",\"\",COUNTA($H$3:H49))","v":""},"","","",null,"","",{"$f":"IFERROR(IF($K$5=\"manual\",VLOOKUP($M49,$CU:$CY,IF($K$4=\"terms\",Indexing!L$4,Indexing!L$3),0),VLOOKUP($M49,$CD$4:$CS$53,IF($K$4=\"terms\",Indexing!L$2,Indexing!L$1)+VLOOKUP($K$5,Indexing!$A:$C,3,0),0)),\"\")","v":""},{"$f":"IFERROR(IF($K$5=\"manual\",VLOOKUP($M49,$CU:$CY,IF($K$4=\"terms\",Indexing!M$4,Indexing!M$3),0),VLOOKUP($M49,$CD$4:$CS$53,IF($K$4=\"terms\",Indexing!M$2,Indexing!M$1)+VLOOKUP($K$5,Indexing!$A:$C,3,0),0)),\"\")","v":""},{"$f":"IFERROR(IF($K$5=\"manual\",VLOOKUP($M49,$CU:$CY,IF($K$4=\"terms\",Indexing!N$4,Indexing!N$3),0),VLOOKUP($M49,$CD$4:$CS$53,IF($K$4=\"terms\",Indexing!N$2,Indexing!N$1)+VLOOKUP($K$5,Indexing!$A:$C,3,0),0)),\"\")","v":""},"","","","","","","","","","",null,"(",")","（"," （","）","）"]
[null,null,null,"",null,null,null,null,null,null,null,null,"","","","","","","","","","","","",null,"","","","","","","","",0,1.4189085027170279E-3,"",71,"","","","","","","","","","","","","","","","","","","","","","","","","","","","","","","","","","","","","","","","","","",null,48,"","","","","","","","","","","","","","","","",null,"",{"$f":"IF(H50=\"\",\"\",COUNTA($H$3:H50))","v":""},"","","",null,"","",{"$f":"IFERROR(IF($K$5=\"manual\",VLOOKUP($M50,$CU:$CY,IF($K$4=\"terms\",Indexing!L$4,Indexing!L$3),0),VLOOKUP($M50,$CD$4:$CS$53,IF($K$4=\"terms\",Indexing!L$2,Indexing!L$1)+VLOOKUP($K$5,Indexing!$A:$C,3,0),0)),\"\")","v":""},{"$f":"IFERROR(IF($K$5=\"manual\",VLOOKUP($M50,$CU:$CY,IF($K$4=\"terms\",Indexing!M$4,Indexing!M$3),0),VLOOKUP($M50,$CD$4:$CS$53,IF($K$4=\"terms\",Indexing!M$2,Indexing!M$1)+VLOOKUP($K$5,Indexing!$A:$C,3,0),0)),\"\")","v":""},{"$f":"IFERROR(IF($K$5=\"manual\",VLOOKUP($M50,$CU:$CY,IF($K$4=\"terms\",Indexing!N$4,Indexing!N$3),0),VLOOKUP($M50,$CD$4:$CS$53,IF($K$4=\"terms\",Indexing!N$2,Indexing!N$1)+VLOOKUP($K$5,Indexing!$A:$C,3,0),0)),\"\")","v":""},"","","","","","","","","","",null,"(",")","（"," （","）","）"]
[null,null,null,"",null,null,null,null,null,null,null,null,"","","","","","","","","","","","",null,"","","","","","","","",0,3.4894127162454782E-3,"",29,"","","","","","","","","","","","","","","","","","","","","","","","","","","","","","","","","","","","","","","","","","",null,49,"","","","","","","","","","","","","","","","",null,"",{"$f":"IF(H51=\"\",\"\",COUNTA($H$3:H51))","v":""},"","","",null,"","",{"$f":"IFERROR(IF($K$5=\"manual\",VLOOKUP($M51,$CU:$CY,IF($K$4=\"terms\",Indexing!L$4,Indexing!L$3),0),VLOOKUP($M51,$CD$4:$CS$53,IF($K$4=\"terms\",Indexing!L$2,Indexing!L$1)+VLOOKUP($K$5,Indexing!$A:$C,3,0),0)),\"\")","v":""},{"$f":"IFERROR(IF($K$5=\"manual\",VLOOKUP($M51,$CU:$CY,IF($K$4=\"terms\",Indexing!M$4,Indexing!M$3),0),VLOOKUP($M51,$CD$4:$CS$53,IF($K$4=\"terms\",Indexing!M$2,Indexing!M$1)+VLOOKUP($K$5,Indexing!$A:$C,3,0),0)),\"\")","v":""},{"$f":"IFERROR(IF($K$5=\"manual\",VLOOKUP($M51,$CU:$CY,IF($K$4=\"terms\",Indexing!N$4,Indexing!N$3),0),VLOOKUP($M51,$CD$4:$CS$53,IF($K$4=\"terms\",Indexing!N$2,Indexing!N$1)+VLOOKUP($K$5,Indexing!$A:$C,3,0),0)),\"\")","v":""},"","","","","","","","","","",null,"(",")","（"," （","）","）"]
[null,null,null,"",null,null,null,null,null,null,null,null,"","","","","","","","","","","","",null,"","","","","","","","",0,3.4470367827296477E-3,"",31,"","","","","","","","","","","","","","","","","","","","","","","","","","","","","","","","","","","","","","","","","","",null,50,"","","","","","","","","","","","","","","","",null,"",{"$f":"IF(H52=\"\",\"\",COUNTA($H$3:H52))","v":""},"","","",null,"","",{"$f":"IFERROR(IF($K$5=\"manual\",VLOOKUP($M52,$CU:$CY,IF($K$4=\"terms\",Indexing!L$4,Indexing!L$3),0),VLOOKUP($M52,$CD$4:$CS$53,IF($K$4=\"terms\",Indexing!L$2,Indexing!L$1)+VLOOKUP($K$5,Indexing!$A:$C,3,0),0)),\"\")","v":""},{"$f":"IFERROR(IF($K$5=\"manual\",VLOOKUP($M52,$CU:$CY,IF($K$4=\"terms\",Indexing!M$4,Indexing!M$3),0),VLOOKUP($M52,$CD$4:$CS$53,IF($K$4=\"terms\",Indexing!M$2,Indexing!M$1)+VLOOKUP($K$5,Indexing!$A:$C,3,0),0)),\"\")","v":""},{"$f":"IFERROR(IF($K$5=\"manual\",VLOOKUP($M52,$CU:$CY,IF($K$4=\"terms\",Indexing!N$4,Indexing!N$3),0),VLOOKUP($M52,$CD$4:$CS$53,IF($K$4=\"terms\",Indexing!N$2,Indexing!N$1)+VLOOKUP($K$5,Indexing!$A:$C,3,0),0)),\"\")","v":""},"","","","","","","","","","",null,"(",")","（"," （","）","）"]
[null,null,null,"",null,null,null,null,null,null,null,null,null,null,null,null,null,null,null,null,null,null,null,0,null,null,null,null,null,null,null,null,null,null,3.7074419654396801E-3,"",25,"","","","","","","","","","","","","","","","","","","","","","","","","","","","","","","","","","","","","","","","","","",null,null,null,null,null,null,null,null,null,null,null,null,null,null,null,null,null,null,null,"",{"$f":"IF(H53=\"\",\"\",COUNTA($H$3:H53))","v":""},"","",""]
[null,null,null,"",null,null,null,null,null,null,null,null,null,null,null,null,null,null,null,null,null,null,null,0,null,null,null,null,null,null,null,null,null,null,6.9241540636428396E-4,"",84,"","","","","","","","","","","","","","","","","","","","","","","","","","","","","","","","","","","","","","","","","","",null,null,null,null,null,null,null,null,null,null,null,null,null,null,null,null,null,null,null,"",{"$f":"IF(H54=\"\",\"\",COUNTA($H$3:H54))","v":""},"","",""]
[null,null,null,"",null,null,null,null,null,null,null,null,null,null,null,null,null,null,null,null,null,null,null,0,null,null,null,null,null,null,null,null,null,null,6.8895425199865749E-4,"",85,"","","","","","","","","","","","","","","","","","","","","","","","","","","","","","","","","","","","","","","","","","",null,null,null,null,null,null,null,null,null,null,null,null,null,null,null,null,null,null,null,"",{"$f":"IF(H55=\"\",\"\",COUNTA($H$3:H55))","v":""},"","",""]
[null,null,null,"",null,null,null,null,null,null,null,null,null,null,null,null,null,null,null,null,null,null,null,0,null,null,null,null,null,null,null,null,null,null,3.4011093935281556E-3,"",33,"","","","","","","","","","","","","","","","","","","","","","","","","","","","","","","","","","","","","","","","","","",null,null,null,null,null,null,null,null,null,null,null,null,null,null,null,null,null,null,null,"",{"$f":"IF(H56=\"\",\"\",COUNTA($H$3:H56))","v":""},"","",""]
[null,null,null,"",null,null,null,null,null,null,null,null,null,null,null,null,null,null,null,null,null,null,null,0,null,null,null,null,null,null,null,null,null,null,4.2855614304351843E-3,"",13,"","","","","","","","","","","","","","","","","","","","","","","","","","","","","","","","","","","","","","","","","","",null,null,null,null,null,null,null,null,null,null,null,null,null,null,null,null,null,null,null,"",{"$f":"IF(H57=\"\",\"\",COUNTA($H$3:H57))","v":""},"","",""]
[null,null,null,"",null,null,null,null,null,null,null,null,null,null,null,null,null,null,null,null,null,null,null,0,null,null,null,null,null,null,null,null,null,null,1.533264438021842E-4,"",97,"","","","","","","","","","","","","","","","","","","","","","","","","","","","","","","","","","","","","","","","","","",null,null,null,null,null,null,null,null,null,null,null,null,null,null,null,null,null,null,null,"",{"$f":"IF(H58=\"\",\"\",COUNTA($H$3:H58))","v":""},"","",""]
[null,null,null,"",null,null,null,null,null,null,null,null,null,null,null,null,null,null,null,null,null,null,null,0,null,null,null,null,null,null,null,null,null,null,4.8728608593108736E-4,"",92,"","","","","","","","","","","","","","","","","","","","","","","","","","","","","","","","","","","","","","","","","","",null,null,null,null,null,null,null,null,null,null,null,null,null,null,null,null,null,null,null,"",{"$f":"IF(H59=\"\",\"\",COUNTA($H$3:H59))","v":""},"","",""]
[null,null,null,"",null,null,null,null,null,null,null,null,null,null,null,null,null,null,null,null,null,null,null,0,null,null,null,null,null,null,null,null,null,null,2.9063691714468851E-3,"",46,"","","","","","","","","","","","","","","","","","","","","","","","","","","","","","","","","","","","","","","","","","",null,null,null,null,null,null,null,null,null,null,null,null,null,null,null,null,null,null,null,"",{"$f":"IF(H60=\"\",\"\",COUNTA($H$3:H60))","v":""},"","",""]
[null,null,null,"",null,null,null,null,null,null,null,null,null,null,null,null,null,null,null,null,null,null,null,0,null,null,null,null,null,null,null,null,null,null,1.5818968875974443E-3,"",68,"","","","","","","","","","","","","","","","","","","","","","","","","","","","","","","","","","","","","","","","","","",null,null,null,null,null,null,null,null,null,null,null,null,null,null,null,null,null,null,null,"",{"$f":"IF(H61=\"\",\"\",COUNTA($H$3:H61))","v":""},"","",""]
[null,null,null,"",null,null,null,null,null,null,null,null,null,null,null,null,null,null,null,null,null,null,null,0,null,null,null,null,null,null,null,null,null,null,4.6237408527303762E-3,"",5,"","","","","","","","","","","","","","","","","","","","","","","","","","","","","","","","","","","","","","","","","","",null,null,null,null,null,null,null,null,null,null,null,null,null,null,null,null,null,null,null,"",{"$f":"IF(H62=\"\",\"\",COUNTA($H$3:H62))","v":""},"","",""]
[null,null,null,"",null,null,null,null,null,null,null,null,null,null,null,null,null,null,null,null,null,null,null,0,null,null,null,null,null,null,null,null,null,null,2.1351652253051895E-3,"",59,"","","","","","","","","","","","","","","","","","","","","","","","","","","","","","","","","","","","","","","","","","",null,null,null,null,null,null,null,null,null,null,null,null,null,null,null,null,null,null,null,"",{"$f":"IF(H63=\"\",\"\",COUNTA($H$3:H63))","v":""},"","",""]
[null,null,null,"",null,null,null,null,null,null,null,null,null,null,null,null,null,null,null,null,null,null,null,0,null,null,null,null,null,null,null,null,null,null,1.4907376348537432E-3,"",70,"","","","","","","","","","","","","","","","","","","","","","","","","","","","","","","","","","","","","","","","","","",null,null,null,null,null,null,null,null,null,null,null,null,null,null,null,null,null,null,null,"",{"$f":"IF(H64=\"\",\"\",COUNTA($H$3:H64))","v":""},"","",""]
[null,null,null,"",null,null,null,null,null,null,null,null,null,null,null,null,null,null,null,null,null,null,null,0,null,null,null,null,null,null,null,null,null,null,1.8589501538608865E-3,"",64,"","","","","","","","","","","","","","","","","","","","","","","","","","","","","","","","","","","","","","","","","","",null,null,null,null,null,null,null,null,null,null,null,null,null,null,null,null,null,null,null,"",{"$f":"IF(H65=\"\",\"\",COUNTA($H$3:H65))","v":""},"","",""]
[null,null,null,"",null,null,null,null,null,null,null,null,null,null,null,null,null,null,null,null,null,null,null,0,null,null,null,null,null,null,null,null,null,null,5.8684913113614509E-4,"",89,"","","","","","","","","","","","","","","","","","","","","","","","","","","","","","","","","","","","","","","","","","",null,null,null,null,null,null,null,null,null,null,null,null,null,null,null,null,null,null,null,"",{"$f":"IF(H66=\"\",\"\",COUNTA($H$3:H66))","v":""},"","",""]
[null,null,null,"",null,null,null,null,null,null,null,null,null,null,null,null,null,null,null,null,null,null,null,0,null,null,null,null,null,null,null,null,null,null,{"$f":"IFERROR(G67+(RAND()/200),\"\")","v":4.0188970098993474E-3},{"$f":"IFERROR(RANK(G67,$G$3:$G$303,0),\"\")","v":""},{"$f":"IFERROR(RANK(AI67,$AI$3:$AI$102,0),\"\")","v":19},{"$f":"IFERROR(ROUNDUP(AK67/(COUNT(G:G))*$K$7,0),\"\")","v":""},{"$f":"IF(G67=\"\",\"\",RAND())","v":""},{"$f":"IF(E67=\"\",\"\",_xlfn.MAXIFS($AM$3:$AM$301,$AL$3:$AL$301,$AL67))","v":""},"","","",{"$f":"IFERROR(VLOOKUP($AN67,$AM$2:$AQ$301,3,0),\"\")","v":""},{"$f":"IFERROR(VLOOKUP($AN67,$AM$2:$AQ$301,4,0),\"\")","v":""},{"$f":"IFERROR(VLOOKUP($AN67,$AM$2:$AQ$301,5,0),\"\")","v":""},{"$f":"IFERROR(IF($AI67=\"\",\"\",IF($AJ67<AVERAGE($AJ$3:$AJ$301),\"\",$AJ67+RAND())),\"\")","v":""},{"$f":"IFERROR(RANK(AU67,$AU$3:$AU$301,1),\"\")","v":""},{"$f":"IFERROR(ROUNDUP(AV67/(COUNT(AU$2:AU$301))*$K$7,0),\"\")","v":""},{"$f":"IF(AW67=\"\",\"\",RAND())","v":""},{"$f":"IF(AV67=\"\",\"\",_xlfn.MAXIFS($AX$3:$AX$301,$AW$3:$AW$301,$AW67))","v":""},"","","",{"$f":"IFERROR(IF(AY67=\"\",\"\",VLOOKUP($AY67,$AX$2:$BB$301,3,0)),\"\")","v":""},{"$f":"IFERROR(IF(AY67=\"\",\"\",VLOOKUP($AY67,$AX$2:$BB$301,4,0)),\"\")","v":""},{"$f":"IFERROR(IF(AY67=\"\",\"\",VLOOKUP($AY67,$AX$2:$BB$301,5,0)),\"\")","v":""},{"$f":"IFERROR(IF($AI67=\"\",\"\",IF($AJ67>AVERAGE($AJ$3:$AJ$301),\"\",$AJ67+RAND())),\"\")","v":""},{"$f":"IFERROR(RANK(BF67,$BF$3:$BF$301,1),\"\")","v":""},{"$f":"IFERROR(ROUNDUP(BG67/(COUNT(BF$2:BF$301))*$K$7,0),\"\")","v":""},{"$f":"IF(BH67=\"\",\"\",RAND())","v":""},{"$f":"IF(BG67=\"\",\"\",_xlfn.MAXIFS($BI$3:$BI$301,$BH$3:$BH$301,$BH67))","v":""},"","","",{"$f":"IFERROR(IF($BJ67=\"\",\"\",VLOOKUP($BJ67,$BI$2:$BP$301,3,0)),\"\")","v":""},{"$f":"IFERROR(IF($BJ67=\"\",\"\",VLOOKUP($BJ67,$BI$2:$BP$301,4,0)),\"\")","v":""},{"$f":"IFERROR(IF($BJ67=\"\",\"\",VLOOKUP($BJ67,$BI$2:$BP$301,5,0)),\"\")","v":""},{"$f":"IFERROR(IF($AI67=\"\",\"\",IF($AJ67>1.5*AVERAGE($AJ$3:$AJ$301),\"\",IF($AJ67<0.5*AVERAGE($AJ$3:$AJ$301),\"\",$AJ67+RAND()))),\"\")","v":""},{"$f":"IFERROR(RANK($BQ67,$BQ$3:$BQ$301,1),\"\")","v":""},{"$f":"IFERROR(ROUNDUP(BR67/(COUNT(BQ$2:BQ$301))*$K$7,0),\"\")","v":""},{"$f":"IF(BS67=\"\",\"\",RAND())","v":""},{"$f":"IF(BR67=\"\",\"\",_xlfn.MAXIFS($BT$3:$BT$301,$BS$3:$BS$301,$BS67))","v":""},"","","","",{"$f":"IFERROR(IF($BU67=\"\",\"\",VLOOKUP($BU67,$BT$2:$BX$301,4,0)),\"\")","v":""},{"$f":"IFERROR(IF($BU67=\"\",\"\",VLOOKUP($BU67,$BT$2:$BX$301,5,0)),\"\")","v":""},null,null,null,null,null,null,null,null,null,null,null,null,null,null,null,null,null,null,null,"",{"$f":"IF(H67=\"\",\"\",COUNTA($H$3:H67))","v":""},"","",""]
[null,null,null,{"$f":"IF(E68=\"\",\"\",1+D67)","v":""},null,null,null,null,null,null,null,null,null,null,null,null,null,null,null,null,null,null,null,{"$f":"IFERROR(IF($K$6=\"YES\",VLOOKUP($M68,$DB:$DP,DO$1,0),DO68),\"\")","v":0},null,null,null,null,null,null,null,null,null,null,1.3974259144350842E-3,"",72,"","","",{"$f":"IF(E68=\"\",\"\",E68)","v":""},{"$f":"IF(F68=\"\",\"\",F68)","v":""},{"$f":"IF(G68=\"\",\"\",G68)","v":""},"","","","","","","","",{"$f":"IF(E68=\"\",\"\",E68)","v":""},{"$f":"IF(F68=\"\",\"\",F68)","v":""},{"$f":"IF(G68=\"\",\"\",G68)","v":""},"","","","","","","","",{"$f":"IF(E68=\"\",\"\",E68)","v":""},{"$f":"IF(F68=\"\",\"\",F68)","v":""},{"$f":"IF(G68=\"\",\"\",G68)","v":""},"","","","","","","","",{"$f":"IF(E68=\"\",\"\",E68)","v":""},{"$f":"IF(F68=\"\",\"\",F68)","v":""},{"$f":"IF(G68=\"\",\"\",G68)","v":""},{"$f":"IFERROR(IF($BU68=\"\",\"\",VLOOKUP($BU68,$BT$2:$BX$301,3,0)),\"\")","v":""},"","",null,null,null,null,null,null,null,null,null,null,null,null,null,null,null,null,null,null,null,{"$f":"IFERROR(RANK(CV68,$CV$3:$CV$302,0),\"\")","v":""},{"$f":"IF(H68=\"\",\"\",COUNTA($H$3:H68))","v":""},{"$f":"IF($H68<>\"\",IF(E68=\"\",\"\",E68),\"\")","v":""},{"$f":"IF($H68<>\"\",IF(F68=\"\",\"\",F68),\"\")","v":""},{"$f":"IF($H68<>\"\",IF(G68=\"\",\"\",G68),\"\")","v":""}]
[null,null,null,"",null,null,null,null,null,null,null,null,null,null,null,null,null,null,null,null,null,null,null,0,null,null,null,null,null,null,null,null,null,null,2.240384058689877E-3,"",57,"","","","","","","","","","","","","","","","","","","","","","","","","","","","","","","","","","","","","","","","","","",null,null,null,null,null,null,null,null,null,null,null,null,null,null,null,null,null,null,null,"",{"$f":"IF(H69=\"\",\"\",COUNTA($H$3:H69))","v":""},"","",""]
[null,null,null,"",null,null,null,null,null,null,null,null,null,null,null,null,null,null,null,null,null,null,null,0,null,null,null,null,null,null,null,null,null,null,4.3852468156902477E-3,"",12,"","","","","","","","","","","","","","","","","","","","","","","","","","","","","","","","","","","","","","","","","","",null,null,null,null,null,null,null,null,null,null,null,null,null,null,null,null,null,null,null,"",{"$f":"IF(H70=\"\",\"\",COUNTA($H$3:H70))","v":""},"","",""]
[null,null,null,"",null,null,null,null,null,null,null,null,null,null,null,null,null,null,null,null,null,null,null,0,null,null,null,null,null,null,null,null,null,null,2.8972860320482362E-3,"",47,"","","","","","","","","","","","","","","","","","","","","","","","","","","","","","","","","","","","","","","","","","",null,null,null,null,null,null,null,null,null,null,null,null,null,null,null,null,null,null,null,"",{"$f":"IF(H71=\"\",\"\",COUNTA($H$3:H71))","v":""},"","",""]
[null,null,null,"",null,null,null,null,null,null,null,null,null,null,null,null,null,null,null,null,null,null,null,0,null,null,null,null,null,null,null,null,null,null,4.8392092117902066E-3,"",1,"","","","","","","","","","","","","","","","","","","","","","","","","","","","","","","","","","","","","","","","","","",null,null,null,null,null,null,null,null,null,null,null,null,null,null,null,null,null,null,null,"",{"$f":"IF(H72=\"\",\"\",COUNTA($H$3:H72))","v":""},"","",""]
[null,null,null,"",null,null,null,null,null,null,null,null,null,null,null,null,null,null,null,null,null,null,null,0,null,null,null,null,null,null,null,null,null,null,2.5677609602365349E-3,"",51,"","","","","","","","","","","","","","","","","","","","","","","","","","","","","","","","","","","","","","","","","","",null,null,null,null,null,null,null,null,null,null,null,null,null,null,null,null,null,null,null,"",{"$f":"IF(H73=\"\",\"\",COUNTA($H$3:H73))","v":""},"","",""]
[null,null,null,"",null,null,null,null,null,null,null,null,null,null,null,null,null,null,null,null,null,null,null,0,null,null,null,null,null,null,null,null,null,null,5.1022029962961564E-4,"",91,"","","","","","","","","","","","","","","","","","","","","","","","","","","","","","","","","","","","","","","","","","",null,null,null,null,null,null,null,null,null,null,null,null,null,null,null,null,null,null,null,"",{"$f":"IF(H74=\"\",\"\",COUNTA($H$3:H74))","v":""},"","",""]
[null,null,null,"",null,null,null,null,null,null,null,null,null,null,null,null,null,null,null,null,null,null,null,0,null,null,null,null,null,null,null,null,null,null,2.4059872061008543E-3,"",54,"","","","","","","","","","","","","","","","","","","","","","","","","","","","","","","","","","","","","","","","","","",null,null,null,null,null,null,null,null,null,null,null,null,null,null,null,null,null,null,null,"",{"$f":"IF(H75=\"\",\"\",COUNTA($H$3:H75))","v":""},"","",""]
[null,null,null,"",null,null,null,null,null,null,null,null,null,null,null,null,null,null,null,null,null,null,null,0,null,null,null,null,null,null,null,null,null,null,3.824140364761741E-3,"",21,"","","","","","","","","","","","","","","","","","","","","","","","","","","","","","","","","","","","","","","","","","",null,null,null,null,null,null,null,null,null,null,null,null,null,null,null,null,null,null,null,"",{"$f":"IF(H76=\"\",\"\",COUNTA($H$3:H76))","v":""},"","",""]
[null,null,null,"",null,null,null,null,null,null,null,null,null,null,null,null,null,null,null,null,null,null,null,0,null,null,null,null,null,null,null,null,null,null,1.0040645036734519E-3,"",80,"","","","","","","","","","","","","","","","","","","","","","","","","","","","","","","","","","","","","","","","","","",null,null,null,null,null,null,null,null,null,null,null,null,null,null,null,null,null,null,null,"",{"$f":"IF(H77=\"\",\"\",COUNTA($H$3:H77))","v":""},"","",""]
[null,null,null,"",null,null,null,null,null,null,null,null,null,null,null,null,null,null,null,null,null,null,null,0,null,null,null,null,null,null,null,null,null,null,3.317374900510569E-3,"",36,"","","","","","","","","","","","","","","","","","","","","","","","","","","","","","","","","","","","","","","","","","",null,null,null,null,null,null,null,null,null,null,null,null,null,null,null,null,null,null,null,"",{"$f":"IF(H78=\"\",\"\",COUNTA($H$3:H78))","v":""},"","",""]
[null,null,null,"",null,null,null,null,null,null,null,null,null,null,null,null,null,null,null,null,null,null,null,0,null,null,null,null,null,null,null,null,null,null,6.0500711399838426E-4,"",88,"","","","","","","","","","","","","","","","","","","","","","","","","","","","","","","","","","","","","","","","","","",null,null,null,null,null,null,null,null,null,null,null,null,null,null,null,null,null,null,null,"",{"$f":"IF(H79=\"\",\"\",COUNTA($H$3:H79))","v":""},"","",""]
[null,null,null,"",null,null,null,null,null,null,null,null,null,null,null,null,null,null,null,null,null,null,null,0,null,null,null,null,null,null,null,null,null,null,1.8772863529552585E-3,"",63,"","","","","","","","","","","","","","","","","","","","","","","","","","","","","","","","","","","","","","","","","","",null,null,null,null,null,null,null,null,null,null,null,null,null,null,null,null,null,null,null,"",{"$f":"IF(H80=\"\",\"\",COUNTA($H$3:H80))","v":""},"","",""]
[null,null,null,"",null,null,null,null,null,null,null,null,null,null,null,null,null,null,null,null,null,null,null,0,null,null,null,null,null,null,null,null,null,null,1.7793656041739775E-3,"",66,"","","","","","","","","","","","","","","","","","","","","","","","","","","","","","","","","","","","","","","","","","",null,null,null,null,null,null,null,null,null,null,null,null,null,null,null,null,null,null,null,"",{"$f":"IF(H81=\"\",\"\",COUNTA($H$3:H81))","v":""},"","",""]
[null,null,null,"",null,null,null,null,null,null,null,null,null,null,null,null,null,null,null,null,null,null,null,0,null,null,null,null,null,null,null,null,null,null,2.5592796834036859E-3,"",52,"","","","","","","","","","","","","","","","","","","","","","","","","","","","","","","","","","","","","","","","","","",null,null,null,null,null,null,null,null,null,null,null,null,null,null,null,null,null,null,null,"",{"$f":"IF(H82=\"\",\"\",COUNTA($H$3:H82))","v":""},"","",""]
[null,null,null,"",null,null,null,null,null,null,null,null,null,null,null,null,null,null,null,null,null,null,null,0,null,null,null,null,null,null,null,null,null,null,3.6084148564136218E-4,"",95,"","","","","","","","","","","","","","","","","","","","","","","","","","","","","","","","","","","","","","","","","","",null,null,null,null,null,null,null,null,null,null,null,null,null,null,null,null,null,null,null,"",{"$f":"IF(H83=\"\",\"\",COUNTA($H$3:H83))","v":""},"","",""]
[null,null,null,"",null,null,null,null,null,null,null,null,null,null,null,null,null,null,null,null,null,null,null,0,null,null,null,null,null,null,null,null,null,null,2.9999494540167491E-3,"",42,"","","","","","","","","","","","","","","","","","","","","","","","","","","","","","","","","","","","","","","","","","",null,null,null,null,null,null,null,null,null,null,null,null,null,null,null,null,null,null,null,"",{"$f":"IF(H84=\"\",\"\",COUNTA($H$3:H84))","v":""},"","",""]
[null,null,null,"",null,null,null,null,null,null,null,null,null,null,null,null,null,null,null,null,null,null,null,0,null,null,null,null,null,null,null,null,null,null,2.9608836346572166E-3,"",44,"","","","","","","","","","","","","","","","","","","","","","","","","","","","","","","","","","","","","","","","","","",null,null,null,null,null,null,null,null,null,null,null,null,null,null,null,null,null,null,null,"",{"$f":"IF(H85=\"\",\"\",COUNTA($H$3:H85))","v":""},"","",""]
[null,null,null,"",null,null,null,null,null,null,null,null,null,null,null,null,null,null,null,null,null,null,null,0,null,null,null,null,null,null,null,null,null,null,3.128680069564196E-3,"",41,"","","","","","","","","","","","","","","","","","","","","","","","","","","","","","","","","","","","","","","","","","",null,null,null,null,null,null,null,null,null,null,null,null,null,null,null,null,null,null,null,"",{"$f":"IF(H86=\"\",\"\",COUNTA($H$3:H86))","v":""},"","",""]
[null,null,null,"",null,null,null,null,null,null,null,null,null,null,null,null,null,null,null,null,null,null,null,0,null,null,null,null,null,null,null,null,null,null,3.2955424495601164E-3,"",38,"","","","","","","","","","","","","","","","","","","","","","","","","","","","","","","","","","","","","","","","","","",null,null,null,null,null,null,null,null,null,null,null,null,null,null,null,null,null,null,null,"",{"$f":"IF(H87=\"\",\"\",COUNTA($H$3:H87))","v":""},"","",""]
[null,null,null,"",null,null,null,null,null,null,null,null,null,null,null,null,null,null,null,null,null,null,null,0,null,null,null,null,null,null,null,null,null,null,3.7433481497724575E-3,"",24,"","","","","","","","","","","","","","","","","","","","","","","","","","","","","","","","","","","","","","","","","","",null,null,null,null,null,null,null,null,null,null,null,null,null,null,null,null,null,null,null,"",{"$f":"IF(H88=\"\",\"\",COUNTA($H$3:H88))","v":""},"","",""]
[null,null,null,"",null,null,null,null,null,null,null,null,null,null,null,null,null,null,null,null,null,null,null,0,null,null,null,null,null,null,null,null,null,null,1.027731929004066E-3,"",78,"","","","","","","","","","","","","","","","","","","","","","","","","","","","","","","","","","","","","","","","","","",null,null,null,null,null,null,null,null,null,null,null,null,null,null,null,null,null,null,null,"",{"$f":"IF(H89=\"\",\"\",COUNTA($H$3:H89))","v":""},"","",""]
[null,null,null,"",null,null,null,null,null,null,null,null,null,null,null,null,null,null,null,null,null,null,null,0,null,null,null,null,null,null,null,null,null,null,4.5252807424088198E-3,"",7,"","","","","","","","","","","","","","","","","","","","","","","","","","","","","","","","","","","","","","","","","","",null,null,null,null,null,null,null,null,null,null,null,null,null,null,null,null,null,null,null,"",{"$f":"IF(H90=\"\",\"\",COUNTA($H$3:H90))","v":""},"","",""]
[null,null,null,"",null,null,null,null,null,null,null,null,null,null,null,null,null,null,null,null,null,null,null,0,null,null,null,null,null,null,null,null,null,null,3.4533527279164643E-3,"",30,"","","","","","","","","","","","","","","","","","","","","","","","","","","","","","","","","","","","","","","","","","",null,null,null,null,null,null,null,null,null,null,null,null,null,null,null,null,null,null,null,"",{"$f":"IF(H91=\"\",\"\",COUNTA($H$3:H91))","v":""},"","",""]
[null,null,null,"",null,null,null,null,null,null,null,null,null,null,null,null,null,null,null,null,null,null,null,0,null,null,null,null,null,null,null,null,null,null,4.6558794555819714E-3,"",4,"","","","","","","","","","","","","","","","","","","","","","","","","","","","","","","","","","","","","","","","","","",null,null,null,null,null,null,null,null,null,null,null,null,null,null,null,null,null,null,null,"",{"$f":"IF(H92=\"\",\"\",COUNTA($H$3:H92))","v":""},"","",""]
[null,null,null,"",null,null,null,null,null,null,null,null,null,null,null,null,null,null,null,null,null,null,null,0,null,null,null,null,null,null,null,null,null,null,1.0580730543706268E-3,"",77,"","","","","","","","","","","","","","","","","","","","","","","","","","","","","","","","","","","","","","","","","","",null,null,null,null,null,null,null,null,null,null,null,null,null,null,null,null,null,null,null,"",{"$f":"IF(H93=\"\",\"\",COUNTA($H$3:H93))","v":""},"","",""]
[null,null,null,"",null,null,null,null,null,null,null,null,null,null,null,null,null,null,null,null,null,null,null,0,null,null,null,null,null,null,null,null,null,null,2.2520472215854627E-4,"",96,"","","","","","","","","","","","","","","","","","","","","","","","","","","","","","","","","","","","","","","","","","",null,null,null,null,null,null,null,null,null,null,null,null,null,null,null,null,null,null,null,"",{"$f":"IF(H94=\"\",\"\",COUNTA($H$3:H94))","v":""},"","",""]
[null,null,null,"",null,null,null,null,null,null,null,null,null,null,null,null,null,null,null,null,null,null,null,0,null,null,null,null,null,null,null,null,null,null,4.1454778782715942E-3,"",17,"","","","","","","","","","","","","","","","","","","","","","","","","","","","","","","","","","","","","","","","","","",null,null,null,null,null,null,null,null,null,null,null,null,null,null,null,null,null,null,null,"",{"$f":"IF(H95=\"\",\"\",COUNTA($H$3:H95))","v":""},"","",""]
[null,null,null,"",null,null,null,null,null,null,null,null,null,null,null,null,null,null,null,null,null,null,null,0,null,null,null,null,null,null,null,null,null,null,3.7775502367967417E-3,"",23,"","","","","","","","","","","","","","","","","","","","","","","","","","","","","","","","","","","","","","","","","","",null,null,null,null,null,null,null,null,null,null,null,null,null,null,null,null,null,null,null,"",{"$f":"IF(H96=\"\",\"\",COUNTA($H$3:H96))","v":""},"","",""]
[null,null,null,"",null,null,null,null,null,null,null,null,null,null,null,null,null,null,null,null,null,null,null,0,null,null,null,null,null,null,null,null,null,null,6.6240725679016623E-4,"",87,"","","","","","","","","","","","","","","","","","","","","","","","","","","","","","","","","","","","","","","","","","",null,null,null,null,null,null,null,null,null,null,null,null,null,null,null,null,null,null,null,"",{"$f":"IF(H97=\"\",\"\",COUNTA($H$3:H97))","v":""},"","",""]
[null,null,null,"",null,null,null,null,null,null,null,null,null,null,null,null,null,null,null,null,null,null,null,0,null,null,null,null,null,null,null,null,null,null,2.360924075584706E-3,"",56,"","","","","","","","","","","","","","","","","","","","","","","","","","","","","","","","","","","","","","","","","","",null,null,null,null,null,null,null,null,null,null,null,null,null,null,null,null,null,null,null,"",{"$f":"IF(H98=\"\",\"\",COUNTA($H$3:H98))","v":""},"","",""]
[null,null,null,"",null,null,null,null,null,null,null,null,null,null,null,null,null,null,null,null,null,null,null,0,null,null,null,null,null,null,null,null,null,null,3.4240726062216469E-3,"",32,"","","","","","","","","","","","","","","","","","","","","","","","","","","","","","","","","","","","","","","","","","",null,null,null,null,null,null,null,null,null,null,null,null,null,null,null,null,null,null,null,"",{"$f":"IF(H99=\"\",\"\",COUNTA($H$3:H99))","v":""},"","",""]
[null,null,null,"",null,null,null,null,null,null,null,null,null,null,null,null,null,null,null,null,null,null,null,0,null,null,null,null,null,null,null,null,null,null,3.9323348186609082E-3,"",20,"","","","","","","","","","","","","","","","","","","","","","","","","","","","","","","","","","","","","","","","","","",null,null,null,null,null,null,null,null,null,null,null,null,null,null,null,null,null,null,null,"",{"$f":"IF(H100=\"\",\"\",COUNTA($H$3:H100))","v":""},"","",""]
[null,null,null,"",null,null,null,null,null,null,null,null,null,null,null,null,null,null,null,null,null,null,null,0,null,null,null,null,null,null,null,null,null,null,1.2649964022371546E-3,"",75,"","","","","","","","","","","","","","","","","","","","","","","","","","","","","","","","","","","","","","","","","","",null,null,null,null,null,null,null,null,null,null,null,null,null,null,null,null,null,null,null,"",{"$f":"IF(H101=\"\",\"\",COUNTA($H$3:H101))","v":""},"","",""]
[null,null,null,"",null,null,null,null,null,null,null,null,null,null,null,null,null,null,null,null,null,null,null,0,null,null,null,null,null,null,null,null,null,null,4.2474996731813137E-3,"",15,"","","","","","","","","","","","","","","","","","","","","","","","","","","","","","","","","","","","","","","","","","",null,null,null,null,null,null,null,null,null,null,null,null,null,null,null,null,null,null,null,"",{"$f":"IF(H102=\"\",\"\",COUNTA($H$3:H102))","v":""},"","",""]
[null,null,null,"",null,null,null,null,null,null,null,null,null,null,null,null,null,null,null,null,null,null,null,0,null,null,null,null,null,null,null,null,null,null,2.8694113293517566E-5,"","","","","","","","","","","","","","","","","","","","","","","","","","","","","","","","","","","","","","","","","","","","",null,null,null,null,null,null,null,null,null,null,null,null,null,null,null,null,null,null,null,"",{"$f":"IF(H103=\"\",\"\",COUNTA($H$3:H103))","v":""},"","",""]
[null,null,null,"",null,null,null,null,null,null,null,null,null,null,null,null,null,null,null,null,null,null,null,0,null,null,null,null,null,null,null,null,null,null,2.1984284987657088E-4,"","","","","","","","","","","","","","","","","","","","","","","","","","","","","","","","","","","","","","","","","","","","",null,null,null,null,null,null,null,null,null,null,null,null,null,null,null,null,null,null,null,"",{"$f":"IF(H104=\"\",\"\",COUNTA($H$3:H104))","v":""},"","",""]
[null,null,null,"",null,null,null,null,null,null,null,null,null,null,null,null,null,null,null,null,null,null,null,0,null,null,null,null,null,null,null,null,null,null,2.1519083076495392E-3,"","","","","","","","","","","","","","","","","","","","","","","","","","","","","","","","","","","","","","","","","","","","",null,null,null,null,null,null,null,null,null,null,null,null,null,null,null,null,null,null,null,"",{"$f":"IF(H105=\"\",\"\",COUNTA($H$3:H105))","v":""},"","",""]
[null,null,null,"",null,null,null,null,null,null,null,null,null,null,null,null,null,null,null,null,null,null,null,0,null,null,null,null,null,null,null,null,null,null,2.0535041269800934E-3,"","","","","","","","","","","","","","","","","","","","","","","","","","","","","","","","","","","","","","","","","","","","",null,null,null,null,null,null,null,null,null,null,null,null,null,null,null,null,null,null,null,"",{"$f":"IF(H106=\"\",\"\",COUNTA($H$3:H106))","v":""},"","",""]
[null,null,null,"",null,null,null,null,null,null,null,null,null,null,null,null,null,null,null,null,null,null,null,0,null,null,null,null,null,null,null,null,null,null,1.812687094695945E-3,"","","","","","","","","","","","","","","","","","","","","","","","","","","","","","","","","","","","","","","","","","","","",null,null,null,null,null,null,null,null,null,null,null,null,null,null,null,null,null,null,null,"",{"$f":"IF(H107=\"\",\"\",COUNTA($H$3:H107))","v":""},"","",""]
[null,null,null,"",null,null,null,null,null,null,null,null,null,null,null,null,null,null,null,null,null,null,null,0,null,null,null,null,null,null,null,null,null,null,3.5609086413942483E-3,"","","","","","","","","","","","","","","","","","","","","","","","","","","","","","","","","","","","","","","","","","","","",null,null,null,null,null,null,null,null,null,null,null,null,null,null,null,null,null,null,null,"",{"$f":"IF(H108=\"\",\"\",COUNTA($H$3:H108))","v":""},"","",""]
[null,null,null,"",null,null,null,null,null,null,null,null,null,null,null,null,null,null,null,null,null,null,null,0,null,null,null,null,null,null,null,null,null,null,3.2199888531015053E-3,"","","","","","","","","","","","","","","","","","","","","","","","","","","","","","","","","","","","","","","","","","","","",null,null,null,null,null,null,null,null,null,null,null,null,null,null,null,null,null,null,null,"",{"$f":"IF(H109=\"\",\"\",COUNTA($H$3:H109))","v":""},"","",""]
[null,null,null,"",null,null,null,null,null,null,null,null,null,null,null,null,null,null,null,null,null,null,null,0,null,null,null,null,null,null,null,null,null,null,2.985755830769998E-4,"","","","","","","","","","","","","","","","","","","","","","","","","","","","","","","","","","","","","","","","","","","","",null,null,null,null,null,null,null,null,null,null,null,null,null,null,null,null,null,null,null,"",{"$f":"IF(H110=\"\",\"\",COUNTA($H$3:H110))","v":""},"","",""]
[null,null,null,"",null,null,null,null,null,null,null,null,null,null,null,null,null,null,null,null,null,null,null,0,null,null,null,null,null,null,null,null,null,null,3.4014718210308493E-3,"","","","","","","","","","","","","","","","","","","","","","","","","","","","","","","","","","","","","","","","","","","","",null,null,null,null,null,null,null,null,null,null,null,null,null,null,null,null,null,null,null,"",{"$f":"IF(H111=\"\",\"\",COUNTA($H$3:H111))","v":""},"","",""]
[null,null,null,"",null,null,null,null,null,null,null,null,null,null,null,null,null,null,null,null,null,null,null,0,null,null,null,null,null,null,null,null,null,null,4.5050253781538938E-3,"","","","","","","","","","","","","","","","","","","","","","","","","","","","","","","","","","","","","","","","","","","","",null,null,null,null,null,null,null,null,null,null,null,null,null,null,null,null,null,null,null,"",{"$f":"IF(H112=\"\",\"\",COUNTA($H$3:H112))","v":""},"","",""]
[null,null,null,"",null,null,null,null,null,null,null,null,null,null,null,null,null,null,null,null,null,null,null,0,null,null,null,null,null,null,null,null,null,null,1.6275259250906936E-3,"","","","","","","","","","","","","","","","","","","","","","","","","","","","","","","","","","","","","","","","","","","","",null,null,null,null,null,null,null,null,null,null,null,null,null,null,null,null,null,null,null,"",{"$f":"IF(H113=\"\",\"\",COUNTA($H$3:H113))","v":""},"","",""]
[null,null,null,"",null,null,null,null,null,null,null,null,null,null,null,null,null,null,null,null,null,null,null,0,null,null,null,null,null,null,null,null,null,null,3.4906823605613184E-3,"","","","","","","","","","","","","","","","","","","","","","","","","","","","","","","","","","","","","","","","","","","","",null,null,null,null,null,null,null,null,null,null,null,null,null,null,null,null,null,null,null,"",{"$f":"IF(H114=\"\",\"\",COUNTA($H$3:H114))","v":""},"","",""]
[null,null,null,"",null,null,null,null,null,null,null,null,null,null,null,null,null,null,null,null,null,null,null,0,null,null,null,null,null,null,null,null,null,null,3.7218540358333425E-3,"","","","","","","","","","","","","","","","","","","","","","","","","","","","","","","","","","","","","","","","","","","","",null,null,null,null,null,null,null,null,null,null,null,null,null,null,null,null,null,null,null,"",{"$f":"IF(H115=\"\",\"\",COUNTA($H$3:H115))","v":""},"","",""]
[null,null,null,"",null,null,null,null,null,null,null,null,null,null,null,null,null,null,null,null,null,null,null,0,null,null,null,null,null,null,null,null,null,null,1.8540277080917177E-3,"","","","","","","","","","","","","","","","","","","","","","","","","","","","","","","","","","","","","","","","","","","","",null,null,null,null,null,null,null,null,null,null,null,null,null,null,null,null,null,null,null,"",{"$f":"IF(H116=\"\",\"\",COUNTA($H$3:H116))","v":""},"","",""]
[null,null,null,"",null,null,null,null,null,null,null,null,null,null,null,null,null,null,null,null,null,null,null,0,null,null,null,null,null,null,null,null,null,null,1.8469624905061344E-3,"","","","","","","","","","","","","","","","","","","","","","","","","","","","","","","","","","","","","","","","","","","","",null,null,null,null,null,null,null,null,null,null,null,null,null,null,null,null,null,null,null,"",{"$f":"IF(H117=\"\",\"\",COUNTA($H$3:H117))","v":""},"","",""]
[null,null,null,"",null,null,null,null,null,null,null,null,null,null,null,null,null,null,null,null,null,null,null,0,null,null,null,null,null,null,null,null,null,null,3.7754537405308851E-3,"","","","","","","","","","","","","","","","","","","","","","","","","","","","","","","","","","","","","","","","","","","","",null,null,null,null,null,null,null,null,null,null,null,null,null,null,null,null,null,null,null,"",{"$f":"IF(H118=\"\",\"\",COUNTA($H$3:H118))","v":""},"","",""]
[null,null,null,"",null,null,null,null,null,null,null,null,null,null,null,null,null,null,null,null,null,null,null,0,null,null,null,null,null,null,null,null,null,null,3.40301492432107E-3,"","","","","","","","","","","","","","","","","","","","","","","","","","","","","","","","","","","","","","","","","","","","",null,null,null,null,null,null,null,null,null,null,null,null,null,null,null,null,null,null,null,"",{"$f":"IF(H119=\"\",\"\",COUNTA($H$3:H119))","v":""},"","",""]
[null,null,null,"",null,null,null,null,null,null,null,null,null,null,null,null,null,null,null,null,null,null,null,0,null,null,null,null,null,null,null,null,null,null,7.6568928025448347E-5,"","","","","","","","","","","","","","","","","","","","","","","","","","","","","","","","","","","","","","","","","","","","",null,null,null,null,null,null,null,null,null,null,null,null,null,null,null,null,null,null,null,"",{"$f":"IF(H120=\"\",\"\",COUNTA($H$3:H120))","v":""},"","",""]
[null,null,null,"",null,null,null,null,null,null,null,null,null,null,null,null,null,null,null,null,null,null,null,0,null,null,null,null,null,null,null,null,null,null,8.4505515146688465E-4,"","","","","","","","","","","","","","","","","","","","","","","","","","","","","","","","","","","","","","","","","","","","",null,null,null,null,null,null,null,null,null,null,null,null,null,null,null,null,null,null,null,"",{"$f":"IF(H121=\"\",\"\",COUNTA($H$3:H121))","v":""},"","",""]
[null,null,null,"",null,null,null,null,null,null,null,null,null,null,null,null,null,null,null,null,null,null,null,0,null,null,null,null,null,null,null,null,null,null,4.4993027105346426E-3,"","","","","","","","","","","","","","","","","","","","","","","","","","","","","","","","","","","","","","","","","","","","",null,null,null,null,null,null,null,null,null,null,null,null,null,null,null,null,null,null,null,"",{"$f":"IF(H122=\"\",\"\",COUNTA($H$3:H122))","v":""},"","",""]
[null,null,null,"",null,null,null,null,null,null,null,null,null,null,null,null,null,null,null,null,null,null,null,0,null,null,null,null,null,null,null,null,null,null,3.0279012808427956E-3,"","","","","","","","","","","","","","","","","","","","","","","","","","","","","","","","","","","","","","","","","","","","",null,null,null,null,null,null,null,null,null,null,null,null,null,null,null,null,null,null,null,"",{"$f":"IF(H123=\"\",\"\",COUNTA($H$3:H123))","v":""},"","",""]
[null,null,null,"",null,null,null,null,null,null,null,null,null,null,null,null,null,null,null,null,null,null,null,0,null,null,null,null,null,null,null,null,null,null,2.6774333221039541E-3,"","","","","","","","","","","","","","","","","","","","","","","","","","","","","","","","","","","","","","","","","","","","",null,null,null,null,null,null,null,null,null,null,null,null,null,null,null,null,null,null,null,"",{"$f":"IF(H124=\"\",\"\",COUNTA($H$3:H124))","v":""},"","",""]
[null,null,null,"",null,null,null,null,null,null,null,null,null,null,null,null,null,null,null,null,null,null,null,0,null,null,null,null,null,null,null,null,null,null,1.8124250533517478E-3,"","","","","","","","","","","","","","","","","","","","","","","","","","","","","","","","","","","","","","","","","","","","",null,null,null,null,null,null,null,null,null,null,null,null,null,null,null,null,null,null,null,"",{"$f":"IF(H125=\"\",\"\",COUNTA($H$3:H125))","v":""},"","",""]
[null,null,null,"",null,null,null,null,null,null,null,null,null,null,null,null,null,null,null,null,null,null,null,0,null,null,null,null,null,null,null,null,null,null,3.6838624529225462E-3,"","","","","","","","","","","","","","","","","","","","","","","","","","","","","","","","","","","","","","","","","","","","",null,null,null,null,null,null,null,null,null,null,null,null,null,null,null,null,null,null,null,"",{"$f":"IF(H126=\"\",\"\",COUNTA($H$3:H126))","v":""},"","",""]
[null,null,null,"",null,null,null,null,null,null,null,null,null,null,null,null,null,null,null,null,null,null,null,0,null,null,null,null,null,null,null,null,null,null,4.0738667324311979E-3,"","","","","","","","","","","","","","","","","","","","","","","","","","","","","","","","","","","","","","","","","","","","",null,null,null,null,null,null,null,null,null,null,null,null,null,null,null,null,null,null,null,"",{"$f":"IF(H127=\"\",\"\",COUNTA($H$3:H127))","v":""},"","",""]
[null,null,null,"",null,null,null,null,null,null,null,null,null,null,null,null,null,null,null,null,null,null,null,0,null,null,null,null,null,null,null,null,null,null,1.7788886214955019E-3,"","","","","","","","","","","","","","","","","","","","","","","","","","","","","","","","","","","","","","","","","","","","",null,null,null,null,null,null,null,null,null,null,null,null,null,null,null,null,null,null,null,"",{"$f":"IF(H128=\"\",\"\",COUNTA($H$3:H128))","v":""},"","",""]
[null,null,null,"",null,null,null,null,null,null,null,null,null,null,null,null,null,null,null,null,null,null,null,0,null,null,null,null,null,null,null,null,null,null,8.5742224129856212E-4,"","","","","","","","","","","","","","","","","","","","","","","","","","","","","","","","","","","","","","","","","","","","",null,null,null,null,null,null,null,null,null,null,null,null,null,null,null,null,null,null,null,"",{"$f":"IF(H129=\"\",\"\",COUNTA($H$3:H129))","v":""},"","",""]
[null,null,null,"",null,null,null,null,null,null,null,null,null,null,null,null,null,null,null,null,null,null,null,0,null,null,null,null,null,null,null,null,null,null,4.9034258923684954E-3,"","","","","","","","","","","","","","","","","","","","","","","","","","","","","","","","","","","","","","","","","","","","",null,null,null,null,null,null,null,null,null,null,null,null,null,null,null,null,null,null,null,"",{"$f":"IF(H130=\"\",\"\",COUNTA($H$3:H130))","v":""},"","",""]
[null,null,null,"",null,null,null,null,null,null,null,null,null,null,null,null,null,null,null,null,null,null,null,0,null,null,null,null,null,null,null,null,null,null,{"$f":"IFERROR(G131+(RAND()/200),\"\")","v":4.167997953739842E-3},{"$f":"IFERROR(RANK(G131,$G$3:$G$303,0),\"\")","v":""},{"$f":"IFERROR(RANK(AI131,$AI$3:$AI$102,0),\"\")","v":""},{"$f":"IFERROR(ROUNDUP(AK131/(COUNT(G:G))*$K$7,0),\"\")","v":""},{"$f":"IF(G131=\"\",\"\",RAND())","v":""},{"$f":"IF(E131=\"\",\"\",_xlfn.MAXIFS($AM$3:$AM$301,$AL$3:$AL$301,$AL131))","v":""},"","","",{"$f":"IFERROR(VLOOKUP($AN131,$AM$2:$AQ$301,3,0),\"\")","v":""},{"$f":"IFERROR(VLOOKUP($AN131,$AM$2:$AQ$301,4,0),\"\")","v":""},{"$f":"IFERROR(VLOOKUP($AN131,$AM$2:$AQ$301,5,0),\"\")","v":""},{"$f":"IFERROR(IF($AI131=\"\",\"\",IF($AJ131<AVERAGE($AJ$3:$AJ$301),\"\",$AJ131+RAND())),\"\")","v":""},{"$f":"IFERROR(RANK(AU131,$AU$3:$AU$301,1),\"\")","v":""},{"$f":"IFERROR(ROUNDUP(AV131/(COUNT(AU$2:AU$301))*$K$7,0),\"\")","v":""},{"$f":"IF(AW131=\"\",\"\",RAND())","v":""},{"$f":"IF(AV131=\"\",\"\",_xlfn.MAXIFS($AX$3:$AX$301,$AW$3:$AW$301,$AW131))","v":""},"","","",{"$f":"IFERROR(IF(AY131=\"\",\"\",VLOOKUP($AY131,$AX$2:$BB$301,3,0)),\"\")","v":""},{"$f":"IFERROR(IF(AY131=\"\",\"\",VLOOKUP($AY131,$AX$2:$BB$301,4,0)),\"\")","v":""},{"$f":"IFERROR(IF(AY131=\"\",\"\",VLOOKUP($AY131,$AX$2:$BB$301,5,0)),\"\")","v":""},{"$f":"IFERROR(IF($AI131=\"\",\"\",IF($AJ131>AVERAGE($AJ$3:$AJ$301),\"\",$AJ131+RAND())),\"\")","v":""},{"$f":"IFERROR(RANK(BF131,$BF$3:$BF$301,1),\"\")","v":""},{"$f":"IFERROR(ROUNDUP(BG131/(COUNT(BF$2:BF$301))*$K$7,0),\"\")","v":""},{"$f":"IF(BH131=\"\",\"\",RAND())","v":""},{"$f":"IF(BG131=\"\",\"\",_xlfn.MAXIFS($BI$3:$BI$301,$BH$3:$BH$301,$BH131))","v":""},"","","",{"$f":"IFERROR(IF($BJ131=\"\",\"\",VLOOKUP($BJ131,$BI$2:$BP$301,3,0)),\"\")","v":""},{"$f":"IFERROR(IF($BJ131=\"\",\"\",VLOOKUP($BJ131,$BI$2:$BP$301,4,0)),\"\")","v":""},{"$f":"IFERROR(IF($BJ131=\"\",\"\",VLOOKUP($BJ131,$BI$2:$BP$301,5,0)),\"\")","v":""},{"$f":"IFERROR(IF($AI131=\"\",\"\",IF($AJ131>1.5*AVERAGE($AJ$3:$AJ$301),\"\",IF($AJ131<0.5*AVERAGE($AJ$3:$AJ$301),\"\",$AJ131+RAND()))),\"\")","v":""},{"$f":"IFERROR(RANK($BQ131,$BQ$3:$BQ$301,1),\"\")","v":""},{"$f":"IFERROR(ROUNDUP(BR131/(COUNT(BQ$2:BQ$301))*$K$7,0),\"\")","v":""},{"$f":"IF(BS131=\"\",\"\",RAND())","v":""},{"$f":"IF(BR131=\"\",\"\",_xlfn.MAXIFS($BT$3:$BT$301,$BS$3:$BS$301,$BS131))","v":""},"","","","",{"$f":"IFERROR(IF($BU131=\"\",\"\",VLOOKUP($BU131,$BT$2:$BX$301,4,0)),\"\")","v":""},{"$f":"IFERROR(IF($BU131=\"\",\"\",VLOOKUP($BU131,$BT$2:$BX$301,5,0)),\"\")","v":""},null,null,null,null,null,null,null,null,null,null,null,null,null,null,null,null,null,null,null,"",{"$f":"IF(H131=\"\",\"\",COUNTA($H$3:H131))","v":""},"","",""]
[null,null,null,{"$f":"IF(E132=\"\",\"\",1+D131)","v":""},null,null,null,null,null,null,null,null,null,null,null,null,null,null,null,null,null,null,null,{"$f":"IFERROR(IF($K$6=\"YES\",VLOOKUP($M132,$DB:$DP,DO$1,0),DO132),\"\")","v":0},null,null,null,null,null,null,null,null,null,null,2.9284226580526202E-3,"","","","","",{"$f":"IF(E132=\"\",\"\",E132)","v":""},{"$f":"IF(F132=\"\",\"\",F132)","v":""},{"$f":"IF(G132=\"\",\"\",G132)","v":""},"","","","","","","","",{"$f":"IF(E132=\"\",\"\",E132)","v":""},{"$f":"IF(F132=\"\",\"\",F132)","v":""},{"$f":"IF(G132=\"\",\"\",G132)","v":""},"","","","","","","","",{"$f":"IF(E132=\"\",\"\",E132)","v":""},{"$f":"IF(F132=\"\",\"\",F132)","v":""},{"$f":"IF(G132=\"\",\"\",G132)","v":""},"","","","","","","","",{"$f":"IF(E132=\"\",\"\",E132)","v":""},{"$f":"IF(F132=\"\",\"\",F132)","v":""},{"$f":"IF(G132=\"\",\"\",G132)","v":""},{"$f":"IFERROR(IF($BU132=\"\",\"\",VLOOKUP($BU132,$BT$2:$BX$301,3,0)),\"\")","v":""},"","",null,null,null,null,null,null,null,null,null,null,null,null,null,null,null,null,null,null,null,{"$f":"IFERROR(RANK(CV132,$CV$3:$CV$302,0),\"\")","v":""},{"$f":"IF(H132=\"\",\"\",COUNTA($H$3:H132))","v":""},{"$f":"IF($H132<>\"\",IF(E132=\"\",\"\",E132),\"\")","v":""},{"$f":"IF($H132<>\"\",IF(F132=\"\",\"\",F132),\"\")","v":""},{"$f":"IF($H132<>\"\",IF(G132=\"\",\"\",G132),\"\")","v":""}]
[null,null,null,"",null,null,null,null,null,null,null,null,null,null,null,null,null,null,null,null,null,null,null,0,null,null,null,null,null,null,null,null,null,null,1.5657361285676191E-3,"","","","","","","","","","","","","","","","","","","","","","","","","","","","","","","","","","","","","","","","","","","","",null,null,null,null,null,null,null,null,null,null,null,null,null,null,null,null,null,null,null,"",{"$f":"IF(H133=\"\",\"\",COUNTA($H$3:H133))","v":""},"","",""]
[null,null,null,"",null,null,null,null,null,null,null,null,null,null,null,null,null,null,null,null,null,null,null,0,null,null,null,null,null,null,null,null,null,null,8.6038170904088722E-4,"","","","","","","","","","","","","","","","","","","","","","","","","","","","","","","","","","","","","","","","","","","","",null,null,null,null,null,null,null,null,null,null,null,null,null,null,null,null,null,null,null,"",{"$f":"IF(H134=\"\",\"\",COUNTA($H$3:H134))","v":""},"","",""]
[null,null,null,"",null,null,null,null,null,null,null,null,null,null,null,null,null,null,null,null,null,null,null,0,null,null,null,null,null,null,null,null,null,null,6.1825801894248579E-5,"","","","","","","","","","","","","","","","","","","","","","","","","","","","","","","","","","","","","","","","","","","","",null,null,null,null,null,null,null,null,null,null,null,null,null,null,null,null,null,null,null,"",{"$f":"IF(H135=\"\",\"\",COUNTA($H$3:H135))","v":""},"","",""]
[null,null,null,"",null,null,null,null,null,null,null,null,null,null,null,null,null,null,null,null,null,null,null,0,null,null,null,null,null,null,null,null,null,null,3.575460613644491E-3,"","","","","","","","","","","","","","","","","","","","","","","","","","","","","","","","","","","","","","","","","","","","",null,null,null,null,null,null,null,null,null,null,null,null,null,null,null,null,null,null,null,"",{"$f":"IF(H136=\"\",\"\",COUNTA($H$3:H136))","v":""},"","",""]
[null,null,null,"",null,null,null,null,null,null,null,null,null,null,null,null,null,null,null,null,null,null,null,0,null,null,null,null,null,null,null,null,null,null,2.5574760997934148E-3,"","","","","","","","","","","","","","","","","","","","","","","","","","","","","","","","","","","","","","","","","","","","",null,null,null,null,null,null,null,null,null,null,null,null,null,null,null,null,null,null,null,"",{"$f":"IF(H137=\"\",\"\",COUNTA($H$3:H137))","v":""},"","",""]
[null,null,null,"",null,null,null,null,null,null,null,null,null,null,null,null,null,null,null,null,null,null,null,0,null,null,null,null,null,null,null,null,null,null,3.6952852801015013E-4,"","","","","","","","","","","","","","","","","","","","","","","","","","","","","","","","","","","","","","","","","","","","",null,null,null,null,null,null,null,null,null,null,null,null,null,null,null,null,null,null,null,"",{"$f":"IF(H138=\"\",\"\",COUNTA($H$3:H138))","v":""},"","",""]
[null,null,null,"",null,null,null,null,null,null,null,null,null,null,null,null,null,null,null,null,null,null,null,0,null,null,null,null,null,null,null,null,null,null,7.5207759822526867E-4,"","","","","","","","","","","","","","","","","","","","","","","","","","","","","","","","","","","","","","","","","","","","",null,null,null,null,null,null,null,null,null,null,null,null,null,null,null,null,null,null,null,"",{"$f":"IF(H139=\"\",\"\",COUNTA($H$3:H139))","v":""},"","",""]
[null,null,null,"",null,null,null,null,null,null,null,null,null,null,null,null,null,null,null,null,null,null,null,0,null,null,null,null,null,null,null,null,null,null,6.0170654974753767E-4,"","","","","","","","","","","","","","","","","","","","","","","","","","","","","","","","","","","","","","","","","","","","",null,null,null,null,null,null,null,null,null,null,null,null,null,null,null,null,null,null,null,"",{"$f":"IF(H140=\"\",\"\",COUNTA($H$3:H140))","v":""},"","",""]
[null,null,null,"",null,null,null,null,null,null,null,null,null,null,null,null,null,null,null,null,null,null,null,0,null,null,null,null,null,null,null,null,null,null,3.0963069895792394E-3,"","","","","","","","","","","","","","","","","","","","","","","","","","","","","","","","","","","","","","","","","","","","",null,null,null,null,null,null,null,null,null,null,null,null,null,null,null,null,null,null,null,"",{"$f":"IF(H141=\"\",\"\",COUNTA($H$3:H141))","v":""},"","",""]
[null,null,null,"",null,null,null,null,null,null,null,null,null,null,null,null,null,null,null,null,null,null,null,0,null,null,null,null,null,null,null,null,null,null,4.1608697180103181E-3,"","","","","","","","","","","","","","","","","","","","","","","","","","","","","","","","","","","","","","","","","","","","",null,null,null,null,null,null,null,null,null,null,null,null,null,null,null,null,null,null,null,"",{"$f":"IF(H142=\"\",\"\",COUNTA($H$3:H142))","v":""},"","",""]
[null,null,null,"",null,null,null,null,null,null,null,null,null,null,null,null,null,null,null,null,null,null,null,0,null,null,null,null,null,null,null,null,null,null,2.1159298325306941E-4,"","","","","","","","","","","","","","","","","","","","","","","","","","","","","","","","","","","","","","","","","","","","",null,null,null,null,null,null,null,null,null,null,null,null,null,null,null,null,null,null,null,"",{"$f":"IF(H143=\"\",\"\",COUNTA($H$3:H143))","v":""},"","",""]
[null,null,null,"",null,null,null,null,null,null,null,null,null,null,null,null,null,null,null,null,null,null,null,0,null,null,null,null,null,null,null,null,null,null,1.0453093143089414E-3,"","","","","","","","","","","","","","","","","","","","","","","","","","","","","","","","","","","","","","","","","","","","",null,null,null,null,null,null,null,null,null,null,null,null,null,null,null,null,null,null,null,"",{"$f":"IF(H144=\"\",\"\",COUNTA($H$3:H144))","v":""},"","",""]
[null,null,null,"",null,null,null,null,null,null,null,null,null,null,null,null,null,null,null,null,null,null,null,0,null,null,null,null,null,null,null,null,null,null,2.7660809625130612E-3,"","","","","","","","","","","","","","","","","","","","","","","","","","","","","","","","","","","","","","","","","","","","",null,null,null,null,null,null,null,null,null,null,null,null,null,null,null,null,null,null,null,"",{"$f":"IF(H145=\"\",\"\",COUNTA($H$3:H145))","v":""},"","",""]
[null,null,null,"",null,null,null,null,null,null,null,null,null,null,null,null,null,null,null,null,null,null,null,0,null,null,null,null,null,null,null,null,null,null,2.6363698537570268E-3,"","","","","","","","","","","","","","","","","","","","","","","","","","","","","","","","","","","","","","","","","","","","",null,null,null,null,null,null,null,null,null,null,null,null,null,null,null,null,null,null,null,"",{"$f":"IF(H146=\"\",\"\",COUNTA($H$3:H146))","v":""},"","",""]
[null,null,null,"",null,null,null,null,null,null,null,null,null,null,null,null,null,null,null,null,null,null,null,0,null,null,null,null,null,null,null,null,null,null,3.9581161550123469E-3,"","","","","","","","","","","","","","","","","","","","","","","","","","","","","","","","","","","","","","","","","","","","",null,null,null,null,null,null,null,null,null,null,null,null,null,null,null,null,null,null,null,"",{"$f":"IF(H147=\"\",\"\",COUNTA($H$3:H147))","v":""},"","",""]
[null,null,null,"",null,null,null,null,null,null,null,null,null,null,null,null,null,null,null,null,null,null,null,0,null,null,null,null,null,null,null,null,null,null,2.0699068620848022E-3,"","","","","","","","","","","","","","","","","","","","","","","","","","","","","","","","","","","","","","","","","","","","",null,null,null,null,null,null,null,null,null,null,null,null,null,null,null,null,null,null,null,"",{"$f":"IF(H148=\"\",\"\",COUNTA($H$3:H148))","v":""},"","",""]
[null,null,null,"",null,null,null,null,null,null,null,null,null,null,null,null,null,null,null,null,null,null,null,0,null,null,null,null,null,null,null,null,null,null,1.6850234322524809E-3,"","","","","","","","","","","","","","","","","","","","","","","","","","","","","","","","","","","","","","","","","","","","",null,null,null,null,null,null,null,null,null,null,null,null,null,null,null,null,null,null,null,"",{"$f":"IF(H149=\"\",\"\",COUNTA($H$3:H149))","v":""},"","",""]
[null,null,null,"",null,null,null,null,null,null,null,null,null,null,null,null,null,null,null,null,null,null,null,0,null,null,null,null,null,null,null,null,null,null,1.3882187554903596E-3,"","","","","","","","","","","","","","","","","","","","","","","","","","","","","","","","","","","","","","","","","","","","",null,null,null,null,null,null,null,null,null,null,null,null,null,null,null,null,null,null,null,"",{"$f":"IF(H150=\"\",\"\",COUNTA($H$3:H150))","v":""},"","",""]
[null,null,null,"",null,null,null,null,null,null,null,null,null,null,null,null,null,null,null,null,null,null,null,0,null,null,null,null,null,null,null,null,null,null,2.8362423468588894E-3,"","","","","","","","","","","","","","","","","","","","","","","","","","","","","","","","","","","","","","","","","","","","",null,null,null,null,null,null,null,null,null,null,null,null,null,null,null,null,null,null,null,"",{"$f":"IF(H151=\"\",\"\",COUNTA($H$3:H151))","v":""},"","",""]
[null,null,null,"",null,null,null,null,null,null,null,null,null,null,null,null,null,null,null,null,null,null,null,0,null,null,null,null,null,null,null,null,null,null,2.5914298933179163E-3,"","","","","","","","","","","","","","","","","","","","","","","","","","","","","","","","","","","","","","","","","","","","",null,null,null,null,null,null,null,null,null,null,null,null,null,null,null,null,null,null,null,"",{"$f":"IF(H152=\"\",\"\",COUNTA($H$3:H152))","v":""},"","",""]
[null,null,null,"",null,null,null,null,null,null,null,null,null,null,null,null,null,null,null,null,null,null,null,0,null,null,null,null,null,null,null,null,null,null,1.176609914380608E-3,"","","","","","","","","","","","","","","","","","","","","","","","","","","","","","","","","","","","","","","","","","","","",null,null,null,null,null,null,null,null,null,null,null,null,null,null,null,null,null,null,null,"",{"$f":"IF(H153=\"\",\"\",COUNTA($H$3:H153))","v":""},"","",""]
[null,null,null,"",null,null,null,null,null,null,null,null,null,null,null,null,null,null,null,null,null,null,null,0,null,null,null,null,null,null,null,null,null,null,1.2173978124606133E-4,"","","","","","","","","","","","","","","","","","","","","","","","","","","","","","","","","","","","","","","","","","","","",null,null,null,null,null,null,null,null,null,null,null,null,null,null,null,null,null,null,null,"",{"$f":"IF(H154=\"\",\"\",COUNTA($H$3:H154))","v":""},"","",""]
[null,null,null,"",null,null,null,null,null,null,null,null,null,null,null,null,null,null,null,null,null,null,null,0,null,null,null,null,null,null,null,null,null,null,4.9902275420013863E-3,"","","","","","","","","","","","","","","","","","","","","","","","","","","","","","","","","","","","","","","","","","","","",null,null,null,null,null,null,null,null,null,null,null,null,null,null,null,null,null,null,null,"",{"$f":"IF(H155=\"\",\"\",COUNTA($H$3:H155))","v":""},"","",""]
[null,null,null,"",null,null,null,null,null,null,null,null,null,null,null,null,null,null,null,null,null,null,null,0,null,null,null,null,null,null,null,null,null,null,1.963371599152709E-3,"","","","","","","","","","","","","","","","","","","","","","","","","","","","","","","","","","","","","","","","","","","","",null,null,null,null,null,null,null,null,null,null,null,null,null,null,null,null,null,null,null,"",{"$f":"IF(H156=\"\",\"\",COUNTA($H$3:H156))","v":""},"","",""]
[null,null,null,"",null,null,null,null,null,null,null,null,null,null,null,null,null,null,null,null,null,null,null,0,null,null,null,null,null,null,null,null,null,null,2.1934583514569279E-3,"","","","","","","","","","","","","","","","","","","","","","","","","","","","","","","","","","","","","","","","","","","","",null,null,null,null,null,null,null,null,null,null,null,null,null,null,null,null,null,null,null,"",{"$f":"IF(H157=\"\",\"\",COUNTA($H$3:H157))","v":""},"","",""]
[null,null,null,"",null,null,null,null,null,null,null,null,null,null,null,null,null,null,null,null,null,null,null,0,null,null,null,null,null,null,null,null,null,null,1.580001362636928E-3,"","","","","","","","","","","","","","","","","","","","","","","","","","","","","","","","","","","","","","","","","","","","",null,null,null,null,null,null,null,null,null,null,null,null,null,null,null,null,null,null,null,"",{"$f":"IF(H158=\"\",\"\",COUNTA($H$3:H158))","v":""},"","",""]
[null,null,null,"",null,null,null,null,null,null,null,null,null,null,null,null,null,null,null,null,null,null,null,0,null,null,null,null,null,null,null,null,null,null,4.227273528559213E-3,"","","","","","","","","","","","","","","","","","","","","","","","","","","","","","","","","","","","","","","","","","","","",null,null,null,null,null,null,null,null,null,null,null,null,null,null,null,null,null,null,null,"",{"$f":"IF(H159=\"\",\"\",COUNTA($H$3:H159))","v":""},"","",""]
[null,null,null,"",null,null,null,null,null,null,null,null,null,null,null,null,null,null,null,null,null,null,null,0,null,null,null,null,null,null,null,null,null,null,1.1646103443990147E-3,"","","","","","","","","","","","","","","","","","","","","","","","","","","","","","","","","","","","","","","","","","","","",null,null,null,null,null,null,null,null,null,null,null,null,null,null,null,null,null,null,null,"",{"$f":"IF(H160=\"\",\"\",COUNTA($H$3:H160))","v":""},"","",""]
[null,null,null,"",null,null,null,null,null,null,null,null,null,null,null,null,null,null,null,null,null,null,null,0,null,null,null,null,null,null,null,null,null,null,2.5991755061852959E-3,"","","","","","","","","","","","","","","","","","","","","","","","","","","","","","","","","","","","","","","","","","","","",null,null,null,null,null,null,null,null,null,null,null,null,null,null,null,null,null,null,null,"",{"$f":"IF(H161=\"\",\"\",COUNTA($H$3:H161))","v":""},"","",""]
[null,null,null,"",null,null,null,null,null,null,null,null,null,null,null,null,null,null,null,null,null,null,null,0,null,null,null,null,null,null,null,null,null,null,4.351450439820573E-3,"","","","","","","","","","","","","","","","","","","","","","","","","","","","","","","","","","","","","","","","","","","","",null,null,null,null,null,null,null,null,null,null,null,null,null,null,null,null,null,null,null,"",{"$f":"IF(H162=\"\",\"\",COUNTA($H$3:H162))","v":""},"","",""]
[null,null,null,"",null,null,null,null,null,null,null,null,null,null,null,null,null,null,null,null,null,null,null,0,null,null,null,null,null,null,null,null,null,null,2.4003032522097751E-3,"","","","","","","","","","","","","","","","","","","","","","","","","","","","","","","","","","","","","","","","","","","","",null,null,null,null,null,null,null,null,null,null,null,null,null,null,null,null,null,null,null,"",{"$f":"IF(H163=\"\",\"\",COUNTA($H$3:H163))","v":""},"","",""]
[null,null,null,"",null,null,null,null,null,null,null,null,null,null,null,null,null,null,null,null,null,null,null,0,null,null,null,null,null,null,null,null,null,null,1.8133635889030903E-3,"","","","","","","","","","","","","","","","","","","","","","","","","","","","","","","","","","","","","","","","","","","","",null,null,null,null,null,null,null,null,null,null,null,null,null,null,null,null,null,null,null,"",{"$f":"IF(H164=\"\",\"\",COUNTA($H$3:H164))","v":""},"","",""]
[null,null,null,"",null,null,null,null,null,null,null,null,null,null,null,null,null,null,null,null,null,null,null,0,null,null,null,null,null,null,null,null,null,null,3.9593680411730376E-3,"","","","","","","","","","","","","","","","","","","","","","","","","","","","","","","","","","","","","","","","","","","","",null,null,null,null,null,null,null,null,null,null,null,null,null,null,null,null,null,null,null,"",{"$f":"IF(H165=\"\",\"\",COUNTA($H$3:H165))","v":""},"","",""]
[null,null,null,"",null,null,null,null,null,null,null,null,null,null,null,null,null,null,null,null,null,null,null,0,null,null,null,null,null,null,null,null,null,null,3.1540178659215392E-3,"","","","","","","","","","","","","","","","","","","","","","","","","","","","","","","","","","","","","","","","","","","","",null,null,null,null,null,null,null,null,null,null,null,null,null,null,null,null,null,null,null,"",{"$f":"IF(H166=\"\",\"\",COUNTA($H$3:H166))","v":""},"","",""]
[null,null,null,"",null,null,null,null,null,null,null,null,null,null,null,null,null,null,null,null,null,null,null,0,null,null,null,null,null,null,null,null,null,null,1.1962801426034181E-3,"","","","","","","","","","","","","","","","","","","","","","","","","","","","","","","","","","","","","","","","","","","","",null,null,null,null,null,null,null,null,null,null,null,null,null,null,null,null,null,null,null,"",{"$f":"IF(H167=\"\",\"\",COUNTA($H$3:H167))","v":""},"","",""]
[null,null,null,"",null,null,null,null,null,null,null,null,null,null,null,null,null,null,null,null,null,null,null,0,null,null,null,null,null,null,null,null,null,null,3.8298303397662934E-3,"","","","","","","","","","","","","","","","","","","","","","","","","","","","","","","","","","","","","","","","","","","","",null,null,null,null,null,null,null,null,null,null,null,null,null,null,null,null,null,null,null,"",{"$f":"IF(H168=\"\",\"\",COUNTA($H$3:H168))","v":""},"","",""]
[null,null,null,"",null,null,null,null,null,null,null,null,null,null,null,null,null,null,null,null,null,null,null,0,null,null,null,null,null,null,null,null,null,null,4.4090298572833806E-3,"","","","","","","","","","","","","","","","","","","","","","","","","","","","","","","","","","","","","","","","","","","","",null,null,null,null,null,null,null,null,null,null,null,null,null,null,null,null,null,null,null,"",{"$f":"IF(H169=\"\",\"\",COUNTA($H$3:H169))","v":""},"","",""]
[null,null,null,"",null,null,null,null,null,null,null,null,null,null,null,null,null,null,null,null,null,null,null,0,null,null,null,null,null,null,null,null,null,null,4.6260505665502664E-3,"","","","","","","","","","","","","","","","","","","","","","","","","","","","","","","","","","","","","","","","","","","","",null,null,null,null,null,null,null,null,null,null,null,null,null,null,null,null,null,null,null,"",{"$f":"IF(H170=\"\",\"\",COUNTA($H$3:H170))","v":""},"","",""]
[null,null,null,"",null,null,null,null,null,null,null,null,null,null,null,null,null,null,null,null,null,null,null,0,null,null,null,null,null,null,null,null,null,null,2.8984990038377874E-3,"","","","","","","","","","","","","","","","","","","","","","","","","","","","","","","","","","","","","","","","","","","","",null,null,null,null,null,null,null,null,null,null,null,null,null,null,null,null,null,null,null,"",{"$f":"IF(H171=\"\",\"\",COUNTA($H$3:H171))","v":""},"","",""]
[null,null,null,"",null,null,null,null,null,null,null,null,null,null,null,null,null,null,null,null,null,null,null,0,null,null,null,null,null,null,null,null,null,null,4.1482189604259189E-3,"","","","","","","","","","","","","","","","","","","","","","","","","","","","","","","","","","","","","","","","","","","","",null,null,null,null,null,null,null,null,null,null,null,null,null,null,null,null,null,null,null,"",{"$f":"IF(H172=\"\",\"\",COUNTA($H$3:H172))","v":""},"","",""]
[null,null,null,"",null,null,null,null,null,null,null,null,null,null,null,null,null,null,null,null,null,null,null,0,null,null,null,null,null,null,null,null,null,null,4.4695136513037362E-3,"","","","","","","","","","","","","","","","","","","","","","","","","","","","","","","","","","","","","","","","","","","","",null,null,null,null,null,null,null,null,null,null,null,null,null,null,null,null,null,null,null,"",{"$f":"IF(H173=\"\",\"\",COUNTA($H$3:H173))","v":""},"","",""]
[null,null,null,"",null,null,null,null,null,null,null,null,null,null,null,null,null,null,null,null,null,null,null,0,null,null,null,null,null,null,null,null,null,null,1.2275743599054617E-3,"","","","","","","","","","","","","","","","","","","","","","","","","","","","","","","","","","","","","","","","","","","","",null,null,null,null,null,null,null,null,null,null,null,null,null,null,null,null,null,null,null,"",{"$f":"IF(H174=\"\",\"\",COUNTA($H$3:H174))","v":""},"","",""]
[null,null,null,"",null,null,null,null,null,null,null,null,null,null,null,null,null,null,null,null,null,null,null,0,null,null,null,null,null,null,null,null,null,null,4.4812715386954652E-3,"","","","","","","","","","","","","","","","","","","","","","","","","","","","","","","","","","","","","","","","","","","","",null,null,null,null,null,null,null,null,null,null,null,null,null,null,null,null,null,null,null,"",{"$f":"IF(H175=\"\",\"\",COUNTA($H$3:H175))","v":""},"","",""]
[null,null,null,"",null,null,null,null,null,null,null,null,null,null,null,null,null,null,null,null,null,null,null,0,null,null,null,null,null,null,null,null,null,null,1.5739028882735583E-3,"","","","","","","","","","","","","","","","","","","","","","","","","","","","","","","","","","","","","","","","","","","","",null,null,null,null,null,null,null,null,null,null,null,null,null,null,null,null,null,null,null,"",{"$f":"IF(H176=\"\",\"\",COUNTA($H$3:H176))","v":""},"","",""]
[null,null,null,"",null,null,null,null,null,null,null,null,null,null,null,null,null,null,null,null,null,null,null,0,null,null,null,null,null,null,null,null,null,null,3.5213766298841003E-3,"","","","","","","","","","","","","","","","","","","","","","","","","","","","","","","","","","","","","","","","","","","","",null,null,null,null,null,null,null,null,null,null,null,null,null,null,null,null,null,null,null,"",{"$f":"IF(H177=\"\",\"\",COUNTA($H$3:H177))","v":""},"","",""]
[null,null,null,"",null,null,null,null,null,null,null,null,null,null,null,null,null,null,null,null,null,null,null,0,null,null,null,null,null,null,null,null,null,null,2.0637469299531058E-3,"","","","","","","","","","","","","","","","","","","","","","","","","","","","","","","","","","","","","","","","","","","","",null,null,null,null,null,null,null,null,null,null,null,null,null,null,null,null,null,null,null,"",{"$f":"IF(H178=\"\",\"\",COUNTA($H$3:H178))","v":""},"","",""]
[null,null,null,"",null,null,null,null,null,null,null,null,null,null,null,null,null,null,null,null,null,null,null,0,null,null,null,null,null,null,null,null,null,null,2.3416831769713666E-3,"","","","","","","","","","","","","","","","","","","","","","","","","","","","","","","","","","","","","","","","","","","","",null,null,null,null,null,null,null,null,null,null,null,null,null,null,null,null,null,null,null,"",{"$f":"IF(H179=\"\",\"\",COUNTA($H$3:H179))","v":""},"","",""]
[null,null,null,"",null,null,null,null,null,null,null,null,null,null,null,null,null,null,null,null,null,null,null,0,null,null,null,null,null,null,null,null,null,null,2.4764893035774012E-3,"","","","","","","","","","","","","","","","","","","","","","","","","","","","","","","","","","","","","","","","","","","","",null,null,null,null,null,null,null,null,null,null,null,null,null,null,null,null,null,null,null,"",{"$f":"IF(H180=\"\",\"\",COUNTA($H$3:H180))","v":""},"","",""]
[null,null,null,"",null,null,null,null,null,null,null,null,null,null,null,null,null,null,null,null,null,null,null,0,null,null,null,null,null,null,null,null,null,null,3.7467710468766981E-3,"","","","","","","","","","","","","","","","","","","","","","","","","","","","","","","","","","","","","","","","","","","","",null,null,null,null,null,null,null,null,null,null,null,null,null,null,null,null,null,null,null,"",{"$f":"IF(H181=\"\",\"\",COUNTA($H$3:H181))","v":""},"","",""]
[null,null,null,"",null,null,null,null,null,null,null,null,null,null,null,null,null,null,null,null,null,null,null,0,null,null,null,null,null,null,null,null,null,null,2.2468910514590879E-3,"","","","","","","","","","","","","","","","","","","","","","","","","","","","","","","","","","","","","","","","","","","","",null,null,null,null,null,null,null,null,null,null,null,null,null,null,null,null,null,null,null,"",{"$f":"IF(H182=\"\",\"\",COUNTA($H$3:H182))","v":""},"","",""]
[null,null,null,"",null,null,null,null,null,null,null,null,null,null,null,null,null,null,null,null,null,null,null,0,null,null,null,null,null,null,null,null,null,null,2.0289869671171069E-3,"","","","","","","","","","","","","","","","","","","","","","","","","","","","","","","","","","","","","","","","","","","","",null,null,null,null,null,null,null,null,null,null,null,null,null,null,null,null,null,null,null,"",{"$f":"IF(H183=\"\",\"\",COUNTA($H$3:H183))","v":""},"","",""]
[null,null,null,"",null,null,null,null,null,null,null,null,null,null,null,null,null,null,null,null,null,null,null,0,null,null,null,null,null,null,null,null,null,null,3.3458078434525479E-3,"","","","","","","","","","","","","","","","","","","","","","","","","","","","","","","","","","","","","","","","","","","","",null,null,null,null,null,null,null,null,null,null,null,null,null,null,null,null,null,null,null,"",{"$f":"IF(H184=\"\",\"\",COUNTA($H$3:H184))","v":""},"","",""]
[null,null,null,"",null,null,null,null,null,null,null,null,null,null,null,null,null,null,null,null,null,null,null,0,null,null,null,null,null,null,null,null,null,null,7.9068967868675121E-5,"","","","","","","","","","","","","","","","","","","","","","","","","","","","","","","","","","","","","","","","","","","","",null,null,null,null,null,null,null,null,null,null,null,null,null,null,null,null,null,null,null,"",{"$f":"IF(H185=\"\",\"\",COUNTA($H$3:H185))","v":""},"","",""]
[null,null,null,"",null,null,null,null,null,null,null,null,null,null,null,null,null,null,null,null,null,null,null,0,null,null,null,null,null,null,null,null,null,null,2.0236396425228269E-3,"","","","","","","","","","","","","","","","","","","","","","","","","","","","","","","","","","","","","","","","","","","","",null,null,null,null,null,null,null,null,null,null,null,null,null,null,null,null,null,null,null,"",{"$f":"IF(H186=\"\",\"\",COUNTA($H$3:H186))","v":""},"","",""]
[null,null,null,"",null,null,null,null,null,null,null,null,null,null,null,null,null,null,null,null,null,null,null,0,null,null,null,null,null,null,null,null,null,null,4.2589340107637872E-3,"","","","","","","","","","","","","","","","","","","","","","","","","","","","","","","","","","","","","","","","","","","","",null,null,null,null,null,null,null,null,null,null,null,null,null,null,null,null,null,null,null,"",{"$f":"IF(H187=\"\",\"\",COUNTA($H$3:H187))","v":""},"","",""]
[null,null,null,"",null,null,null,null,null,null,null,null,null,null,null,null,null,null,null,null,null,null,null,0,null,null,null,null,null,null,null,null,null,null,4.4264741827401031E-3,"","","","","","","","","","","","","","","","","","","","","","","","","","","","","","","","","","","","","","","","","","","","",null,null,null,null,null,null,null,null,null,null,null,null,null,null,null,null,null,null,null,"",{"$f":"IF(H188=\"\",\"\",COUNTA($H$3:H188))","v":""},"","",""]
[null,null,null,"",null,null,null,null,null,null,null,null,null,null,null,null,null,null,null,null,null,null,null,0,null,null,null,null,null,null,null,null,null,null,3.3108290431507646E-3,"","","","","","","","","","","","","","","","","","","","","","","","","","","","","","","","","","","","","","","","","","","","",null,null,null,null,null,null,null,null,null,null,null,null,null,null,null,null,null,null,null,"",{"$f":"IF(H189=\"\",\"\",COUNTA($H$3:H189))","v":""},"","",""]
[null,null,null,"",null,null,null,null,null,null,null,null,null,null,null,null,null,null,null,null,null,null,null,0,null,null,null,null,null,null,null,null,null,null,2.1795224885350906E-3,"","","","","","","","","","","","","","","","","","","","","","","","","","","","","","","","","","","","","","","","","","","","",null,null,null,null,null,null,null,null,null,null,null,null,null,null,null,null,null,null,null,"",{"$f":"IF(H190=\"\",\"\",COUNTA($H$3:H190))","v":""},"","",""]
[null,null,null,"",null,null,null,null,null,null,null,null,null,null,null,null,null,null,null,null,null,null,null,0,null,null,null,null,null,null,null,null,null,null,4.2854317068828588E-3,"","","","","","","","","","","","","","","","","","","","","","","","","","","","","","","","","","","","","","","","","","","","",null,null,null,null,null,null,null,null,null,null,null,null,null,null,null,null,null,null,null,"",{"$f":"IF(H191=\"\",\"\",COUNTA($H$3:H191))","v":""},"","",""]
[null,null,null,"",null,null,null,null,null,null,null,null,null,null,null,null,null,null,null,null,null,null,null,0,null,null,null,null,null,null,null,null,null,null,2.7101679078560836E-3,"","","","","","","","","","","","","","","","","","","","","","","","","","","","","","","","","","","","","","","","","","","","",null,null,null,null,null,null,null,null,null,null,null,null,null,null,null,null,null,null,null,"",{"$f":"IF(H192=\"\",\"\",COUNTA($H$3:H192))","v":""},"","",""]
[null,null,null,"",null,null,null,null,null,null,null,null,null,null,null,null,null,null,null,null,null,null,null,0,null,null,null,null,null,null,null,null,null,null,4.2239082043487508E-3,"","","","","","","","","","","","","","","","","","","","","","","","","","","","","","","","","","","","","","","","","","","","",null,null,null,null,null,null,null,null,null,null,null,null,null,null,null,null,null,null,null,"",{"$f":"IF(H193=\"\",\"\",COUNTA($H$3:H193))","v":""},"","",""]
[null,null,null,"",null,null,null,null,null,null,null,null,null,null,null,null,null,null,null,null,null,null,null,0,null,null,null,null,null,null,null,null,null,null,2.9854563693317792E-3,"","","","","","","","","","","","","","","","","","","","","","","","","","","","","","","","","","","","","","","","","","","","",null,null,null,null,null,null,null,null,null,null,null,null,null,null,null,null,null,null,null,"",{"$f":"IF(H194=\"\",\"\",COUNTA($H$3:H194))","v":""},"","",""]
[null,null,null,"",null,null,null,null,null,null,null,null,null,null,null,null,null,null,null,null,null,null,null,0,null,null,null,null,null,null,null,null,null,null,{"$f":"IFERROR(G195+(RAND()/200),\"\")","v":2.8860614388622765E-3},{"$f":"IFERROR(RANK(G195,$G$3:$G$303,0),\"\")","v":""},{"$f":"IFERROR(RANK(AI195,$AI$3:$AI$102,0),\"\")","v":""},{"$f":"IFERROR(ROUNDUP(AK195/(COUNT(G:G))*$K$7,0),\"\")","v":""},{"$f":"IF(G195=\"\",\"\",RAND())","v":""},{"$f":"IF(E195=\"\",\"\",_xlfn.MAXIFS($AM$3:$AM$301,$AL$3:$AL$301,$AL195))","v":""},"","","",{"$f":"IFERROR(VLOOKUP($AN195,$AM$2:$AQ$301,3,0),\"\")","v":""},{"$f":"IFERROR(VLOOKUP($AN195,$AM$2:$AQ$301,4,0),\"\")","v":""},{"$f":"IFERROR(VLOOKUP($AN195,$AM$2:$AQ$301,5,0),\"\")","v":""},{"$f":"IFERROR(IF($AI195=\"\",\"\",IF($AJ195<AVERAGE($AJ$3:$AJ$301),\"\",$AJ195+RAND())),\"\")","v":""},{"$f":"IFERROR(RANK(AU195,$AU$3:$AU$301,1),\"\")","v":""},{"$f":"IFERROR(ROUNDUP(AV195/(COUNT(AU$2:AU$301))*$K$7,0),\"\")","v":""},{"$f":"IF(AW195=\"\",\"\",RAND())","v":""},{"$f":"IF(AV195=\"\",\"\",_xlfn.MAXIFS($AX$3:$AX$301,$AW$3:$AW$301,$AW195))","v":""},"","","",{"$f":"IFERROR(IF(AY195=\"\",\"\",VLOOKUP($AY195,$AX$2:$BB$301,3,0)),\"\")","v":""},{"$f":"IFERROR(IF(AY195=\"\",\"\",VLOOKUP($AY195,$AX$2:$BB$301,4,0)),\"\")","v":""},{"$f":"IFERROR(IF(AY195=\"\",\"\",VLOOKUP($AY195,$AX$2:$BB$301,5,0)),\"\")","v":""},{"$f":"IFERROR(IF($AI195=\"\",\"\",IF($AJ195>AVERAGE($AJ$3:$AJ$301),\"\",$AJ195+RAND())),\"\")","v":""},{"$f":"IFERROR(RANK(BF195,$BF$3:$BF$301,1),\"\")","v":""},{"$f":"IFERROR(ROUNDUP(BG195/(COUNT(BF$2:BF$301))*$K$7,0),\"\")","v":""},{"$f":"IF(BH195=\"\",\"\",RAND())","v":""},{"$f":"IF(BG195=\"\",\"\",_xlfn.MAXIFS($BI$3:$BI$301,$BH$3:$BH$301,$BH195))","v":""},"","","",{"$f":"IFERROR(IF($BJ195=\"\",\"\",VLOOKUP($BJ195,$BI$2:$BP$301,3,0)),\"\")","v":""},{"$f":"IFERROR(IF($BJ195=\"\",\"\",VLOOKUP($BJ195,$BI$2:$BP$301,4,0)),\"\")","v":""},{"$f":"IFERROR(IF($BJ195=\"\",\"\",VLOOKUP($BJ195,$BI$2:$BP$301,5,0)),\"\")","v":""},{"$f":"IFERROR(IF($AI195=\"\",\"\",IF($AJ195>1.5*AVERAGE($AJ$3:$AJ$301),\"\",IF($AJ195<0.5*AVERAGE($AJ$3:$AJ$301),\"\",$AJ195+RAND()))),\"\")","v":""},{"$f":"IFERROR(RANK($BQ195,$BQ$3:$BQ$301,1),\"\")","v":""},{"$f":"IFERROR(ROUNDUP(BR195/(COUNT(BQ$2:BQ$301))*$K$7,0),\"\")","v":""},{"$f":"IF(BS195=\"\",\"\",RAND())","v":""},{"$f":"IF(BR195=\"\",\"\",_xlfn.MAXIFS($BT$3:$BT$301,$BS$3:$BS$301,$BS195))","v":""},"","","","",{"$f":"IFERROR(IF($BU195=\"\",\"\",VLOOKUP($BU195,$BT$2:$BX$301,4,0)),\"\")","v":""},{"$f":"IFERROR(IF($BU195=\"\",\"\",VLOOKUP($BU195,$BT$2:$BX$301,5,0)),\"\")","v":""},null,null,null,null,null,null,null,null,null,null,null,null,null,null,null,null,null,null,null,"",{"$f":"IF(H195=\"\",\"\",COUNTA($H$3:H195))","v":""},"","",""]
[null,null,null,{"$f":"IF(E196=\"\",\"\",1+D195)","v":""},null,null,null,null,null,null,null,null,null,null,null,null,null,null,null,null,null,null,null,{"$f":"IFERROR(IF($K$6=\"YES\",VLOOKUP($M196,$DB:$DP,DO$1,0),DO196),\"\")","v":0},null,null,null,null,null,null,null,null,null,null,4.3627269685105018E-3,"","","","","",{"$f":"IF(E196=\"\",\"\",E196)","v":""},{"$f":"IF(F196=\"\",\"\",F196)","v":""},{"$f":"IF(G196=\"\",\"\",G196)","v":""},"","","","","","","","",{"$f":"IF(E196=\"\",\"\",E196)","v":""},{"$f":"IF(F196=\"\",\"\",F196)","v":""},{"$f":"IF(G196=\"\",\"\",G196)","v":""},"","","","","","","","",{"$f":"IF(E196=\"\",\"\",E196)","v":""},{"$f":"IF(F196=\"\",\"\",F196)","v":""},{"$f":"IF(G196=\"\",\"\",G196)","v":""},"","","","","","","","",{"$f":"IF(E196=\"\",\"\",E196)","v":""},{"$f":"IF(F196=\"\",\"\",F196)","v":""},{"$f":"IF(G196=\"\",\"\",G196)","v":""},{"$f":"IFERROR(IF($BU196=\"\",\"\",VLOOKUP($BU196,$BT$2:$BX$301,3,0)),\"\")","v":""},"","",null,null,null,null,null,null,null,null,null,null,null,null,null,null,null,null,null,null,null,{"$f":"IFERROR(RANK(CV196,$CV$3:$CV$302,0),\"\")","v":""},{"$f":"IF(H196=\"\",\"\",COUNTA($H$3:H196))","v":""},{"$f":"IF($H196<>\"\",IF(E196=\"\",\"\",E196),\"\")","v":""},{"$f":"IF($H196<>\"\",IF(F196=\"\",\"\",F196),\"\")","v":""},{"$f":"IF($H196<>\"\",IF(G196=\"\",\"\",G196),\"\")","v":""}]
[null,null,null,"",null,null,null,null,null,null,null,null,null,null,null,null,null,null,null,null,null,null,null,0,null,null,null,null,null,null,null,null,null,null,3.373417359061433E-3,"","","","","","","","","","","","","","","","","","","","","","","","","","","","","","","","","","","","","","","","","","","","",null,null,null,null,null,null,null,null,null,null,null,null,null,null,null,null,null,null,null,"",{"$f":"IF(H197=\"\",\"\",COUNTA($H$3:H197))","v":""},"","",""]
[null,null,null,"",null,null,null,null,null,null,null,null,null,null,null,null,null,null,null,null,null,null,null,0,null,null,null,null,null,null,null,null,null,null,8.5434621455398869E-4,"","","","","","","","","","","","","","","","","","","","","","","","","","","","","","","","","","","","","","","","","","","","",null,null,null,null,null,null,null,null,null,null,null,null,null,null,null,null,null,null,null,"",{"$f":"IF(H198=\"\",\"\",COUNTA($H$3:H198))","v":""},"","",""]
[null,null,null,"",null,null,null,null,null,null,null,null,null,null,null,null,null,null,null,null,null,null,null,0,null,null,null,null,null,null,null,null,null,null,6.6522375943096847E-4,"","","","","","","","","","","","","","","","","","","","","","","","","","","","","","","","","","","","","","","","","","","","",null,null,null,null,null,null,null,null,null,null,null,null,null,null,null,null,null,null,null,"",{"$f":"IF(H199=\"\",\"\",COUNTA($H$3:H199))","v":""},"","",""]
[null,null,null,"",null,null,null,null,null,null,null,null,null,null,null,null,null,null,null,null,null,null,null,0,null,null,null,null,null,null,null,null,null,null,3.8888753277576565E-3,"","","","","","","","","","","","","","","","","","","","","","","","","","","","","","","","","","","","","","","","","","","","",null,null,null,null,null,null,null,null,null,null,null,null,null,null,null,null,null,null,null,"",{"$f":"IF(H200=\"\",\"\",COUNTA($H$3:H200))","v":""},"","",""]
[null,null,null,"",null,null,null,null,null,null,null,null,null,null,null,null,null,null,null,null,null,null,null,0,null,null,null,null,null,null,null,null,null,null,1.6174148969661884E-3,"","","","","","","","","","","","","","","","","","","","","","","","","","","","","","","","","","","","","","","","","","","","",null,null,null,null,null,null,null,null,null,null,null,null,null,null,null,null,null,null,null,"",{"$f":"IF(H201=\"\",\"\",COUNTA($H$3:H201))","v":""},"","",""]
[null,null,null,"",null,null,null,null,null,null,null,null,null,null,null,null,null,null,null,null,null,null,null,0,null,null,null,null,null,null,null,null,null,null,1.7409810296396427E-3,"","","","","","","","","","","","","","","","","","","","","","","","","","","","","","","","","","","","","","","","","","","","",null,null,null,null,null,null,null,null,null,null,null,null,null,null,null,null,null,null,null,"",{"$f":"IF(H202=\"\",\"\",COUNTA($H$3:H202))","v":""},"","",""]
[null,null,null,"",null,null,null,null,null,null,null,null,null,null,null,null,null,null,null,null,null,null,null,0,null,null,null,null,null,null,null,null,null,null,1.628282076793176E-3,"","","","","","","","","","","","","","","","","","","","","","","","","","","","","","","","","","","","","","","","","","","","",null,null,null,null,null,null,null,null,null,null,null,null,null,null,null,null,null,null,null,"",{"$f":"IF(H203=\"\",\"\",COUNTA($H$3:H203))","v":""},"","",""]
[null,null,null,"",null,null,null,null,null,null,null,null,null,null,null,null,null,null,null,null,null,null,null,0,null,null,null,null,null,null,null,null,null,null,4.2183467150564511E-3,"","","","","","","","","","","","","","","","","","","","","","","","","","","","","","","","","","","","","","","","","","","","",null,null,null,null,null,null,null,null,null,null,null,null,null,null,null,null,null,null,null,"",{"$f":"IF(H204=\"\",\"\",COUNTA($H$3:H204))","v":""},"","",""]
[null,null,null,"",null,null,null,null,null,null,null,null,null,null,null,null,null,null,null,null,null,null,null,0,null,null,null,null,null,null,null,null,null,null,8.653411297265684E-4,"","","","","","","","","","","","","","","","","","","","","","","","","","","","","","","","","","","","","","","","","","","","",null,null,null,null,null,null,null,null,null,null,null,null,null,null,null,null,null,null,null,"",{"$f":"IF(H205=\"\",\"\",COUNTA($H$3:H205))","v":""},"","",""]
[null,null,null,"",null,null,null,null,null,null,null,null,null,null,null,null,null,null,null,null,null,null,null,0,null,null,null,null,null,null,null,null,null,null,4.8941851967268264E-3,"","","","","","","","","","","","","","","","","","","","","","","","","","","","","","","","","","","","","","","","","","","","",null,null,null,null,null,null,null,null,null,null,null,null,null,null,null,null,null,null,null,"",{"$f":"IF(H206=\"\",\"\",COUNTA($H$3:H206))","v":""},"","",""]
[null,null,null,"",null,null,null,null,null,null,null,null,null,null,null,null,null,null,null,null,null,null,null,0,null,null,null,null,null,null,null,null,null,null,4.1884222300340298E-3,"","","","","","","","","","","","","","","","","","","","","","","","","","","","","","","","","","","","","","","","","","","","",null,null,null,null,null,null,null,null,null,null,null,null,null,null,null,null,null,null,null,"",{"$f":"IF(H207=\"\",\"\",COUNTA($H$3:H207))","v":""},"","",""]
[null,null,null,"",null,null,null,null,null,null,null,null,null,null,null,null,null,null,null,null,null,null,null,0,null,null,null,null,null,null,null,null,null,null,4.7831550216651409E-3,"","","","","","","","","","","","","","","","","","","","","","","","","","","","","","","","","","","","","","","","","","","","",null,null,null,null,null,null,null,null,null,null,null,null,null,null,null,null,null,null,null,"",{"$f":"IF(H208=\"\",\"\",COUNTA($H$3:H208))","v":""},"","",""]
[null,null,null,"",null,null,null,null,null,null,null,null,null,null,null,null,null,null,null,null,null,null,null,0,null,null,null,null,null,null,null,null,null,null,4.4785221032917101E-4,"","","","","","","","","","","","","","","","","","","","","","","","","","","","","","","","","","","","","","","","","","","","",null,null,null,null,null,null,null,null,null,null,null,null,null,null,null,null,null,null,null,"",{"$f":"IF(H209=\"\",\"\",COUNTA($H$3:H209))","v":""},"","",""]
[null,null,null,"",null,null,null,null,null,null,null,null,null,null,null,null,null,null,null,null,null,null,null,0,null,null,null,null,null,null,null,null,null,null,1.6302728392273481E-3,"","","","","","","","","","","","","","","","","","","","","","","","","","","","","","","","","","","","","","","","","","","","",null,null,null,null,null,null,null,null,null,null,null,null,null,null,null,null,null,null,null,"",{"$f":"IF(H210=\"\",\"\",COUNTA($H$3:H210))","v":""},"","",""]
[null,null,null,"",null,null,null,null,null,null,null,null,null,null,null,null,null,null,null,null,null,null,null,0,null,null,null,null,null,null,null,null,null,null,8.7041637015451484E-4,"","","","","","","","","","","","","","","","","","","","","","","","","","","","","","","","","","","","","","","","","","","","",null,null,null,null,null,null,null,null,null,null,null,null,null,null,null,null,null,null,null,"",{"$f":"IF(H211=\"\",\"\",COUNTA($H$3:H211))","v":""},"","",""]
[null,null,null,"",null,null,null,null,null,null,null,null,null,null,null,null,null,null,null,null,null,null,null,0,null,null,null,null,null,null,null,null,null,null,1.0261175656964229E-3,"","","","","","","","","","","","","","","","","","","","","","","","","","","","","","","","","","","","","","","","","","","","",null,null,null,null,null,null,null,null,null,null,null,null,null,null,null,null,null,null,null,"",{"$f":"IF(H212=\"\",\"\",COUNTA($H$3:H212))","v":""},"","",""]
[null,null,null,"",null,null,null,null,null,null,null,null,null,null,null,null,null,null,null,null,null,null,null,0,null,null,null,null,null,null,null,null,null,null,2.9073113891384499E-3,"","","","","","","","","","","","","","","","","","","","","","","","","","","","","","","","","","","","","","","","","","","","",null,null,null,null,null,null,null,null,null,null,null,null,null,null,null,null,null,null,null,"",{"$f":"IF(H213=\"\",\"\",COUNTA($H$3:H213))","v":""},"","",""]
[null,null,null,"",null,null,null,null,null,null,null,null,null,null,null,null,null,null,null,null,null,null,null,0,null,null,null,null,null,null,null,null,null,null,3.6342439880857535E-3,"","","","","","","","","","","","","","","","","","","","","","","","","","","","","","","","","","","","","","","","","","","","",null,null,null,null,null,null,null,null,null,null,null,null,null,null,null,null,null,null,null,"",{"$f":"IF(H214=\"\",\"\",COUNTA($H$3:H214))","v":""},"","",""]
[null,null,null,"",null,null,null,null,null,null,null,null,null,null,null,null,null,null,null,null,null,null,null,0,null,null,null,null,null,null,null,null,null,null,6.3570616737549605E-4,"","","","","","","","","","","","","","","","","","","","","","","","","","","","","","","","","","","","","","","","","","","","",null,null,null,null,null,null,null,null,null,null,null,null,null,null,null,null,null,null,null,"",{"$f":"IF(H215=\"\",\"\",COUNTA($H$3:H215))","v":""},"","",""]
[null,null,null,"",null,null,null,null,null,null,null,null,null,null,null,null,null,null,null,null,null,null,null,0,null,null,null,null,null,null,null,null,null,null,3.1599481652392326E-3,"","","","","","","","","","","","","","","","","","","","","","","","","","","","","","","","","","","","","","","","","","","","",null,null,null,null,null,null,null,null,null,null,null,null,null,null,null,null,null,null,null,"",{"$f":"IF(H216=\"\",\"\",COUNTA($H$3:H216))","v":""},"","",""]
[null,null,null,"",null,null,null,null,null,null,null,null,null,null,null,null,null,null,null,null,null,null,null,0,null,null,null,null,null,null,null,null,null,null,2.2684646535958909E-3,"","","","","","","","","","","","","","","","","","","","","","","","","","","","","","","","","","","","","","","","","","","","",null,null,null,null,null,null,null,null,null,null,null,null,null,null,null,null,null,null,null,"",{"$f":"IF(H217=\"\",\"\",COUNTA($H$3:H217))","v":""},"","",""]
[null,null,null,"",null,null,null,null,null,null,null,null,null,null,null,null,null,null,null,null,null,null,null,0,null,null,null,null,null,null,null,null,null,null,4.3124483458329985E-3,"","","","","","","","","","","","","","","","","","","","","","","","","","","","","","","","","","","","","","","","","","","","",null,null,null,null,null,null,null,null,null,null,null,null,null,null,null,null,null,null,null,"",{"$f":"IF(H218=\"\",\"\",COUNTA($H$3:H218))","v":""},"","",""]
[null,null,null,"",null,null,null,null,null,null,null,null,null,null,null,null,null,null,null,null,null,null,null,0,null,null,null,null,null,null,null,null,null,null,1.4992308838605644E-3,"","","","","","","","","","","","","","","","","","","","","","","","","","","","","","","","","","","","","","","","","","","","",null,null,null,null,null,null,null,null,null,null,null,null,null,null,null,null,null,null,null,"",{"$f":"IF(H219=\"\",\"\",COUNTA($H$3:H219))","v":""},"","",""]
[null,null,null,"",null,null,null,null,null,null,null,null,null,null,null,null,null,null,null,null,null,null,null,0,null,null,null,null,null,null,null,null,null,null,3.8760567700731382E-3,"","","","","","","","","","","","","","","","","","","","","","","","","","","","","","","","","","","","","","","","","","","","",null,null,null,null,null,null,null,null,null,null,null,null,null,null,null,null,null,null,null,"",{"$f":"IF(H220=\"\",\"\",COUNTA($H$3:H220))","v":""},"","",""]
[null,null,null,"",null,null,null,null,null,null,null,null,null,null,null,null,null,null,null,null,null,null,null,0,null,null,null,null,null,null,null,null,null,null,4.9538949155048862E-4,"","","","","","","","","","","","","","","","","","","","","","","","","","","","","","","","","","","","","","","","","","","","",null,null,null,null,null,null,null,null,null,null,null,null,null,null,null,null,null,null,null,"",{"$f":"IF(H221=\"\",\"\",COUNTA($H$3:H221))","v":""},"","",""]
[null,null,null,"",null,null,null,null,null,null,null,null,null,null,null,null,null,null,null,null,null,null,null,0,null,null,null,null,null,null,null,null,null,null,1.7273007703944309E-3,"","","","","","","","","","","","","","","","","","","","","","","","","","","","","","","","","","","","","","","","","","","","",null,null,null,null,null,null,null,null,null,null,null,null,null,null,null,null,null,null,null,"",{"$f":"IF(H222=\"\",\"\",COUNTA($H$3:H222))","v":""},"","",""]
[null,null,null,"",null,null,null,null,null,null,null,null,null,null,null,null,null,null,null,null,null,null,null,0,null,null,null,null,null,null,null,null,null,null,2.1665745949716402E-3,"","","","","","","","","","","","","","","","","","","","","","","","","","","","","","","","","","","","","","","","","","","","",null,null,null,null,null,null,null,null,null,null,null,null,null,null,null,null,null,null,null,"",{"$f":"IF(H223=\"\",\"\",COUNTA($H$3:H223))","v":""},"","",""]
[null,null,null,"",null,null,null,null,null,null,null,null,null,null,null,null,null,null,null,null,null,null,null,0,null,null,null,null,null,null,null,null,null,null,4.4843354786151327E-3,"","","","","","","","","","","","","","","","","","","","","","","","","","","","","","","","","","","","","","","","","","","","",null,null,null,null,null,null,null,null,null,null,null,null,null,null,null,null,null,null,null,"",{"$f":"IF(H224=\"\",\"\",COUNTA($H$3:H224))","v":""},"","",""]
[null,null,null,"",null,null,null,null,null,null,null,null,null,null,null,null,null,null,null,null,null,null,null,0,null,null,null,null,null,null,null,null,null,null,3.2811630696592898E-3,"","","","","","","","","","","","","","","","","","","","","","","","","","","","","","","","","","","","","","","","","","","","",null,null,null,null,null,null,null,null,null,null,null,null,null,null,null,null,null,null,null,"",{"$f":"IF(H225=\"\",\"\",COUNTA($H$3:H225))","v":""},"","",""]
[null,null,null,"",null,null,null,null,null,null,null,null,null,null,null,null,null,null,null,null,null,null,null,0,null,null,null,null,null,null,null,null,null,null,1.1753630221897555E-3,"","","","","","","","","","","","","","","","","","","","","","","","","","","","","","","","","","","","","","","","","","","","",null,null,null,null,null,null,null,null,null,null,null,null,null,null,null,null,null,null,null,"",{"$f":"IF(H226=\"\",\"\",COUNTA($H$3:H226))","v":""},"","",""]
[null,null,null,"",null,null,null,null,null,null,null,null,null,null,null,null,null,null,null,null,null,null,null,0,null,null,null,null,null,null,null,null,null,null,2.9706398439912993E-3,"","","","","","","","","","","","","","","","","","","","","","","","","","","","","","","","","","","","","","","","","","","","",null,null,null,null,null,null,null,null,null,null,null,null,null,null,null,null,null,null,null,"",{"$f":"IF(H227=\"\",\"\",COUNTA($H$3:H227))","v":""},"","",""]
[null,null,null,"",null,null,null,null,null,null,null,null,null,null,null,null,null,null,null,null,null,null,null,0,null,null,null,null,null,null,null,null,null,null,4.0763639579156961E-4,"","","","","","","","","","","","","","","","","","","","","","","","","","","","","","","","","","","","","","","","","","","","",null,null,null,null,null,null,null,null,null,null,null,null,null,null,null,null,null,null,null,"",{"$f":"IF(H228=\"\",\"\",COUNTA($H$3:H228))","v":""},"","",""]
[null,null,null,"",null,null,null,null,null,null,null,null,null,null,null,null,null,null,null,null,null,null,null,0,null,null,null,null,null,null,null,null,null,null,5.0697714214342044E-4,"","","","","","","","","","","","","","","","","","","","","","","","","","","","","","","","","","","","","","","","","","","","",null,null,null,null,null,null,null,null,null,null,null,null,null,null,null,null,null,null,null,"",{"$f":"IF(H229=\"\",\"\",COUNTA($H$3:H229))","v":""},"","",""]
[null,null,null,"",null,null,null,null,null,null,null,null,null,null,null,null,null,null,null,null,null,null,null,0,null,null,null,null,null,null,null,null,null,null,4.47909522351951E-3,"","","","","","","","","","","","","","","","","","","","","","","","","","","","","","","","","","","","","","","","","","","","",null,null,null,null,null,null,null,null,null,null,null,null,null,null,null,null,null,null,null,"",{"$f":"IF(H230=\"\",\"\",COUNTA($H$3:H230))","v":""},"","",""]
[null,null,null,"",null,null,null,null,null,null,null,null,null,null,null,null,null,null,null,null,null,null,null,0,null,null,null,null,null,null,null,null,null,null,4.3784974824153441E-3,"","","","","","","","","","","","","","","","","","","","","","","","","","","","","","","","","","","","","","","","","","","","",null,null,null,null,null,null,null,null,null,null,null,null,null,null,null,null,null,null,null,"",{"$f":"IF(H231=\"\",\"\",COUNTA($H$3:H231))","v":""},"","",""]
[null,null,null,"",null,null,null,null,null,null,null,null,null,null,null,null,null,null,null,null,null,null,null,0,null,null,null,null,null,null,null,null,null,null,3.7585187483564499E-3,"","","","","","","","","","","","","","","","","","","","","","","","","","","","","","","","","","","","","","","","","","","","",null,null,null,null,null,null,null,null,null,null,null,null,null,null,null,null,null,null,null,"",{"$f":"IF(H232=\"\",\"\",COUNTA($H$3:H232))","v":""},"","",""]
[null,null,null,"",null,null,null,null,null,null,null,null,null,null,null,null,null,null,null,null,null,null,null,0,null,null,null,null,null,null,null,null,null,null,2.497492566983422E-3,"","","","","","","","","","","","","","","","","","","","","","","","","","","","","","","","","","","","","","","","","","","","",null,null,null,null,null,null,null,null,null,null,null,null,null,null,null,null,null,null,null,"",{"$f":"IF(H233=\"\",\"\",COUNTA($H$3:H233))","v":""},"","",""]
[null,null,null,"",null,null,null,null,null,null,null,null,null,null,null,null,null,null,null,null,null,null,null,0,null,null,null,null,null,null,null,null,null,null,2.0027875980181773E-3,"","","","","","","","","","","","","","","","","","","","","","","","","","","","","","","","","","","","","","","","","","","","",null,null,null,null,null,null,null,null,null,null,null,null,null,null,null,null,null,null,null,"",{"$f":"IF(H234=\"\",\"\",COUNTA($H$3:H234))","v":""},"","",""]
[null,null,null,"",null,null,null,null,null,null,null,null,null,null,null,null,null,null,null,null,null,null,null,0,null,null,null,null,null,null,null,null,null,null,9.6700529707444355E-4,"","","","","","","","","","","","","","","","","","","","","","","","","","","","","","","","","","","","","","","","","","","","",null,null,null,null,null,null,null,null,null,null,null,null,null,null,null,null,null,null,null,"",{"$f":"IF(H235=\"\",\"\",COUNTA($H$3:H235))","v":""},"","",""]
[null,null,null,"",null,null,null,null,null,null,null,null,null,null,null,null,null,null,null,null,null,null,null,0,null,null,null,null,null,null,null,null,null,null,3.2311263587301809E-3,"","","","","","","","","","","","","","","","","","","","","","","","","","","","","","","","","","","","","","","","","","","","",null,null,null,null,null,null,null,null,null,null,null,null,null,null,null,null,null,null,null,"",{"$f":"IF(H236=\"\",\"\",COUNTA($H$3:H236))","v":""},"","",""]
[null,null,null,"",null,null,null,null,null,null,null,null,null,null,null,null,null,null,null,null,null,null,null,0,null,null,null,null,null,null,null,null,null,null,5.7889725713051727E-4,"","","","","","","","","","","","","","","","","","","","","","","","","","","","","","","","","","","","","","","","","","","","",null,null,null,null,null,null,null,null,null,null,null,null,null,null,null,null,null,null,null,"",{"$f":"IF(H237=\"\",\"\",COUNTA($H$3:H237))","v":""},"","",""]
[null,null,null,"",null,null,null,null,null,null,null,null,null,null,null,null,null,null,null,null,null,null,null,0,null,null,null,null,null,null,null,null,null,null,2.8987471137806686E-3,"","","","","","","","","","","","","","","","","","","","","","","","","","","","","","","","","","","","","","","","","","","","",null,null,null,null,null,null,null,null,null,null,null,null,null,null,null,null,null,null,null,"",{"$f":"IF(H238=\"\",\"\",COUNTA($H$3:H238))","v":""},"","",""]
[null,null,null,"",null,null,null,null,null,null,null,null,null,null,null,null,null,null,null,null,null,null,null,0,null,null,null,null,null,null,null,null,null,null,2.0019947063520339E-4,"","","","","","","","","","","","","","","","","","","","","","","","","","","","","","","","","","","","","","","","","","","","",null,null,null,null,null,null,null,null,null,null,null,null,null,null,null,null,null,null,null,"",{"$f":"IF(H239=\"\",\"\",COUNTA($H$3:H239))","v":""},"","",""]
[null,null,null,"",null,null,null,null,null,null,null,null,null,null,null,null,null,null,null,null,null,null,null,0,null,null,null,null,null,null,null,null,null,null,4.7075081763734141E-3,"","","","","","","","","","","","","","","","","","","","","","","","","","","","","","","","","","","","","","","","","","","","",null,null,null,null,null,null,null,null,null,null,null,null,null,null,null,null,null,null,null,"",{"$f":"IF(H240=\"\",\"\",COUNTA($H$3:H240))","v":""},"","",""]
[null,null,null,"",null,null,null,null,null,null,null,null,null,null,null,null,null,null,null,null,null,null,null,0,null,null,null,null,null,null,null,null,null,null,4.0688700534253584E-3,"","","","","","","","","","","","","","","","","","","","","","","","","","","","","","","","","","","","","","","","","","","","",null,null,null,null,null,null,null,null,null,null,null,null,null,null,null,null,null,null,null,"",{"$f":"IF(H241=\"\",\"\",COUNTA($H$3:H241))","v":""},"","",""]
[null,null,null,"",null,null,null,null,null,null,null,null,null,null,null,null,null,null,null,null,null,null,null,0,null,null,null,null,null,null,null,null,null,null,8.0805538194480555E-4,"","","","","","","","","","","","","","","","","","","","","","","","","","","","","","","","","","","","","","","","","","","","",null,null,null,null,null,null,null,null,null,null,null,null,null,null,null,null,null,null,null,"",{"$f":"IF(H242=\"\",\"\",COUNTA($H$3:H242))","v":""},"","",""]
[null,null,null,"",null,null,null,null,null,null,null,null,null,null,null,null,null,null,null,null,null,null,null,0,null,null,null,null,null,null,null,null,null,null,4.4320698183462405E-4,"","","","","","","","","","","","","","","","","","","","","","","","","","","","","","","","","","","","","","","","","","","","",null,null,null,null,null,null,null,null,null,null,null,null,null,null,null,null,null,null,null,"",{"$f":"IF(H243=\"\",\"\",COUNTA($H$3:H243))","v":""},"","",""]
[null,null,null,"",null,null,null,null,null,null,null,null,null,null,null,null,null,null,null,null,null,null,null,0,null,null,null,null,null,null,null,null,null,null,1.8246685129712158E-3,"","","","","","","","","","","","","","","","","","","","","","","","","","","","","","","","","","","","","","","","","","","","",null,null,null,null,null,null,null,null,null,null,null,null,null,null,null,null,null,null,null,"",{"$f":"IF(H244=\"\",\"\",COUNTA($H$3:H244))","v":""},"","",""]
[null,null,null,"",null,null,null,null,null,null,null,null,null,null,null,null,null,null,null,null,null,null,null,0,null,null,null,null,null,null,null,null,null,null,2.4654392560899507E-3,"","","","","","","","","","","","","","","","","","","","","","","","","","","","","","","","","","","","","","","","","","","","",null,null,null,null,null,null,null,null,null,null,null,null,null,null,null,null,null,null,null,"",{"$f":"IF(H245=\"\",\"\",COUNTA($H$3:H245))","v":""},"","",""]
[null,null,null,"",null,null,null,null,null,null,null,null,null,null,null,null,null,null,null,null,null,null,null,0,null,null,null,null,null,null,null,null,null,null,7.1083174995343387E-4,"","","","","","","","","","","","","","","","","","","","","","","","","","","","","","","","","","","","","","","","","","","","",null,null,null,null,null,null,null,null,null,null,null,null,null,null,null,null,null,null,null,"",{"$f":"IF(H246=\"\",\"\",COUNTA($H$3:H246))","v":""},"","",""]
[null,null,null,"",null,null,null,null,null,null,null,null,null,null,null,null,null,null,null,null,null,null,null,0,null,null,null,null,null,null,null,null,null,null,2.9350051907261437E-3,"","","","","","","","","","","","","","","","","","","","","","","","","","","","","","","","","","","","","","","","","","","","",null,null,null,null,null,null,null,null,null,null,null,null,null,null,null,null,null,null,null,"",{"$f":"IF(H247=\"\",\"\",COUNTA($H$3:H247))","v":""},"","",""]
[null,null,null,"",null,null,null,null,null,null,null,null,null,null,null,null,null,null,null,null,null,null,null,0,null,null,null,null,null,null,null,null,null,null,5.941863905356448E-5,"","","","","","","","","","","","","","","","","","","","","","","","","","","","","","","","","","","","","","","","","","","","",null,null,null,null,null,null,null,null,null,null,null,null,null,null,null,null,null,null,null,"",{"$f":"IF(H248=\"\",\"\",COUNTA($H$3:H248))","v":""},"","",""]
[null,null,null,"",null,null,null,null,null,null,null,null,null,null,null,null,null,null,null,null,null,null,null,0,null,null,null,null,null,null,null,null,null,null,4.2160613036510463E-3,"","","","","","","","","","","","","","","","","","","","","","","","","","","","","","","","","","","","","","","","","","","","",null,null,null,null,null,null,null,null,null,null,null,null,null,null,null,null,null,null,null,"",{"$f":"IF(H249=\"\",\"\",COUNTA($H$3:H249))","v":""},"","",""]
[null,null,null,"",null,null,null,null,null,null,null,null,null,null,null,null,null,null,null,null,null,null,null,0,null,null,null,null,null,null,null,null,null,null,4.1247151199934303E-3,"","","","","","","","","","","","","","","","","","","","","","","","","","","","","","","","","","","","","","","","","","","","",null,null,null,null,null,null,null,null,null,null,null,null,null,null,null,null,null,null,null,"",{"$f":"IF(H250=\"\",\"\",COUNTA($H$3:H250))","v":""},"","",""]
[null,null,null,"",null,null,null,null,null,null,null,null,null,null,null,null,null,null,null,null,null,null,null,0,null,null,null,null,null,null,null,null,null,null,2.8372539954847884E-3,"","","","","","","","","","","","","","","","","","","","","","","","","","","","","","","","","","","","","","","","","","","","",null,null,null,null,null,null,null,null,null,null,null,null,null,null,null,null,null,null,null,"",{"$f":"IF(H251=\"\",\"\",COUNTA($H$3:H251))","v":""},"","",""]
[null,null,null,"",null,null,null,null,null,null,null,null,null,null,null,null,null,null,null,null,null,null,null,0,null,null,null,null,null,null,null,null,null,null,2.5094729789232328E-3,"","","","","","","","","","","","","","","","","","","","","","","","","","","","","","","","","","","","","","","","","","","","",null,null,null,null,null,null,null,null,null,null,null,null,null,null,null,null,null,null,null,"",{"$f":"IF(H252=\"\",\"\",COUNTA($H$3:H252))","v":""},"","",""]
[null,null,null,"",null,null,null,null,null,null,null,null,null,null,null,null,null,null,null,null,null,null,null,0,null,null,null,null,null,null,null,null,null,null,4.1674635464665913E-3,"","","","","","","","","","","","","","","","","","","","","","","","","","","","","","","","","","","","","","","","","","","","",null,null,null,null,null,null,null,null,null,null,null,null,null,null,null,null,null,null,null,"",{"$f":"IF(H253=\"\",\"\",COUNTA($H$3:H253))","v":""},"","",""]
[null,null,null,"",null,null,null,null,null,null,null,null,null,null,null,null,null,null,null,null,null,null,null,0,null,null,null,null,null,null,null,null,null,null,3.9973250071838103E-3,"","","","","","","","","","","","","","","","","","","","","","","","","","","","","","","","","","","","","","","","","","","","",null,null,null,null,null,null,null,null,null,null,null,null,null,null,null,null,null,null,null,"",{"$f":"IF(H254=\"\",\"\",COUNTA($H$3:H254))","v":""},"","",""]
[null,null,null,"",null,null,null,null,null,null,null,null,null,null,null,null,null,null,null,null,null,null,null,0,null,null,null,null,null,null,null,null,null,null,1.6597951586583059E-4,"","","","","","","","","","","","","","","","","","","","","","","","","","","","","","","","","","","","","","","","","","","","",null,null,null,null,null,null,null,null,null,null,null,null,null,null,null,null,null,null,null,"",{"$f":"IF(H255=\"\",\"\",COUNTA($H$3:H255))","v":""},"","",""]
[null,null,null,"",null,null,null,null,null,null,null,null,null,null,null,null,null,null,null,null,null,null,null,0,null,null,null,null,null,null,null,null,null,null,7.6767463802589479E-4,"","","","","","","","","","","","","","","","","","","","","","","","","","","","","","","","","","","","","","","","","","","","",null,null,null,null,null,null,null,null,null,null,null,null,null,null,null,null,null,null,null,"",{"$f":"IF(H256=\"\",\"\",COUNTA($H$3:H256))","v":""},"","",""]
[null,null,null,"",null,null,null,null,null,null,null,null,null,null,null,null,null,null,null,null,null,null,null,0,null,null,null,null,null,null,null,null,null,null,2.3041052182963795E-3,"","","","","","","","","","","","","","","","","","","","","","","","","","","","","","","","","","","","","","","","","","","","",null,null,null,null,null,null,null,null,null,null,null,null,null,null,null,null,null,null,null,"",{"$f":"IF(H257=\"\",\"\",COUNTA($H$3:H257))","v":""},"","",""]
[null,null,null,"",null,null,null,null,null,null,null,null,null,null,null,null,null,null,null,null,null,null,null,0,null,null,null,null,null,null,null,null,null,null,2.3994883112183978E-3,"","","","","","","","","","","","","","","","","","","","","","","","","","","","","","","","","","","","","","","","","","","","",null,null,null,null,null,null,null,null,null,null,null,null,null,null,null,null,null,null,null,"",{"$f":"IF(H258=\"\",\"\",COUNTA($H$3:H258))","v":""},"","",""]
[null,null,null,"",null,null,null,null,null,null,null,null,null,null,null,null,null,null,null,null,null,null,null,0,null,null,null,null,null,null,null,null,null,null,{"$f":"IFERROR(G259+(RAND()/200),\"\")","v":4.3650685587822758E-4},{"$f":"IFERROR(RANK(G259,$G$3:$G$303,0),\"\")","v":""},{"$f":"IFERROR(RANK(AI259,$AI$3:$AI$102,0),\"\")","v":""},{"$f":"IFERROR(ROUNDUP(AK259/(COUNT(G:G))*$K$7,0),\"\")","v":""},{"$f":"IF(G259=\"\",\"\",RAND())","v":""},{"$f":"IF(E259=\"\",\"\",_xlfn.MAXIFS($AM$3:$AM$301,$AL$3:$AL$301,$AL259))","v":""},"","","",{"$f":"IFERROR(VLOOKUP($AN259,$AM$2:$AQ$301,3,0),\"\")","v":""},{"$f":"IFERROR(VLOOKUP($AN259,$AM$2:$AQ$301,4,0),\"\")","v":""},{"$f":"IFERROR(VLOOKUP($AN259,$AM$2:$AQ$301,5,0),\"\")","v":""},{"$f":"IFERROR(IF($AI259=\"\",\"\",IF($AJ259<AVERAGE($AJ$3:$AJ$301),\"\",$AJ259+RAND())),\"\")","v":""},{"$f":"IFERROR(RANK(AU259,$AU$3:$AU$301,1),\"\")","v":""},{"$f":"IFERROR(ROUNDUP(AV259/(COUNT(AU$2:AU$301))*$K$7,0),\"\")","v":""},{"$f":"IF(AW259=\"\",\"\",RAND())","v":""},{"$f":"IF(AV259=\"\",\"\",_xlfn.MAXIFS($AX$3:$AX$301,$AW$3:$AW$301,$AW259))","v":""},"","","",{"$f":"IFERROR(IF(AY259=\"\",\"\",VLOOKUP($AY259,$AX$2:$BB$301,3,0)),\"\")","v":""},{"$f":"IFERROR(IF(AY259=\"\",\"\",VLOOKUP($AY259,$AX$2:$BB$301,4,0)),\"\")","v":""},{"$f":"IFERROR(IF(AY259=\"\",\"\",VLOOKUP($AY259,$AX$2:$BB$301,5,0)),\"\")","v":""},{"$f":"IFERROR(IF($AI259=\"\",\"\",IF($AJ259>AVERAGE($AJ$3:$AJ$301),\"\",$AJ259+RAND())),\"\")","v":""},{"$f":"IFERROR(RANK(BF259,$BF$3:$BF$301,1),\"\")","v":""},{"$f":"IFERROR(ROUNDUP(BG259/(COUNT(BF$2:BF$301))*$K$7,0),\"\")","v":""},{"$f":"IF(BH259=\"\",\"\",RAND())","v":""},{"$f":"IF(BG259=\"\",\"\",_xlfn.MAXIFS($BI$3:$BI$301,$BH$3:$BH$301,$BH259))","v":""},"","","",{"$f":"IFERROR(IF($BJ259=\"\",\"\",VLOOKUP($BJ259,$BI$2:$BP$301,3,0)),\"\")","v":""},{"$f":"IFERROR(IF($BJ259=\"\",\"\",VLOOKUP($BJ259,$BI$2:$BP$301,4,0)),\"\")","v":""},{"$f":"IFERROR(IF($BJ259=\"\",\"\",VLOOKUP($BJ259,$BI$2:$BP$301,5,0)),\"\")","v":""},{"$f":"IFERROR(IF($AI259=\"\",\"\",IF($AJ259>1.5*AVERAGE($AJ$3:$AJ$301),\"\",IF($AJ259<0.5*AVERAGE($AJ$3:$AJ$301),\"\",$AJ259+RAND()))),\"\")","v":""},{"$f":"IFERROR(RANK($BQ259,$BQ$3:$BQ$301,1),\"\")","v":""},{"$f":"IFERROR(ROUNDUP(BR259/(COUNT(BQ$2:BQ$301))*$K$7,0),\"\")","v":""},{"$f":"IF(BS259=\"\",\"\",RAND())","v":""},{"$f":"IF(BR259=\"\",\"\",_xlfn.MAXIFS($BT$3:$BT$301,$BS$3:$BS$301,$BS259))","v":""},"","","","",{"$f":"IFERROR(IF($BU259=\"\",\"\",VLOOKUP($BU259,$BT$2:$BX$301,4,0)),\"\")","v":""},{"$f":"IFERROR(IF($BU259=\"\",\"\",VLOOKUP($BU259,$BT$2:$BX$301,5,0)),\"\")","v":""},null,null,null,null,null,null,null,null,null,null,null,null,null,null,null,null,null,null,null,"",{"$f":"IF(H259=\"\",\"\",COUNTA($H$3:H259))","v":""},"","",""]
[null,null,null,{"$f":"IF(E260=\"\",\"\",1+D259)","v":""},null,null,null,null,null,null,null,null,null,null,null,null,null,null,null,null,null,null,null,{"$f":"IFERROR(IF($K$6=\"YES\",VLOOKUP($M260,$DB:$DP,DO$1,0),DO260),\"\")","v":0},null,null,null,null,null,null,null,null,null,null,3.8803689825919092E-3,"","","","","",{"$f":"IF(E260=\"\",\"\",E260)","v":""},{"$f":"IF(F260=\"\",\"\",F260)","v":""},{"$f":"IF(G260=\"\",\"\",G260)","v":""},"","","","","","","","",{"$f":"IF(E260=\"\",\"\",E260)","v":""},{"$f":"IF(F260=\"\",\"\",F260)","v":""},{"$f":"IF(G260=\"\",\"\",G260)","v":""},"","","","","","","","",{"$f":"IF(E260=\"\",\"\",E260)","v":""},{"$f":"IF(F260=\"\",\"\",F260)","v":""},{"$f":"IF(G260=\"\",\"\",G260)","v":""},"","","","","","","","",{"$f":"IF(E260=\"\",\"\",E260)","v":""},{"$f":"IF(F260=\"\",\"\",F260)","v":""},{"$f":"IF(G260=\"\",\"\",G260)","v":""},{"$f":"IFERROR(IF($BU260=\"\",\"\",VLOOKUP($BU260,$BT$2:$BX$301,3,0)),\"\")","v":""},"","",null,null,null,null,null,null,null,null,null,null,null,null,null,null,null,null,null,null,null,{"$f":"IFERROR(RANK(CV260,$CV$3:$CV$302,0),\"\")","v":""},{"$f":"IF(H260=\"\",\"\",COUNTA($H$3:H260))","v":""},{"$f":"IF($H260<>\"\",IF(E260=\"\",\"\",E260),\"\")","v":""},{"$f":"IF($H260<>\"\",IF(F260=\"\",\"\",F260),\"\")","v":""},{"$f":"IF($H260<>\"\",IF(G260=\"\",\"\",G260),\"\")","v":""}]
[null,null,null,"",null,null,null,null,null,null,null,null,null,null,null,null,null,null,null,null,null,null,null,0,null,null,null,null,null,null,null,null,null,null,1.8270425348257057E-3,"","","","","","","","","","","","","","","","","","","","","","","","","","","","","","","","","","","","","","","","","","","","",null,null,null,null,null,null,null,null,null,null,null,null,null,null,null,null,null,null,null,"",{"$f":"IF(H261=\"\",\"\",COUNTA($H$3:H261))","v":""},"","",""]
[null,null,null,"",null,null,null,null,null,null,null,null,null,null,null,null,null,null,null,null,null,null,null,0,null,null,null,null,null,null,null,null,null,null,2.1769563450557084E-4,"","","","","","","","","","","","","","","","","","","","","","","","","","","","","","","","","","","","","","","","","","","","",null,null,null,null,null,null,null,null,null,null,null,null,null,null,null,null,null,null,null,"",{"$f":"IF(H262=\"\",\"\",COUNTA($H$3:H262))","v":""},"","",""]
[null,null,null,"",null,null,null,null,null,null,null,null,null,null,null,null,null,null,null,null,null,null,null,0,null,null,null,null,null,null,null,null,null,null,7.3164306069517519E-6,"","","","","","","","","","","","","","","","","","","","","","","","","","","","","","","","","","","","","","","","","","","","",null,null,null,null,null,null,null,null,null,null,null,null,null,null,null,null,null,null,null,"",{"$f":"IF(H263=\"\",\"\",COUNTA($H$3:H263))","v":""},"","",""]
[null,null,null,"",null,null,null,null,null,null,null,null,null,null,null,null,null,null,null,null,null,null,null,0,null,null,null,null,null,null,null,null,null,null,3.7133546086366319E-3,"","","","","","","","","","","","","","","","","","","","","","","","","","","","","","","","","","","","","","","","","","","","",null,null,null,null,null,null,null,null,null,null,null,null,null,null,null,null,null,null,null,"",{"$f":"IF(H264=\"\",\"\",COUNTA($H$3:H264))","v":""},"","",""]
[null,null,null,"",null,null,null,null,null,null,null,null,null,null,null,null,null,null,null,null,null,null,null,0,null,null,null,null,null,null,null,null,null,null,8.0396549596871978E-4,"","","","","","","","","","","","","","","","","","","","","","","","","","","","","","","","","","","","","","","","","","","","",null,null,null,null,null,null,null,null,null,null,null,null,null,null,null,null,null,null,null,"",{"$f":"IF(H265=\"\",\"\",COUNTA($H$3:H265))","v":""},"","",""]
[null,null,null,"",null,null,null,null,null,null,null,null,null,null,null,null,null,null,null,null,null,null,null,0,null,null,null,null,null,null,null,null,null,null,3.4715009667148559E-3,"","","","","","","","","","","","","","","","","","","","","","","","","","","","","","","","","","","","","","","","","","","","",null,null,null,null,null,null,null,null,null,null,null,null,null,null,null,null,null,null,null,"",{"$f":"IF(H266=\"\",\"\",COUNTA($H$3:H266))","v":""},"","",""]
[null,null,null,"",null,null,null,null,null,null,null,null,null,null,null,null,null,null,null,null,null,null,null,0,null,null,null,null,null,null,null,null,null,null,8.5486114022093046E-7,"","","","","","","","","","","","","","","","","","","","","","","","","","","","","","","","","","","","","","","","","","","","",null,null,null,null,null,null,null,null,null,null,null,null,null,null,null,null,null,null,null,"",{"$f":"IF(H267=\"\",\"\",COUNTA($H$3:H267))","v":""},"","",""]
[null,null,null,"",null,null,null,null,null,null,null,null,null,null,null,null,null,null,null,null,null,null,null,0,null,null,null,null,null,null,null,null,null,null,4.6102562912619174E-3,"","","","","","","","","","","","","","","","","","","","","","","","","","","","","","","","","","","","","","","","","","","","",null,null,null,null,null,null,null,null,null,null,null,null,null,null,null,null,null,null,null,"",{"$f":"IF(H268=\"\",\"\",COUNTA($H$3:H268))","v":""},"","",""]
[null,null,null,"",null,null,null,null,null,null,null,null,null,null,null,null,null,null,null,null,null,null,null,0,null,null,null,null,null,null,null,null,null,null,1.3277005097464007E-3,"","","","","","","","","","","","","","","","","","","","","","","","","","","","","","","","","","","","","","","","","","","","",null,null,null,null,null,null,null,null,null,null,null,null,null,null,null,null,null,null,null,"",{"$f":"IF(H269=\"\",\"\",COUNTA($H$3:H269))","v":""},"","",""]
[null,null,null,"",null,null,null,null,null,null,null,null,null,null,null,null,null,null,null,null,null,null,null,0,null,null,null,null,null,null,null,null,null,null,1.477302182178642E-3,"","","","","","","","","","","","","","","","","","","","","","","","","","","","","","","","","","","","","","","","","","","","",null,null,null,null,null,null,null,null,null,null,null,null,null,null,null,null,null,null,null,"",{"$f":"IF(H270=\"\",\"\",COUNTA($H$3:H270))","v":""},"","",""]
[null,null,null,"",null,null,null,null,null,null,null,null,null,null,null,null,null,null,null,null,null,null,null,0,null,null,null,null,null,null,null,null,null,null,1.4328348121699858E-3,"","","","","","","","","","","","","","","","","","","","","","","","","","","","","","","","","","","","","","","","","","","","",null,null,null,null,null,null,null,null,null,null,null,null,null,null,null,null,null,null,null,"",{"$f":"IF(H271=\"\",\"\",COUNTA($H$3:H271))","v":""},"","",""]
[null,null,null,"",null,null,null,null,null,null,null,null,null,null,null,null,null,null,null,null,null,null,null,0,null,null,null,null,null,null,null,null,null,null,4.4398555922621581E-3,"","","","","","","","","","","","","","","","","","","","","","","","","","","","","","","","","","","","","","","","","","","","",null,null,null,null,null,null,null,null,null,null,null,null,null,null,null,null,null,null,null,"",{"$f":"IF(H272=\"\",\"\",COUNTA($H$3:H272))","v":""},"","",""]
[null,null,null,"",null,null,null,null,null,null,null,null,null,null,null,null,null,null,null,null,null,null,null,0,null,null,null,null,null,null,null,null,null,null,4.5606932528149038E-3,"","","","","","","","","","","","","","","","","","","","","","","","","","","","","","","","","","","","","","","","","","","","",null,null,null,null,null,null,null,null,null,null,null,null,null,null,null,null,null,null,null,"",{"$f":"IF(H273=\"\",\"\",COUNTA($H$3:H273))","v":""},"","",""]
[null,null,null,"",null,null,null,null,null,null,null,null,null,null,null,null,null,null,null,null,null,null,null,0,null,null,null,null,null,null,null,null,null,null,1.484505428110517E-3,"","","","","","","","","","","","","","","","","","","","","","","","","","","","","","","","","","","","","","","","","","","","",null,null,null,null,null,null,null,null,null,null,null,null,null,null,null,null,null,null,null,"",{"$f":"IF(H274=\"\",\"\",COUNTA($H$3:H274))","v":""},"","",""]
[null,null,null,"",null,null,null,null,null,null,null,null,null,null,null,null,null,null,null,null,null,null,null,0,null,null,null,null,null,null,null,null,null,null,3.1546678440965135E-3,"","","","","","","","","","","","","","","","","","","","","","","","","","","","","","","","","","","","","","","","","","","","",null,null,null,null,null,null,null,null,null,null,null,null,null,null,null,null,null,null,null,"",{"$f":"IF(H275=\"\",\"\",COUNTA($H$3:H275))","v":""},"","",""]
[null,null,null,"",null,null,null,null,null,null,null,null,null,null,null,null,null,null,null,null,null,null,null,0,null,null,null,null,null,null,null,null,null,null,6.7252720492545271E-4,"","","","","","","","","","","","","","","","","","","","","","","","","","","","","","","","","","","","","","","","","","","","",null,null,null,null,null,null,null,null,null,null,null,null,null,null,null,null,null,null,null,"",{"$f":"IF(H276=\"\",\"\",COUNTA($H$3:H276))","v":""},"","",""]
[null,null,null,"",null,null,null,null,null,null,null,null,null,null,null,null,null,null,null,null,null,null,null,0,null,null,null,null,null,null,null,null,null,null,2.6578351425527807E-3,"","","","","","","","","","","","","","","","","","","","","","","","","","","","","","","","","","","","","","","","","","","","",null,null,null,null,null,null,null,null,null,null,null,null,null,null,null,null,null,null,null,"",{"$f":"IF(H277=\"\",\"\",COUNTA($H$3:H277))","v":""},"","",""]
[null,null,null,"",null,null,null,null,null,null,null,null,null,null,null,null,null,null,null,null,null,null,null,0,null,null,null,null,null,null,null,null,null,null,3.213809781229609E-3,"","","","","","","","","","","","","","","","","","","","","","","","","","","","","","","","","","","","","","","","","","","","",null,null,null,null,null,null,null,null,null,null,null,null,null,null,null,null,null,null,null,"",{"$f":"IF(H278=\"\",\"\",COUNTA($H$3:H278))","v":""},"","",""]
[null,null,null,"",null,null,null,null,null,null,null,null,null,null,null,null,null,null,null,null,null,null,null,0,null,null,null,null,null,null,null,null,null,null,3.1318085015442742E-3,"","","","","","","","","","","","","","","","","","","","","","","","","","","","","","","","","","","","","","","","","","","","",null,null,null,null,null,null,null,null,null,null,null,null,null,null,null,null,null,null,null,"",{"$f":"IF(H279=\"\",\"\",COUNTA($H$3:H279))","v":""},"","",""]
[null,null,null,"",null,null,null,null,null,null,null,null,null,null,null,null,null,null,null,null,null,null,null,0,null,null,null,null,null,null,null,null,null,null,2.0794828933228312E-3,"","","","","","","","","","","","","","","","","","","","","","","","","","","","","","","","","","","","","","","","","","","","",null,null,null,null,null,null,null,null,null,null,null,null,null,null,null,null,null,null,null,"",{"$f":"IF(H280=\"\",\"\",COUNTA($H$3:H280))","v":""},"","",""]
[null,null,null,"",null,null,null,null,null,null,null,null,null,null,null,null,null,null,null,null,null,null,null,0,null,null,null,null,null,null,null,null,null,null,1.8540158670992003E-3,"","","","","","","","","","","","","","","","","","","","","","","","","","","","","","","","","","","","","","","","","","","","",null,null,null,null,null,null,null,null,null,null,null,null,null,null,null,null,null,null,null,"",{"$f":"IF(H281=\"\",\"\",COUNTA($H$3:H281))","v":""},"","",""]
[null,null,null,"",null,null,null,null,null,null,null,null,null,null,null,null,null,null,null,null,null,null,null,0,null,null,null,null,null,null,null,null,null,null,1.1424100537867799E-3,"","","","","","","","","","","","","","","","","","","","","","","","","","","","","","","","","","","","","","","","","","","","",null,null,null,null,null,null,null,null,null,null,null,null,null,null,null,null,null,null,null,"",{"$f":"IF(H282=\"\",\"\",COUNTA($H$3:H282))","v":""},"","",""]
[null,null,null,"",null,null,null,null,null,null,null,null,null,null,null,null,null,null,null,null,null,null,null,0,null,null,null,null,null,null,null,null,null,null,1.8429867431425078E-3,"","","","","","","","","","","","","","","","","","","","","","","","","","","","","","","","","","","","","","","","","","","","",null,null,null,null,null,null,null,null,null,null,null,null,null,null,null,null,null,null,null,"",{"$f":"IF(H283=\"\",\"\",COUNTA($H$3:H283))","v":""},"","",""]
[null,null,null,"",null,null,null,null,null,null,null,null,null,null,null,null,null,null,null,null,null,null,null,0,null,null,null,null,null,null,null,null,null,null,8.1126956730481097E-4,"","","","","","","","","","","","","","","","","","","","","","","","","","","","","","","","","","","","","","","","","","","","",null,null,null,null,null,null,null,null,null,null,null,null,null,null,null,null,null,null,null,"",{"$f":"IF(H284=\"\",\"\",COUNTA($H$3:H284))","v":""},"","",""]
[null,null,null,"",null,null,null,null,null,null,null,null,null,null,null,null,null,null,null,null,null,null,null,0,null,null,null,null,null,null,null,null,null,null,1.1812273117955817E-3,"","","","","","","","","","","","","","","","","","","","","","","","","","","","","","","","","","","","","","","","","","","","",null,null,null,null,null,null,null,null,null,null,null,null,null,null,null,null,null,null,null,"",{"$f":"IF(H285=\"\",\"\",COUNTA($H$3:H285))","v":""},"","",""]
[null,null,null,"",null,null,null,null,null,null,null,null,null,null,null,null,null,null,null,null,null,null,null,0,null,null,null,null,null,null,null,null,null,null,2.1368809889313221E-3,"","","","","","","","","","","","","","","","","","","","","","","","","","","","","","","","","","","","","","","","","","","","",null,null,null,null,null,null,null,null,null,null,null,null,null,null,null,null,null,null,null,"",{"$f":"IF(H286=\"\",\"\",COUNTA($H$3:H286))","v":""},"","",""]
[null,null,null,"",null,null,null,null,null,null,null,null,null,null,null,null,null,null,null,null,null,null,null,0,null,null,null,null,null,null,null,null,null,null,3.2292229078429197E-3,"","","","","","","","","","","","","","","","","","","","","","","","","","","","","","","","","","","","","","","","","","","","",null,null,null,null,null,null,null,null,null,null,null,null,null,null,null,null,null,null,null,"",{"$f":"IF(H287=\"\",\"\",COUNTA($H$3:H287))","v":""},"","",""]
[null,null,null,"",null,null,null,null,null,null,null,null,null,null,null,null,null,null,null,null,null,null,null,0,null,null,null,null,null,null,null,null,null,null,4.2141182848232372E-3,"","","","","","","","","","","","","","","","","","","","","","","","","","","","","","","","","","","","","","","","","","","","",null,null,null,null,null,null,null,null,null,null,null,null,null,null,null,null,null,null,null,"",{"$f":"IF(H288=\"\",\"\",COUNTA($H$3:H288))","v":""},"","",""]
[null,null,null,"",null,null,null,null,null,null,null,null,null,null,null,null,null,null,null,null,null,null,null,0,null,null,null,null,null,null,null,null,null,null,2.6092829434500673E-3,"","","","","","","","","","","","","","","","","","","","","","","","","","","","","","","","","","","","","","","","","","","","",null,null,null,null,null,null,null,null,null,null,null,null,null,null,null,null,null,null,null,"",{"$f":"IF(H289=\"\",\"\",COUNTA($H$3:H289))","v":""},"","",""]
[null,null,null,"",null,null,null,null,null,null,null,null,null,null,null,null,null,null,null,null,null,null,null,0,null,null,null,null,null,null,null,null,null,null,1.0015482872224508E-3,"","","","","","","","","","","","","","","","","","","","","","","","","","","","","","","","","","","","","","","","","","","","",null,null,null,null,null,null,null,null,null,null,null,null,null,null,null,null,null,null,null,"",{"$f":"IF(H290=\"\",\"\",COUNTA($H$3:H290))","v":""},"","",""]
[null,null,null,"",null,null,null,null,null,null,null,null,null,null,null,null,null,null,null,null,null,null,null,0,null,null,null,null,null,null,null,null,null,null,2.0484911831779484E-3,"","","","","","","","","","","","","","","","","","","","","","","","","","","","","","","","","","","","","","","","","","","","",null,null,null,null,null,null,null,null,null,null,null,null,null,null,null,null,null,null,null,"",{"$f":"IF(H291=\"\",\"\",COUNTA($H$3:H291))","v":""},"","",""]
[null,null,null,"",null,null,null,null,null,null,null,null,null,null,null,null,null,null,null,null,null,null,null,0,null,null,null,null,null,null,null,null,null,null,4.5397218155225766E-3,"","","","","","","","","","","","","","","","","","","","","","","","","","","","","","","","","","","","","","","","","","","","",null,null,null,null,null,null,null,null,null,null,null,null,null,null,null,null,null,null,null,"",{"$f":"IF(H292=\"\",\"\",COUNTA($H$3:H292))","v":""},"","",""]
[null,null,null,"",null,null,null,null,null,null,null,null,null,null,null,null,null,null,null,null,null,null,null,0,null,null,null,null,null,null,null,null,null,null,4.1308471600935799E-3,"","","","","","","","","","","","","","","","","","","","","","","","","","","","","","","","","","","","","","","","","","","","",null,null,null,null,null,null,null,null,null,null,null,null,null,null,null,null,null,null,null,"",{"$f":"IF(H293=\"\",\"\",COUNTA($H$3:H293))","v":""},"","",""]
[null,null,null,"",null,null,null,null,null,null,null,null,null,null,null,null,null,null,null,null,null,null,null,0,null,null,null,null,null,null,null,null,null,null,2.0802848303720146E-4,"","","","","","","","","","","","","","","","","","","","","","","","","","","","","","","","","","","","","","","","","","","","",null,null,null,null,null,null,null,null,null,null,null,null,null,null,null,null,null,null,null,"",{"$f":"IF(H294=\"\",\"\",COUNTA($H$3:H294))","v":""},"","",""]
[null,null,null,"",null,null,null,null,null,null,null,null,null,null,null,null,null,null,null,null,null,null,null,0,null,null,null,null,null,null,null,null,null,null,2.4523133882518445E-3,"","","","","","","","","","","","","","","","","","","","","","","","","","","","","","","","","","","","","","","","","","","","",null,null,null,null,null,null,null,null,null,null,null,null,null,null,null,null,null,null,null,"",{"$f":"IF(H295=\"\",\"\",COUNTA($H$3:H295))","v":""},"","",""]
[null,null,null,"",null,null,null,null,null,null,null,null,null,null,null,null,null,null,null,null,null,null,null,0,null,null,null,null,null,null,null,null,null,null,4.4131909886972551E-3,"","","","","","","","","","","","","","","","","","","","","","","","","","","","","","","","","","","","","","","","","","","","",null,null,null,null,null,null,null,null,null,null,null,null,null,null,null,null,null,null,null,"",{"$f":"IF(H296=\"\",\"\",COUNTA($H$3:H296))","v":""},"","",""]
[null,null,null,"",null,null,null,null,null,null,null,null,null,null,null,null,null,null,null,null,null,null,null,0,null,null,null,null,null,null,null,null,null,null,1.8739082169734211E-3,"","","","","","","","","","","","","","","","","","","","","","","","","","","","","","","","","","","","","","","","","","","","",null,null,null,null,null,null,null,null,null,null,null,null,null,null,null,null,null,null,null,"",{"$f":"IF(H297=\"\",\"\",COUNTA($H$3:H297))","v":""},"","",""]
[null,null,null,"",null,null,null,null,null,null,null,null,null,null,null,null,null,null,null,null,null,null,null,0,null,null,null,null,null,null,null,null,null,null,2.9642209898928301E-3,"","","","","","","","","","","","","","","","","","","","","","","","","","","","","","","","","","","","","","","","","","","","",null,null,null,null,null,null,null,null,null,null,null,null,null,null,null,null,null,null,null,"",{"$f":"IF(H298=\"\",\"\",COUNTA($H$3:H298))","v":""},"","",""]
[null,null,null,"",null,null,null,null,null,null,null,null,null,null,null,null,null,null,null,null,null,null,null,0,null,null,null,null,null,null,null,null,null,null,1.063764489845993E-3,"","","","","","","","","","","","","","","","","","","","","","","","","","","","","","","","","","","","","","","","","","","","",null,null,null,null,null,null,null,null,null,null,null,null,null,null,null,null,null,null,null,"",{"$f":"IF(H299=\"\",\"\",COUNTA($H$3:H299))","v":""},"","",""]
[null,null,null,"",null,null,null,null,null,null,null,null,null,null,null,null,null,null,null,null,null,null,null,0,null,null,null,null,null,null,null,null,null,null,2.5505449953601103E-4,"","","","","","","","","","","","","","","","","","","","","","","","","","","","","","","","","","","","","","","","","","","","",null,null,null,null,null,null,null,null,null,null,null,null,null,null,null,null,null,null,null,"",{"$f":"IF(H300=\"\",\"\",COUNTA($H$3:H300))","v":""},"","",""]
[null,null,null,"",null,null,null,null,null,null,null,null,null,null,null,null,null,null,null,null,null,null,null,0,null,null,null,null,null,null,null,null,null,null,3.4768857991022877E-3,"","","","","","","","","","","","","","","","","","","","","","","","","","","","","","","","","","","","","","","","","","","","",null,null,null,null,null,null,null,null,null,null,null,null,null,null,null,null,null,null,null,"",{"$f":"IF(H301=\"\",\"\",COUNTA($H$3:H301))","v":""},"","",""]
[null,null,null,"",null,null,null,null,null,null,null,null,null,null,null,null,null,null,null,null,null,null,null,null,null,null,null,null,null,null,null,null,null,null,null,null,null,null,null,null,null,null,null,null,null,null,null,null,null,null,null,null,null,null,null,null,null,null,null,null,null,null,null,null,null,null,null,null,null,null,null,null,null,null,null,null,null,null,null,null,null,null,null,null,null,null,null,null,null,null,null,null,null,null,null,null,null,null,"",{"$f":"IF(H302=\"\",\"\",COUNTA($H$3:H302))","v":""},"","",""]

{"sheet":"Indexing","index":3,"n_rows":50,"n_cols":18,"rows_kept":50,"cut":false,"hidden":true,"merged":[]}
["Range",1,null," ",null,null,null,"Yes",null,"Terms",1,2,3,4,null,"Error 1","Question count exceeds half of original set size","Error!"]
["Easy",2,4,"Error 1",null,null,null,"No",null,"Definitions",2,3,2,4,null,"Error 2","Question count exceeds original set size","Error!"]
["Medium",3,8,"Error 1",null,null,null,null,null,null,3,3,4,5,null,"Error 3","Question count exceeds maximum allowed (50)","Error!"]
["Hard",4,12,"Error 1",null,null,null,null,null,null,4,4,3,5]
["Manual",5,null," ",null,null,null,null,null,null,5]
[null,null,null,null,null,null,null,null,null,null,6]
[null,null,null,null,null,null,null,null,null,null,7]
[null,null,null,null,null,null,null,null,null,null,8]
[null,null,null,null,null,null,null,null,null,null,9]
[null,null,null,null,null,null,null,null,null,null,10]
[null,null,null,null,null,null,null,null,null,null,11]
[null,null,null,null,null,null,null,null,null,null,12]
[null,null,null,null,null,null,null,null,null,null,13]
[null,null,null,null,null,null,null,null,null,null,14]
[null,null,null,null,null,null,null,null,null,null,15]
[null,null,null,null,null,null,null,null,null,null,16]
[null,null,null,null,null,null,null,null,null,null,17]
[null,null,null,null,null,null,null,null,null,null,18]
[null,null,null,null,null,null,null,null,null,null,19]
[null,null,null,null,null,null,null,null,null,null,20]
[null,null,null,null,null,null,null,null,null,null,21]
[null,null,null,null,null,null,null,null,null,null,22]
[null,null,null,null,null,null,null,null,null,null,23]
[null,null,null,null,null,null,null,null,null,null,24]
[null,null,null,null,null,null,null,null,null,null,25]
[null,null,null,null,null,null,null,null,null,null,26]
[null,null,null,null,null,null,null,null,null,null,27]
[null,null,null,null,null,null,null,null,null,null,28]
[null,null,null,null,null,null,null,null,null,null,29]
[null,null,null,null,null,null,null,null,null,null,30]
[null,null,null,null,null,null,null,null,null,null,31]
[null,null,null,null,null,null,null,null,null,null,32]
[null,null,null,null,null,null,null,null,null,null,33]
[null,null,null,null,null,null,null,null,null,null,34]
[null,null,null,null,null,null,null,null,null,null,35]
[null,null,null,null,null,null,null,null,null,null,36]
[null,null,null,null,null,null,null,null,null,null,37]
[null,null,null,null,null,null,null,null,null,null,38]
[null,null,null,null,null,null,null,null,null,null,39]
[null,null,null,null,null,null,null,null,null,null,40]
[null,null,null,null,null,null,null,null,null,null,41]
[null,null,null,null,null,null,null,null,null,null,42]
[null,null,null,null,null,null,null,null,null,null,43]
[null,null,null,null,null,null,null,null,null,null,44]
[null,null,null,null,null,null,null,null,null,null,45]
[null,null,null,null,null,null,null,null,null,null,46]
[null,null,null,null,null,null,null,null,null,null,47]
[null,null,null,null,null,null,null,null,null,null,48]
[null,null,null,null,null,null,null,null,null,null,49]
[null,null,null,null,null,null,null,null,null,null,50]

{"sheet":"GIFT Generator","index":4,"n_rows":602,"n_cols":111,"rows_kept":602,"cut":false,"hidden":false,"merged":[[0,8,0,9],[0,10,0,37],[0,56,0,60],[0,62,0,63],[1,56,1,57],[1,59,1,60]]}
["Off","Control Panel",null,null,null,null,null,null,null,null,null,null,null,null,null,null,null,null,null,null,null,null,null,null,null,null,null,null,null,null,null,null,null,null,null,null,null,null,null,null,null,null,null,null,null,null,null,null,null,null,null,null,null,null,null,null,"Feedback Shortcuts",null,null,null,null,null,"Question Instructions"]
["Off","Short Answer","Question Number",{"$f":"IF($B$2=\"Variable\",\"Question Type\",\"Column Not Used\")","v":"Column Not Used"},"Specific Question Title \n(leave blank to duplicate question text as question title)","Subcategory \n(leave blank to use only main category)","Specific Question Instructions \n(leave blank to use default instructions in Column BL)",{"$f":"IF(B2=\"Missing Word\",\"Question Text (type with answer included in-line, generator will remove it automatically)\",\"Question Text\")","v":"Question Text"},{"$f":"IFERROR(IF(VLOOKUP($B$2,$BK:$BQ,3,0)=0,\"\",VLOOKUP($B$2,$BK:$BQ,3,0)),\"\")","v":"Correct Answer"},{"$f":"IF(B2=\"Essay\",\"Column Not Used with Question\",\"Feedback on Correct Answer\")","v":"Feedback on Correct Answer"},{"$f":"IFERROR(IF(VLOOKUP($B$2,$BK:$BV,BN9,0)=0,\"\",VLOOKUP($B$2,$BK:$BV,BN9,0)),\"\")","v":"Alternative Answer 1"},{"$f":"IFERROR(IF(VLOOKUP($B$2,$BK:$BV,BO9,0)=0,\"\",VLOOKUP($B$2,$BK:$BV,BO9,0)),\"\")","v":"Alternative Answer 2"},{"$f":"IFERROR(IF(VLOOKUP($B$2,$BK:$BV,BP9,0)=0,\"\",VLOOKUP($B$2,$BK:$BV,BP9,0)),\"\")","v":"Alternative Answer 3"},{"$f":"IFERROR(IF(VLOOKUP($B$2,$BK:$BV,BQ9,0)=0,\"\",VLOOKUP($B$2,$BK:$BV,BQ9,0)),\"\")","v":"Alternative Answer 4"},{"$f":"IF(K2=\"Column Not Used with Question\",\"Column Not Used with Question\",\"Partial Credit on \"&K2)","v":"Partial Credit on Alternative Answer 1"},{"$f":"IF(L2=\"Column Not Used with Question\",\"Column Not Used with Question\",\"Partial Credit on \"&L2)","v":"Partial Credit on Alternative Answer 2"},"Partial Credit on Alternative Answer 3","Partial Credit on Alternative Answer 4",{"$f":"IF(B2=\"Essay\",\"Column Not Used with Question\",IF(B2=\"True False\",\"Incorrect Answer Feedback\",IF(K2=\"Column Not Used with Question\",\"\",\"Feedback on \"&K2)))","v":"Feedback on Alternative Answer 1"},{"$f":"IF(L2=\"Column Not Used with Question\",\"Column Not Used with Question\",\"Feedback on \"&L2)","v":"Feedback on Alternative Answer 2"},{"$f":"IF(M2=\"Column Not Used with Question\",\"Column Not Used with Question\",\"Feedback on \"&M2)","v":"Feedback on Alternative Answer 3"},{"$f":"IF(N2=\"Column Not Used with Question\",\"Column Not Used with Question\",\"Feedback on \"&N2)","v":"Feedback on Alternative Answer 4"},{"$f":"IFERROR(IF(VLOOKUP($B$2,$BK:$BV,BR9,0)=0,\"\",VLOOKUP($B$2,$BK:$BV,BR9,0)),\"\")","v":"Alternative Answer 5"},{"$f":"IFERROR(IF(VLOOKUP($B$2,$BK:$BV,BS9,0)=0,\"\",VLOOKUP($B$2,$BK:$BV,BS9,0)),\"\")","v":"Alternative Answer 6"},{"$f":"IFERROR(IF(VLOOKUP($B$2,$BK:$BV,BT9,0)=0,\"\",VLOOKUP($B$2,$BK:$BV,BT9,0)),\"\")","v":"Alternative Answer 7"},{"$f":"IFERROR(IF(VLOOKUP($B$2,$BK:$BV,BU9,0)=0,\"\",VLOOKUP($B$2,$BK:$BV,BU9,0)),\"\")","v":"Alternative Answer 8"},{"$f":"IFERROR(IF(VLOOKUP($B$2,$BK:$BV,BV9,0)=0,\"\",VLOOKUP($B$2,$BK:$BV,BV9,0)),\"\")","v":"Alternative Answer 9"},{"$f":"IF(W2=\"Column Not Used with Question\",\"Column Not Used with Question\",\"Partial Credit on \"&W2)","v":"Partial Credit on Alternative Answer 5"},{"$f":"IF(X2=\"Column Not Used with Question\",\"Column Not Used with Question\",\"Partial Credit on \"&X2)","v":"Partial Credit on Alternative Answer 6"},"Partial Credit on Alternative Answer 7","Partial Credit on Alternative Answer 8","Partial Credit on Alternative Answer 9",{"$f":"IF(W2=\"Column Not Used with Question\",\"Column Not Used with Question\",\"Feedback on \"&W2)","v":"Feedback on Alternative Answer 5"},{"$f":"IF(X2=\"Column Not Used with Question\",\"Column Not Used with Question\",\"Feedback on \"&X2)","v":"Feedback on Alternative Answer 6"},{"$f":"IF(Y2=\"Column Not Used with Question\",\"Column Not Used with Question\",\"Feedback on \"&Y2)","v":"Feedback on Alternative Answer 7"},{"$f":"IF(Z2=\"Column Not Used with Question\",\"Column Not Used with Question\",\"Feedback on \"&Z2)","v":"Feedback on Alternative Answer 8"},{"$f":"IF(AA2=\"Column Not Used with Question\",\"Column Not Used with Question\",\"Feedback on \"&AA2)","v":"Feedback on Alternative Answer 9"},"GIFT Question String",null,"Instructions, \nNo Categories","Categories, \nNo Instructions","Categories \nand Instructions","Neither Categories \nnor Instructions",null,null,null,"Row","Q","Row","Q","Row","Q","Row","Q",null,null,"Individual Answer Automated Feedback:\n1. Enter comments for each number.\n2. Enter number in appropriate feedback column(s).",null,null,"Group Incorrect Answer Automated Feedback:\n1. Enter group feedback comments for each letter.\n2. Enter letter in \"Feedback on Wrong Answer 1\" to apply that feedback to all wrong answers for that question. \n3. Leave other incorrect answer feedback columns blank.",null,null,"Formats Supported","Default Instructions \n(may be changed)",null,null,null,null,null,null,null,null,null,null,null,null,null,null,null,null,null,"Question String","VQT Master","Correct Answer Copy","Drop Down Code","Short Answer Code","True False Code","Missing Word Code","Ccode","Fcorrect","Wcode1","Wcode2","Wcode3","Wcode4","FWrong1","FWrong2","FWrong3","FWrong4","Wcode5","Wcode6","Wcode7","Wcode8","Wcode9","FWrong5","FWrong6","FWrong7","FWrong8","FWrong9","Essay Code"]
["Off",null,1,null,null,null,null,null,null,null,null,null,null,null,null,null,null,null,null,null,null,null,null,null,null,null,null,null,null,null,null,null,null,null,null,null,null,{"$f":"IF(VLOOKUP($AM3,$AM:$AQ,$A$6,0)=\"\",\"\",VLOOKUP($AM3,$AM:$AQ,$A$6,0))","v":""},1,{"$f":"IF($I3=\"\",\"\",\"::\"&IF($B$16=\"\",\"\",$B$16&\"  \")&IF($E3=\"\",$H3,$E3)&\"::\")","v":""},{"$f":"IF($I3=\"\",\"\",IF($B$18=\"\",\"INPUT MAIN CATEGORY (CELL B18) OR TURN CATEGORIES OFF\",\"$CATEGORY: \"&$B$18&IF($F3=\"\",\"\",\"/\"&$F3)))","v":""},{"$f":"IF($I3=\"\",\"\",IF($B$18=\"\",\"INPUT MAIN CATEGORY (CELL B18) OR TURN CATEGORIES OFF\",\"$CATEGORY: \"&$B$18&IF($F3=\"\",\"\",\"/\"&$F3)))","v":""},{"$f":"IF($I3=\"\",\"\",\"::\"&IF($B$16=\"\",\"\",$B$16&\"  \")&IF($E3=\"\",$H3,$E3)&\"::\")","v":""},null,null,null,{"$f":"IF(AV3+2=2,\"\",AV3+2)","v":3},{"$f":"(ROW()+1)/4","v":1},{"$f":"IF(AX3+2=2,\"\",AX3+2)","v":3},{"$f":"(ROW()+1)/4","v":1},{"$f":"IF(AZ3+2=2,\"\",AZ3+2)","v":3},{"$f":"(ROW()+2)/5","v":1},{"$f":"IF(BB3+2=2,\"\",BB3+2)","v":3},{"$f":"ROW()/3","v":1},null,null,1,"You got it!",null,"A","Not quite. Please review the lesson contents.",null,"Multiple Choice","Choose the best answer.","Correct Answer","Wrong Answer 1","Wrong Answer 2","Wrong Answer 3","Wrong Answer 4","Wrong Answer 5","Wrong Answer 6","Wrong Answer 7","Wrong Answer 8","Wrong Answer 9","MC","Multiple Choice","MC",2,{"$f":"BL3","v":"Choose the best answer."},2,null,{"$f":"IF(H3=\"\",\"\",IF(CE3=\"ES\",DE3,IF(CE3=\"MW\",SUBSTITUTE(H3,I3,VLOOKUP(CF3,CF3:CJ3,VLOOKUP($CE3,$BY:$BZ,2,0),0)),H3&\" \"&SUBSTITUTE(I3,I3,VLOOKUP(CF3,CF3:CJ3,VLOOKUP($CE3,$BY:$BZ,2,0),0)))))","v":""},{"$f":"IFERROR(VLOOKUP($B$2,$BX:$BY,2,0),IF($D3=\"\",0,VLOOKUP($D3,$BX:$BY,2,0)))","v":"SA"},{"$f":"I3","v":0},{"$f":"IF(CK3=\"\",\"\",\"{\"&CK3&CL3&IF(CM3=\"\",\"\",\" ~\"&CM3&CQ3)&IF(CN3=\"\",\"\",\" ~\"&CN3&CR3)&IF(CO3=\"\",\"\",\" ~\"&CO3&CS3)&IF(CP3=\"\",\"\",\" ~\"&CP3&CT3)&IF(CU3=\"\",\"\",\" ~\"&CU3&CZ3)&IF(CV3=\"\",\"\",\" ~\"&CV3&DA3)&IF(CW3=\"\",\"\",\" ~\"&CW3&DB3)&IF(CX3=\"\",\"\",\" ~\"&CX3&DC3)&IF(CY3=\"\",\"\",\" ~\"&CY3&DD3)&\"}\")","v":""},{"$f":"IF(H3=\"\",\"\",\"{=\"&I3&CL3&IF(CM3=\"\",\"\",\" =\"&CM3&CQ3)&IF(CN3=\"\",\"\",\" =\"&CN3&CR3)&IF(CO3=\"\",\"\",\" =\"&CO3&CS3)&IF(CP3=\"\",\"\",\" =\"&CP3&CT3)&IF(CU3=\"\",\"\",\" =\"&CU3&CZ3)&IF(CV3=\"\",\"\",\" =\"&CV3&DA3)&IF(CW3=\"\",\"\",\" =\"&CW3&DB3)&IF(CX3=\"\",\"\",\" =\"&CX3&DC3)&IF(CY3=\"\",\"\",\" =\"&CY3&DD3)&\"}\")","v":""},{"$f":"IF(I3=\"\",\"\",\"{\"&IFERROR(I3&CQ3&CL3&\"}\",\"\"))","v":""},{"$f":"IF(CK3=\"\",\"\",\"{\"&CK3&CL3&IF(CM3=\"\",\"\",\" ~\"&CM3&CQ3)&IF(CN3=\"\",\"\",\" ~\"&CN3&CR3)&IF(CO3=\"\",\"\",\" ~\"&CO3&CS3)&IF(CP3=\"\",\"\",\" ~\"&CP3&CT3)&IF(CU3=\"\",\"\",\" ~\"&CU3&CZ3)&IF(CV3=\"\",\"\",\" ~\"&CV3&DA3)&IF(CW3=\"\",\"\",\" ~\"&CW3&DB3)&IF(CX3=\"\",\"\",\" ~\"&CX3&DC3)&IF(CY3=\"\",\"\",\" ~\"&CY3&DD3)&\"}\")","v":""},{"$f":"IF(I3=\"\",\"\",\"=\"&I3)","v":""},{"$f":"IF(J3=\"\",\"\",\"#\"&IFERROR(VLOOKUP(J3,$BE:$BF,2,0),J3))","v":""},{"$f":"IF(K3=\"\",\"\",IF($B$2=\"Short Answer\",IF(O3=\"\",K3,\"%\"&O3&\"%\"&K3),IF($D3=\"Short Answer\",IF(O3=\"\",K3,\"%\"&O3&\"%\"&K3),\"%\"&IF(O3=\"\",0,O3)&\"%\"&K3)))","v":""},{"$f":"IF(L3=\"\",\"\",IF($B$2=\"Short Answer\",IF(P3=\"\",L3,\"%\"&P3&\"%\"&L3),IF($D3=\"Short Answer\",IF(P3=\"\",L3,\"%\"&P3&\"%\"&L3),\"%\"&IF(P3=\"\",0,P3)&\"%\"&L3)))","v":""},"","",{"$f":"IF($B$2=\"True False\",IF(S3=\"\",\"\",IFERROR(\"#\"&VLOOKUP($S3,$BH:$BI,2,0),IF(S3=\"\",\"\",\"#\"&IFERROR(VLOOKUP(S3,$BE:$BF,2,0),S3)))),IF($B$2=\"Variable\",IF(D3=\"True False\",IF(S3=\"\",\"\",IFERROR(\"#\"&VLOOKUP($S3,$BH:$BI,2,0),IF(S3=\"\",\"\",\"#\"&IFERROR(VLOOKUP(S3,$BE:$BF,2,0),S3)))),IF(K3=\"\",\"\",IFERROR(\"#\"&VLOOKUP($S3,$BH:$BI,2,0),IF(S3=\"\",\"\",\"#\"&IFERROR(VLOOKUP(S3,$BE:$BF,2,0),S3))))),IF(K3=\"\",\"\",IFERROR(\"#\"&VLOOKUP($S3,$BH:$BI,2,0),IF(S3=\"\",\"\",\"#\"&IFERROR(VLOOKUP(S3,$BE:$BF,2,0),S3))))))","v":""},{"$f":"IF(L3=\"\",\"\",IFERROR(\"#\"&VLOOKUP($S3,$BH:$BI,2,0),IF(T3=\"\",\"\",\"#\"&IFERROR(VLOOKUP(T3,$BE:$BF,2,0),T3))))","v":""},"","",{"$f":"IF(S3=\"\",\"\",IF($B$2=\"Short Answer\",IF(W3=\"\",S3,\"%\"&W3&\"%\"&S3),IF($D3=\"Short Answer\",IF(W3=\"\",S3,\"%\"&W3&\"%\"&S3),\"%\"&IF(W3=\"\",0,W3)&\"%\"&S3)))","v":""},{"$f":"IF(T3=\"\",\"\",IF($B$2=\"Short Answer\",IF(X3=\"\",T3,\"%\"&X3&\"%\"&T3),IF($D3=\"Short Answer\",IF(X3=\"\",T3,\"%\"&X3&\"%\"&T3),\"%\"&IF(X3=\"\",0,X3)&\"%\"&T3)))","v":""},"","","",{"$f":"IF(W3=\"\",\"\",IFERROR(\"#\"&VLOOKUP($S3,$BH:$BI,2,0),IF(AG3=\"\",\"\",\"#\"&IFERROR(VLOOKUP(AG3,$BE:$BF,2,0),AG3))))","v":""},"","","","",{"$f":"IF(H3=\"\",\"\",H3&\" {}\")","v":""},"OffOff",5]
["Off",null,2,null,null,null,null,null,null,null,null,null,null,null,null,null,null,null,null,null,null,null,null,null,null,null,null,null,null,null,null,null,null,null,null,null,null,{"$f":"IF(VLOOKUP($AM4,$AM:$AQ,$A$6,0)=\"\",\"\",VLOOKUP($AM4,$AM:$AQ,$A$6,0))","v":""},2,{"$f":"IF($I3=\"\",\"\",IF($CE3=0,\"Enter question type or turn off variable question type\",IF($G3=\"\",VLOOKUP($CE3,$BY:$CA,3,0),$G3)))","v":""},null,null,{"$f":"IF($I3=\"\",\"\",IF($CE3=0,\"Enter question type or turn off variable question type\",$CD3))","v":""},null,{"$f":"ROW()-1","v":3},null,{"$f":"IF(AV4+2=2,\"\",AV4+2)","v":""},null,"",null,{"$f":"IF(AZ4+2=2,\"\",AZ4+2)","v":""},null,{"$f":"IF(BB4+2=2,\"\",BB4+2)","v":""},null,null,null,2,"Excellent! That was a hard one.",null,"B","This was a difficult one.",null,"Missing Word","Choose the best word to fit in the blank.","Correct Answer","Wrong Answer 1","Wrong Answer 2","Wrong Answer 3","Wrong Answer 4","Wrong Answer 5","Wrong Answer 6","Wrong Answer 7","Wrong Answer 8","Wrong Answer 9","MW","Missing Word","MW",5,{"$f":"BL4","v":"Choose the best word to fit in the blank."},5,null,{"$f":"IF(H4=\"\",\"\",IF(CE4=\"ES\",DE4,IF(CE4=\"MW\",SUBSTITUTE(H4,I4,VLOOKUP(CF4,CF4:CJ4,VLOOKUP($CE4,$BY:$BZ,2,0),0)),H4&\" \"&SUBSTITUTE(I4,I4,VLOOKUP(CF4,CF4:CJ4,VLOOKUP($CE4,$BY:$BZ,2,0),0)))))","v":""},"SA",0,{"$f":"IF(CK4=\"\",\"\",\"{\"&CK4&CL4&IF(CM4=\"\",\"\",\" ~\"&CM4&CQ4)&IF(CN4=\"\",\"\",\" ~\"&CN4&CR4)&IF(CO4=\"\",\"\",\" ~\"&CO4&CS4)&IF(CP4=\"\",\"\",\" ~\"&CP4&CT4)&IF(CU4=\"\",\"\",\" ~\"&CU4&CZ4)&IF(CV4=\"\",\"\",\" ~\"&CV4&DA4)&IF(CW4=\"\",\"\",\" ~\"&CW4&DB4)&IF(CX4=\"\",\"\",\" ~\"&CX4&DC4)&IF(CY4=\"\",\"\",\" ~\"&CY4&DD4)&\"}\")","v":""},"",{"$f":"IF(I4=\"\",\"\",\"{\"&IFERROR(I4&CQ4&CL4&\"}\",\"\"))","v":""},{"$f":"IF(CK4=\"\",\"\",\"{\"&CK4&CL4&IF(CM4=\"\",\"\",\" ~\"&CM4&CQ4)&IF(CN4=\"\",\"\",\" ~\"&CN4&CR4)&IF(CO4=\"\",\"\",\" ~\"&CO4&CS4)&IF(CP4=\"\",\"\",\" ~\"&CP4&CT4)&IF(CU4=\"\",\"\",\" ~\"&CU4&CZ4)&IF(CV4=\"\",\"\",\" ~\"&CV4&DA4)&IF(CW4=\"\",\"\",\" ~\"&CW4&DB4)&IF(CX4=\"\",\"\",\" ~\"&CX4&DC4)&IF(CY4=\"\",\"\",\" ~\"&CY4&DD4)&\"}\")","v":""},"","",{"$f":"IF(K4=\"\",\"\",IF($B$2=\"Short Answer\",IF(O4=\"\",K4,\"%\"&O4&\"%\"&K4),IF($D4=\"Short Answer\",IF(O4=\"\",K4,\"%\"&O4&\"%\"&K4),\"%\"&IF(O4=\"\",0,O4)&\"%\"&K4)))","v":""},{"$f":"IF(L4=\"\",\"\",IF($B$2=\"Short Answer\",IF(P4=\"\",L4,\"%\"&P4&\"%\"&L4),IF($D4=\"Short Answer\",IF(P4=\"\",L4,\"%\"&P4&\"%\"&L4),\"%\"&IF(P4=\"\",0,P4)&\"%\"&L4)))","v":""},{"$f":"IF(M4=\"\",\"\",IF($B$2=\"Short Answer\",IF(Q4=\"\",M4,\"%\"&Q4&\"%\"&M4),IF($D4=\"Short Answer\",IF(Q4=\"\",M4,\"%\"&Q4&\"%\"&M4),\"%\"&IF(Q4=\"\",0,Q4)&\"%\"&M4)))","v":""},{"$f":"IF(N4=\"\",\"\",IF($B$2=\"Short Answer\",IF(R4=\"\",N4,\"%\"&R4&\"%\"&N4),IF($D4=\"Short Answer\",IF(R4=\"\",N4,\"%\"&R4&\"%\"&N4),\"%\"&IF(R4=\"\",0,R4)&\"%\"&N4)))","v":""},{"$f":"IF($B$2=\"True False\",IF(S4=\"\",\"\",IFERROR(\"#\"&VLOOKUP($S4,$BH:$BI,2,0),IF(S4=\"\",\"\",\"#\"&IFERROR(VLOOKUP(S4,$BE:$BF,2,0),S4)))),IF($B$2=\"Variable\",IF(D4=\"True False\",IF(S4=\"\",\"\",IFERROR(\"#\"&VLOOKUP($S4,$BH:$BI,2,0),IF(S4=\"\",\"\",\"#\"&IFERROR(VLOOKUP(S4,$BE:$BF,2,0),S4)))),IF(K4=\"\",\"\",IFERROR(\"#\"&VLOOKUP($S4,$BH:$BI,2,0),IF(S4=\"\",\"\",\"#\"&IFERROR(VLOOKUP(S4,$BE:$BF,2,0),S4))))),IF(K4=\"\",\"\",IFERROR(\"#\"&VLOOKUP($S4,$BH:$BI,2,0),IF(S4=\"\",\"\",\"#\"&IFERROR(VLOOKUP(S4,$BE:$BF,2,0),S4))))))","v":""},"","","",{"$f":"IF(S4=\"\",\"\",IF($B$2=\"Short Answer\",IF(W4=\"\",S4,\"%\"&W4&\"%\"&S4),IF($D4=\"Short Answer\",IF(W4=\"\",S4,\"%\"&W4&\"%\"&S4),\"%\"&IF(W4=\"\",0,W4)&\"%\"&S4)))","v":""},"","","","","","","","","",{"$f":"IF(H4=\"\",\"\",H4&\" {}\")","v":""},"OffOn",3]
["Off",null,3,null,null,null,null,null,null,null,null,null,null,null,null,null,null,null,null,null,null,null,null,null,null,null,null,null,null,null,null,null,null,null,null,null,null,{"$f":"IF(VLOOKUP($AM5,$AM:$AQ,$A$6,0)=\"\",\"\",VLOOKUP($AM5,$AM:$AQ,$A$6,0))","v":""},3,{"$f":"IF($I3=\"\",\"\",IF($CE3=0,\"Enter question type or turn off variable question type\",$CD3))","v":""},{"$f":"IF($I3=\"\",\"\",\"::\"&IF($B$16=\"\",\"\",$B$16&\"  \")&IF($E3=\"\",$H3,$E3)&\"::\")","v":""},{"$f":"IF($I3=\"\",\"\",\"::\"&IF($B$16=\"\",\"\",$B$16&\"  \")&IF($E3=\"\",$H3,$E3)&\"::\")","v":""},null,null,{"$f":"ROW()-2","v":3},null,"",null,"",null,"",null,"",null,null,null,3,"Good try, but that's not quite right.",null,"C",null,null,"True False","Answer True or False.","Enter T or F","Column Not Used with Question","Column Not Used with Question","Column Not Used with Question","Column Not Used with Question","Column Not Used with Question","Column Not Used with Question","Column Not Used with Question","Column Not Used with Question","Column Not Used with Question","TF","True False","TF",4,{"$f":"BL5","v":"Answer True or False."},4,null,"","SA",0,"","","","","","","","","","",{"$f":"IF($B$2=\"True False\",IF(S5=\"\",\"\",IFERROR(\"#\"&VLOOKUP($S5,$BH:$BI,2,0),IF(S5=\"\",\"\",\"#\"&IFERROR(VLOOKUP(S5,$BE:$BF,2,0),S5)))),IF($B$2=\"Variable\",IF(D5=\"True False\",IF(S5=\"\",\"\",IFERROR(\"#\"&VLOOKUP($S5,$BH:$BI,2,0),IF(S5=\"\",\"\",\"#\"&IFERROR(VLOOKUP(S5,$BE:$BF,2,0),S5)))),IF(K5=\"\",\"\",IFERROR(\"#\"&VLOOKUP($S5,$BH:$BI,2,0),IF(S5=\"\",\"\",\"#\"&IFERROR(VLOOKUP(S5,$BE:$BF,2,0),S5))))),IF(K5=\"\",\"\",IFERROR(\"#\"&VLOOKUP($S5,$BH:$BI,2,0),IF(S5=\"\",\"\",\"#\"&IFERROR(VLOOKUP(S5,$BE:$BF,2,0),S5))))))","v":""},"","","","","","","","","","","","","","","OnOff",2]
[{"$f":"VLOOKUP($A$4&$A$5,$DF$3:$DG$6,2,0)","v":5},null,4,null,null,null,null,null,null,null,null,null,null,null,null,null,null,null,null,null,null,null,null,null,null,null,null,null,null,null,null,null,null,null,null,null,null,{"$f":"IF(VLOOKUP($AM6,$AM:$AQ,$A$6,0)=\"\",\"\",VLOOKUP($AM6,$AM:$AQ,$A$6,0))","v":""},4,null,{"$f":"IF($I3=\"\",\"\",IF($CE3=0,\"Enter question type or turn off variable question type\",$CD3))","v":""},{"$f":"IF($I3=\"\",\"\",IF($CE3=0,\"Enter question type or turn off variable question type\",IF($G3=\"\",VLOOKUP($CE3,$BY:$CA,3,0),$G3)))","v":""},{"$f":"IF($I4=\"\",\"\",\"::\"&IF($B$16=\"\",\"\",$B$16&\"  \")&IF($E4=\"\",$H4,$E4)&\"::\")","v":""},null,null,null,"",null,"",null,"",null,4,{"$f":"ROW()/3","v":2},null,null,4,"No, that is incorrect. Please review the lesson contents.",null,"D",null,null,"Short Answer","Write the answer in the blank.","Correct Answer","Alternative Answer 1","Alternative Answer 2","Alternative Answer 3","Alternative Answer 4","Alternative Answer 5","Alternative Answer 6","Alternative Answer 7","Alternative Answer 8","Alternative Answer 9","SA","Short Answer","SA",3,{"$f":"BL6","v":"Write the answer in the blank."},3,null,"","SA",0,"","","","","","","","","","","","","","","","","","","","","","","","","","OnOn",4]
[null,null,5,null,null,null,null,null,null,null,null,null,null,null,null,null,null,null,null,null,null,null,null,null,null,null,null,null,null,null,null,null,null,null,null,null,null,"",5,{"$f":"IF($I4=\"\",\"\",\"::\"&IF($B$16=\"\",\"\",$B$16&\"  \")&IF($E4=\"\",$H4,$E4)&\"::\")","v":""},null,{"$f":"IF($I3=\"\",\"\",IF($CE3=0,\"Enter question type or turn off variable question type\",$CD3))","v":""},{"$f":"IF($I4=\"\",\"\",IF($CE4=0,\"Enter question type or turn off variable question type\",$CD4))","v":""},null,null,null,4,{"$f":"(ROW()+1)/4","v":2},4,{"$f":"(ROW()+1)/4","v":2},"",null,"",null,null,null,5,null,null,"E",null,null,"Essay","Respond to the prompt below.","Type \"X\"","Column Not Used with Question","Column Not Used with Question","Column Not Used with Question","Column Not Used with Question","Column Not Used with Question","Column Not Used with Question","Column Not Used with Question","Column Not Used with Question","Column Not Used with Question","ES","Essay","ES",null,{"$f":"BL7","v":"Respond to the prompt below."},null,null,"","SA",0,"","","","","","","","","","","","","","","","","","","","","","","","",""]
["On",null,6,null,null,null,null,null,null,null,null,null,null,null,null,null,null,null,null,null,null,null,null,null,null,null,null,null,null,null,null,null,null,null,null,null,null,"",6,{"$f":"IF($I4=\"\",\"\",IF($CE4=0,\"Enter question type or turn off variable question type\",IF($G4=\"\",VLOOKUP($CE4,$BY:$CA,3,0),$G4)))","v":""},{"$f":"IF($I4=\"\",\"\",IF($B$18=\"\",\"INPUT MAIN CATEGORY (CELL B18) OR TURN CATEGORIES OFF\",\"$CATEGORY: \"&$B$18&IF($F4=\"\",\"\",\"/\"&$F4)))","v":""},null,null,null,{"$f":"ROW()-1","v":7},4,"",null,"",null,4,{"$f":"(ROW()+2)/5","v":2},"",null,null,null,6,null,null,"F",null,null,"Variable","(Depends on type selected for each question)","Correct Answer (if essay, type X)","Other Answer 1","Other Answer 2","Other Answer 3","Other Answer 4","Other Answer 5","Other Answer 6","Other Answer 7","Other Answer 8","Other Answer 9",null,null,null,null,null,null,null,"","SA",0,"","","","","","","","","","","","","","","","","","","","","","","","",""]
[null,null,7,null,null,null,null,null,null,null,null,null,null,null,null,null,null,null,null,null,null,null,null,null,null,null,null,null,null,null,null,null,null,null,null,null,null,"",7,{"$f":"IF($I4=\"\",\"\",IF($CE4=0,\"Enter question type or turn off variable question type\",$CD4))","v":""},null,{"$f":"IF($I4=\"\",\"\",IF($B$18=\"\",\"INPUT MAIN CATEGORY (CELL B18) OR TURN CATEGORIES OFF\",\"$CATEGORY: \"&$B$18&IF($F4=\"\",\"\",\"/\"&$F4)))","v":""},{"$f":"IF($I5=\"\",\"\",\"::\"&IF($B$16=\"\",\"\",$B$16&\"  \")&IF($E5=\"\",$H5,$E5)&\"::\")","v":""},null,{"$f":"ROW()-2","v":7},4,"",null,"",null,"",null,5,{"$f":"ROW()/3","v":3},null,null,7,null,null,"G",null,null,"On",null,null,{"$f":"COLUMN()-(COLUMN()-BN10)","v":4},{"$f":"COLUMN()-(COLUMN()-BO10)","v":5},6,7,8,9,10,11,12,null,null,null,null,null,null,null,"","SA",0,"","","","","","","","","","","","","","","","","","","","","","","","",""]
[null,null,8,null,null,null,null,null,null,null,null,null,null,null,null,null,null,null,null,null,null,null,null,null,null,null,null,null,null,null,null,null,null,null,null,null,null,"",8,null,{"$f":"IF($I4=\"\",\"\",\"::\"&IF($B$16=\"\",\"\",$B$16&\"  \")&IF($E4=\"\",$H4,$E4)&\"::\")","v":""},null,{"$f":"IF($I5=\"\",\"\",IF($CE5=0,\"Enter question type or turn off variable question type\",$CD5))","v":""},null,null,null,"",null,"",null,"",null,"",null,null,null,8,null,null,"H",null,null,"Off",null,null,4,5,6,7,8,9,10,11,12,null,null,null,null,null,null,null,"","SA",0,"","","","","","","","","","","","","","","","","","","","","","","","",""]
[null,null,9,null,null,null,null,null,null,null,null,null,null,null,null,null,null,null,null,null,null,null,null,null,null,null,null,null,null,null,null,null,null,null,null,null,null,"",9,{"$f":"IF($I5=\"\",\"\",\"::\"&IF($B$16=\"\",\"\",$B$16&\"  \")&IF($E5=\"\",$H5,$E5)&\"::\")","v":""},{"$f":"IF($I4=\"\",\"\",IF($CE4=0,\"Enter question type or turn off variable question type\",$CD4))","v":""},{"$f":"IF($I4=\"\",\"\",\"::\"&IF($B$16=\"\",\"\",$B$16&\"  \")&IF($E4=\"\",$H4,$E4)&\"::\")","v":""},null,null,null,null,5,{"$f":"(ROW()+1)/4","v":3},5,{"$f":"(ROW()+1)/4","v":3},"",null,"",null,null,null,9,null,null,"I",null,null,true,null,null,null,null,null,null,null,null,null,null,null,null,null,null,null,null,"T",null,"","SA",0,"","","","","","","","","","","","","","","","","","","","","","","","",""]
[null,null,10,null,null,null,null,null,null,null,null,null,null,null,null,null,null,null,null,null,null,null,null,null,null,null,null,null,null,null,null,null,null,null,null,null,null,"",10,{"$f":"IF($I5=\"\",\"\",IF($CE5=0,\"Enter question type or turn off variable question type\",IF($G5=\"\",VLOOKUP($CE5,$BY:$CA,3,0),$G5)))","v":""},null,{"$f":"IF($I4=\"\",\"\",IF($CE4=0,\"Enter question type or turn off variable question type\",IF($G4=\"\",VLOOKUP($CE4,$BY:$CA,3,0),$G4)))","v":""},{"$f":"IF($I6=\"\",\"\",\"::\"&IF($B$16=\"\",\"\",$B$16&\"  \")&IF($E6=\"\",$H6,$E6)&\"::\")","v":""},null,{"$f":"ROW()-1","v":11},5,"",null,"",null,"",null,6,{"$f":"ROW()/3","v":4},null,null,0,null,null,"J",null,null,false,null,null,null,null,null,null,null,null,null,null,null,null,null,null,null,null,"F",null,"","SA",0,"","","","","","","","","","","","","","","","","","","","","","","","",""]
[null,null,11,null,null,null,null,null,null,null,null,null,null,null,null,null,null,null,null,null,null,null,null,null,null,null,null,null,null,null,null,null,null,null,null,null,null,"",11,{"$f":"IF($I5=\"\",\"\",IF($CE5=0,\"Enter question type or turn off variable question type\",$CD5))","v":""},{"$f":"IF($I5=\"\",\"\",IF($B$18=\"\",\"INPUT MAIN CATEGORY (CELL B18) OR TURN CATEGORIES OFF\",\"$CATEGORY: \"&$B$18&IF($F5=\"\",\"\",\"/\"&$F5)))","v":""},{"$f":"IF($I4=\"\",\"\",IF($CE4=0,\"Enter question type or turn off variable question type\",$CD4))","v":""},{"$f":"IF($I6=\"\",\"\",IF($CE6=0,\"Enter question type or turn off variable question type\",$CD6))","v":""},null,{"$f":"ROW()-2","v":11},5,"",null,"",null,5,{"$f":"(ROW()+2)/5","v":3},"",null,null,null,null,null,null,null,null,null,"T",null,null,null,null,null,null,null,null,null,null,null,null,null,null,null,null,null,null,"","SA",0,"","","","","","","","","","","","","","","","","","","","","","","","",""]
[null,null,12,null,null,null,null,null,null,null,null,null,null,null,null,null,null,null,null,null,null,null,null,null,null,null,null,null,null,null,null,null,null,null,null,null,null,"",12,null,null,null,null,null,null,null,"",null,"",null,"",null,"",null,null,null,null,null,null,null,null,null,"F",null,null,null,null,null,null,null,null,null,null,null,null,null,null,null,null,null,null,"","SA",0,"","","","","","","","","","","","","","","","","","","","","","","","",""]
[null,"(Optional) Question Set Title:",13,null,null,null,null,null,null,null,null,null,null,null,null,null,null,null,null,null,null,null,null,null,null,null,null,null,null,null,null,null,null,null,null,null,null,"",13,{"$f":"IF($I6=\"\",\"\",\"::\"&IF($B$16=\"\",\"\",$B$16&\"  \")&IF($E6=\"\",$H6,$E6)&\"::\")","v":""},{"$f":"IF($I5=\"\",\"\",\"::\"&IF($B$16=\"\",\"\",$B$16&\"  \")&IF($E5=\"\",$H5,$E5)&\"::\")","v":""},{"$f":"IF($I5=\"\",\"\",IF($B$18=\"\",\"INPUT MAIN CATEGORY (CELL B18) OR TURN CATEGORIES OFF\",\"$CATEGORY: \"&$B$18&IF($F5=\"\",\"\",\"/\"&$F5)))","v":""},{"$f":"IF($I7=\"\",\"\",\"::\"&IF($B$16=\"\",\"\",$B$16&\"  \")&IF($E7=\"\",$H7,$E7)&\"::\")","v":""},null,null,null,6,{"$f":"(ROW()+1)/4","v":4},6,{"$f":"(ROW()+1)/4","v":4},"",null,7,{"$f":"ROW()/3","v":5},null,null,null,null,null,null,null,null,null,null,null,null,null,null,null,null,null,null,null,null,null,null,null,null,null,null,null,"","SA",0,"","","","","","","","","","","","","","","","","","","","","","","","",""]
[null,null,14,null,null,null,null,null,null,null,null,null,null,null,null,null,null,null,null,null,null,null,null,null,null,null,null,null,null,null,null,null,null,null,null,null,null,"",14,{"$f":"IF($I6=\"\",\"\",IF($CE6=0,\"Enter question type or turn off variable question type\",IF($G6=\"\",VLOOKUP($CE6,$BY:$CA,3,0),$G6)))","v":""},{"$f":"IF($I5=\"\",\"\",IF($CE5=0,\"Enter question type or turn off variable question type\",$CD5))","v":""},null,{"$f":"IF($I7=\"\",\"\",IF($CE7=0,\"Enter question type or turn off variable question type\",$CD7))","v":""},null,{"$f":"ROW()-1","v":15},6,"",null,"",null,"",null,"",null,null,null,null,null,null,null,null,null,null,null,null,null,null,null,null,null,null,null,null,null,null,null,null,null,null,null,null,"","SA",0,"","","","","","","","","","","","","","","","","","","","","","","","",""]
[null,"Enter Main Category:",15,null,null,null,null,null,null,null,null,null,null,null,null,null,null,null,null,null,null,null,null,null,null,null,null,null,null,null,null,null,null,null,null,null,null,"",15,{"$f":"IF($I6=\"\",\"\",IF($CE6=0,\"Enter question type or turn off variable question type\",$CD6))","v":""},null,{"$f":"IF($I5=\"\",\"\",\"::\"&IF($B$16=\"\",\"\",$B$16&\"  \")&IF($E5=\"\",$H5,$E5)&\"::\")","v":""},null,null,{"$f":"ROW()-2","v":15},6,"",null,"",null,"",null,"",null,null,null,null,null,null,null,null,null,null,null,null,null,null,null,null,null,null,null,null,null,null,null,null,null,null,null,null,"","SA",0,"","","","","","","","","","","","","","","","","","","","","","","","",""]
[null,null,16,null,null,null,null,null,null,null,null,null,null,null,null,null,null,null,null,null,null,null,null,null,null,null,null,null,null,null,null,null,null,null,null,null,null,"",16,null,{"$f":"IF($I6=\"\",\"\",IF($B$18=\"\",\"INPUT MAIN CATEGORY (CELL B18) OR TURN CATEGORIES OFF\",\"$CATEGORY: \"&$B$18&IF($F6=\"\",\"\",\"/\"&$F6)))","v":""},{"$f":"IF($I5=\"\",\"\",IF($CE5=0,\"Enter question type or turn off variable question type\",IF($G5=\"\",VLOOKUP($CE5,$BY:$CA,3,0),$G5)))","v":""},{"$f":"IF($I8=\"\",\"\",\"::\"&IF($B$16=\"\",\"\",$B$16&\"  \")&IF($E8=\"\",$H8,$E8)&\"::\")","v":""},null,null,null,"",null,"",null,6,{"$f":"(ROW()+2)/5","v":4},8,{"$f":"ROW()/3","v":6},null,null,null,null,null,null,null,null,null,null,null,null,null,null,null,null,null,null,null,null,null,null,null,null,null,null,null,"","SA",0,"","","","","","","","","","","","","","","","","","","","","","","","",""]
[null,null,17,null,null,null,null,null,null,null,null,null,null,null,null,null,null,null,null,null,null,null,null,null,null,null,null,null,null,null,null,null,null,null,null,null,null,"",17,{"$f":"IF($I7=\"\",\"\",\"::\"&IF($B$16=\"\",\"\",$B$16&\"  \")&IF($E7=\"\",$H7,$E7)&\"::\")","v":""},null,{"$f":"IF($I5=\"\",\"\",IF($CE5=0,\"Enter question type or turn off variable question type\",$CD5))","v":""},{"$f":"IF($I8=\"\",\"\",IF($CE8=0,\"Enter question type or turn off variable question type\",$CD8))","v":""},null,null,null,7,{"$f":"(ROW()+1)/4","v":5},7,{"$f":"(ROW()+1)/4","v":5},"",null,"",null,null,null,null,null,null,null,null,null,null,null,null,null,null,null,null,null,null,null,null,null,null,null,null,null,null,null,null,"","SA",0,"","","","","","","","","","","","","","","",{"$f":"IF(T19=\"\",\"\",IF($B$2=\"Short Answer\",IF(X19=\"\",T19,\"%\"&X19&\"%\"&T19),IF($D19=\"Short Answer\",IF(X19=\"\",T19,\"%\"&X19&\"%\"&T19),\"%\"&IF(X19=\"\",0,X19)&\"%\"&T19)))","v":""},{"$f":"IF(U19=\"\",\"\",IF($B$2=\"Short Answer\",IF(Y19=\"\",U19,\"%\"&Y19&\"%\"&U19),IF($D19=\"Short Answer\",IF(Y19=\"\",U19,\"%\"&Y19&\"%\"&U19),\"%\"&IF(Y19=\"\",0,Y19)&\"%\"&U19)))","v":""},{"$f":"IF(V19=\"\",\"\",IF($B$2=\"Short Answer\",IF(Z19=\"\",V19,\"%\"&Z19&\"%\"&V19),IF($D19=\"Short Answer\",IF(Z19=\"\",V19,\"%\"&Z19&\"%\"&V19),\"%\"&IF(Z19=\"\",0,Z19)&\"%\"&V19)))","v":""},{"$f":"IF(W19=\"\",\"\",IF($B$2=\"Short Answer\",IF(AA19=\"\",W19,\"%\"&AA19&\"%\"&W19),IF($D19=\"Short Answer\",IF(AA19=\"\",W19,\"%\"&AA19&\"%\"&W19),\"%\"&IF(AA19=\"\",0,AA19)&\"%\"&W19)))","v":""},"","","","","",""]
[null,null,18,null,null,null,null,null,null,null,null,null,null,null,null,null,null,null,null,null,null,null,null,null,null,null,null,null,null,null,null,null,null,null,null,null,null,"",18,{"$f":"IF($I7=\"\",\"\",IF($CE7=0,\"Enter question type or turn off variable question type\",IF($G7=\"\",VLOOKUP($CE7,$BY:$CA,3,0),$G7)))","v":""},{"$f":"IF($I6=\"\",\"\",\"::\"&IF($B$16=\"\",\"\",$B$16&\"  \")&IF($E6=\"\",$H6,$E6)&\"::\")","v":""},null,null,null,{"$f":"ROW()-1","v":19},7,"",null,"",null,"",null,"",null,null,null,null,null,null,null,null,null,null,null,null,null,null,null,null,null,null,null,null,null,null,null,null,null,null,null,null,"","SA",0,"","","","","","","","","","","","","","","","","","","","","","","","",""]
[null,null,19,null,null,null,null,null,null,null,null,null,null,null,null,null,null,null,null,null,null,null,null,null,null,null,null,null,null,null,null,null,null,null,null,null,null,"",19,{"$f":"IF($I7=\"\",\"\",IF($CE7=0,\"Enter question type or turn off variable question type\",$CD7))","v":""},{"$f":"IF($I6=\"\",\"\",IF($CE6=0,\"Enter question type or turn off variable question type\",$CD6))","v":""},{"$f":"IF($I6=\"\",\"\",IF($B$18=\"\",\"INPUT MAIN CATEGORY (CELL B18) OR TURN CATEGORIES OFF\",\"$CATEGORY: \"&$B$18&IF($F6=\"\",\"\",\"/\"&$F6)))","v":""},{"$f":"IF($I9=\"\",\"\",\"::\"&IF($B$16=\"\",\"\",$B$16&\"  \")&IF($E9=\"\",$H9,$E9)&\"::\")","v":""},null,{"$f":"ROW()-2","v":19},7,"",null,"",null,"",null,9,{"$f":"ROW()/3","v":7},null,null,null,null,null,null,null,null,null,null,null,null,null,null,null,null,null,null,null,null,null,null,null,null,null,null,null,"","SA",0,"","","","","","","","","","","","","","","","","","","","","","","","",""]
[null,null,20,null,null,null,null,null,null,null,null,null,null,null,null,null,null,null,null,null,null,null,null,null,null,null,null,null,null,null,null,null,null,null,null,null,null,"",20,null,null,null,{"$f":"IF($I9=\"\",\"\",IF($CE9=0,\"Enter question type or turn off variable question type\",$CD9))","v":""},null,null,null,"",null,"",null,"",null,"",null,null,null,null,null,null,null,null,null,null,null,null,null,null,null,null,null,null,null,null,null,null,null,null,null,null,null,null,"","SA",0,"","","","","","","","","","","","","","","","","","","","","","","","",""]
[null,null,21,null,null,null,null,null,null,null,null,null,null,null,null,null,null,null,null,null,null,null,null,null,null,null,null,null,null,null,null,null,null,null,null,null,null,"",21,{"$f":"IF($I8=\"\",\"\",\"::\"&IF($B$16=\"\",\"\",$B$16&\"  \")&IF($E8=\"\",$H8,$E8)&\"::\")","v":""},{"$f":"IF($I7=\"\",\"\",IF($B$18=\"\",\"INPUT MAIN CATEGORY (CELL B18) OR TURN CATEGORIES OFF\",\"$CATEGORY: \"&$B$18&IF($F7=\"\",\"\",\"/\"&$F7)))","v":""},{"$f":"IF($I6=\"\",\"\",\"::\"&IF($B$16=\"\",\"\",$B$16&\"  \")&IF($E6=\"\",$H6,$E6)&\"::\")","v":""},null,null,null,null,8,{"$f":"(ROW()+1)/4","v":6},8,{"$f":"(ROW()+1)/4","v":6},7,{"$f":"(ROW()+2)/5","v":5},"",null,null,null,null,null,null,null,null,null,null,null,null,null,null,null,null,null,null,null,null,null,null,null,null,null,null,null,null,"","SA",0,"","","","","","","","","","","","","","","","","","","","","","","","",""]
[null,null,22,null,null,null,null,null,null,null,null,null,null,null,null,null,null,null,null,null,null,null,null,null,null,null,null,null,null,null,null,null,null,null,null,null,null,"",22,{"$f":"IF($I8=\"\",\"\",IF($CE8=0,\"Enter question type or turn off variable question type\",IF($G8=\"\",VLOOKUP($CE8,$BY:$CA,3,0),$G8)))","v":""},null,{"$f":"IF($I6=\"\",\"\",IF($CE6=0,\"Enter question type or turn off variable question type\",IF($G6=\"\",VLOOKUP($CE6,$BY:$CA,3,0),$G6)))","v":""},{"$f":"IF($I10=\"\",\"\",\"::\"&IF($B$16=\"\",\"\",$B$16&\"  \")&IF($E10=\"\",$H10,$E10)&\"::\")","v":""},null,{"$f":"ROW()-1","v":23},8,"",null,"",null,"",null,10,{"$f":"ROW()/3","v":8},null,null,null,null,null,null,null,null,null,null,null,null,null,null,null,null,null,null,null,null,null,null,null,null,null,null,null,"","SA",0,"","","","","","","","","","","","","","","","","","","","","","","","",""]
[null,null,23,null,null,null,null,null,null,null,null,null,null,null,null,null,null,null,null,null,null,null,null,null,null,null,null,null,null,null,null,null,null,null,null,null,null,"",23,{"$f":"IF($I8=\"\",\"\",IF($CE8=0,\"Enter question type or turn off variable question type\",$CD8))","v":""},{"$f":"IF($I7=\"\",\"\",\"::\"&IF($B$16=\"\",\"\",$B$16&\"  \")&IF($E7=\"\",$H7,$E7)&\"::\")","v":""},{"$f":"IF($I6=\"\",\"\",IF($CE6=0,\"Enter question type or turn off variable question type\",$CD6))","v":""},{"$f":"IF($I10=\"\",\"\",IF($CE10=0,\"Enter question type or turn off variable question type\",$CD10))","v":""},null,{"$f":"ROW()-2","v":23},8,"",null,"",null,"",null,"",null,null,null,null,null,null,null,null,null,null,null,null,null,null,null,null,null,null,null,null,null,null,null,null,null,null,null,null,"","SA",0,"","","","","","","","","","","","","","","","","","","","","","","","",""]
[null,null,24,null,null,null,null,null,null,null,null,null,null,null,null,null,null,null,null,null,null,null,null,null,null,null,null,null,null,null,null,null,null,null,null,null,null,"",24,null,{"$f":"IF($I7=\"\",\"\",IF($CE7=0,\"Enter question type or turn off variable question type\",$CD7))","v":""},null,null,null,null,null,"",null,"",null,"",null,"",null,null,null,null,null,null,null,null,null,null,null,null,null,null,null,null,null,null,null,null,null,null,null,null,null,null,null,null,"","SA",0,"","","","","","","","","","","","","","","","","","","","","","","","",""]
[null,null,25,null,null,null,null,null,null,null,null,null,null,null,null,null,null,null,null,null,null,null,null,null,null,null,null,null,null,null,null,null,null,null,null,null,null,"",25,{"$f":"IF($I9=\"\",\"\",\"::\"&IF($B$16=\"\",\"\",$B$16&\"  \")&IF($E9=\"\",$H9,$E9)&\"::\")","v":""},null,{"$f":"IF($I7=\"\",\"\",IF($B$18=\"\",\"INPUT MAIN CATEGORY (CELL B18) OR TURN CATEGORIES OFF\",\"$CATEGORY: \"&$B$18&IF($F7=\"\",\"\",\"/\"&$F7)))","v":""},{"$f":"IF($I11=\"\",\"\",\"::\"&IF($B$16=\"\",\"\",$B$16&\"  \")&IF($E11=\"\",$H11,$E11)&\"::\")","v":""},null,null,null,9,{"$f":"(ROW()+1)/4","v":7},9,{"$f":"(ROW()+1)/4","v":7},"",null,11,{"$f":"ROW()/3","v":9},null,null,null,null,null,null,null,null,null,null,null,null,null,null,null,null,null,null,null,null,null,null,null,null,null,null,null,"","SA",0,"","","","","","","","","","","","","","","","","","","","","","","","",""]
[null,null,26,null,null,null,null,null,null,null,null,null,null,null,null,null,null,null,null,null,null,null,null,null,null,null,null,null,null,null,null,null,null,null,null,null,null,"",26,{"$f":"IF($I9=\"\",\"\",IF($CE9=0,\"Enter question type or turn off variable question type\",IF($G9=\"\",VLOOKUP($CE9,$BY:$CA,3,0),$G9)))","v":""},{"$f":"IF($I8=\"\",\"\",IF($B$18=\"\",\"INPUT MAIN CATEGORY (CELL B18) OR TURN CATEGORIES OFF\",\"$CATEGORY: \"&$B$18&IF($F8=\"\",\"\",\"/\"&$F8)))","v":""},null,{"$f":"IF($I11=\"\",\"\",IF($CE11=0,\"Enter question type or turn off variable question type\",$CD11))","v":""},null,{"$f":"ROW()-1","v":27},9,"",null,"",null,8,{"$f":"(ROW()+2)/5","v":6},"",null,null,null,null,null,null,null,null,null,null,null,null,null,null,null,null,null,null,null,null,null,null,null,null,null,null,null,null,"","SA",0,"","","","","","","","","","","","","","","","","","","","","","","","",""]
[null,null,27,null,null,null,null,null,null,null,null,null,null,null,null,null,null,null,null,null,null,null,null,null,null,null,null,null,null,null,null,null,null,null,null,null,null,"",27,{"$f":"IF($I9=\"\",\"\",IF($CE9=0,\"Enter question type or turn off variable question type\",$CD9))","v":""},null,{"$f":"IF($I7=\"\",\"\",\"::\"&IF($B$16=\"\",\"\",$B$16&\"  \")&IF($E7=\"\",$H7,$E7)&\"::\")","v":""},null,null,{"$f":"ROW()-2","v":27},9,"",null,"",null,"",null,"",null,null,null,null,null,null,null,null,null,null,null,null,null,null,null,null,null,null,null,null,null,null,null,null,null,null,null,null,"","SA",0,"","","","","","","","","","","","","","","","","","","","","","","","",""]
[null,null,28,null,null,null,null,null,null,null,null,null,null,null,null,null,null,null,null,null,null,null,null,null,null,null,null,null,null,null,null,null,null,null,null,null,null,"",28,null,{"$f":"IF($I8=\"\",\"\",\"::\"&IF($B$16=\"\",\"\",$B$16&\"  \")&IF($E8=\"\",$H8,$E8)&\"::\")","v":""},{"$f":"IF($I7=\"\",\"\",IF($CE7=0,\"Enter question type or turn off variable question type\",IF($G7=\"\",VLOOKUP($CE7,$BY:$CA,3,0),$G7)))","v":""},{"$f":"IF($I12=\"\",\"\",\"::\"&IF($B$16=\"\",\"\",$B$16&\"  \")&IF($E12=\"\",$H12,$E12)&\"::\")","v":""},null,null,null,"",null,"",null,"",null,12,{"$f":"ROW()/3","v":10},null,null,null,null,null,null,null,null,null,null,null,null,null,null,null,null,null,null,null,null,null,null,null,null,null,null,null,"","SA",0,"","","","","","","","","","","","","","","","","","","","","","","","",""]
[null,null,29,null,null,null,null,null,null,null,null,null,null,null,null,null,null,null,null,null,null,null,null,null,null,null,null,null,null,null,null,null,null,null,null,null,null,"",29,{"$f":"IF($I10=\"\",\"\",\"::\"&IF($B$16=\"\",\"\",$B$16&\"  \")&IF($E10=\"\",$H10,$E10)&\"::\")","v":""},{"$f":"IF($I8=\"\",\"\",IF($CE8=0,\"Enter question type or turn off variable question type\",$CD8))","v":""},{"$f":"IF($I7=\"\",\"\",IF($CE7=0,\"Enter question type or turn off variable question type\",$CD7))","v":""},{"$f":"IF($I12=\"\",\"\",IF($CE12=0,\"Enter question type or turn off variable question type\",$CD12))","v":""},null,null,null,10,{"$f":"(ROW()+1)/4","v":8},10,{"$f":"(ROW()+1)/4","v":8},"",null,"",null,null,null,null,null,null,null,null,null,null,null,null,null,null,null,null,null,null,null,null,null,null,null,null,null,null,null,null,"","SA",0,"","","","","","","","","","","","","","","","","","","","","","","","",""]
[null,null,30,null,null,null,null,null,null,null,null,null,null,null,null,null,null,null,null,null,null,null,null,null,null,null,null,null,null,null,null,null,null,null,null,null,null,"",30,{"$f":"IF($I10=\"\",\"\",IF($CE10=0,\"Enter question type or turn off variable question type\",IF($G10=\"\",VLOOKUP($CE10,$BY:$CA,3,0),$G10)))","v":""},null,null,null,null,{"$f":"ROW()-1","v":31},10,"",null,"",null,"",null,"",null,null,null,null,null,null,null,null,null,null,null,null,null,null,null,null,null,null,null,null,null,null,null,null,null,null,null,null,"","SA",0,"","","","","","","","","","","","","","","","","","","","","","","","",""]
[null,null,31,null,null,null,null,null,null,null,null,null,null,null,null,null,null,null,null,null,null,null,null,null,null,null,null,null,null,null,null,null,null,null,null,null,null,"",31,{"$f":"IF($I10=\"\",\"\",IF($CE10=0,\"Enter question type or turn off variable question type\",$CD10))","v":""},{"$f":"IF($I9=\"\",\"\",IF($B$18=\"\",\"INPUT MAIN CATEGORY (CELL B18) OR TURN CATEGORIES OFF\",\"$CATEGORY: \"&$B$18&IF($F9=\"\",\"\",\"/\"&$F9)))","v":""},{"$f":"IF($I8=\"\",\"\",IF($B$18=\"\",\"INPUT MAIN CATEGORY (CELL B18) OR TURN CATEGORIES OFF\",\"$CATEGORY: \"&$B$18&IF($F8=\"\",\"\",\"/\"&$F8)))","v":""},{"$f":"IF($I13=\"\",\"\",\"::\"&IF($B$16=\"\",\"\",$B$16&\"  \")&IF($E13=\"\",$H13,$E13)&\"::\")","v":""},null,{"$f":"ROW()-2","v":31},10,"",null,"",null,9,{"$f":"(ROW()+2)/5","v":7},13,{"$f":"ROW()/3","v":11},null,null,null,null,null,null,null,null,null,null,null,null,null,null,null,null,null,null,null,null,null,null,null,null,null,null,null,"","SA",0,"","","","","","","","","","","","","","","","","","","","","","","","",""]
[null,null,32,null,null,null,null,null,null,null,null,null,null,null,null,null,null,null,null,null,null,null,null,null,null,null,null,null,null,null,null,null,null,null,null,null,null,"",32,null,null,null,{"$f":"IF($I13=\"\",\"\",IF($CE13=0,\"Enter question type or turn off variable question type\",$CD13))","v":""},null,null,null,"",null,"",null,"",null,"",null,null,null,null,null,null,null,null,null,null,null,null,null,null,null,null,null,null,null,null,null,null,null,null,null,null,null,null,"","SA",0,"","","","","","","","","","","","","","","","","","","","","","","","",""]
[null,null,33,null,null,null,null,null,null,null,null,null,null,null,null,null,null,null,null,null,null,null,null,null,null,null,null,null,null,null,null,null,null,null,null,null,null,"",33,{"$f":"IF($I11=\"\",\"\",\"::\"&IF($B$16=\"\",\"\",$B$16&\"  \")&IF($E11=\"\",$H11,$E11)&\"::\")","v":""},{"$f":"IF($I9=\"\",\"\",\"::\"&IF($B$16=\"\",\"\",$B$16&\"  \")&IF($E9=\"\",$H9,$E9)&\"::\")","v":""},{"$f":"IF($I8=\"\",\"\",\"::\"&IF($B$16=\"\",\"\",$B$16&\"  \")&IF($E8=\"\",$H8,$E8)&\"::\")","v":""},null,null,null,null,11,{"$f":"(ROW()+1)/4","v":9},11,{"$f":"(ROW()+1)/4","v":9},"",null,"",null,null,null,null,null,null,null,null,null,null,null,null,null,null,null,null,null,null,null,null,null,null,null,null,null,null,null,null,"","SA",0,"","","","","","","","","","","",{"$f":"IF(L35=\"\",\"\",IFERROR(\"#\"&VLOOKUP($S35,$BH:$BI,2,0),IF(T35=\"\",\"\",\"#\"&IFERROR(VLOOKUP(T35,$BE:$BF,2,0),T35))))","v":""},"","","","","","","",{"$f":"IF(W35=\"\",\"\",IFERROR(\"#\"&VLOOKUP($S35,$BH:$BI,2,0),IF(AG35=\"\",\"\",\"#\"&IFERROR(VLOOKUP(AG35,$BE:$BF,2,0),AG35))))","v":""},"","","","",""]
[null,null,34,null,null,null,null,null,null,null,null,null,null,null,null,null,null,null,null,null,null,null,null,null,null,null,null,null,null,null,null,null,null,null,null,null,null,"",34,{"$f":"IF($I11=\"\",\"\",IF($CE11=0,\"Enter question type or turn off variable question type\",IF($G11=\"\",VLOOKUP($CE11,$BY:$CA,3,0),$G11)))","v":""},{"$f":"IF($I9=\"\",\"\",IF($CE9=0,\"Enter question type or turn off variable question type\",$CD9))","v":""},{"$f":"IF($I8=\"\",\"\",IF($CE8=0,\"Enter question type or turn off variable question type\",IF($G8=\"\",VLOOKUP($CE8,$BY:$CA,3,0),$G8)))","v":""},{"$f":"IF($I14=\"\",\"\",\"::\"&IF($B$16=\"\",\"\",$B$16&\"  \")&IF($E14=\"\",$H14,$E14)&\"::\")","v":""},null,{"$f":"ROW()-1","v":35},11,"",null,"",null,"",null,14,{"$f":"ROW()/3","v":12},null,null,null,null,null,null,null,null,null,null,null,null,null,null,null,null,null,null,null,null,null,null,null,null,null,null,null,"","SA",0,"","","","","","","","","","","","","","","","","","","","","","","","",""]
[null,null,35,null,null,null,null,null,null,null,null,null,null,null,null,null,null,null,null,null,null,null,null,null,null,null,null,null,null,null,null,null,null,null,null,null,null,"",35,{"$f":"IF($I11=\"\",\"\",IF($CE11=0,\"Enter question type or turn off variable question type\",$CD11))","v":""},null,{"$f":"IF($I8=\"\",\"\",IF($CE8=0,\"Enter question type or turn off variable question type\",$CD8))","v":""},{"$f":"IF($I14=\"\",\"\",IF($CE14=0,\"Enter question type or turn off variable question type\",$CD14))","v":""},null,{"$f":"ROW()-2","v":35},11,"",null,"",null,"",null,"",null,null,null,null,null,null,null,null,null,null,null,null,null,null,null,null,null,null,null,null,null,null,null,null,null,null,null,null,"","SA",0,"","","","","","","","","","","","","","","","","","","","","","","","",""]
[null,null,36,null,null,null,null,null,null,null,null,null,null,null,null,null,null,null,null,null,null,null,null,null,null,null,null,null,null,null,null,null,null,null,null,null,null,"",36,null,{"$f":"IF($I10=\"\",\"\",IF($B$18=\"\",\"INPUT MAIN CATEGORY (CELL B18) OR TURN CATEGORIES OFF\",\"$CATEGORY: \"&$B$18&IF($F10=\"\",\"\",\"/\"&$F10)))","v":""},null,null,null,null,null,"",null,"",null,10,{"$f":"(ROW()+2)/5","v":8},"",null,null,null,null,null,null,null,null,null,null,null,null,null,null,null,null,null,null,null,null,null,null,null,null,null,null,null,null,"","SA",0,"","","","","","","","","","","","","","","","","","","","","","","","",""]
[null,null,37,null,null,null,null,null,null,null,null,null,null,null,null,null,null,null,null,null,null,null,null,null,null,null,null,null,null,null,null,null,null,null,null,null,null,{"$f":"IF(VLOOKUP($AM39,$AM:$AQ,$A$6,0)=\"\",\"\",VLOOKUP($AM39,$AM:$AQ,$A$6,0))","v":""},37,{"$f":"IF($I12=\"\",\"\",\"::\"&IF($B$16=\"\",\"\",$B$16&\"  \")&IF($E12=\"\",$H12,$E12)&\"::\")","v":""},null,{"$f":"IF($I9=\"\",\"\",IF($B$18=\"\",\"INPUT MAIN CATEGORY (CELL B18) OR TURN CATEGORIES OFF\",\"$CATEGORY: \"&$B$18&IF($F9=\"\",\"\",\"/\"&$F9)))","v":""},{"$f":"IF($I15=\"\",\"\",\"::\"&IF($B$16=\"\",\"\",$B$16&\"  \")&IF($E15=\"\",$H15,$E15)&\"::\")","v":""},null,null,null,12,{"$f":"(ROW()+1)/4","v":10},12,{"$f":"(ROW()+1)/4","v":10},"",null,15,{"$f":"ROW()/3","v":13},null,null,null,null,null,null,null,null,null,null,null,null,null,null,null,null,null,null,null,null,null,null,null,null,null,null,null,"","SA",0,"","","","","","","","","","","","","","","","","","","","","","","","",""]
[null,null,38,null,null,null,null,null,null,null,null,null,null,null,null,null,null,null,null,null,null,null,null,null,null,null,null,null,null,null,null,null,null,null,null,null,null,"",38,{"$f":"IF($I12=\"\",\"\",IF($CE12=0,\"Enter question type or turn off variable question type\",IF($G12=\"\",VLOOKUP($CE12,$BY:$CA,3,0),$G12)))","v":""},{"$f":"IF($I10=\"\",\"\",\"::\"&IF($B$16=\"\",\"\",$B$16&\"  \")&IF($E10=\"\",$H10,$E10)&\"::\")","v":""},null,{"$f":"IF($I15=\"\",\"\",IF($CE15=0,\"Enter question type or turn off variable question type\",$CD15))","v":""},null,{"$f":"ROW()-1","v":39},12,"",null,"",null,"",null,"",null,null,null,null,null,null,null,null,null,null,null,null,null,null,null,null,null,null,null,null,null,null,null,null,null,null,null,null,"","SA",0,"","","","","","","","","","","","","","","","","","","","","","","","",""]
[null,null,39,null,null,null,null,null,null,null,null,null,null,null,null,null,null,null,null,null,null,null,null,null,null,null,null,null,null,null,null,null,null,null,null,null,null,"",39,{"$f":"IF($I12=\"\",\"\",IF($CE12=0,\"Enter question type or turn off variable question type\",$CD12))","v":""},{"$f":"IF($I10=\"\",\"\",IF($CE10=0,\"Enter question type or turn off variable question type\",$CD10))","v":""},{"$f":"IF($I9=\"\",\"\",\"::\"&IF($B$16=\"\",\"\",$B$16&\"  \")&IF($E9=\"\",$H9,$E9)&\"::\")","v":""},null,null,{"$f":"ROW()-2","v":39},12,"",null,"",null,"",null,"",null,null,null,null,null,null,null,null,null,null,null,null,null,null,null,null,null,null,null,null,null,null,null,null,null,null,null,null,"","SA",0,"","","","","","","","","","","","","","","","","","","","","","","","",""]
[null,null,40,null,null,null,null,null,null,null,null,null,null,null,null,null,null,null,null,null,null,null,null,null,null,null,null,null,null,null,null,null,null,null,null,null,null,"",40,null,null,{"$f":"IF($I9=\"\",\"\",IF($CE9=0,\"Enter question type or turn off variable question type\",IF($G9=\"\",VLOOKUP($CE9,$BY:$CA,3,0),$G9)))","v":""},{"$f":"IF($I16=\"\",\"\",\"::\"&IF($B$16=\"\",\"\",$B$16&\"  \")&IF($E16=\"\",$H16,$E16)&\"::\")","v":""},null,null,null,"",null,"",null,"",null,16,{"$f":"ROW()/3","v":14},null,null,null,null,null,null,null,null,null,null,null,null,null,null,null,null,null,null,null,null,null,null,null,null,null,null,null,"","SA",0,"","","","","","","","","","","","","","","","","","","","","","","","",""]
[null,null,41,null,null,null,null,null,null,null,null,null,null,null,null,null,null,null,null,null,null,null,null,null,null,null,null,null,null,null,null,null,null,null,null,null,null,"",41,{"$f":"IF($I13=\"\",\"\",\"::\"&IF($B$16=\"\",\"\",$B$16&\"  \")&IF($E13=\"\",$H13,$E13)&\"::\")","v":""},{"$f":"IF($I11=\"\",\"\",IF($B$18=\"\",\"INPUT MAIN CATEGORY (CELL B18) OR TURN CATEGORIES OFF\",\"$CATEGORY: \"&$B$18&IF($F11=\"\",\"\",\"/\"&$F11)))","v":""},{"$f":"IF($I9=\"\",\"\",IF($CE9=0,\"Enter question type or turn off variable question type\",$CD9))","v":""},{"$f":"IF($I16=\"\",\"\",IF($CE16=0,\"Enter question type or turn off variable question type\",$CD16))","v":""},null,null,null,13,{"$f":"(ROW()+1)/4","v":11},13,{"$f":"(ROW()+1)/4","v":11},11,{"$f":"(ROW()+2)/5","v":9},"",null,null,null,null,null,null,null,null,null,null,null,null,null,null,null,null,null,null,null,null,null,null,null,null,null,null,null,null,"","SA",0,"","","","","","","","","","","","","","","","","","","","","","","","",""]
[null,null,42,null,null,null,null,null,null,null,null,null,null,null,null,null,null,null,null,null,null,null,null,null,null,null,null,null,null,null,null,null,null,null,null,null,null,"",42,{"$f":"IF($I13=\"\",\"\",IF($CE13=0,\"Enter question type or turn off variable question type\",IF($G13=\"\",VLOOKUP($CE13,$BY:$CA,3,0),$G13)))","v":""},null,null,null,null,{"$f":"ROW()-1","v":43},13,"",null,"",null,"",null,"",null,null,null,null,null,null,null,null,null,null,null,null,null,null,null,null,null,null,null,null,null,null,null,null,null,null,null,null,"","SA",0,"","","","","","","","","","","","","","","","","","","","","","","","",""]
[null,null,43,null,null,null,null,null,null,null,null,null,null,null,null,null,null,null,null,null,null,null,null,null,null,null,null,null,null,null,null,null,null,null,null,null,null,"",43,{"$f":"IF($I13=\"\",\"\",IF($CE13=0,\"Enter question type or turn off variable question type\",$CD13))","v":""},{"$f":"IF($I11=\"\",\"\",\"::\"&IF($B$16=\"\",\"\",$B$16&\"  \")&IF($E11=\"\",$H11,$E11)&\"::\")","v":""},{"$f":"IF($I10=\"\",\"\",IF($B$18=\"\",\"INPUT MAIN CATEGORY (CELL B18) OR TURN CATEGORIES OFF\",\"$CATEGORY: \"&$B$18&IF($F10=\"\",\"\",\"/\"&$F10)))","v":""},{"$f":"IF($I17=\"\",\"\",\"::\"&IF($B$16=\"\",\"\",$B$16&\"  \")&IF($E17=\"\",$H17,$E17)&\"::\")","v":""},null,{"$f":"ROW()-2","v":43},13,"",null,"",null,"",null,17,{"$f":"ROW()/3","v":15},null,null,null,null,null,null,null,null,null,null,null,null,null,null,null,null,null,null,null,null,null,null,null,null,null,null,null,"","SA",0,"","","","","","","","","","","","","","","","","","","","","","","","",""]
[null,null,44,null,null,null,null,null,null,null,null,null,null,null,null,null,null,null,null,null,null,null,null,null,null,null,null,null,null,null,null,null,null,null,null,null,null,"",44,null,{"$f":"IF($I11=\"\",\"\",IF($CE11=0,\"Enter question type or turn off variable question type\",$CD11))","v":""},null,{"$f":"IF($I17=\"\",\"\",IF($CE17=0,\"Enter question type or turn off variable question type\",$CD17))","v":""},null,null,null,"",null,"",null,"",null,"",null,null,null,null,null,null,null,null,null,null,null,null,null,null,null,null,null,null,null,null,null,null,null,null,null,null,null,null,"","SA",0,"","","","","","","","","","","","","","","","","","","","","","","","",""]
[null,null,45,null,null,null,null,null,null,null,null,null,null,null,null,null,null,null,null,null,null,null,null,null,null,null,null,null,null,null,null,null,null,null,null,null,null,"",45,{"$f":"IF($I14=\"\",\"\",\"::\"&IF($B$16=\"\",\"\",$B$16&\"  \")&IF($E14=\"\",$H14,$E14)&\"::\")","v":""},null,{"$f":"IF($I10=\"\",\"\",\"::\"&IF($B$16=\"\",\"\",$B$16&\"  \")&IF($E10=\"\",$H10,$E10)&\"::\")","v":""},null,null,null,null,14,{"$f":"(ROW()+1)/4","v":12},14,{"$f":"(ROW()+1)/4","v":12},"",null,"",null,null,null,null,null,null,null,null,null,null,null,null,null,null,null,null,null,null,null,null,null,null,null,null,null,null,null,null,"","SA",0,"","","","","","","","","","","","","","","","","","","","","","","","",""]
[null,null,46,null,null,null,null,null,null,null,null,null,null,null,null,null,null,null,null,null,null,null,null,null,null,null,null,null,null,null,null,null,null,null,null,null,null,"",46,{"$f":"IF($I14=\"\",\"\",IF($CE14=0,\"Enter question type or turn off variable question type\",IF($G14=\"\",VLOOKUP($CE14,$BY:$CA,3,0),$G14)))","v":""},{"$f":"IF($I12=\"\",\"\",IF($B$18=\"\",\"INPUT MAIN CATEGORY (CELL B18) OR TURN CATEGORIES OFF\",\"$CATEGORY: \"&$B$18&IF($F12=\"\",\"\",\"/\"&$F12)))","v":""},{"$f":"IF($I10=\"\",\"\",IF($CE10=0,\"Enter question type or turn off variable question type\",IF($G10=\"\",VLOOKUP($CE10,$BY:$CA,3,0),$G10)))","v":""},{"$f":"IF($I18=\"\",\"\",\"::\"&IF($B$16=\"\",\"\",$B$16&\"  \")&IF($E18=\"\",$H18,$E18)&\"::\")","v":""},null,{"$f":"ROW()-1","v":47},14,"",null,"",null,12,{"$f":"(ROW()+2)/5","v":10},18,{"$f":"ROW()/3","v":16},null,null,null,null,null,null,null,null,null,null,null,null,null,null,null,null,null,null,null,null,null,null,null,null,null,null,null,"","SA",0,"","","","","","","","","","","","","","","","","","","","","","","","",""]
[null,null,47,null,null,null,null,null,null,null,null,null,null,null,null,null,null,null,null,null,null,null,null,null,null,null,null,null,null,null,null,null,null,null,null,null,null,"",47,{"$f":"IF($I14=\"\",\"\",IF($CE14=0,\"Enter question type or turn off variable question type\",$CD14))","v":""},null,{"$f":"IF($I10=\"\",\"\",IF($CE10=0,\"Enter question type or turn off variable question type\",$CD10))","v":""},{"$f":"IF($I18=\"\",\"\",IF($CE18=0,\"Enter question type or turn off variable question type\",$CD18))","v":""},null,{"$f":"ROW()-2","v":47},14,"",null,"",null,"",null,"",null,null,null,null,null,null,null,null,null,null,null,null,null,null,null,null,null,null,null,null,null,null,null,null,null,null,null,null,"","SA",0,"","","","","","","","","","","","","","","","","","","","","","","","",""]
[null,null,48,null,null,null,null,null,null,null,null,null,null,null,null,null,null,null,null,null,null,null,null,null,null,null,null,null,null,null,null,null,null,null,null,null,null,"",48,null,{"$f":"IF($I12=\"\",\"\",\"::\"&IF($B$16=\"\",\"\",$B$16&\"  \")&IF($E12=\"\",$H12,$E12)&\"::\")","v":""},null,null,null,null,null,"",null,"",null,"",null,"",null,null,null,null,null,null,null,null,null,null,null,null,null,null,null,null,null,null,null,null,null,null,null,null,null,null,null,null,"","SA",0,"","","","","","","","","","","","","","","","","","","","","","","","",""]
[null,null,49,null,null,null,null,null,null,null,null,null,null,null,null,null,null,null,null,null,null,null,null,null,null,null,null,null,null,null,null,null,null,null,null,null,null,"",49,{"$f":"IF($I15=\"\",\"\",\"::\"&IF($B$16=\"\",\"\",$B$16&\"  \")&IF($E15=\"\",$H15,$E15)&\"::\")","v":""},{"$f":"IF($I12=\"\",\"\",IF($CE12=0,\"Enter question type or turn off variable question type\",$CD12))","v":""},{"$f":"IF($I11=\"\",\"\",IF($B$18=\"\",\"INPUT MAIN CATEGORY (CELL B18) OR TURN CATEGORIES OFF\",\"$CATEGORY: \"&$B$18&IF($F11=\"\",\"\",\"/\"&$F11)))","v":""},{"$f":"IF($I19=\"\",\"\",\"::\"&IF($B$16=\"\",\"\",$B$16&\"  \")&IF($E19=\"\",$H19,$E19)&\"::\")","v":""},null,null,null,15,{"$f":"(ROW()+1)/4","v":13},15,{"$f":"(ROW()+1)/4","v":13},"",null,19,{"$f":"ROW()/3","v":17},null,null,null,null,null,null,null,null,null,null,null,null,null,null,null,null,null,null,null,null,null,null,null,null,null,null,null,"","SA",0,"","","","","","","","","","","","","","","","","","","","","","","","",""]
[null,null,50,null,null,null,null,null,null,null,null,null,null,null,null,null,null,null,null,null,null,null,null,null,null,null,null,null,null,null,null,null,null,null,null,null,null,"",50,{"$f":"IF($I15=\"\",\"\",IF($CE15=0,\"Enter question type or turn off variable question type\",IF($G15=\"\",VLOOKUP($CE15,$BY:$CA,3,0),$G15)))","v":""},null,null,{"$f":"IF($I19=\"\",\"\",IF($CE19=0,\"Enter question type or turn off variable question type\",$CD19))","v":""},null,{"$f":"ROW()-1","v":51},15,"",null,"",null,"",null,"",null,null,null,null,null,null,null,null,null,null,null,null,null,null,null,null,null,null,null,null,null,null,null,null,null,null,null,null,"","SA",0,"","","","","","","","","","","","","","","","","","","","","","","","",""]
[null,null,51,null,null,null,null,null,null,null,null,null,null,null,null,null,null,null,null,null,null,null,null,null,null,null,null,null,null,null,null,null,null,null,null,null,null,"",51,{"$f":"IF($I15=\"\",\"\",IF($CE15=0,\"Enter question type or turn off variable question type\",$CD15))","v":""},{"$f":"IF($I13=\"\",\"\",IF($B$18=\"\",\"INPUT MAIN CATEGORY (CELL B18) OR TURN CATEGORIES OFF\",\"$CATEGORY: \"&$B$18&IF($F13=\"\",\"\",\"/\"&$F13)))","v":""},{"$f":"IF($I11=\"\",\"\",\"::\"&IF($B$16=\"\",\"\",$B$16&\"  \")&IF($E11=\"\",$H11,$E11)&\"::\")","v":""},null,null,{"$f":"ROW()-2","v":51},15,"",null,"",null,13,{"$f":"(ROW()+2)/5","v":11},"",null,null,null,null,null,null,null,null,null,null,null,null,null,null,null,null,null,null,null,null,null,null,null,null,null,null,null,null,"","SA",0,"","","","","","","","","","","",{"$f":"IF(L53=\"\",\"\",IFERROR(\"#\"&VLOOKUP($S53,$BH:$BI,2,0),IF(T53=\"\",\"\",\"#\"&IFERROR(VLOOKUP(T53,$BE:$BF,2,0),T53))))","v":""},"","","","","","","",{"$f":"IF(W53=\"\",\"\",IFERROR(\"#\"&VLOOKUP($S53,$BH:$BI,2,0),IF(AG53=\"\",\"\",\"#\"&IFERROR(VLOOKUP(AG53,$BE:$BF,2,0),AG53))))","v":""},"","","","",""]
[null,null,52,null,null,null,null,null,null,null,null,null,null,null,null,null,null,null,null,null,null,null,null,null,null,null,null,null,null,null,null,null,null,null,null,null,null,"",52,null,null,{"$f":"IF($I11=\"\",\"\",IF($CE11=0,\"Enter question type or turn off variable question type\",IF($G11=\"\",VLOOKUP($CE11,$BY:$CA,3,0),$G11)))","v":""},{"$f":"IF($I20=\"\",\"\",\"::\"&IF($B$16=\"\",\"\",$B$16&\"  \")&IF($E20=\"\",$H20,$E20)&\"::\")","v":""},null,null,null,"",null,"",null,"",null,20,{"$f":"ROW()/3","v":18},null,null,null,null,null,null,null,null,null,null,null,null,null,null,null,null,null,null,null,null,null,null,null,null,null,null,null,"","SA",0,"","","","","","","","","","","","","","","","","","","","","","","","",""]
[null,null,53,null,null,null,null,null,null,null,null,null,null,null,null,null,null,null,null,null,null,null,null,null,null,null,null,null,null,null,null,null,null,null,null,null,null,"",53,{"$f":"IF($I16=\"\",\"\",\"::\"&IF($B$16=\"\",\"\",$B$16&\"  \")&IF($E16=\"\",$H16,$E16)&\"::\")","v":""},{"$f":"IF($I13=\"\",\"\",\"::\"&IF($B$16=\"\",\"\",$B$16&\"  \")&IF($E13=\"\",$H13,$E13)&\"::\")","v":""},{"$f":"IF($I11=\"\",\"\",IF($CE11=0,\"Enter question type or turn off variable question type\",$CD11))","v":""},{"$f":"IF($I20=\"\",\"\",IF($CE20=0,\"Enter question type or turn off variable question type\",$CD20))","v":""},null,null,null,16,{"$f":"(ROW()+1)/4","v":14},16,{"$f":"(ROW()+1)/4","v":14},"",null,"",null,null,null,null,null,null,null,null,null,null,null,null,null,null,null,null,null,null,null,null,null,null,null,null,null,null,null,null,"","SA",0,"","","","","","","","","","","","","","","","","","","","","","","","",""]
[null,null,54,null,null,null,null,null,null,null,null,null,null,null,null,null,null,null,null,null,null,null,null,null,null,null,null,null,null,null,null,null,null,null,null,null,null,"",54,{"$f":"IF($I16=\"\",\"\",IF($CE16=0,\"Enter question type or turn off variable question type\",IF($G16=\"\",VLOOKUP($CE16,$BY:$CA,3,0),$G16)))","v":""},{"$f":"IF($I13=\"\",\"\",IF($CE13=0,\"Enter question type or turn off variable question type\",$CD13))","v":""},null,null,null,{"$f":"ROW()-1","v":55},16,"",null,"",null,"",null,"",null,null,null,null,null,null,null,null,null,null,null,null,null,null,null,null,null,null,null,null,null,null,null,null,null,null,null,null,"","SA",0,"","","","","","","","","","","","","","","","","","","","","","","","",""]
[null,null,55,null,null,null,null,null,null,null,null,null,null,null,null,null,null,null,null,null,null,null,null,null,null,null,null,null,null,null,null,null,null,null,null,null,null,"",55,{"$f":"IF($I16=\"\",\"\",IF($CE16=0,\"Enter question type or turn off variable question type\",$CD16))","v":""},null,{"$f":"IF($I12=\"\",\"\",IF($B$18=\"\",\"INPUT MAIN CATEGORY (CELL B18) OR TURN CATEGORIES OFF\",\"$CATEGORY: \"&$B$18&IF($F12=\"\",\"\",\"/\"&$F12)))","v":""},{"$f":"IF($I21=\"\",\"\",\"::\"&IF($B$16=\"\",\"\",$B$16&\"  \")&IF($E21=\"\",$H21,$E21)&\"::\")","v":""},null,{"$f":"ROW()-2","v":55},16,"",null,"",null,"",null,21,{"$f":"ROW()/3","v":19},null,null,null,null,null,null,null,null,null,null,null,null,null,null,null,null,null,null,null,null,null,null,null,null,null,null,null,"","SA",0,"","","","","","","","","","","","","","","","","","","","","","","","",""]
[null,null,56,null,null,null,null,null,null,null,null,null,null,null,null,null,null,null,null,null,null,null,null,null,null,null,null,null,null,null,null,null,null,null,null,null,null,"",56,null,{"$f":"IF($I14=\"\",\"\",IF($B$18=\"\",\"INPUT MAIN CATEGORY (CELL B18) OR TURN CATEGORIES OFF\",\"$CATEGORY: \"&$B$18&IF($F14=\"\",\"\",\"/\"&$F14)))","v":""},null,{"$f":"IF($I21=\"\",\"\",IF($CE21=0,\"Enter question type or turn off variable question type\",$CD21))","v":""},null,null,null,"",null,"",null,14,{"$f":"(ROW()+2)/5","v":12},"",null,null,null,null,null,null,null,null,null,null,null,null,null,null,null,null,null,null,null,null,null,null,null,null,null,null,null,null,"","SA",0,"","","","","","","","","","","","","","","","","","","","","","","","",""]
[null,null,57,null,null,null,null,null,null,null,null,null,null,null,null,null,null,null,null,null,null,null,null,null,null,null,null,null,null,null,null,null,null,null,null,null,null,"",57,{"$f":"IF($I17=\"\",\"\",\"::\"&IF($B$16=\"\",\"\",$B$16&\"  \")&IF($E17=\"\",$H17,$E17)&\"::\")","v":""},null,{"$f":"IF($I12=\"\",\"\",\"::\"&IF($B$16=\"\",\"\",$B$16&\"  \")&IF($E12=\"\",$H12,$E12)&\"::\")","v":""},null,null,null,null,17,{"$f":"(ROW()+1)/4","v":15},17,{"$f":"(ROW()+1)/4","v":15},"",null,"",null,null,null,null,null,null,null,null,null,null,null,null,null,null,null,null,null,null,null,null,null,null,null,null,null,null,null,null,"","SA",0,"","","","","","","","","","","","","","","","","","","","","","","","",""]
[null,null,58,null,null,null,null,null,null,null,null,null,null,null,null,null,null,null,null,null,null,null,null,null,null,null,null,null,null,null,null,null,null,null,null,null,null,"",58,{"$f":"IF($I17=\"\",\"\",IF($CE17=0,\"Enter question type or turn off variable question type\",IF($G17=\"\",VLOOKUP($CE17,$BY:$CA,3,0),$G17)))","v":""},{"$f":"IF($I14=\"\",\"\",\"::\"&IF($B$16=\"\",\"\",$B$16&\"  \")&IF($E14=\"\",$H14,$E14)&\"::\")","v":""},{"$f":"IF($I12=\"\",\"\",IF($CE12=0,\"Enter question type or turn off variable question type\",IF($G12=\"\",VLOOKUP($CE12,$BY:$CA,3,0),$G12)))","v":""},{"$f":"IF($I22=\"\",\"\",\"::\"&IF($B$16=\"\",\"\",$B$16&\"  \")&IF($E22=\"\",$H22,$E22)&\"::\")","v":""},null,{"$f":"ROW()-1","v":59},17,"",null,"",null,"",null,22,{"$f":"ROW()/3","v":20},null,null,null,null,null,null,null,null,null,null,null,null,null,null,null,null,null,null,null,null,null,null,null,null,null,null,null,"","SA",0,"","","","","","","","","","","","","","","","","","","","","","","","",""]
[null,null,59,null,null,null,null,null,null,null,null,null,null,null,null,null,null,null,null,null,null,null,null,null,null,null,null,null,null,null,null,null,null,null,null,null,null,"",59,{"$f":"IF($I17=\"\",\"\",IF($CE17=0,\"Enter question type or turn off variable question type\",$CD17))","v":""},{"$f":"IF($I14=\"\",\"\",IF($CE14=0,\"Enter question type or turn off variable question type\",$CD14))","v":""},{"$f":"IF($I12=\"\",\"\",IF($CE12=0,\"Enter question type or turn off variable question type\",$CD12))","v":""},{"$f":"IF($I22=\"\",\"\",IF($CE22=0,\"Enter question type or turn off variable question type\",$CD22))","v":""},null,{"$f":"ROW()-2","v":59},17,"",null,"",null,"",null,"",null,null,null,null,null,null,null,null,null,null,null,null,null,null,null,null,null,null,null,null,null,null,null,null,null,null,null,null,"","SA",0,"","","","","","","","","","","","","","","","","","","","","","","","",""]
[null,null,60,null,null,null,null,null,null,null,null,null,null,null,null,null,null,null,null,null,null,null,null,null,null,null,null,null,null,null,null,null,null,null,null,null,null,"",60,null,null,null,null,null,null,null,"",null,"",null,"",null,"",null,null,null,null,null,null,null,null,null,null,null,null,null,null,null,null,null,null,null,null,null,null,null,null,null,null,null,null,"","SA",0,"","","","","","","","","","","","","","","","","","","","","","","","",""]
[null,null,61,null,null,null,null,null,null,null,null,null,null,null,null,null,null,null,null,null,null,null,null,null,null,null,null,null,null,null,null,null,null,null,null,null,null,"",61,{"$f":"IF($I18=\"\",\"\",\"::\"&IF($B$16=\"\",\"\",$B$16&\"  \")&IF($E18=\"\",$H18,$E18)&\"::\")","v":""},{"$f":"IF($I15=\"\",\"\",IF($B$18=\"\",\"INPUT MAIN CATEGORY (CELL B18) OR TURN CATEGORIES OFF\",\"$CATEGORY: \"&$B$18&IF($F15=\"\",\"\",\"/\"&$F15)))","v":""},{"$f":"IF($I13=\"\",\"\",IF($B$18=\"\",\"INPUT MAIN CATEGORY (CELL B18) OR TURN CATEGORIES OFF\",\"$CATEGORY: \"&$B$18&IF($F13=\"\",\"\",\"/\"&$F13)))","v":""},{"$f":"IF($I23=\"\",\"\",\"::\"&IF($B$16=\"\",\"\",$B$16&\"  \")&IF($E23=\"\",$H23,$E23)&\"::\")","v":""},null,null,null,18,{"$f":"(ROW()+1)/4","v":16},18,{"$f":"(ROW()+1)/4","v":16},15,{"$f":"(ROW()+2)/5","v":13},23,{"$f":"ROW()/3","v":21},null,null,null,null,null,null,null,null,null,null,null,null,null,null,null,null,null,null,null,null,null,null,null,null,null,null,null,"","SA",0,"","","","","","","","","","","","","","","","","","","","","","","","",""]
[null,null,62,null,null,null,null,null,null,null,null,null,null,null,null,null,null,null,null,null,null,null,null,null,null,null,null,null,null,null,null,null,null,null,null,null,null,"",62,{"$f":"IF($I18=\"\",\"\",IF($CE18=0,\"Enter question type or turn off variable question type\",IF($G18=\"\",VLOOKUP($CE18,$BY:$CA,3,0),$G18)))","v":""},null,null,{"$f":"IF($I23=\"\",\"\",IF($CE23=0,\"Enter question type or turn off variable question type\",$CD23))","v":""},null,{"$f":"ROW()-1","v":63},18,"",null,"",null,"",null,"",null,null,null,null,null,null,null,null,null,null,null,null,null,null,null,null,null,null,null,null,null,null,null,null,null,null,null,null,"","SA",0,"","","","","","","","","","","","","","","","","","","","","","","","",""]
[null,null,63,null,null,null,null,null,null,null,null,null,null,null,null,null,null,null,null,null,null,null,null,null,null,null,null,null,null,null,null,null,null,null,null,null,null,"",63,{"$f":"IF($I18=\"\",\"\",IF($CE18=0,\"Enter question type or turn off variable question type\",$CD18))","v":""},{"$f":"IF($I15=\"\",\"\",\"::\"&IF($B$16=\"\",\"\",$B$16&\"  \")&IF($E15=\"\",$H15,$E15)&\"::\")","v":""},{"$f":"IF($I13=\"\",\"\",\"::\"&IF($B$16=\"\",\"\",$B$16&\"  \")&IF($E13=\"\",$H13,$E13)&\"::\")","v":""},null,null,{"$f":"ROW()-2","v":63},18,"",null,"",null,"",null,"",null,null,null,null,null,null,null,null,null,null,null,null,null,null,null,null,null,null,null,null,null,null,null,null,null,null,null,null,"","SA",0,"","","","","","","","","","","","","","","","","","","","","","","","",""]
[null,null,64,null,null,null,null,null,null,null,null,null,null,null,null,null,null,null,null,null,null,null,null,null,null,null,null,null,null,null,null,null,null,null,null,null,null,"",64,null,{"$f":"IF($I15=\"\",\"\",IF($CE15=0,\"Enter question type or turn off variable question type\",$CD15))","v":""},{"$f":"IF($I13=\"\",\"\",IF($CE13=0,\"Enter question type or turn off variable question type\",IF($G13=\"\",VLOOKUP($CE13,$BY:$CA,3,0),$G13)))","v":""},{"$f":"IF($I24=\"\",\"\",\"::\"&IF($B$16=\"\",\"\",$B$16&\"  \")&IF($E24=\"\",$H24,$E24)&\"::\")","v":""},null,null,null,"",null,"",null,"",null,24,{"$f":"ROW()/3","v":22},null,null,null,null,null,null,null,null,null,null,null,null,null,null,null,null,null,null,null,null,null,null,null,null,null,null,null,"","SA",0,"","","","","","","","","","","","","","","","","","","","","","","","",""]
[null,null,65,null,null,null,null,null,null,null,null,null,null,null,null,null,null,null,null,null,null,null,null,null,null,null,null,null,null,null,null,null,null,null,null,null,null,"",65,{"$f":"IF($I19=\"\",\"\",\"::\"&IF($B$16=\"\",\"\",$B$16&\"  \")&IF($E19=\"\",$H19,$E19)&\"::\")","v":""},null,{"$f":"IF($I13=\"\",\"\",IF($CE13=0,\"Enter question type or turn off variable question type\",$CD13))","v":""},{"$f":"IF($I24=\"\",\"\",IF($CE24=0,\"Enter question type or turn off variable question type\",$CD24))","v":""},null,null,null,19,{"$f":"(ROW()+1)/4","v":17},19,{"$f":"(ROW()+1)/4","v":17},"",null,"",null,null,null,null,null,null,null,null,null,null,null,null,null,null,null,null,null,null,null,null,null,null,null,null,null,null,null,null,"",{"$f":"IFERROR(VLOOKUP($B$2,$BX:$BY,2,0),IF($D67=\"\",0,VLOOKUP($D67,$BX:$BY,2,0)))","v":"SA"},{"$f":"I67","v":0},"",{"$f":"IF(H67=\"\",\"\",\"{=\"&I67&CL67&IF(CM67=\"\",\"\",\" =\"&CM67&CQ67)&IF(CN67=\"\",\"\",\" =\"&CN67&CR67)&IF(CO67=\"\",\"\",\" =\"&CO67&CS67)&IF(CP67=\"\",\"\",\" =\"&CP67&CT67)&IF(CU67=\"\",\"\",\" =\"&CU67&CZ67)&IF(CV67=\"\",\"\",\" =\"&CV67&DA67)&IF(CW67=\"\",\"\",\" =\"&CW67&DB67)&IF(CX67=\"\",\"\",\" =\"&CX67&DC67)&IF(CY67=\"\",\"\",\" =\"&CY67&DD67)&\"}\")","v":""},"","",{"$f":"IF(I67=\"\",\"\",\"=\"&I67)","v":""},{"$f":"IF(J67=\"\",\"\",\"#\"&IFERROR(VLOOKUP(J67,$BE:$BF,2,0),J67))","v":""},"","","","","","","","","","","","","","","","","","",""]
[null,null,66,null,null,null,null,null,null,null,null,null,null,null,null,null,null,null,null,null,null,null,null,null,null,null,null,null,null,null,null,null,null,null,null,null,null,"",66,{"$f":"IF($I19=\"\",\"\",IF($CE19=0,\"Enter question type or turn off variable question type\",IF($G19=\"\",VLOOKUP($CE19,$BY:$CA,3,0),$G19)))","v":""},{"$f":"IF($I16=\"\",\"\",IF($B$18=\"\",\"INPUT MAIN CATEGORY (CELL B18) OR TURN CATEGORIES OFF\",\"$CATEGORY: \"&$B$18&IF($F16=\"\",\"\",\"/\"&$F16)))","v":""},null,null,null,{"$f":"ROW()-1","v":67},19,{"$f":"IF(AV68+2=2,\"\",AV68+2)","v":""},null,"",null,{"$f":"IF(AZ68+2=2,\"\",AZ68+2)","v":16},{"$f":"(ROW()+2)/5","v":14},{"$f":"IF(BB68+2=2,\"\",BB68+2)","v":""},null,null,null,null,null,null,null,null,null,null,null,null,null,null,null,null,null,null,null,null,null,null,null,null,null,null,null,null,{"$f":"IF(H68=\"\",\"\",IF(CE68=\"ES\",DE68,IF(CE68=\"MW\",SUBSTITUTE(H68,I68,VLOOKUP(CF68,CF68:CJ68,VLOOKUP($CE68,$BY:$BZ,2,0),0)),H68&\" \"&SUBSTITUTE(I68,I68,VLOOKUP(CF68,CF68:CJ68,VLOOKUP($CE68,$BY:$BZ,2,0),0)))))","v":""},"SA",0,{"$f":"IF(CK68=\"\",\"\",\"{\"&CK68&CL68&IF(CM68=\"\",\"\",\" ~\"&CM68&CQ68)&IF(CN68=\"\",\"\",\" ~\"&CN68&CR68)&IF(CO68=\"\",\"\",\" ~\"&CO68&CS68)&IF(CP68=\"\",\"\",\" ~\"&CP68&CT68)&IF(CU68=\"\",\"\",\" ~\"&CU68&CZ68)&IF(CV68=\"\",\"\",\" ~\"&CV68&DA68)&IF(CW68=\"\",\"\",\" ~\"&CW68&DB68)&IF(CX68=\"\",\"\",\" ~\"&CX68&DC68)&IF(CY68=\"\",\"\",\" ~\"&CY68&DD68)&\"}\")","v":""},"",{"$f":"IF(I68=\"\",\"\",\"{\"&IFERROR(I68&CQ68&CL68&\"}\",\"\"))","v":""},{"$f":"IF(CK68=\"\",\"\",\"{\"&CK68&CL68&IF(CM68=\"\",\"\",\" ~\"&CM68&CQ68)&IF(CN68=\"\",\"\",\" ~\"&CN68&CR68)&IF(CO68=\"\",\"\",\" ~\"&CO68&CS68)&IF(CP68=\"\",\"\",\" ~\"&CP68&CT68)&IF(CU68=\"\",\"\",\" ~\"&CU68&CZ68)&IF(CV68=\"\",\"\",\" ~\"&CV68&DA68)&IF(CW68=\"\",\"\",\" ~\"&CW68&DB68)&IF(CX68=\"\",\"\",\" ~\"&CX68&DC68)&IF(CY68=\"\",\"\",\" ~\"&CY68&DD68)&\"}\")","v":""},"","",{"$f":"IF(K68=\"\",\"\",IF($B$2=\"Short Answer\",IF(O68=\"\",K68,\"%\"&O68&\"%\"&K68),IF($D68=\"Short Answer\",IF(O68=\"\",K68,\"%\"&O68&\"%\"&K68),\"%\"&IF(O68=\"\",0,O68)&\"%\"&K68)))","v":""},{"$f":"IF(L68=\"\",\"\",IF($B$2=\"Short Answer\",IF(P68=\"\",L68,\"%\"&P68&\"%\"&L68),IF($D68=\"Short Answer\",IF(P68=\"\",L68,\"%\"&P68&\"%\"&L68),\"%\"&IF(P68=\"\",0,P68)&\"%\"&L68)))","v":""},{"$f":"IF(M68=\"\",\"\",IF($B$2=\"Short Answer\",IF(Q68=\"\",M68,\"%\"&Q68&\"%\"&M68),IF($D68=\"Short Answer\",IF(Q68=\"\",M68,\"%\"&Q68&\"%\"&M68),\"%\"&IF(Q68=\"\",0,Q68)&\"%\"&M68)))","v":""},{"$f":"IF(N68=\"\",\"\",IF($B$2=\"Short Answer\",IF(R68=\"\",N68,\"%\"&R68&\"%\"&N68),IF($D68=\"Short Answer\",IF(R68=\"\",N68,\"%\"&R68&\"%\"&N68),\"%\"&IF(R68=\"\",0,R68)&\"%\"&N68)))","v":""},"","","","",{"$f":"IF(S68=\"\",\"\",IF($B$2=\"Short Answer\",IF(W68=\"\",S68,\"%\"&W68&\"%\"&S68),IF($D68=\"Short Answer\",IF(W68=\"\",S68,\"%\"&W68&\"%\"&S68),\"%\"&IF(W68=\"\",0,W68)&\"%\"&S68)))","v":""},"","","","","","","","","",{"$f":"IF(H68=\"\",\"\",H68&\" {}\")","v":""}]
[null,null,67,null,null,null,null,null,null,null,null,null,null,null,null,null,null,null,null,null,null,null,null,null,null,null,null,null,null,null,null,null,null,null,null,null,null,"",67,{"$f":"IF($I19=\"\",\"\",IF($CE19=0,\"Enter question type or turn off variable question type\",$CD19))","v":""},null,{"$f":"IF($I14=\"\",\"\",IF($B$18=\"\",\"INPUT MAIN CATEGORY (CELL B18) OR TURN CATEGORIES OFF\",\"$CATEGORY: \"&$B$18&IF($F14=\"\",\"\",\"/\"&$F14)))","v":""},{"$f":"IF($I25=\"\",\"\",\"::\"&IF($B$16=\"\",\"\",$B$16&\"  \")&IF($E25=\"\",$H25,$E25)&\"::\")","v":""},null,{"$f":"ROW()-2","v":67},19,"",null,"",null,"",null,25,{"$f":"ROW()/3","v":23},null,null,null,null,null,null,null,null,null,null,null,null,null,null,null,null,null,null,null,null,null,null,null,null,null,null,null,"","SA",0,"","","","","","","","","","",{"$f":"IF($B$2=\"True False\",IF(S69=\"\",\"\",IFERROR(\"#\"&VLOOKUP($S69,$BH:$BI,2,0),IF(S69=\"\",\"\",\"#\"&IFERROR(VLOOKUP(S69,$BE:$BF,2,0),S69)))),IF($B$2=\"Variable\",IF(D69=\"True False\",IF(S69=\"\",\"\",IFERROR(\"#\"&VLOOKUP($S69,$BH:$BI,2,0),IF(S69=\"\",\"\",\"#\"&IFERROR(VLOOKUP(S69,$BE:$BF,2,0),S69)))),IF(K69=\"\",\"\",IFERROR(\"#\"&VLOOKUP($S69,$BH:$BI,2,0),IF(S69=\"\",\"\",\"#\"&IFERROR(VLOOKUP(S69,$BE:$BF,2,0),S69))))),IF(K69=\"\",\"\",IFERROR(\"#\"&VLOOKUP($S69,$BH:$BI,2,0),IF(S69=\"\",\"\",\"#\"&IFERROR(VLOOKUP(S69,$BE:$BF,2,0),S69))))))","v":""},"","","","","","","","","","","","","",""]
[null,null,68,null,null,null,null,null,null,null,null,null,null,null,null,null,null,null,null,null,null,null,null,null,null,null,null,null,null,null,null,null,null,null,null,null,null,{"$f":"IF(VLOOKUP($AM70,$AM:$AQ,$A$6,0)=\"\",\"\",VLOOKUP($AM70,$AM:$AQ,$A$6,0))","v":""},68,null,{"$f":"IF($I16=\"\",\"\",\"::\"&IF($B$16=\"\",\"\",$B$16&\"  \")&IF($E16=\"\",$H16,$E16)&\"::\")","v":""},null,{"$f":"IF($I25=\"\",\"\",IF($CE25=0,\"Enter question type or turn off variable question type\",$CD25))","v":""},null,null,null,"",null,"",null,"",null,"",null,null,null,null,null,null,null,null,null,null,null,null,null,null,null,null,null,null,null,null,null,null,null,null,null,null,null,null,"","SA",0,"","","","","","","","","","","","","","","","","","","","","","","","",""]
[null,null,69,null,null,null,null,null,null,null,null,null,null,null,null,null,null,null,null,null,null,null,null,null,null,null,null,null,null,null,null,null,null,null,null,null,null,"",69,{"$f":"IF($I20=\"\",\"\",\"::\"&IF($B$16=\"\",\"\",$B$16&\"  \")&IF($E20=\"\",$H20,$E20)&\"::\")","v":""},{"$f":"IF($I16=\"\",\"\",IF($CE16=0,\"Enter question type or turn off variable question type\",$CD16))","v":""},{"$f":"IF($I14=\"\",\"\",\"::\"&IF($B$16=\"\",\"\",$B$16&\"  \")&IF($E14=\"\",$H14,$E14)&\"::\")","v":""},null,null,null,null,20,{"$f":"(ROW()+1)/4","v":18},20,{"$f":"(ROW()+1)/4","v":18},"",null,"",null,null,null,null,null,null,null,null,null,null,null,null,null,null,null,null,null,null,null,null,null,null,null,null,null,null,null,null,"","SA",0,"","","","","","","","","","","","","","","","","","","","","","","","",""]
[null,null,70,null,null,null,null,null,null,null,null,null,null,null,null,null,null,null,null,null,null,null,null,null,null,null,null,null,null,null,null,null,null,null,null,null,null,"",70,{"$f":"IF($I20=\"\",\"\",IF($CE20=0,\"Enter question type or turn off variable question type\",IF($G20=\"\",VLOOKUP($CE20,$BY:$CA,3,0),$G20)))","v":""},null,{"$f":"IF($I14=\"\",\"\",IF($CE14=0,\"Enter question type or turn off variable question type\",IF($G14=\"\",VLOOKUP($CE14,$BY:$CA,3,0),$G14)))","v":""},{"$f":"IF($I26=\"\",\"\",\"::\"&IF($B$16=\"\",\"\",$B$16&\"  \")&IF($E26=\"\",$H26,$E26)&\"::\")","v":""},null,{"$f":"ROW()-1","v":71},20,"",null,"",null,"",null,26,{"$f":"ROW()/3","v":24},null,null,null,null,null,null,null,null,null,null,null,null,null,null,null,null,null,null,null,null,null,null,null,null,null,null,null,"","SA",0,"","","","","","","","","","","","","","","","","","","","","","","","",""]
[null,null,71,null,null,null,null,null,null,null,null,null,null,null,null,null,null,null,null,null,null,null,null,null,null,null,null,null,null,null,null,null,null,null,null,null,null,"",71,{"$f":"IF($I20=\"\",\"\",IF($CE20=0,\"Enter question type or turn off variable question type\",$CD20))","v":""},{"$f":"IF($I17=\"\",\"\",IF($B$18=\"\",\"INPUT MAIN CATEGORY (CELL B18) OR TURN CATEGORIES OFF\",\"$CATEGORY: \"&$B$18&IF($F17=\"\",\"\",\"/\"&$F17)))","v":""},{"$f":"IF($I14=\"\",\"\",IF($CE14=0,\"Enter question type or turn off variable question type\",$CD14))","v":""},{"$f":"IF($I26=\"\",\"\",IF($CE26=0,\"Enter question type or turn off variable question type\",$CD26))","v":""},null,{"$f":"ROW()-2","v":71},20,"",null,"",null,17,{"$f":"(ROW()+2)/5","v":15},"",null,null,null,null,null,null,null,null,null,null,null,null,null,null,null,null,null,null,null,null,null,null,null,null,null,null,null,null,"","SA",0,"","","","","","","","","","","","","","","","","","","","","","","","",""]
[null,null,72,null,null,null,null,null,null,null,null,null,null,null,null,null,null,null,null,null,null,null,null,null,null,null,null,null,null,null,null,null,null,null,null,null,null,"",72,null,null,null,null,null,null,null,"",null,"",null,"",null,"",null,null,null,null,null,null,null,null,null,null,null,null,null,null,null,null,null,null,null,null,null,null,null,null,null,null,null,null,"","SA",0,"","","","","","","","","","","","","","","","","","","","","","","","",""]
[null,null,73,null,null,null,null,null,null,null,null,null,null,null,null,null,null,null,null,null,null,null,null,null,null,null,null,null,null,null,null,null,null,null,null,null,null,"",73,{"$f":"IF($I21=\"\",\"\",\"::\"&IF($B$16=\"\",\"\",$B$16&\"  \")&IF($E21=\"\",$H21,$E21)&\"::\")","v":""},{"$f":"IF($I17=\"\",\"\",\"::\"&IF($B$16=\"\",\"\",$B$16&\"  \")&IF($E17=\"\",$H17,$E17)&\"::\")","v":""},{"$f":"IF($I15=\"\",\"\",IF($B$18=\"\",\"INPUT MAIN CATEGORY (CELL B18) OR TURN CATEGORIES OFF\",\"$CATEGORY: \"&$B$18&IF($F15=\"\",\"\",\"/\"&$F15)))","v":""},{"$f":"IF($I27=\"\",\"\",\"::\"&IF($B$16=\"\",\"\",$B$16&\"  \")&IF($E27=\"\",$H27,$E27)&\"::\")","v":""},null,null,null,21,{"$f":"(ROW()+1)/4","v":19},21,{"$f":"(ROW()+1)/4","v":19},"",null,27,{"$f":"ROW()/3","v":25},null,null,null,null,null,null,null,null,null,null,null,null,null,null,null,null,null,null,null,null,null,null,null,null,null,null,null,"","SA",0,"","","","","","","","","","","","","","","","","","","","","","","","",""]
[null,null,74,null,null,null,null,null,null,null,null,null,null,null,null,null,null,null,null,null,null,null,null,null,null,null,null,null,null,null,null,null,null,null,null,null,null,"",74,{"$f":"IF($I21=\"\",\"\",IF($CE21=0,\"Enter question type or turn off variable question type\",IF($G21=\"\",VLOOKUP($CE21,$BY:$CA,3,0),$G21)))","v":""},{"$f":"IF($I17=\"\",\"\",IF($CE17=0,\"Enter question type or turn off variable question type\",$CD17))","v":""},null,{"$f":"IF($I27=\"\",\"\",IF($CE27=0,\"Enter question type or turn off variable question type\",$CD27))","v":""},null,{"$f":"ROW()-1","v":75},21,"",null,"",null,"",null,"",null,null,null,null,null,null,null,null,null,null,null,null,null,null,null,null,null,null,null,null,null,null,null,null,null,null,null,null,"","SA",0,"","","","","","","","","","","","","","","","","","","","","","","","",""]
[null,null,75,null,null,null,null,null,null,null,null,null,null,null,null,null,null,null,null,null,null,null,null,null,null,null,null,null,null,null,null,null,null,null,null,null,null,"",75,{"$f":"IF($I21=\"\",\"\",IF($CE21=0,\"Enter question type or turn off variable question type\",$CD21))","v":""},null,{"$f":"IF($I15=\"\",\"\",\"::\"&IF($B$16=\"\",\"\",$B$16&\"  \")&IF($E15=\"\",$H15,$E15)&\"::\")","v":""},null,null,{"$f":"ROW()-2","v":75},21,"",null,"",null,"",null,"",null,null,null,null,null,null,null,null,null,null,null,null,null,null,null,null,null,null,null,null,null,null,null,null,null,null,null,null,"","SA",0,"","","","","","","","","","","","","","","","","","","","","","","","",""]
[null,null,76,null,null,null,null,null,null,null,null,null,null,null,null,null,null,null,null,null,null,null,null,null,null,null,null,null,null,null,null,null,null,null,null,null,null,"",76,null,{"$f":"IF($I18=\"\",\"\",IF($B$18=\"\",\"INPUT MAIN CATEGORY (CELL B18) OR TURN CATEGORIES OFF\",\"$CATEGORY: \"&$B$18&IF($F18=\"\",\"\",\"/\"&$F18)))","v":""},{"$f":"IF($I15=\"\",\"\",IF($CE15=0,\"Enter question type or turn off variable question type\",IF($G15=\"\",VLOOKUP($CE15,$BY:$CA,3,0),$G15)))","v":""},{"$f":"IF($I28=\"\",\"\",\"::\"&IF($B$16=\"\",\"\",$B$16&\"  \")&IF($E28=\"\",$H28,$E28)&\"::\")","v":""},null,null,null,"",null,"",null,18,{"$f":"(ROW()+2)/5","v":16},28,{"$f":"ROW()/3","v":26},null,null,null,null,null,null,null,null,null,null,null,null,null,null,null,null,null,null,null,null,null,null,null,null,null,null,null,"","SA",0,"","","","","","","","","","","","","","","","","","","","","","","","",""]
[null,null,77,null,null,null,null,null,null,null,null,null,null,null,null,null,null,null,null,null,null,null,null,null,null,null,null,null,null,null,null,null,null,null,null,null,null,"",77,{"$f":"IF($I22=\"\",\"\",\"::\"&IF($B$16=\"\",\"\",$B$16&\"  \")&IF($E22=\"\",$H22,$E22)&\"::\")","v":""},null,{"$f":"IF($I15=\"\",\"\",IF($CE15=0,\"Enter question type or turn off variable question type\",$CD15))","v":""},{"$f":"IF($I28=\"\",\"\",IF($CE28=0,\"Enter question type or turn off variable question type\",$CD28))","v":""},null,null,null,22,{"$f":"(ROW()+1)/4","v":20},22,{"$f":"(ROW()+1)/4","v":20},"",null,"",null,null,null,null,null,null,null,null,null,null,null,null,null,null,null,null,null,null,null,null,null,null,null,null,null,null,null,null,"","SA",0,"","","","","","","","","","","","","","","","","","","","","","","","",""]
[null,null,78,null,null,null,null,null,null,null,null,null,null,null,null,null,null,null,null,null,null,null,null,null,null,null,null,null,null,null,null,null,null,null,null,null,null,"",78,{"$f":"IF($I22=\"\",\"\",IF($CE22=0,\"Enter question type or turn off variable question type\",IF($G22=\"\",VLOOKUP($CE22,$BY:$CA,3,0),$G22)))","v":""},{"$f":"IF($I18=\"\",\"\",\"::\"&IF($B$16=\"\",\"\",$B$16&\"  \")&IF($E18=\"\",$H18,$E18)&\"::\")","v":""},null,null,null,{"$f":"ROW()-1","v":79},22,"",null,"",null,"",null,"",null,null,null,null,null,null,null,null,null,null,null,null,null,null,null,null,null,null,null,null,null,null,null,null,null,null,null,null,"","SA",0,"","","","","","","","","","","","","","","","","","","","","","","","",""]
[null,null,79,null,null,null,null,null,null,null,null,null,null,null,null,null,null,null,null,null,null,null,null,null,null,null,null,null,null,null,null,null,null,null,null,null,null,"",79,{"$f":"IF($I22=\"\",\"\",IF($CE22=0,\"Enter question type or turn off variable question type\",$CD22))","v":""},{"$f":"IF($I18=\"\",\"\",IF($CE18=0,\"Enter question type or turn off variable question type\",$CD18))","v":""},{"$f":"IF($I16=\"\",\"\",IF($B$18=\"\",\"INPUT MAIN CATEGORY (CELL B18) OR TURN CATEGORIES OFF\",\"$CATEGORY: \"&$B$18&IF($F16=\"\",\"\",\"/\"&$F16)))","v":""},{"$f":"IF($I29=\"\",\"\",\"::\"&IF($B$16=\"\",\"\",$B$16&\"  \")&IF($E29=\"\",$H29,$E29)&\"::\")","v":""},null,{"$f":"ROW()-2","v":79},22,"",null,"",null,"",null,29,{"$f":"ROW()/3","v":27},null,null,null,null,null,null,null,null,null,null,null,null,null,null,null,null,null,null,null,null,null,null,null,null,null,null,null,"","SA",0,"","","","","","","","","","","","","","","","","","","","","","","","",""]
[null,null,80,null,null,null,null,null,null,null,null,null,null,null,null,null,null,null,null,null,null,null,null,null,null,null,null,null,null,null,null,null,null,null,null,null,null,"",80,null,null,null,{"$f":"IF($I29=\"\",\"\",IF($CE29=0,\"Enter question type or turn off variable question type\",$CD29))","v":""},null,null,null,"",null,"",null,"",null,"",null,null,null,null,null,null,null,null,null,null,null,null,null,null,null,null,null,null,null,null,null,null,null,null,null,null,null,null,"","SA",0,"","","","","","","","","","","","","","","","","","","","","","","","",""]
[null,null,81,null,null,null,null,null,null,null,null,null,null,null,null,null,null,null,null,null,null,null,null,null,null,null,null,null,null,null,null,null,null,null,null,null,null,"",81,{"$f":"IF($I23=\"\",\"\",\"::\"&IF($B$16=\"\",\"\",$B$16&\"  \")&IF($E23=\"\",$H23,$E23)&\"::\")","v":""},{"$f":"IF($I19=\"\",\"\",IF($B$18=\"\",\"INPUT MAIN CATEGORY (CELL B18) OR TURN CATEGORIES OFF\",\"$CATEGORY: \"&$B$18&IF($F19=\"\",\"\",\"/\"&$F19)))","v":""},{"$f":"IF($I16=\"\",\"\",\"::\"&IF($B$16=\"\",\"\",$B$16&\"  \")&IF($E16=\"\",$H16,$E16)&\"::\")","v":""},null,null,null,null,23,{"$f":"(ROW()+1)/4","v":21},23,{"$f":"(ROW()+1)/4","v":21},19,{"$f":"(ROW()+2)/5","v":17},"",null,null,null,null,null,null,null,null,null,null,null,null,null,null,null,null,null,null,null,null,null,null,null,null,null,null,null,null,"","SA",0,"","","","","","","","","","","","","","","",{"$f":"IF(T83=\"\",\"\",IF($B$2=\"Short Answer\",IF(X83=\"\",T83,\"%\"&X83&\"%\"&T83),IF($D83=\"Short Answer\",IF(X83=\"\",T83,\"%\"&X83&\"%\"&T83),\"%\"&IF(X83=\"\",0,X83)&\"%\"&T83)))","v":""},{"$f":"IF(U83=\"\",\"\",IF($B$2=\"Short Answer\",IF(Y83=\"\",U83,\"%\"&Y83&\"%\"&U83),IF($D83=\"Short Answer\",IF(Y83=\"\",U83,\"%\"&Y83&\"%\"&U83),\"%\"&IF(Y83=\"\",0,Y83)&\"%\"&U83)))","v":""},{"$f":"IF(V83=\"\",\"\",IF($B$2=\"Short Answer\",IF(Z83=\"\",V83,\"%\"&Z83&\"%\"&V83),IF($D83=\"Short Answer\",IF(Z83=\"\",V83,\"%\"&Z83&\"%\"&V83),\"%\"&IF(Z83=\"\",0,Z83)&\"%\"&V83)))","v":""},{"$f":"IF(W83=\"\",\"\",IF($B$2=\"Short Answer\",IF(AA83=\"\",W83,\"%\"&AA83&\"%\"&W83),IF($D83=\"Short Answer\",IF(AA83=\"\",W83,\"%\"&AA83&\"%\"&W83),\"%\"&IF(AA83=\"\",0,AA83)&\"%\"&W83)))","v":""},"","","","","",""]
[null,null,82,null,null,null,null,null,null,null,null,null,null,null,null,null,null,null,null,null,null,null,null,null,null,null,null,null,null,null,null,null,null,null,null,null,null,"",82,{"$f":"IF($I23=\"\",\"\",IF($CE23=0,\"Enter question type or turn off variable question type\",IF($G23=\"\",VLOOKUP($CE23,$BY:$CA,3,0),$G23)))","v":""},null,{"$f":"IF($I16=\"\",\"\",IF($CE16=0,\"Enter question type or turn off variable question type\",IF($G16=\"\",VLOOKUP($CE16,$BY:$CA,3,0),$G16)))","v":""},{"$f":"IF($I30=\"\",\"\",\"::\"&IF($B$16=\"\",\"\",$B$16&\"  \")&IF($E30=\"\",$H30,$E30)&\"::\")","v":""},null,{"$f":"ROW()-1","v":83},{"$f":"AT80+1","v":23},"",null,"",null,"",null,30,{"$f":"ROW()/3","v":28},null,null,null,null,null,null,null,null,null,null,null,null,null,null,null,null,null,null,null,null,null,null,null,null,null,null,null,"","SA",0,"","","","","","","","","","","","","","","","","","","","","","","","",""]
[null,null,83,null,null,null,null,null,null,null,null,null,null,null,null,null,null,null,null,null,null,null,null,null,null,null,null,null,null,null,null,null,null,null,null,null,null,"",83,{"$f":"IF($I23=\"\",\"\",IF($CE23=0,\"Enter question type or turn off variable question type\",$CD23))","v":""},{"$f":"IF($I19=\"\",\"\",\"::\"&IF($B$16=\"\",\"\",$B$16&\"  \")&IF($E19=\"\",$H19,$E19)&\"::\")","v":""},{"$f":"IF($I16=\"\",\"\",IF($CE16=0,\"Enter question type or turn off variable question type\",$CD16))","v":""},{"$f":"IF($I30=\"\",\"\",IF($CE30=0,\"Enter question type or turn off variable question type\",$CD30))","v":""},null,{"$f":"ROW()-2","v":83},{"$f":"AT81+1","v":23},"",null,"",null,"",null,"",null,null,null,null,null,null,null,null,null,null,null,null,null,null,null,null,null,null,null,null,null,null,null,null,null,null,null,null,"","SA",0,"","","","","","","","","","","","","","","","","","","","","","","","",""]
[null,null,84,null,null,null,null,null,null,null,null,null,null,null,null,null,null,null,null,null,null,null,null,null,null,null,null,null,null,null,null,null,null,null,null,null,null,"",84,null,{"$f":"IF($I19=\"\",\"\",IF($CE19=0,\"Enter question type or turn off variable question type\",$CD19))","v":""},null,null,null,null,null,"",null,"",null,"",null,"",null,null,null,null,null,null,null,null,null,null,null,null,null,null,null,null,null,null,null,null,null,null,null,null,null,null,null,null,"","SA",0,"","","","","","","","","","","","","","","","","","","","","","","","",""]
[null,null,85,null,null,null,null,null,null,null,null,null,null,null,null,null,null,null,null,null,null,null,null,null,null,null,null,null,null,null,null,null,null,null,null,null,null,"",85,{"$f":"IF($I24=\"\",\"\",\"::\"&IF($B$16=\"\",\"\",$B$16&\"  \")&IF($E24=\"\",$H24,$E24)&\"::\")","v":""},null,{"$f":"IF($I17=\"\",\"\",IF($B$18=\"\",\"INPUT MAIN CATEGORY (CELL B18) OR TURN CATEGORIES OFF\",\"$CATEGORY: \"&$B$18&IF($F17=\"\",\"\",\"/\"&$F17)))","v":""},{"$f":"IF($I31=\"\",\"\",\"::\"&IF($B$16=\"\",\"\",$B$16&\"  \")&IF($E31=\"\",$H31,$E31)&\"::\")","v":""},null,null,null,24,{"$f":"(ROW()+1)/4","v":22},24,{"$f":"(ROW()+1)/4","v":22},"",null,31,{"$f":"ROW()/3","v":29},null,null,null,null,null,null,null,null,null,null,null,null,null,null,null,null,null,null,null,null,null,null,null,null,null,null,null,"","SA",0,"","","","","","","","","","","","","","","","","","","","","","","","",""]
[null,null,86,null,null,null,null,null,null,null,null,null,null,null,null,null,null,null,null,null,null,null,null,null,null,null,null,null,null,null,null,null,null,null,null,null,null,"",86,{"$f":"IF($I24=\"\",\"\",IF($CE24=0,\"Enter question type or turn off variable question type\",IF($G24=\"\",VLOOKUP($CE24,$BY:$CA,3,0),$G24)))","v":""},{"$f":"IF($I20=\"\",\"\",IF($B$18=\"\",\"INPUT MAIN CATEGORY (CELL B18) OR TURN CATEGORIES OFF\",\"$CATEGORY: \"&$B$18&IF($F20=\"\",\"\",\"/\"&$F20)))","v":""},null,{"$f":"IF($I31=\"\",\"\",IF($CE31=0,\"Enter question type or turn off variable question type\",$CD31))","v":""},null,{"$f":"ROW()-1","v":87},{"$f":"AT84+1","v":24},"",null,"",null,20,{"$f":"(ROW()+2)/5","v":18},"",null,null,null,null,null,null,null,null,null,null,null,null,null,null,null,null,null,null,null,null,null,null,null,null,null,null,null,null,"","SA",0,"","","","","","","","","","","","","","","","","","","","","","","","",""]
[null,null,87,null,null,null,null,null,null,null,null,null,null,null,null,null,null,null,null,null,null,null,null,null,null,null,null,null,null,null,null,null,null,null,null,null,null,"",87,{"$f":"IF($I24=\"\",\"\",IF($CE24=0,\"Enter question type or turn off variable question type\",$CD24))","v":""},null,{"$f":"IF($I17=\"\",\"\",\"::\"&IF($B$16=\"\",\"\",$B$16&\"  \")&IF($E17=\"\",$H17,$E17)&\"::\")","v":""},null,null,{"$f":"ROW()-2","v":87},{"$f":"AT85+1","v":24},"",null,"",null,"",null,"",null,null,null,null,null,null,null,null,null,null,null,null,null,null,null,null,null,null,null,null,null,null,null,null,null,null,null,null,"","SA",0,"","","","","","","","","","","","","","","","","","","","","","","","",""]
[null,null,88,null,null,null,null,null,null,null,null,null,null,null,null,null,null,null,null,null,null,null,null,null,null,null,null,null,null,null,null,null,null,null,null,null,null,"",88,null,{"$f":"IF($I20=\"\",\"\",\"::\"&IF($B$16=\"\",\"\",$B$16&\"  \")&IF($E20=\"\",$H20,$E20)&\"::\")","v":""},{"$f":"IF($I17=\"\",\"\",IF($CE17=0,\"Enter question type or turn off variable question type\",IF($G17=\"\",VLOOKUP($CE17,$BY:$CA,3,0),$G17)))","v":""},{"$f":"IF($I32=\"\",\"\",\"::\"&IF($B$16=\"\",\"\",$B$16&\"  \")&IF($E32=\"\",$H32,$E32)&\"::\")","v":""},null,null,null,"",null,"",null,"",null,32,{"$f":"ROW()/3","v":30},null,null,null,null,null,null,null,null,null,null,null,null,null,null,null,null,null,null,null,null,null,null,null,null,null,null,null,"","SA",0,"","","","","","","","","","","","","","","","","","","","","","","","",""]
[null,null,89,null,null,null,null,null,null,null,null,null,null,null,null,null,null,null,null,null,null,null,null,null,null,null,null,null,null,null,null,null,null,null,null,null,null,"",89,{"$f":"IF($I25=\"\",\"\",\"::\"&IF($B$16=\"\",\"\",$B$16&\"  \")&IF($E25=\"\",$H25,$E25)&\"::\")","v":""},{"$f":"IF($I20=\"\",\"\",IF($CE20=0,\"Enter question type or turn off variable question type\",$CD20))","v":""},{"$f":"IF($I17=\"\",\"\",IF($CE17=0,\"Enter question type or turn off variable question type\",$CD17))","v":""},{"$f":"IF($I32=\"\",\"\",IF($CE32=0,\"Enter question type or turn off variable question type\",$CD32))","v":""},null,null,null,25,{"$f":"(ROW()+1)/4","v":23},25,{"$f":"(ROW()+1)/4","v":23},"",null,"",null,null,null,null,null,null,null,null,null,null,null,null,null,null,null,null,null,null,null,null,null,null,null,null,null,null,null,null,"","SA",0,"","","","","","","","","","","","","","","","","","","","","","","","",""]
[null,null,90,null,null,null,null,null,null,null,null,null,null,null,null,null,null,null,null,null,null,null,null,null,null,null,null,null,null,null,null,null,null,null,null,null,null,"",90,{"$f":"IF($I25=\"\",\"\",IF($CE25=0,\"Enter question type or turn off variable question type\",IF($G25=\"\",VLOOKUP($CE25,$BY:$CA,3,0),$G25)))","v":""},null,null,null,null,{"$f":"ROW()-1","v":91},{"$f":"AT88+1","v":25},"",null,"",null,"",null,"",null,null,null,null,null,null,null,null,null,null,null,null,null,null,null,null,null,null,null,null,null,null,null,null,null,null,null,null,"","SA",0,"","","","","","","","","","","","","","","","","","","","","","","","",""]
[null,null,91,null,null,null,null,null,null,null,null,null,null,null,null,null,null,null,null,null,null,null,null,null,null,null,null,null,null,null,null,null,null,null,null,null,null,"",91,{"$f":"IF($I25=\"\",\"\",IF($CE25=0,\"Enter question type or turn off variable question type\",$CD25))","v":""},{"$f":"IF($I21=\"\",\"\",IF($B$18=\"\",\"INPUT MAIN CATEGORY (CELL B18) OR TURN CATEGORIES OFF\",\"$CATEGORY: \"&$B$18&IF($F21=\"\",\"\",\"/\"&$F21)))","v":""},{"$f":"IF($I18=\"\",\"\",IF($B$18=\"\",\"INPUT MAIN CATEGORY (CELL B18) OR TURN CATEGORIES OFF\",\"$CATEGORY: \"&$B$18&IF($F18=\"\",\"\",\"/\"&$F18)))","v":""},{"$f":"IF($I33=\"\",\"\",\"::\"&IF($B$16=\"\",\"\",$B$16&\"  \")&IF($E33=\"\",$H33,$E33)&\"::\")","v":""},null,{"$f":"ROW()-2","v":91},{"$f":"AT89+1","v":25},"",null,"",null,21,{"$f":"(ROW()+2)/5","v":19},33,{"$f":"ROW()/3","v":31},null,null,null,null,null,null,null,null,null,null,null,null,null,null,null,null,null,null,null,null,null,null,null,null,null,null,null,"","SA",0,"","","","","","","","","","","",{"$f":"IF(L93=\"\",\"\",IFERROR(\"#\"&VLOOKUP($S93,$BH:$BI,2,0),IF(T93=\"\",\"\",\"#\"&IFERROR(VLOOKUP(T93,$BE:$BF,2,0),T93))))","v":""},"","","","","","","",{"$f":"IF(W93=\"\",\"\",IFERROR(\"#\"&VLOOKUP($S93,$BH:$BI,2,0),IF(AG93=\"\",\"\",\"#\"&IFERROR(VLOOKUP(AG93,$BE:$BF,2,0),AG93))))","v":""},"","","","",""]
[null,null,92,null,null,null,null,null,null,null,null,null,null,null,null,null,null,null,null,null,null,null,null,null,null,null,null,null,null,null,null,null,null,null,null,null,null,"",92,null,null,null,{"$f":"IF($I33=\"\",\"\",IF($CE33=0,\"Enter question type or turn off variable question type\",$CD33))","v":""},null,null,null,"",null,"",null,"",null,"",null,null,null,null,null,null,null,null,null,null,null,null,null,null,null,null,null,null,null,null,null,null,null,null,null,null,null,null,"","SA",0,"","","","","","","","","","","","","","","","","","","","","","","","",""]
[null,null,93,null,null,null,null,null,null,null,null,null,null,null,null,null,null,null,null,null,null,null,null,null,null,null,null,null,null,null,null,null,null,null,null,null,null,"",93,{"$f":"IF($I26=\"\",\"\",\"::\"&IF($B$16=\"\",\"\",$B$16&\"  \")&IF($E26=\"\",$H26,$E26)&\"::\")","v":""},{"$f":"IF($I21=\"\",\"\",\"::\"&IF($B$16=\"\",\"\",$B$16&\"  \")&IF($E21=\"\",$H21,$E21)&\"::\")","v":""},{"$f":"IF($I18=\"\",\"\",\"::\"&IF($B$16=\"\",\"\",$B$16&\"  \")&IF($E18=\"\",$H18,$E18)&\"::\")","v":""},null,null,null,null,26,{"$f":"(ROW()+1)/4","v":24},26,{"$f":"(ROW()+1)/4","v":24},"",null,"",null,null,null,null,null,null,null,null,null,null,null,null,null,null,null,null,null,null,null,null,null,null,null,null,null,null,null,null,"","SA",0,"","","","","","","","","","","","","","","","","","","","","","","","",""]
[null,null,94,null,null,null,null,null,null,null,null,null,null,null,null,null,null,null,null,null,null,null,null,null,null,null,null,null,null,null,null,null,null,null,null,null,null,"",94,{"$f":"IF($I26=\"\",\"\",IF($CE26=0,\"Enter question type or turn off variable question type\",IF($G26=\"\",VLOOKUP($CE26,$BY:$CA,3,0),$G26)))","v":""},{"$f":"IF($I21=\"\",\"\",IF($CE21=0,\"Enter question type or turn off variable question type\",$CD21))","v":""},{"$f":"IF($I18=\"\",\"\",IF($CE18=0,\"Enter question type or turn off variable question type\",IF($G18=\"\",VLOOKUP($CE18,$BY:$CA,3,0),$G18)))","v":""},{"$f":"IF($I34=\"\",\"\",\"::\"&IF($B$16=\"\",\"\",$B$16&\"  \")&IF($E34=\"\",$H34,$E34)&\"::\")","v":""},null,{"$f":"ROW()-1","v":95},{"$f":"AT92+1","v":26},"",null,"",null,"",null,34,{"$f":"ROW()/3","v":32},null,null,null,null,null,null,null,null,null,null,null,null,null,null,null,null,null,null,null,null,null,null,null,null,null,null,null,"","SA",0,"","","","","","","","","","","","","","","","","","","","","","","","",""]
[null,null,95,null,null,null,null,null,null,null,null,null,null,null,null,null,null,null,null,null,null,null,null,null,null,null,null,null,null,null,null,null,null,null,null,null,null,"",95,{"$f":"IF($I26=\"\",\"\",IF($CE26=0,\"Enter question type or turn off variable question type\",$CD26))","v":""},null,{"$f":"IF($I18=\"\",\"\",IF($CE18=0,\"Enter question type or turn off variable question type\",$CD18))","v":""},{"$f":"IF($I34=\"\",\"\",IF($CE34=0,\"Enter question type or turn off variable question type\",$CD34))","v":""},null,{"$f":"ROW()-2","v":95},{"$f":"AT93+1","v":26},"",null,"",null,"",null,"",null,null,null,null,null,null,null,null,null,null,null,null,null,null,null,null,null,null,null,null,null,null,null,null,null,null,null,null,"","SA",0,"","","","","","","","","","","","","","","","","","","","","","","","",""]
[null,null,96,null,null,null,null,null,null,null,null,null,null,null,null,null,null,null,null,null,null,null,null,null,null,null,null,null,null,null,null,null,null,null,null,null,null,"",96,null,{"$f":"IF($I22=\"\",\"\",IF($B$18=\"\",\"INPUT MAIN CATEGORY (CELL B18) OR TURN CATEGORIES OFF\",\"$CATEGORY: \"&$B$18&IF($F22=\"\",\"\",\"/\"&$F22)))","v":""},null,null,null,null,null,"",null,"",null,22,{"$f":"(ROW()+2)/5","v":20},"",null,null,null,null,null,null,null,null,null,null,null,null,null,null,null,null,null,null,null,null,null,null,null,null,null,null,null,null,"","SA",0,"","","","","","","","","","","","","","","","","","","","","","","","",""]
[null,null,97,null,null,null,null,null,null,null,null,null,null,null,null,null,null,null,null,null,null,null,null,null,null,null,null,null,null,null,null,null,null,null,null,null,null,"",97,{"$f":"IF($I27=\"\",\"\",\"::\"&IF($B$16=\"\",\"\",$B$16&\"  \")&IF($E27=\"\",$H27,$E27)&\"::\")","v":""},null,{"$f":"IF($I19=\"\",\"\",IF($B$18=\"\",\"INPUT MAIN CATEGORY (CELL B18) OR TURN CATEGORIES OFF\",\"$CATEGORY: \"&$B$18&IF($F19=\"\",\"\",\"/\"&$F19)))","v":""},{"$f":"IF($I35=\"\",\"\",\"::\"&IF($B$16=\"\",\"\",$B$16&\"  \")&IF($E35=\"\",$H35,$E35)&\"::\")","v":""},null,null,null,27,{"$f":"(ROW()+1)/4","v":25},27,{"$f":"(ROW()+1)/4","v":25},"",null,35,{"$f":"ROW()/3","v":33},null,null,null,null,null,null,null,null,null,null,null,null,null,null,null,null,null,null,null,null,null,null,null,null,null,null,null,"","SA",0,"","","","","","","","","","","","","","","","","","","","","","","","",""]
[null,null,98,null,null,null,null,null,null,null,null,null,null,null,null,null,null,null,null,null,null,null,null,null,null,null,null,null,null,null,null,null,null,null,null,null,null,"",98,{"$f":"IF($I27=\"\",\"\",IF($CE27=0,\"Enter question type or turn off variable question type\",IF($G27=\"\",VLOOKUP($CE27,$BY:$CA,3,0),$G27)))","v":""},{"$f":"IF($I22=\"\",\"\",\"::\"&IF($B$16=\"\",\"\",$B$16&\"  \")&IF($E22=\"\",$H22,$E22)&\"::\")","v":""},null,{"$f":"IF($I35=\"\",\"\",IF($CE35=0,\"Enter question type or turn off variable question type\",$CD35))","v":""},null,{"$f":"ROW()-1","v":99},{"$f":"AT96+1","v":27},"",null,"",null,"",null,"",null,null,null,null,null,null,null,null,null,null,null,null,null,null,null,null,null,null,null,null,null,null,null,null,null,null,null,null,"","SA",0,"","","","","","","","","","","","","","","","","","","","","","","","",""]
[null,null,99,null,null,null,null,null,null,null,null,null,null,null,null,null,null,null,null,null,null,null,null,null,null,null,null,null,null,null,null,null,null,null,null,null,null,"",99,{"$f":"IF($I27=\"\",\"\",IF($CE27=0,\"Enter question type or turn off variable question type\",$CD27))","v":""},{"$f":"IF($I22=\"\",\"\",IF($CE22=0,\"Enter question type or turn off variable question type\",$CD22))","v":""},{"$f":"IF($I19=\"\",\"\",\"::\"&IF($B$16=\"\",\"\",$B$16&\"  \")&IF($E19=\"\",$H19,$E19)&\"::\")","v":""},null,null,{"$f":"ROW()-2","v":99},{"$f":"AT97+1","v":27},"",null,"",null,"",null,"",null,null,null,null,null,null,null,null,null,null,null,null,null,null,null,null,null,null,null,null,null,null,null,null,null,null,null,null,"","SA",0,"","","","","","","","","","","","","","","","","","","","","","","","",""]
[null,null,100,null,null,null,null,null,null,null,null,null,null,null,null,null,null,null,null,null,null,null,null,null,null,null,null,null,null,null,null,null,null,null,null,null,null,"",100,null,null,{"$f":"IF($I19=\"\",\"\",IF($CE19=0,\"Enter question type or turn off variable question type\",IF($G19=\"\",VLOOKUP($CE19,$BY:$CA,3,0),$G19)))","v":""},{"$f":"IF($I36=\"\",\"\",\"::\"&IF($B$16=\"\",\"\",$B$16&\"  \")&IF($E36=\"\",$H36,$E36)&\"::\")","v":""},null,null,null,"",null,"",null,"",null,36,{"$f":"ROW()/3","v":34},null,null,null,null,null,null,null,null,null,null,null,null,null,null,null,null,null,null,null,null,null,null,null,null,null,null,null,"","SA",0,"","","","","","","","","","","","","","","","","","","","","","","","",""]
[null,null,null,null,null,null,null,null,null,null,null,null,null,null,null,null,null,null,null,null,null,null,null,null,null,null,null,null,null,null,null,null,null,null,null,null,null,"",101,{"$f":"IF($I28=\"\",\"\",\"::\"&IF($B$16=\"\",\"\",$B$16&\"  \")&IF($E28=\"\",$H28,$E28)&\"::\")","v":""},{"$f":"IF($I23=\"\",\"\",IF($B$18=\"\",\"INPUT MAIN CATEGORY (CELL B18) OR TURN CATEGORIES OFF\",\"$CATEGORY: \"&$B$18&IF($F23=\"\",\"\",\"/\"&$F23)))","v":""},{"$f":"IF($I19=\"\",\"\",IF($CE19=0,\"Enter question type or turn off variable question type\",$CD19))","v":""},{"$f":"IF($I36=\"\",\"\",IF($CE36=0,\"Enter question type or turn off variable question type\",$CD36))","v":""},null,null,null,28,{"$f":"(ROW()+1)/4","v":26},28,{"$f":"(ROW()+1)/4","v":26},23,{"$f":"(ROW()+2)/5","v":21},""]
[null,null,null,null,null,null,null,null,null,null,null,null,null,null,null,null,null,null,null,null,null,null,null,null,null,null,null,null,null,null,null,null,null,null,null,null,null,"",102,{"$f":"IF($I28=\"\",\"\",IF($CE28=0,\"Enter question type or turn off variable question type\",IF($G28=\"\",VLOOKUP($CE28,$BY:$CA,3,0),$G28)))","v":""},null,null,null,null,{"$f":"ROW()-1","v":103},{"$f":"AT100+1","v":28},"",null,"",null,"",null,""]
[null,null,null,null,null,null,null,null,null,null,null,null,null,null,null,null,null,null,null,null,null,null,null,null,null,null,null,null,null,null,null,null,null,null,null,null,null,"",103,{"$f":"IF($I28=\"\",\"\",IF($CE28=0,\"Enter question type or turn off variable question type\",$CD28))","v":""},{"$f":"IF($I23=\"\",\"\",\"::\"&IF($B$16=\"\",\"\",$B$16&\"  \")&IF($E23=\"\",$H23,$E23)&\"::\")","v":""},{"$f":"IF($I20=\"\",\"\",IF($B$18=\"\",\"INPUT MAIN CATEGORY (CELL B18) OR TURN CATEGORIES OFF\",\"$CATEGORY: \"&$B$18&IF($F20=\"\",\"\",\"/\"&$F20)))","v":""},{"$f":"IF($I37=\"\",\"\",\"::\"&IF($B$16=\"\",\"\",$B$16&\"  \")&IF($E37=\"\",$H37,$E37)&\"::\")","v":""},null,{"$f":"ROW()-2","v":103},{"$f":"AT101+1","v":28},"",null,"",null,"",null,37,{"$f":"ROW()/3","v":35}]
[null,null,null,null,null,null,null,null,null,null,null,null,null,null,null,null,null,null,null,null,null,null,null,null,null,null,null,null,null,null,null,null,null,null,null,null,null,"",104,null,{"$f":"IF($I23=\"\",\"\",IF($CE23=0,\"Enter question type or turn off variable question type\",$CD23))","v":""},null,{"$f":"IF($I37=\"\",\"\",IF($CE37=0,\"Enter question type or turn off variable question type\",$CD37))","v":""},null,null,null,"",null,"",null,"",null,""]
[null,null,null,null,null,null,null,null,null,null,null,null,null,null,null,null,null,null,null,null,null,null,null,null,null,null,null,null,null,null,null,null,null,null,null,null,null,"",105,{"$f":"IF($I29=\"\",\"\",\"::\"&IF($B$16=\"\",\"\",$B$16&\"  \")&IF($E29=\"\",$H29,$E29)&\"::\")","v":""},null,{"$f":"IF($I20=\"\",\"\",\"::\"&IF($B$16=\"\",\"\",$B$16&\"  \")&IF($E20=\"\",$H20,$E20)&\"::\")","v":""},null,null,null,null,29,{"$f":"(ROW()+1)/4","v":27},29,{"$f":"(ROW()+1)/4","v":27},"",null,""]
[null,null,null,null,null,null,null,null,null,null,null,null,null,null,null,null,null,null,null,null,null,null,null,null,null,null,null,null,null,null,null,null,null,null,null,null,null,"",106,{"$f":"IF($I29=\"\",\"\",IF($CE29=0,\"Enter question type or turn off variable question type\",IF($G29=\"\",VLOOKUP($CE29,$BY:$CA,3,0),$G29)))","v":""},{"$f":"IF($I24=\"\",\"\",IF($B$18=\"\",\"INPUT MAIN CATEGORY (CELL B18) OR TURN CATEGORIES OFF\",\"$CATEGORY: \"&$B$18&IF($F24=\"\",\"\",\"/\"&$F24)))","v":""},{"$f":"IF($I20=\"\",\"\",IF($CE20=0,\"Enter question type or turn off variable question type\",IF($G20=\"\",VLOOKUP($CE20,$BY:$CA,3,0),$G20)))","v":""},{"$f":"IF($I38=\"\",\"\",\"::\"&IF($B$16=\"\",\"\",$B$16&\"  \")&IF($E38=\"\",$H38,$E38)&\"::\")","v":""},null,{"$f":"ROW()-1","v":107},{"$f":"AT104+1","v":29},"",null,"",null,24,{"$f":"(ROW()+2)/5","v":22},38,{"$f":"ROW()/3","v":36}]
[null,null,null,null,null,null,null,null,null,null,null,null,null,null,null,null,null,null,null,null,null,null,null,null,null,null,null,null,null,null,null,null,null,null,null,null,null,"",107,{"$f":"IF($I29=\"\",\"\",IF($CE29=0,\"Enter question type or turn off variable question type\",$CD29))","v":""},null,{"$f":"IF($I20=\"\",\"\",IF($CE20=0,\"Enter question type or turn off variable question type\",$CD20))","v":""},{"$f":"IF($I38=\"\",\"\",IF($CE38=0,\"Enter question type or turn off variable question type\",$CD38))","v":""},null,{"$f":"ROW()-2","v":107},{"$f":"AT105+1","v":29},"",null,"",null,"",null,""]
[null,null,null,null,null,null,null,null,null,null,null,null,null,null,null,null,null,null,null,null,null,null,null,null,null,null,null,null,null,null,null,null,null,null,null,null,null,"",108,null,{"$f":"IF($I24=\"\",\"\",\"::\"&IF($B$16=\"\",\"\",$B$16&\"  \")&IF($E24=\"\",$H24,$E24)&\"::\")","v":""},null,null,null,null,null,"",null,"",null,"",null,""]
[null,null,null,null,null,null,null,null,null,null,null,null,null,null,null,null,null,null,null,null,null,null,null,null,null,null,null,null,null,null,null,null,null,null,null,null,null,"",109,{"$f":"IF($I30=\"\",\"\",\"::\"&IF($B$16=\"\",\"\",$B$16&\"  \")&IF($E30=\"\",$H30,$E30)&\"::\")","v":""},{"$f":"IF($I24=\"\",\"\",IF($CE24=0,\"Enter question type or turn off variable question type\",$CD24))","v":""},{"$f":"IF($I21=\"\",\"\",IF($B$18=\"\",\"INPUT MAIN CATEGORY (CELL B18) OR TURN CATEGORIES OFF\",\"$CATEGORY: \"&$B$18&IF($F21=\"\",\"\",\"/\"&$F21)))","v":""},{"$f":"IF($I39=\"\",\"\",\"::\"&IF($B$16=\"\",\"\",$B$16&\"  \")&IF($E39=\"\",$H39,$E39)&\"::\")","v":""},null,null,null,30,{"$f":"(ROW()+1)/4","v":28},30,{"$f":"(ROW()+1)/4","v":28},"",null,39,{"$f":"ROW()/3","v":37}]
[null,null,null,null,null,null,null,null,null,null,null,null,null,null,null,null,null,null,null,null,null,null,null,null,null,null,null,null,null,null,null,null,null,null,null,null,null,"",110,{"$f":"IF($I30=\"\",\"\",IF($CE30=0,\"Enter question type or turn off variable question type\",IF($G30=\"\",VLOOKUP($CE30,$BY:$CA,3,0),$G30)))","v":""},null,null,{"$f":"IF($I39=\"\",\"\",IF($CE39=0,\"Enter question type or turn off variable question type\",$CD39))","v":""},null,{"$f":"ROW()-1","v":111},{"$f":"AT108+1","v":30},"",null,"",null,"",null,""]
[null,null,null,null,null,null,null,null,null,null,null,null,null,null,null,null,null,null,null,null,null,null,null,null,null,null,null,null,null,null,null,null,null,null,null,null,null,"",111,{"$f":"IF($I30=\"\",\"\",IF($CE30=0,\"Enter question type or turn off variable question type\",$CD30))","v":""},{"$f":"IF($I25=\"\",\"\",IF($B$18=\"\",\"INPUT MAIN CATEGORY (CELL B18) OR TURN CATEGORIES OFF\",\"$CATEGORY: \"&$B$18&IF($F25=\"\",\"\",\"/\"&$F25)))","v":""},{"$f":"IF($I21=\"\",\"\",\"::\"&IF($B$16=\"\",\"\",$B$16&\"  \")&IF($E21=\"\",$H21,$E21)&\"::\")","v":""},null,null,{"$f":"ROW()-2","v":111},{"$f":"AT109+1","v":30},"",null,"",null,25,{"$f":"(ROW()+2)/5","v":23},""]
[null,null,null,null,null,null,null,null,null,null,null,null,null,null,null,null,null,null,null,null,null,null,null,null,null,null,null,null,null,null,null,null,null,null,null,null,null,"",112,null,null,{"$f":"IF($I21=\"\",\"\",IF($CE21=0,\"Enter question type or turn off variable question type\",IF($G21=\"\",VLOOKUP($CE21,$BY:$CA,3,0),$G21)))","v":""},{"$f":"IF($I40=\"\",\"\",\"::\"&IF($B$16=\"\",\"\",$B$16&\"  \")&IF($E40=\"\",$H40,$E40)&\"::\")","v":""},null,null,null,"",null,"",null,"",null,40,{"$f":"ROW()/3","v":38}]
[null,null,null,null,null,null,null,null,null,null,null,null,null,null,null,null,null,null,null,null,null,null,null,null,null,null,null,null,null,null,null,null,null,null,null,null,null,"",113,{"$f":"IF($I31=\"\",\"\",\"::\"&IF($B$16=\"\",\"\",$B$16&\"  \")&IF($E31=\"\",$H31,$E31)&\"::\")","v":""},{"$f":"IF($I25=\"\",\"\",\"::\"&IF($B$16=\"\",\"\",$B$16&\"  \")&IF($E25=\"\",$H25,$E25)&\"::\")","v":""},{"$f":"IF($I21=\"\",\"\",IF($CE21=0,\"Enter question type or turn off variable question type\",$CD21))","v":""},{"$f":"IF($I40=\"\",\"\",IF($CE40=0,\"Enter question type or turn off variable question type\",$CD40))","v":""},null,null,null,31,{"$f":"(ROW()+1)/4","v":29},31,{"$f":"(ROW()+1)/4","v":29},"",null,""]
[null,null,null,null,null,null,null,null,null,null,null,null,null,null,null,null,null,null,null,null,null,null,null,null,null,null,null,null,null,null,null,null,null,null,null,null,null,"",114,{"$f":"IF($I31=\"\",\"\",IF($CE31=0,\"Enter question type or turn off variable question type\",IF($G31=\"\",VLOOKUP($CE31,$BY:$CA,3,0),$G31)))","v":""},{"$f":"IF($I25=\"\",\"\",IF($CE25=0,\"Enter question type or turn off variable question type\",$CD25))","v":""},null,null,null,{"$f":"ROW()-1","v":115},{"$f":"AT112+1","v":31},"",null,"",null,"",null,""]
[null,null,null,null,null,null,null,null,null,null,null,null,null,null,null,null,null,null,null,null,null,null,null,null,null,null,null,null,null,null,null,null,null,null,null,null,null,"",115,{"$f":"IF($I31=\"\",\"\",IF($CE31=0,\"Enter question type or turn off variable question type\",$CD31))","v":""},null,{"$f":"IF($I22=\"\",\"\",IF($B$18=\"\",\"INPUT MAIN CATEGORY (CELL B18) OR TURN CATEGORIES OFF\",\"$CATEGORY: \"&$B$18&IF($F22=\"\",\"\",\"/\"&$F22)))","v":""},{"$f":"IF($I41=\"\",\"\",\"::\"&IF($B$16=\"\",\"\",$B$16&\"  \")&IF($E41=\"\",$H41,$E41)&\"::\")","v":""},null,{"$f":"ROW()-2","v":115},{"$f":"AT113+1","v":31},"",null,"",null,"",null,41,{"$f":"ROW()/3","v":39}]
[null,null,null,null,null,null,null,null,null,null,null,null,null,null,null,null,null,null,null,null,null,null,null,null,null,null,null,null,null,null,null,null,null,null,null,null,null,"",116,null,{"$f":"IF($I26=\"\",\"\",IF($B$18=\"\",\"INPUT MAIN CATEGORY (CELL B18) OR TURN CATEGORIES OFF\",\"$CATEGORY: \"&$B$18&IF($F26=\"\",\"\",\"/\"&$F26)))","v":""},null,{"$f":"IF($I41=\"\",\"\",IF($CE41=0,\"Enter question type or turn off variable question type\",$CD41))","v":""},null,null,null,"",null,"",null,26,{"$f":"(ROW()+2)/5","v":24},""]
[null,null,null,null,null,null,null,null,null,null,null,null,null,null,null,null,null,null,null,null,null,null,null,null,null,null,null,null,null,null,null,null,null,null,null,null,null,"",117,{"$f":"IF($I32=\"\",\"\",\"::\"&IF($B$16=\"\",\"\",$B$16&\"  \")&IF($E32=\"\",$H32,$E32)&\"::\")","v":""},null,{"$f":"IF($I22=\"\",\"\",\"::\"&IF($B$16=\"\",\"\",$B$16&\"  \")&IF($E22=\"\",$H22,$E22)&\"::\")","v":""},null,null,null,null,32,{"$f":"(ROW()+1)/4","v":30},32,{"$f":"(ROW()+1)/4","v":30},"",null,""]
[null,null,null,null,null,null,null,null,null,null,null,null,null,null,null,null,null,null,null,null,null,null,null,null,null,null,null,null,null,null,null,null,null,null,null,null,null,"",118,{"$f":"IF($I32=\"\",\"\",IF($CE32=0,\"Enter question type or turn off variable question type\",IF($G32=\"\",VLOOKUP($CE32,$BY:$CA,3,0),$G32)))","v":""},{"$f":"IF($I26=\"\",\"\",\"::\"&IF($B$16=\"\",\"\",$B$16&\"  \")&IF($E26=\"\",$H26,$E26)&\"::\")","v":""},{"$f":"IF($I22=\"\",\"\",IF($CE22=0,\"Enter question type or turn off variable question type\",IF($G22=\"\",VLOOKUP($CE22,$BY:$CA,3,0),$G22)))","v":""},{"$f":"IF($I42=\"\",\"\",\"::\"&IF($B$16=\"\",\"\",$B$16&\"  \")&IF($E42=\"\",$H42,$E42)&\"::\")","v":""},null,{"$f":"ROW()-1","v":119},{"$f":"AT116+1","v":32},"",null,"",null,"",null,42,{"$f":"ROW()/3","v":40}]
[null,null,null,null,null,null,null,null,null,null,null,null,null,null,null,null,null,null,null,null,null,null,null,null,null,null,null,null,null,null,null,null,null,null,null,null,null,"",119,{"$f":"IF($I32=\"\",\"\",IF($CE32=0,\"Enter question type or turn off variable question type\",$CD32))","v":""},{"$f":"IF($I26=\"\",\"\",IF($CE26=0,\"Enter question type or turn off variable question type\",$CD26))","v":""},{"$f":"IF($I22=\"\",\"\",IF($CE22=0,\"Enter question type or turn off variable question type\",$CD22))","v":""},{"$f":"IF($I42=\"\",\"\",IF($CE42=0,\"Enter question type or turn off variable question type\",$CD42))","v":""},null,{"$f":"ROW()-2","v":119},{"$f":"AT117+1","v":32},"",null,"",null,"",null,""]
[null,null,null,null,null,null,null,null,null,null,null,null,null,null,null,null,null,null,null,null,null,null,null,null,null,null,null,null,null,null,null,null,null,null,null,null,null,"",120,null,null,null,null,null,null,null,"",null,"",null,"",null,""]
[null,null,null,null,null,null,null,null,null,null,null,null,null,null,null,null,null,null,null,null,null,null,null,null,null,null,null,null,null,null,null,null,null,null,null,null,null,"",121,{"$f":"IF($I33=\"\",\"\",\"::\"&IF($B$16=\"\",\"\",$B$16&\"  \")&IF($E33=\"\",$H33,$E33)&\"::\")","v":""},{"$f":"IF($I27=\"\",\"\",IF($B$18=\"\",\"INPUT MAIN CATEGORY (CELL B18) OR TURN CATEGORIES OFF\",\"$CATEGORY: \"&$B$18&IF($F27=\"\",\"\",\"/\"&$F27)))","v":""},{"$f":"IF($I23=\"\",\"\",IF($B$18=\"\",\"INPUT MAIN CATEGORY (CELL B18) OR TURN CATEGORIES OFF\",\"$CATEGORY: \"&$B$18&IF($F23=\"\",\"\",\"/\"&$F23)))","v":""},{"$f":"IF($I43=\"\",\"\",\"::\"&IF($B$16=\"\",\"\",$B$16&\"  \")&IF($E43=\"\",$H43,$E43)&\"::\")","v":""},null,null,null,33,{"$f":"(ROW()+1)/4","v":31},33,{"$f":"(ROW()+1)/4","v":31},27,{"$f":"(ROW()+2)/5","v":25},43,{"$f":"ROW()/3","v":41}]
[null,null,null,null,null,null,null,null,null,null,null,null,null,null,null,null,null,null,null,null,null,null,null,null,null,null,null,null,null,null,null,null,null,null,null,null,null,"",122,{"$f":"IF($I33=\"\",\"\",IF($CE33=0,\"Enter question type or turn off variable question type\",IF($G33=\"\",VLOOKUP($CE33,$BY:$CA,3,0),$G33)))","v":""},null,null,{"$f":"IF($I43=\"\",\"\",IF($CE43=0,\"Enter question type or turn off variable question type\",$CD43))","v":""},null,{"$f":"ROW()-1","v":123},{"$f":"AT120+1","v":33},"",null,"",null,"",null,""]
[null,null,null,null,null,null,null,null,null,null,null,null,null,null,null,null,null,null,null,null,null,null,null,null,null,null,null,null,null,null,null,null,null,null,null,null,null,"",123,{"$f":"IF($I33=\"\",\"\",IF($CE33=0,\"Enter question type or turn off variable question type\",$CD33))","v":""},{"$f":"IF($I27=\"\",\"\",\"::\"&IF($B$16=\"\",\"\",$B$16&\"  \")&IF($E27=\"\",$H27,$E27)&\"::\")","v":""},{"$f":"IF($I23=\"\",\"\",\"::\"&IF($B$16=\"\",\"\",$B$16&\"  \")&IF($E23=\"\",$H23,$E23)&\"::\")","v":""},null,null,{"$f":"ROW()-2","v":123},{"$f":"AT121+1","v":33},"",null,"",null,"",null,""]
[null,null,null,null,null,null,null,null,null,null,null,null,null,null,null,null,null,null,null,null,null,null,null,null,null,null,null,null,null,null,null,null,null,null,null,null,null,"",124,null,{"$f":"IF($I27=\"\",\"\",IF($CE27=0,\"Enter question type or turn off variable question type\",$CD27))","v":""},{"$f":"IF($I23=\"\",\"\",IF($CE23=0,\"Enter question type or turn off variable question type\",IF($G23=\"\",VLOOKUP($CE23,$BY:$CA,3,0),$G23)))","v":""},{"$f":"IF($I44=\"\",\"\",\"::\"&IF($B$16=\"\",\"\",$B$16&\"  \")&IF($E44=\"\",$H44,$E44)&\"::\")","v":""},null,null,null,"",null,"",null,"",null,44,{"$f":"ROW()/3","v":42}]
[null,null,null,null,null,null,null,null,null,null,null,null,null,null,null,null,null,null,null,null,null,null,null,null,null,null,null,null,null,null,null,null,null,null,null,null,null,"",125,{"$f":"IF($I34=\"\",\"\",\"::\"&IF($B$16=\"\",\"\",$B$16&\"  \")&IF($E34=\"\",$H34,$E34)&\"::\")","v":""},null,{"$f":"IF($I23=\"\",\"\",IF($CE23=0,\"Enter question type or turn off variable question type\",$CD23))","v":""},{"$f":"IF($I44=\"\",\"\",IF($CE44=0,\"Enter question type or turn off variable question type\",$CD44))","v":""},null,null,null,34,{"$f":"(ROW()+1)/4","v":32},34,{"$f":"(ROW()+1)/4","v":32},"",null,""]
[null,null,null,null,null,null,null,null,null,null,null,null,null,null,null,null,null,null,null,null,null,null,null,null,null,null,null,null,null,null,null,null,null,null,null,null,null,"",126,{"$f":"IF($I34=\"\",\"\",IF($CE34=0,\"Enter question type or turn off variable question type\",IF($G34=\"\",VLOOKUP($CE34,$BY:$CA,3,0),$G34)))","v":""},{"$f":"IF($I28=\"\",\"\",IF($B$18=\"\",\"INPUT MAIN CATEGORY (CELL B18) OR TURN CATEGORIES OFF\",\"$CATEGORY: \"&$B$18&IF($F28=\"\",\"\",\"/\"&$F28)))","v":""},null,null,null,{"$f":"ROW()-1","v":127},{"$f":"AT124+1","v":34},"",null,"",null,28,{"$f":"(ROW()+2)/5","v":26},""]
[null,null,null,null,null,null,null,null,null,null,null,null,null,null,null,null,null,null,null,null,null,null,null,null,null,null,null,null,null,null,null,null,null,null,null,null,null,"",127,{"$f":"IF($I34=\"\",\"\",IF($CE34=0,\"Enter question type or turn off variable question type\",$CD34))","v":""},null,{"$f":"IF($I24=\"\",\"\",IF($B$18=\"\",\"INPUT MAIN CATEGORY (CELL B18) OR TURN CATEGORIES OFF\",\"$CATEGORY: \"&$B$18&IF($F24=\"\",\"\",\"/\"&$F24)))","v":""},{"$f":"IF($I45=\"\",\"\",\"::\"&IF($B$16=\"\",\"\",$B$16&\"  \")&IF($E45=\"\",$H45,$E45)&\"::\")","v":""},null,{"$f":"ROW()-2","v":127},{"$f":"AT125+1","v":34},"",null,"",null,"",null,45,{"$f":"ROW()/3","v":43}]
[null,null,null,null,null,null,null,null,null,null,null,null,null,null,null,null,null,null,null,null,null,null,null,null,null,null,null,null,null,null,null,null,null,null,null,null,null,"",128,null,{"$f":"IF($I28=\"\",\"\",\"::\"&IF($B$16=\"\",\"\",$B$16&\"  \")&IF($E28=\"\",$H28,$E28)&\"::\")","v":""},null,{"$f":"IF($I45=\"\",\"\",IF($CE45=0,\"Enter question type or turn off variable question type\",$CD45))","v":""},null,null,null,"",null,"",null,"",null,""]
[null,null,null,null,null,null,null,null,null,null,null,null,null,null,null,null,null,null,null,null,null,null,null,null,null,null,null,null,null,null,null,null,null,null,null,null,null,"",129,{"$f":"IF($I35=\"\",\"\",\"::\"&IF($B$16=\"\",\"\",$B$16&\"  \")&IF($E35=\"\",$H35,$E35)&\"::\")","v":""},{"$f":"IF($I28=\"\",\"\",IF($CE28=0,\"Enter question type or turn off variable question type\",$CD28))","v":""},{"$f":"IF($I24=\"\",\"\",\"::\"&IF($B$16=\"\",\"\",$B$16&\"  \")&IF($E24=\"\",$H24,$E24)&\"::\")","v":""},null,null,null,null,35,{"$f":"(ROW()+1)/4","v":33},35,{"$f":"(ROW()+1)/4","v":33},"",null,""]
[null,null,null,null,null,null,null,null,null,null,null,null,null,null,null,null,null,null,null,null,null,null,null,null,null,null,null,null,null,null,null,null,null,null,null,null,null,"",130,{"$f":"IF($I35=\"\",\"\",IF($CE35=0,\"Enter question type or turn off variable question type\",IF($G35=\"\",VLOOKUP($CE35,$BY:$CA,3,0),$G35)))","v":""},null,{"$f":"IF($I24=\"\",\"\",IF($CE24=0,\"Enter question type or turn off variable question type\",IF($G24=\"\",VLOOKUP($CE24,$BY:$CA,3,0),$G24)))","v":""},{"$f":"IF($I46=\"\",\"\",\"::\"&IF($B$16=\"\",\"\",$B$16&\"  \")&IF($E46=\"\",$H46,$E46)&\"::\")","v":""},null,{"$f":"ROW()-1","v":131},{"$f":"AT128+1","v":35},{"$f":"IF(AV132+2=2,\"\",AV132+2)","v":""},null,"",null,{"$f":"IF(AZ132+2=2,\"\",AZ132+2)","v":""},null,{"$f":"IF(BB132+2=2,\"\",BB132+2)","v":46},{"$f":"ROW()/3","v":44}]
[null,null,null,null,null,null,null,null,null,null,null,null,null,null,null,null,null,null,null,null,null,null,null,null,null,null,null,null,null,null,null,null,null,null,null,null,null,"",131,{"$f":"IF($I35=\"\",\"\",IF($CE35=0,\"Enter question type or turn off variable question type\",$CD35))","v":""},{"$f":"IF($I29=\"\",\"\",IF($B$18=\"\",\"INPUT MAIN CATEGORY (CELL B18) OR TURN CATEGORIES OFF\",\"$CATEGORY: \"&$B$18&IF($F29=\"\",\"\",\"/\"&$F29)))","v":""},{"$f":"IF($I24=\"\",\"\",IF($CE24=0,\"Enter question type or turn off variable question type\",$CD24))","v":""},{"$f":"IF($I46=\"\",\"\",IF($CE46=0,\"Enter question type or turn off variable question type\",$CD46))","v":""},null,{"$f":"ROW()-2","v":131},{"$f":"AT129+1","v":35},"",null,"",null,29,{"$f":"(ROW()+2)/5","v":27},""]
[null,null,null,null,null,null,null,null,null,null,null,null,null,null,null,null,null,null,null,null,null,null,null,null,null,null,null,null,null,null,null,null,null,null,null,null,null,{"$f":"IF(VLOOKUP($AM134,$AM:$AQ,$A$6,0)=\"\",\"\",VLOOKUP($AM134,$AM:$AQ,$A$6,0))","v":""},132,null,null,null,null,null,null,null,"",null,"",null,"",null,""]
[null,null,null,null,null,null,null,null,null,null,null,null,null,null,null,null,null,null,null,null,null,null,null,null,null,null,null,null,null,null,null,null,null,null,null,null,null,"",133,{"$f":"IF($I36=\"\",\"\",\"::\"&IF($B$16=\"\",\"\",$B$16&\"  \")&IF($E36=\"\",$H36,$E36)&\"::\")","v":""},{"$f":"IF($I29=\"\",\"\",\"::\"&IF($B$16=\"\",\"\",$B$16&\"  \")&IF($E29=\"\",$H29,$E29)&\"::\")","v":""},{"$f":"IF($I25=\"\",\"\",IF($B$18=\"\",\"INPUT MAIN CATEGORY (CELL B18) OR TURN CATEGORIES OFF\",\"$CATEGORY: \"&$B$18&IF($F25=\"\",\"\",\"/\"&$F25)))","v":""},{"$f":"IF($I47=\"\",\"\",\"::\"&IF($B$16=\"\",\"\",$B$16&\"  \")&IF($E47=\"\",$H47,$E47)&\"::\")","v":""},null,null,null,36,{"$f":"(ROW()+1)/4","v":34},36,{"$f":"(ROW()+1)/4","v":34},"",null,47,{"$f":"ROW()/3","v":45}]
[null,null,null,null,null,null,null,null,null,null,null,null,null,null,null,null,null,null,null,null,null,null,null,null,null,null,null,null,null,null,null,null,null,null,null,null,null,"",134,{"$f":"IF($I36=\"\",\"\",IF($CE36=0,\"Enter question type or turn off variable question type\",IF($G36=\"\",VLOOKUP($CE36,$BY:$CA,3,0),$G36)))","v":""},{"$f":"IF($I29=\"\",\"\",IF($CE29=0,\"Enter question type or turn off variable question type\",$CD29))","v":""},null,{"$f":"IF($I47=\"\",\"\",IF($CE47=0,\"Enter question type or turn off variable question type\",$CD47))","v":""},null,{"$f":"ROW()-1","v":135},{"$f":"AT132+1","v":36},"",null,"",null,"",null,""]
[null,null,null,null,null,null,null,null,null,null,null,null,null,null,null,null,null,null,null,null,null,null,null,null,null,null,null,null,null,null,null,null,null,null,null,null,null,"",135,{"$f":"IF($I36=\"\",\"\",IF($CE36=0,\"Enter question type or turn off variable question type\",$CD36))","v":""},null,{"$f":"IF($I25=\"\",\"\",\"::\"&IF($B$16=\"\",\"\",$B$16&\"  \")&IF($E25=\"\",$H25,$E25)&\"::\")","v":""},null,null,{"$f":"ROW()-2","v":135},{"$f":"AT133+1","v":36},"",null,"",null,"",null,""]
[null,null,null,null,null,null,null,null,null,null,null,null,null,null,null,null,null,null,null,null,null,null,null,null,null,null,null,null,null,null,null,null,null,null,null,null,null,"",136,null,{"$f":"IF($I30=\"\",\"\",IF($B$18=\"\",\"INPUT MAIN CATEGORY (CELL B18) OR TURN CATEGORIES OFF\",\"$CATEGORY: \"&$B$18&IF($F30=\"\",\"\",\"/\"&$F30)))","v":""},{"$f":"IF($I25=\"\",\"\",IF($CE25=0,\"Enter question type or turn off variable question type\",IF($G25=\"\",VLOOKUP($CE25,$BY:$CA,3,0),$G25)))","v":""},{"$f":"IF($I48=\"\",\"\",\"::\"&IF($B$16=\"\",\"\",$B$16&\"  \")&IF($E48=\"\",$H48,$E48)&\"::\")","v":""},null,null,null,"",null,"",null,30,{"$f":"(ROW()+2)/5","v":28},48,{"$f":"ROW()/3","v":46}]
[null,null,null,null,null,null,null,null,null,null,null,null,null,null,null,null,null,null,null,null,null,null,null,null,null,null,null,null,null,null,null,null,null,null,null,null,null,"",137,{"$f":"IF($I37=\"\",\"\",\"::\"&IF($B$16=\"\",\"\",$B$16&\"  \")&IF($E37=\"\",$H37,$E37)&\"::\")","v":""},null,{"$f":"IF($I25=\"\",\"\",IF($CE25=0,\"Enter question type or turn off variable question type\",$CD25))","v":""},{"$f":"IF($I48=\"\",\"\",IF($CE48=0,\"Enter question type or turn off variable question type\",$CD48))","v":""},null,null,null,37,{"$f":"(ROW()+1)/4","v":35},37,{"$f":"(ROW()+1)/4","v":35},"",null,""]
[null,null,null,null,null,null,null,null,null,null,null,null,null,null,null,null,null,null,null,null,null,null,null,null,null,null,null,null,null,null,null,null,null,null,null,null,null,"",138,{"$f":"IF($I37=\"\",\"\",IF($CE37=0,\"Enter question type or turn off variable question type\",IF($G37=\"\",VLOOKUP($CE37,$BY:$CA,3,0),$G37)))","v":""},{"$f":"IF($I30=\"\",\"\",\"::\"&IF($B$16=\"\",\"\",$B$16&\"  \")&IF($E30=\"\",$H30,$E30)&\"::\")","v":""},null,null,null,{"$f":"ROW()-1","v":139},{"$f":"AT136+1","v":37},"",null,"",null,"",null,""]
[null,null,null,null,null,null,null,null,null,null,null,null,null,null,null,null,null,null,null,null,null,null,null,null,null,null,null,null,null,null,null,null,null,null,null,null,null,"",139,{"$f":"IF($I37=\"\",\"\",IF($CE37=0,\"Enter question type or turn off variable question type\",$CD37))","v":""},{"$f":"IF($I30=\"\",\"\",IF($CE30=0,\"Enter question type or turn off variable question type\",$CD30))","v":""},{"$f":"IF($I26=\"\",\"\",IF($B$18=\"\",\"INPUT MAIN CATEGORY (CELL B18) OR TURN CATEGORIES OFF\",\"$CATEGORY: \"&$B$18&IF($F26=\"\",\"\",\"/\"&$F26)))","v":""},{"$f":"IF($I49=\"\",\"\",\"::\"&IF($B$16=\"\",\"\",$B$16&\"  \")&IF($E49=\"\",$H49,$E49)&\"::\")","v":""},null,{"$f":"ROW()-2","v":139},{"$f":"AT137+1","v":37},"",null,"",null,"",null,49,{"$f":"ROW()/3","v":47}]
[null,null,null,null,null,null,null,null,null,null,null,null,null,null,null,null,null,null,null,null,null,null,null,null,null,null,null,null,null,null,null,null,null,null,null,null,null,"",140,null,null,null,{"$f":"IF($I49=\"\",\"\",IF($CE49=0,\"Enter question type or turn off variable question type\",$CD49))","v":""},null,null,null,"",null,"",null,"",null,""]
[null,null,null,null,null,null,null,null,null,null,null,null,null,null,null,null,null,null,null,null,null,null,null,null,null,null,null,null,null,null,null,null,null,null,null,null,null,"",141,{"$f":"IF($I38=\"\",\"\",\"::\"&IF($B$16=\"\",\"\",$B$16&\"  \")&IF($E38=\"\",$H38,$E38)&\"::\")","v":""},{"$f":"IF($I31=\"\",\"\",IF($B$18=\"\",\"INPUT MAIN CATEGORY (CELL B18) OR TURN CATEGORIES OFF\",\"$CATEGORY: \"&$B$18&IF($F31=\"\",\"\",\"/\"&$F31)))","v":""},{"$f":"IF($I26=\"\",\"\",\"::\"&IF($B$16=\"\",\"\",$B$16&\"  \")&IF($E26=\"\",$H26,$E26)&\"::\")","v":""},null,null,null,null,38,{"$f":"(ROW()+1)/4","v":36},38,{"$f":"(ROW()+1)/4","v":36},31,{"$f":"(ROW()+2)/5","v":29},""]
[null,null,null,null,null,null,null,null,null,null,null,null,null,null,null,null,null,null,null,null,null,null,null,null,null,null,null,null,null,null,null,null,null,null,null,null,null,"",142,{"$f":"IF($I38=\"\",\"\",IF($CE38=0,\"Enter question type or turn off variable question type\",IF($G38=\"\",VLOOKUP($CE38,$BY:$CA,3,0),$G38)))","v":""},null,{"$f":"IF($I26=\"\",\"\",IF($CE26=0,\"Enter question type or turn off variable question type\",IF($G26=\"\",VLOOKUP($CE26,$BY:$CA,3,0),$G26)))","v":""},{"$f":"IF($I50=\"\",\"\",\"::\"&IF($B$16=\"\",\"\",$B$16&\"  \")&IF($E50=\"\",$H50,$E50)&\"::\")","v":""},null,{"$f":"ROW()-1","v":143},{"$f":"AT140+1","v":38},"",null,"",null,"",null,50,{"$f":"ROW()/3","v":48}]
[null,null,null,null,null,null,null,null,null,null,null,null,null,null,null,null,null,null,null,null,null,null,null,null,null,null,null,null,null,null,null,null,null,null,null,null,null,"",143,{"$f":"IF($I38=\"\",\"\",IF($CE38=0,\"Enter question type or turn off variable question type\",$CD38))","v":""},{"$f":"IF($I31=\"\",\"\",\"::\"&IF($B$16=\"\",\"\",$B$16&\"  \")&IF($E31=\"\",$H31,$E31)&\"::\")","v":""},{"$f":"IF($I26=\"\",\"\",IF($CE26=0,\"Enter question type or turn off variable question type\",$CD26))","v":""},{"$f":"IF($I50=\"\",\"\",IF($CE50=0,\"Enter question type or turn off variable question type\",$CD50))","v":""},null,{"$f":"ROW()-2","v":143},{"$f":"AT141+1","v":38},"",null,"",null,"",null,""]
[null,null,null,null,null,null,null,null,null,null,null,null,null,null,null,null,null,null,null,null,null,null,null,null,null,null,null,null,null,null,null,null,null,null,null,null,null,"",144,null,{"$f":"IF($I31=\"\",\"\",IF($CE31=0,\"Enter question type or turn off variable question type\",$CD31))","v":""},null,null,null,null,null,"",null,"",null,"",null,""]
[null,null,null,null,null,null,null,null,null,null,null,null,null,null,null,null,null,null,null,null,null,null,null,null,null,null,null,null,null,null,null,null,null,null,null,null,null,"",145,{"$f":"IF($I39=\"\",\"\",\"::\"&IF($B$16=\"\",\"\",$B$16&\"  \")&IF($E39=\"\",$H39,$E39)&\"::\")","v":""},null,{"$f":"IF($I27=\"\",\"\",IF($B$18=\"\",\"INPUT MAIN CATEGORY (CELL B18) OR TURN CATEGORIES OFF\",\"$CATEGORY: \"&$B$18&IF($F27=\"\",\"\",\"/\"&$F27)))","v":""},{"$f":"IF($I51=\"\",\"\",\"::\"&IF($B$16=\"\",\"\",$B$16&\"  \")&IF($E51=\"\",$H51,$E51)&\"::\")","v":""},null,null,null,39,{"$f":"(ROW()+1)/4","v":37},39,{"$f":"(ROW()+1)/4","v":37},"",null,51,{"$f":"ROW()/3","v":49}]
[null,null,null,null,null,null,null,null,null,null,null,null,null,null,null,null,null,null,null,null,null,null,null,null,null,null,null,null,null,null,null,null,null,null,null,null,null,"",146,{"$f":"IF($I39=\"\",\"\",IF($CE39=0,\"Enter question type or turn off variable question type\",IF($G39=\"\",VLOOKUP($CE39,$BY:$CA,3,0),$G39)))","v":""},{"$f":"IF($I32=\"\",\"\",IF($B$18=\"\",\"INPUT MAIN CATEGORY (CELL B18) OR TURN CATEGORIES OFF\",\"$CATEGORY: \"&$B$18&IF($F32=\"\",\"\",\"/\"&$F32)))","v":""},null,{"$f":"IF($I51=\"\",\"\",IF($CE51=0,\"Enter question type or turn off variable question type\",$CD51))","v":""},null,{"$f":"ROW()-1","v":147},{"$f":"AT144+1","v":39},"",null,"",null,32,{"$f":"(ROW()+2)/5","v":30},""]
[null,null,null,null,null,null,null,null,null,null,null,null,null,null,null,null,null,null,null,null,null,null,null,null,null,null,null,null,null,null,null,null,null,null,null,null,null,"",147,{"$f":"IF($I39=\"\",\"\",IF($CE39=0,\"Enter question type or turn off variable question type\",$CD39))","v":""},null,{"$f":"IF($I27=\"\",\"\",\"::\"&IF($B$16=\"\",\"\",$B$16&\"  \")&IF($E27=\"\",$H27,$E27)&\"::\")","v":""},null,null,{"$f":"ROW()-2","v":147},{"$f":"AT145+1","v":39},"",null,"",null,"",null,""]
[null,null,null,null,null,null,null,null,null,null,null,null,null,null,null,null,null,null,null,null,null,null,null,null,null,null,null,null,null,null,null,null,null,null,null,null,null,"",148,null,{"$f":"IF($I32=\"\",\"\",\"::\"&IF($B$16=\"\",\"\",$B$16&\"  \")&IF($E32=\"\",$H32,$E32)&\"::\")","v":""},{"$f":"IF($I27=\"\",\"\",IF($CE27=0,\"Enter question type or turn off variable question type\",IF($G27=\"\",VLOOKUP($CE27,$BY:$CA,3,0),$G27)))","v":""},{"$f":"IF($I53=\"\",\"\",\"::\"&IF($B$16=\"\",\"\",$B$16&\"  \")&IF($E53=\"\",$H53,$E53)&\"::\")","v":""},null,null,null,"",null,"",null,"",null,52,{"$f":"ROW()/3","v":50}]
[null,null,null,null,null,null,null,null,null,null,null,null,null,null,null,null,null,null,null,null,null,null,null,null,null,null,null,null,null,null,null,null,null,null,null,null,null,"",149,{"$f":"IF($I40=\"\",\"\",\"::\"&IF($B$16=\"\",\"\",$B$16&\"  \")&IF($E40=\"\",$H40,$E40)&\"::\")","v":""},{"$f":"IF($I32=\"\",\"\",IF($CE32=0,\"Enter question type or turn off variable question type\",$CD32))","v":""},{"$f":"IF($I27=\"\",\"\",IF($CE27=0,\"Enter question type or turn off variable question type\",$CD27))","v":""},{"$f":"IF($I53=\"\",\"\",IF($CE53=0,\"Enter question type or turn off variable question type\",$CD53))","v":""},null,null,null,40,{"$f":"(ROW()+1)/4","v":38},40,{"$f":"(ROW()+1)/4","v":38},"",null,""]
[null,null,null,null,null,null,null,null,null,null,null,null,null,null,null,null,null,null,null,null,null,null,null,null,null,null,null,null,null,null,null,null,null,null,null,null,null,"",150,{"$f":"IF($I40=\"\",\"\",IF($CE40=0,\"Enter question type or turn off variable question type\",IF($G40=\"\",VLOOKUP($CE40,$BY:$CA,3,0),$G40)))","v":""},null,null,null,null,{"$f":"ROW()-1","v":151},{"$f":"AT148+1","v":40},"",null,"",null,"",null,""]
[null,null,null,null,null,null,null,null,null,null,null,null,null,null,null,null,null,null,null,null,null,null,null,null,null,null,null,null,null,null,null,null,null,null,null,null,null,"",151,{"$f":"IF($I40=\"\",\"\",IF($CE40=0,\"Enter question type or turn off variable question type\",$CD40))","v":""},{"$f":"IF($I33=\"\",\"\",IF($B$18=\"\",\"INPUT MAIN CATEGORY (CELL B18) OR TURN CATEGORIES OFF\",\"$CATEGORY: \"&$B$18&IF($F33=\"\",\"\",\"/\"&$F33)))","v":""},{"$f":"IF($I28=\"\",\"\",IF($B$18=\"\",\"INPUT MAIN CATEGORY (CELL B18) OR TURN CATEGORIES OFF\",\"$CATEGORY: \"&$B$18&IF($F28=\"\",\"\",\"/\"&$F28)))","v":""},{"$f":"IF($I54=\"\",\"\",\"::\"&IF($B$16=\"\",\"\",$B$16&\"  \")&IF($E54=\"\",$H54,$E54)&\"::\")","v":""},null,{"$f":"ROW()-2","v":151},{"$f":"AT149+1","v":40},"",null,"",null,33,{"$f":"(ROW()+2)/5","v":31},53,{"$f":"ROW()/3","v":51}]
[null,null,null,null,null,null,null,null,null,null,null,null,null,null,null,null,null,null,null,null,null,null,null,null,null,null,null,null,null,null,null,null,null,null,null,null,null,"",152,null,null,null,{"$f":"IF($I54=\"\",\"\",IF($CE54=0,\"Enter question type or turn off variable question type\",$CD54))","v":""},null,null,null,"",null,"",null,"",null,""]
[null,null,null,null,null,null,null,null,null,null,null,null,null,null,null,null,null,null,null,null,null,null,null,null,null,null,null,null,null,null,null,null,null,null,null,null,null,"",153,{"$f":"IF($I41=\"\",\"\",\"::\"&IF($B$16=\"\",\"\",$B$16&\"  \")&IF($E41=\"\",$H41,$E41)&\"::\")","v":""},{"$f":"IF($I33=\"\",\"\",\"::\"&IF($B$16=\"\",\"\",$B$16&\"  \")&IF($E33=\"\",$H33,$E33)&\"::\")","v":""},{"$f":"IF($I28=\"\",\"\",\"::\"&IF($B$16=\"\",\"\",$B$16&\"  \")&IF($E28=\"\",$H28,$E28)&\"::\")","v":""},null,null,null,null,41,{"$f":"(ROW()+1)/4","v":39},41,{"$f":"(ROW()+1)/4","v":39},"",null,""]
[null,null,null,null,null,null,null,null,null,null,null,null,null,null,null,null,null,null,null,null,null,null,null,null,null,null,null,null,null,null,null,null,null,null,null,null,null,"",154,{"$f":"IF($I41=\"\",\"\",IF($CE41=0,\"Enter question type or turn off variable question type\",IF($G41=\"\",VLOOKUP($CE41,$BY:$CA,3,0),$G41)))","v":""},{"$f":"IF($I33=\"\",\"\",IF($CE33=0,\"Enter question type or turn off variable question type\",$CD33))","v":""},{"$f":"IF($I28=\"\",\"\",IF($CE28=0,\"Enter question type or turn off variable question type\",IF($G28=\"\",VLOOKUP($CE28,$BY:$CA,3,0),$G28)))","v":""},{"$f":"IF($I55=\"\",\"\",\"::\"&IF($B$16=\"\",\"\",$B$16&\"  \")&IF($E55=\"\",$H55,$E55)&\"::\")","v":""},null,{"$f":"ROW()-1","v":155},{"$f":"AT152+1","v":41},"",null,"",null,"",null,54,{"$f":"ROW()/3","v":52}]
[null,null,null,null,null,null,null,null,null,null,null,null,null,null,null,null,null,null,null,null,null,null,null,null,null,null,null,null,null,null,null,null,null,null,null,null,null,"",155,{"$f":"IF($I41=\"\",\"\",IF($CE41=0,\"Enter question type or turn off variable question type\",$CD41))","v":""},null,{"$f":"IF($I28=\"\",\"\",IF($CE28=0,\"Enter question type or turn off variable question type\",$CD28))","v":""},{"$f":"IF($I55=\"\",\"\",IF($CE55=0,\"Enter question type or turn off variable question type\",$CD55))","v":""},null,{"$f":"ROW()-2","v":155},{"$f":"AT153+1","v":41},"",null,"",null,"",null,""]
[null,null,null,null,null,null,null,null,null,null,null,null,null,null,null,null,null,null,null,null,null,null,null,null,null,null,null,null,null,null,null,null,null,null,null,null,null,"",156,null,{"$f":"IF($I34=\"\",\"\",IF($B$18=\"\",\"INPUT MAIN CATEGORY (CELL B18) OR TURN CATEGORIES OFF\",\"$CATEGORY: \"&$B$18&IF($F34=\"\",\"\",\"/\"&$F34)))","v":""},null,null,null,null,null,"",null,"",null,34,{"$f":"(ROW()+2)/5","v":32},""]
[null,null,null,null,null,null,null,null,null,null,null,null,null,null,null,null,null,null,null,null,null,null,null,null,null,null,null,null,null,null,null,null,null,null,null,null,null,"",157,{"$f":"IF($I42=\"\",\"\",\"::\"&IF($B$16=\"\",\"\",$B$16&\"  \")&IF($E42=\"\",$H42,$E42)&\"::\")","v":""},null,{"$f":"IF($I29=\"\",\"\",IF($B$18=\"\",\"INPUT MAIN CATEGORY (CELL B18) OR TURN CATEGORIES OFF\",\"$CATEGORY: \"&$B$18&IF($F29=\"\",\"\",\"/\"&$F29)))","v":""},{"$f":"IF($I56=\"\",\"\",\"::\"&IF($B$16=\"\",\"\",$B$16&\"  \")&IF($E56=\"\",$H56,$E56)&\"::\")","v":""},null,null,null,42,{"$f":"(ROW()+1)/4","v":40},42,{"$f":"(ROW()+1)/4","v":40},"",null,55,{"$f":"ROW()/3","v":53}]
[null,null,null,null,null,null,null,null,null,null,null,null,null,null,null,null,null,null,null,null,null,null,null,null,null,null,null,null,null,null,null,null,null,null,null,null,null,"",158,{"$f":"IF($I42=\"\",\"\",IF($CE42=0,\"Enter question type or turn off variable question type\",IF($G42=\"\",VLOOKUP($CE42,$BY:$CA,3,0),$G42)))","v":""},{"$f":"IF($I34=\"\",\"\",\"::\"&IF($B$16=\"\",\"\",$B$16&\"  \")&IF($E34=\"\",$H34,$E34)&\"::\")","v":""},null,{"$f":"IF($I56=\"\",\"\",IF($CE56=0,\"Enter question type or turn off variable question type\",$CD56))","v":""},null,{"$f":"ROW()-1","v":159},{"$f":"AT156+1","v":42},"",null,"",null,"",null,""]
[null,null,null,null,null,null,null,null,null,null,null,null,null,null,null,null,null,null,null,null,null,null,null,null,null,null,null,null,null,null,null,null,null,null,null,null,null,"",159,{"$f":"IF($I42=\"\",\"\",IF($CE42=0,\"Enter question type or turn off variable question type\",$CD42))","v":""},{"$f":"IF($I34=\"\",\"\",IF($CE34=0,\"Enter question type or turn off variable question type\",$CD34))","v":""},{"$f":"IF($I29=\"\",\"\",\"::\"&IF($B$16=\"\",\"\",$B$16&\"  \")&IF($E29=\"\",$H29,$E29)&\"::\")","v":""},null,null,{"$f":"ROW()-2","v":159},{"$f":"AT157+1","v":42},"",null,"",null,"",null,""]
[null,null,null,null,null,null,null,null,null,null,null,null,null,null,null,null,null,null,null,null,null,null,null,null,null,null,null,null,null,null,null,null,null,null,null,null,null,"",160,null,null,{"$f":"IF($I29=\"\",\"\",IF($CE29=0,\"Enter question type or turn off variable question type\",IF($G29=\"\",VLOOKUP($CE29,$BY:$CA,3,0),$G29)))","v":""},{"$f":"IF($I57=\"\",\"\",\"::\"&IF($B$16=\"\",\"\",$B$16&\"  \")&IF($E57=\"\",$H57,$E57)&\"::\")","v":""},null,null,null,"",null,"",null,"",null,56,{"$f":"ROW()/3","v":54}]
[null,null,null,null,null,null,null,null,null,null,null,null,null,null,null,null,null,null,null,null,null,null,null,null,null,null,null,null,null,null,null,null,null,null,null,null,null,"",161,{"$f":"IF($I43=\"\",\"\",\"::\"&IF($B$16=\"\",\"\",$B$16&\"  \")&IF($E43=\"\",$H43,$E43)&\"::\")","v":""},{"$f":"IF($I35=\"\",\"\",IF($B$18=\"\",\"INPUT MAIN CATEGORY (CELL B18) OR TURN CATEGORIES OFF\",\"$CATEGORY: \"&$B$18&IF($F35=\"\",\"\",\"/\"&$F35)))","v":""},{"$f":"IF($I29=\"\",\"\",IF($CE29=0,\"Enter question type or turn off variable question type\",$CD29))","v":""},{"$f":"IF($I57=\"\",\"\",IF($CE57=0,\"Enter question type or turn off variable question type\",$CD57))","v":""},null,null,null,43,{"$f":"(ROW()+1)/4","v":41},43,{"$f":"(ROW()+1)/4","v":41},35,{"$f":"(ROW()+2)/5","v":33},""]
[null,null,null,null,null,null,null,null,null,null,null,null,null,null,null,null,null,null,null,null,null,null,null,null,null,null,null,null,null,null,null,null,null,null,null,null,null,"",162,{"$f":"IF($I43=\"\",\"\",IF($CE43=0,\"Enter question type or turn off variable question type\",IF($G43=\"\",VLOOKUP($CE43,$BY:$CA,3,0),$G43)))","v":""},null,null,null,null,{"$f":"ROW()-1","v":163},{"$f":"AT160+1","v":43},"",null,"",null,"",null,""]
[null,null,null,null,null,null,null,null,null,null,null,null,null,null,null,null,null,null,null,null,null,null,null,null,null,null,null,null,null,null,null,null,null,null,null,null,null,"",163,{"$f":"IF($I43=\"\",\"\",IF($CE43=0,\"Enter question type or turn off variable question type\",$CD43))","v":""},{"$f":"IF($I35=\"\",\"\",\"::\"&IF($B$16=\"\",\"\",$B$16&\"  \")&IF($E35=\"\",$H35,$E35)&\"::\")","v":""},{"$f":"IF($I30=\"\",\"\",IF($B$18=\"\",\"INPUT MAIN CATEGORY (CELL B18) OR TURN CATEGORIES OFF\",\"$CATEGORY: \"&$B$18&IF($F30=\"\",\"\",\"/\"&$F30)))","v":""},{"$f":"IF($I58=\"\",\"\",\"::\"&IF($B$16=\"\",\"\",$B$16&\"  \")&IF($E58=\"\",$H58,$E58)&\"::\")","v":""},null,{"$f":"ROW()-2","v":163},{"$f":"AT161+1","v":43},"",null,"",null,"",null,57,{"$f":"ROW()/3","v":55}]
[null,null,null,null,null,null,null,null,null,null,null,null,null,null,null,null,null,null,null,null,null,null,null,null,null,null,null,null,null,null,null,null,null,null,null,null,null,"",164,null,{"$f":"IF($I35=\"\",\"\",IF($CE35=0,\"Enter question type or turn off variable question type\",$CD35))","v":""},null,{"$f":"IF($I58=\"\",\"\",IF($CE58=0,\"Enter question type or turn off variable question type\",$CD58))","v":""},null,null,null,"",null,"",null,"",null,""]
[null,null,null,null,null,null,null,null,null,null,null,null,null,null,null,null,null,null,null,null,null,null,null,null,null,null,null,null,null,null,null,null,null,null,null,null,null,"",165,{"$f":"IF($I44=\"\",\"\",\"::\"&IF($B$16=\"\",\"\",$B$16&\"  \")&IF($E44=\"\",$H44,$E44)&\"::\")","v":""},null,{"$f":"IF($I30=\"\",\"\",\"::\"&IF($B$16=\"\",\"\",$B$16&\"  \")&IF($E30=\"\",$H30,$E30)&\"::\")","v":""},null,null,null,null,44,{"$f":"(ROW()+1)/4","v":42},44,{"$f":"(ROW()+1)/4","v":42},"",null,""]
[null,null,null,null,null,null,null,null,null,null,null,null,null,null,null,null,null,null,null,null,null,null,null,null,null,null,null,null,null,null,null,null,null,null,null,null,null,"",166,{"$f":"IF($I44=\"\",\"\",IF($CE44=0,\"Enter question type or turn off variable question type\",IF($G44=\"\",VLOOKUP($CE44,$BY:$CA,3,0),$G44)))","v":""},{"$f":"IF($I36=\"\",\"\",IF($B$18=\"\",\"INPUT MAIN CATEGORY (CELL B18) OR TURN CATEGORIES OFF\",\"$CATEGORY: \"&$B$18&IF($F36=\"\",\"\",\"/\"&$F36)))","v":""},{"$f":"IF($I30=\"\",\"\",IF($CE30=0,\"Enter question type or turn off variable question type\",IF($G30=\"\",VLOOKUP($CE30,$BY:$CA,3,0),$G30)))","v":""},{"$f":"IF($I59=\"\",\"\",\"::\"&IF($B$16=\"\",\"\",$B$16&\"  \")&IF($E59=\"\",$H59,$E59)&\"::\")","v":""},null,{"$f":"ROW()-1","v":167},{"$f":"AT164+1","v":44},"",null,"",null,36,{"$f":"(ROW()+2)/5","v":34},58,{"$f":"ROW()/3","v":56}]
[null,null,null,null,null,null,null,null,null,null,null,null,null,null,null,null,null,null,null,null,null,null,null,null,null,null,null,null,null,null,null,null,null,null,null,null,null,"",167,{"$f":"IF($I44=\"\",\"\",IF($CE44=0,\"Enter question type or turn off variable question type\",$CD44))","v":""},null,{"$f":"IF($I30=\"\",\"\",IF($CE30=0,\"Enter question type or turn off variable question type\",$CD30))","v":""},{"$f":"IF($I59=\"\",\"\",IF($CE59=0,\"Enter question type or turn off variable question type\",$CD59))","v":""},null,{"$f":"ROW()-2","v":167},{"$f":"AT165+1","v":44},"",null,"",null,"",null,""]
[null,null,null,null,null,null,null,null,null,null,null,null,null,null,null,null,null,null,null,null,null,null,null,null,null,null,null,null,null,null,null,null,null,null,null,null,null,"",168,null,{"$f":"IF($I36=\"\",\"\",\"::\"&IF($B$16=\"\",\"\",$B$16&\"  \")&IF($E36=\"\",$H36,$E36)&\"::\")","v":""},null,null,null,null,null,"",null,"",null,"",null,""]
[null,null,null,null,null,null,null,null,null,null,null,null,null,null,null,null,null,null,null,null,null,null,null,null,null,null,null,null,null,null,null,null,null,null,null,null,null,"",169,{"$f":"IF($I45=\"\",\"\",\"::\"&IF($B$16=\"\",\"\",$B$16&\"  \")&IF($E45=\"\",$H45,$E45)&\"::\")","v":""},{"$f":"IF($I36=\"\",\"\",IF($CE36=0,\"Enter question type or turn off variable question type\",$CD36))","v":""},{"$f":"IF($I31=\"\",\"\",IF($B$18=\"\",\"INPUT MAIN CATEGORY (CELL B18) OR TURN CATEGORIES OFF\",\"$CATEGORY: \"&$B$18&IF($F31=\"\",\"\",\"/\"&$F31)))","v":""},{"$f":"IF($I60=\"\",\"\",\"::\"&IF($B$16=\"\",\"\",$B$16&\"  \")&IF($E60=\"\",$H60,$E60)&\"::\")","v":""},null,null,null,45,{"$f":"(ROW()+1)/4","v":43},45,{"$f":"(ROW()+1)/4","v":43},"",null,59,{"$f":"ROW()/3","v":57}]
[null,null,null,null,null,null,null,null,null,null,null,null,null,null,null,null,null,null,null,null,null,null,null,null,null,null,null,null,null,null,null,null,null,null,null,null,null,"",170,{"$f":"IF($I45=\"\",\"\",IF($CE45=0,\"Enter question type or turn off variable question type\",IF($G45=\"\",VLOOKUP($CE45,$BY:$CA,3,0),$G45)))","v":""},null,null,{"$f":"IF($I60=\"\",\"\",IF($CE60=0,\"Enter question type or turn off variable question type\",$CD60))","v":""},null,{"$f":"ROW()-1","v":171},{"$f":"AT168+1","v":45},"",null,"",null,"",null,""]
[null,null,null,null,null,null,null,null,null,null,null,null,null,null,null,null,null,null,null,null,null,null,null,null,null,null,null,null,null,null,null,null,null,null,null,null,null,"",171,{"$f":"IF($I45=\"\",\"\",IF($CE45=0,\"Enter question type or turn off variable question type\",$CD45))","v":""},{"$f":"IF($I37=\"\",\"\",IF($B$18=\"\",\"INPUT MAIN CATEGORY (CELL B18) OR TURN CATEGORIES OFF\",\"$CATEGORY: \"&$B$18&IF($F37=\"\",\"\",\"/\"&$F37)))","v":""},{"$f":"IF($I31=\"\",\"\",\"::\"&IF($B$16=\"\",\"\",$B$16&\"  \")&IF($E31=\"\",$H31,$E31)&\"::\")","v":""},null,null,{"$f":"ROW()-2","v":171},{"$f":"AT169+1","v":45},"",null,"",null,37,{"$f":"(ROW()+2)/5","v":35},""]
[null,null,null,null,null,null,null,null,null,null,null,null,null,null,null,null,null,null,null,null,null,null,null,null,null,null,null,null,null,null,null,null,null,null,null,null,null,"",172,null,null,{"$f":"IF($I31=\"\",\"\",IF($CE31=0,\"Enter question type or turn off variable question type\",IF($G31=\"\",VLOOKUP($CE31,$BY:$CA,3,0),$G31)))","v":""},{"$f":"IF($I61=\"\",\"\",\"::\"&IF($B$16=\"\",\"\",$B$16&\"  \")&IF($E61=\"\",$H61,$E61)&\"::\")","v":""},null,null,null,"",null,"",null,"",null,60,{"$f":"ROW()/3","v":58}]
[null,null,null,null,null,null,null,null,null,null,null,null,null,null,null,null,null,null,null,null,null,null,null,null,null,null,null,null,null,null,null,null,null,null,null,null,null,"",173,{"$f":"IF($I46=\"\",\"\",\"::\"&IF($B$16=\"\",\"\",$B$16&\"  \")&IF($E46=\"\",$H46,$E46)&\"::\")","v":""},{"$f":"IF($I37=\"\",\"\",\"::\"&IF($B$16=\"\",\"\",$B$16&\"  \")&IF($E37=\"\",$H37,$E37)&\"::\")","v":""},{"$f":"IF($I31=\"\",\"\",IF($CE31=0,\"Enter question type or turn off variable question type\",$CD31))","v":""},{"$f":"IF($I61=\"\",\"\",IF($CE61=0,\"Enter question type or turn off variable question type\",$CD61))","v":""},null,null,null,46,{"$f":"(ROW()+1)/4","v":44},46,{"$f":"(ROW()+1)/4","v":44},"",null,""]
[null,null,null,null,null,null,null,null,null,null,null,null,null,null,null,null,null,null,null,null,null,null,null,null,null,null,null,null,null,null,null,null,null,null,null,null,null,"",174,{"$f":"IF($I46=\"\",\"\",IF($CE46=0,\"Enter question type or turn off variable question type\",IF($G46=\"\",VLOOKUP($CE46,$BY:$CA,3,0),$G46)))","v":""},{"$f":"IF($I37=\"\",\"\",IF($CE37=0,\"Enter question type or turn off variable question type\",$CD37))","v":""},null,null,null,{"$f":"ROW()-1","v":175},{"$f":"AT172+1","v":46},"",null,"",null,"",null,""]
[null,null,null,null,null,null,null,null,null,null,null,null,null,null,null,null,null,null,null,null,null,null,null,null,null,null,null,null,null,null,null,null,null,null,null,null,null,"",175,{"$f":"IF($I46=\"\",\"\",IF($CE46=0,\"Enter question type or turn off variable question type\",$CD46))","v":""},null,{"$f":"IF($I32=\"\",\"\",IF($B$18=\"\",\"INPUT MAIN CATEGORY (CELL B18) OR TURN CATEGORIES OFF\",\"$CATEGORY: \"&$B$18&IF($F32=\"\",\"\",\"/\"&$F32)))","v":""},{"$f":"IF($I62=\"\",\"\",\"::\"&IF($B$16=\"\",\"\",$B$16&\"  \")&IF($E62=\"\",$H62,$E62)&\"::\")","v":""},null,{"$f":"ROW()-2","v":175},{"$f":"AT173+1","v":46},"",null,"",null,"",null,61,{"$f":"ROW()/3","v":59}]
[null,null,null,null,null,null,null,null,null,null,null,null,null,null,null,null,null,null,null,null,null,null,null,null,null,null,null,null,null,null,null,null,null,null,null,null,null,{"$f":"IF(VLOOKUP($AM178,$AM:$AQ,$A$6,0)=\"\",\"\",VLOOKUP($AM178,$AM:$AQ,$A$6,0))","v":""},176,null,{"$f":"IF($I38=\"\",\"\",IF($B$18=\"\",\"INPUT MAIN CATEGORY (CELL B18) OR TURN CATEGORIES OFF\",\"$CATEGORY: \"&$B$18&IF($F38=\"\",\"\",\"/\"&$F38)))","v":""},null,{"$f":"IF($I62=\"\",\"\",IF($CE62=0,\"Enter question type or turn off variable question type\",$CD62))","v":""},null,null,null,"",null,"",null,38,{"$f":"(ROW()+2)/5","v":36},""]
[null,null,null,null,null,null,null,null,null,null,null,null,null,null,null,null,null,null,null,null,null,null,null,null,null,null,null,null,null,null,null,null,null,null,null,null,null,"",177,{"$f":"IF($I47=\"\",\"\",\"::\"&IF($B$16=\"\",\"\",$B$16&\"  \")&IF($E47=\"\",$H47,$E47)&\"::\")","v":""},null,{"$f":"IF($I32=\"\",\"\",\"::\"&IF($B$16=\"\",\"\",$B$16&\"  \")&IF($E32=\"\",$H32,$E32)&\"::\")","v":""},null,null,null,null,47,{"$f":"(ROW()+1)/4","v":45},47,{"$f":"(ROW()+1)/4","v":45},"",null,""]
[null,null,null,null,null,null,null,null,null,null,null,null,null,null,null,null,null,null,null,null,null,null,null,null,null,null,null,null,null,null,null,null,null,null,null,null,null,"",178,{"$f":"IF($I47=\"\",\"\",IF($CE47=0,\"Enter question type or turn off variable question type\",IF($G47=\"\",VLOOKUP($CE47,$BY:$CA,3,0),$G47)))","v":""},{"$f":"IF($I38=\"\",\"\",\"::\"&IF($B$16=\"\",\"\",$B$16&\"  \")&IF($E38=\"\",$H38,$E38)&\"::\")","v":""},{"$f":"IF($I32=\"\",\"\",IF($CE32=0,\"Enter question type or turn off variable question type\",IF($G32=\"\",VLOOKUP($CE32,$BY:$CA,3,0),$G32)))","v":""},{"$f":"IF($I63=\"\",\"\",\"::\"&IF($B$16=\"\",\"\",$B$16&\"  \")&IF($E63=\"\",$H63,$E63)&\"::\")","v":""},null,{"$f":"ROW()-1","v":179},{"$f":"AT176+1","v":47},"",null,"",null,"",null,62,{"$f":"ROW()/3","v":60}]
[null,null,null,null,null,null,null,null,null,null,null,null,null,null,null,null,null,null,null,null,null,null,null,null,null,null,null,null,null,null,null,null,null,null,null,null,null,"",179,{"$f":"IF($I47=\"\",\"\",IF($CE47=0,\"Enter question type or turn off variable question type\",$CD47))","v":""},{"$f":"IF($I38=\"\",\"\",IF($CE38=0,\"Enter question type or turn off variable question type\",$CD38))","v":""},{"$f":"IF($I32=\"\",\"\",IF($CE32=0,\"Enter question type or turn off variable question type\",$CD32))","v":""},{"$f":"IF($I63=\"\",\"\",IF($CE63=0,\"Enter question type or turn off variable question type\",$CD63))","v":""},null,{"$f":"ROW()-2","v":179},{"$f":"AT177+1","v":47},"",null,"",null,"",null,""]
[null,null,null,null,null,null,null,null,null,null,null,null,null,null,null,null,null,null,null,null,null,null,null,null,null,null,null,null,null,null,null,null,null,null,null,null,null,"",180,null,null,null,null,null,null,null,"",null,"",null,"",null,""]
[null,null,null,null,null,null,null,null,null,null,null,null,null,null,null,null,null,null,null,null,null,null,null,null,null,null,null,null,null,null,null,null,null,null,null,null,null,"",181,{"$f":"IF($I48=\"\",\"\",\"::\"&IF($B$16=\"\",\"\",$B$16&\"  \")&IF($E48=\"\",$H48,$E48)&\"::\")","v":""},{"$f":"IF($I39=\"\",\"\",IF($B$18=\"\",\"INPUT MAIN CATEGORY (CELL B18) OR TURN CATEGORIES OFF\",\"$CATEGORY: \"&$B$18&IF($F39=\"\",\"\",\"/\"&$F39)))","v":""},{"$f":"IF($I33=\"\",\"\",IF($B$18=\"\",\"INPUT MAIN CATEGORY (CELL B18) OR TURN CATEGORIES OFF\",\"$CATEGORY: \"&$B$18&IF($F33=\"\",\"\",\"/\"&$F33)))","v":""},{"$f":"IF($I64=\"\",\"\",\"::\"&IF($B$16=\"\",\"\",$B$16&\"  \")&IF($E64=\"\",$H64,$E64)&\"::\")","v":""},null,null,null,48,{"$f":"(ROW()+1)/4","v":46},48,{"$f":"(ROW()+1)/4","v":46},39,{"$f":"(ROW()+2)/5","v":37},63,{"$f":"ROW()/3","v":61}]
[null,null,null,null,null,null,null,null,null,null,null,null,null,null,null,null,null,null,null,null,null,null,null,null,null,null,null,null,null,null,null,null,null,null,null,null,null,"",182,{"$f":"IF($I48=\"\",\"\",IF($CE48=0,\"Enter question type or turn off variable question type\",IF($G48=\"\",VLOOKUP($CE48,$BY:$CA,3,0),$G48)))","v":""},null,null,{"$f":"IF($I64=\"\",\"\",IF($CE64=0,\"Enter question type or turn off variable question type\",$CD64))","v":""},null,{"$f":"ROW()-1","v":183},{"$f":"AT180+1","v":48},"",null,"",null,"",null,""]
[null,null,null,null,null,null,null,null,null,null,null,null,null,null,null,null,null,null,null,null,null,null,null,null,null,null,null,null,null,null,null,null,null,null,null,null,null,"",183,{"$f":"IF($I48=\"\",\"\",IF($CE48=0,\"Enter question type or turn off variable question type\",$CD48))","v":""},{"$f":"IF($I39=\"\",\"\",\"::\"&IF($B$16=\"\",\"\",$B$16&\"  \")&IF($E39=\"\",$H39,$E39)&\"::\")","v":""},{"$f":"IF($I33=\"\",\"\",\"::\"&IF($B$16=\"\",\"\",$B$16&\"  \")&IF($E33=\"\",$H33,$E33)&\"::\")","v":""},null,null,{"$f":"ROW()-2","v":183},{"$f":"AT181+1","v":48},"",null,"",null,"",null,""]
[null,null,null,null,null,null,null,null,null,null,null,null,null,null,null,null,null,null,null,null,null,null,null,null,null,null,null,null,null,null,null,null,null,null,null,null,null,"",184,null,{"$f":"IF($I39=\"\",\"\",IF($CE39=0,\"Enter question type or turn off variable question type\",$CD39))","v":""},{"$f":"IF($I33=\"\",\"\",IF($CE33=0,\"Enter question type or turn off variable question type\",IF($G33=\"\",VLOOKUP($CE33,$BY:$CA,3,0),$G33)))","v":""},{"$f":"IF($I65=\"\",\"\",\"::\"&IF($B$16=\"\",\"\",$B$16&\"  \")&IF($E65=\"\",$H65,$E65)&\"::\")","v":""},null,null,null,"",null,"",null,"",null,64,{"$f":"ROW()/3","v":62}]
[null,null,null,null,null,null,null,null,null,null,null,null,null,null,null,null,null,null,null,null,null,null,null,null,null,null,null,null,null,null,null,null,null,null,null,null,null,"",185,{"$f":"IF($I49=\"\",\"\",\"::\"&IF($B$16=\"\",\"\",$B$16&\"  \")&IF($E49=\"\",$H49,$E49)&\"::\")","v":""},null,{"$f":"IF($I33=\"\",\"\",IF($CE33=0,\"Enter question type or turn off variable question type\",$CD33))","v":""},{"$f":"IF($I65=\"\",\"\",IF($CE65=0,\"Enter question type or turn off variable question type\",$CD65))","v":""},null,null,null,49,{"$f":"(ROW()+1)/4","v":47},49,{"$f":"(ROW()+1)/4","v":47},"",null,""]
[null,null,null,null,null,null,null,null,null,null,null,null,null,null,null,null,null,null,null,null,null,null,null,null,null,null,null,null,null,null,null,null,null,null,null,null,null,"",186,{"$f":"IF($I49=\"\",\"\",IF($CE49=0,\"Enter question type or turn off variable question type\",IF($G49=\"\",VLOOKUP($CE49,$BY:$CA,3,0),$G49)))","v":""},{"$f":"IF($I40=\"\",\"\",IF($B$18=\"\",\"INPUT MAIN CATEGORY (CELL B18) OR TURN CATEGORIES OFF\",\"$CATEGORY: \"&$B$18&IF($F40=\"\",\"\",\"/\"&$F40)))","v":""},null,null,null,{"$f":"ROW()-1","v":187},{"$f":"AT184+1","v":49},"",null,"",null,40,{"$f":"(ROW()+2)/5","v":38},""]
[null,null,null,null,null,null,null,null,null,null,null,null,null,null,null,null,null,null,null,null,null,null,null,null,null,null,null,null,null,null,null,null,null,null,null,null,null,"",187,{"$f":"IF($I49=\"\",\"\",IF($CE49=0,\"Enter question type or turn off variable question type\",$CD49))","v":""},null,{"$f":"IF($I34=\"\",\"\",IF($B$18=\"\",\"INPUT MAIN CATEGORY (CELL B18) OR TURN CATEGORIES OFF\",\"$CATEGORY: \"&$B$18&IF($F34=\"\",\"\",\"/\"&$F34)))","v":""},{"$f":"IF($I66=\"\",\"\",\"::\"&IF($B$16=\"\",\"\",$B$16&\"  \")&IF($E66=\"\",$H66,$E66)&\"::\")","v":""},null,{"$f":"ROW()-2","v":187},{"$f":"AT185+1","v":49},"",null,"",null,"",null,65,{"$f":"ROW()/3","v":63}]
[null,null,null,null,null,null,null,null,null,null,null,null,null,null,null,null,null,null,null,null,null,null,null,null,null,null,null,null,null,null,null,null,null,null,null,null,null,"",188,null,{"$f":"IF($I40=\"\",\"\",\"::\"&IF($B$16=\"\",\"\",$B$16&\"  \")&IF($E40=\"\",$H40,$E40)&\"::\")","v":""},null,{"$f":"IF($I66=\"\",\"\",IF($CE66=0,\"Enter question type or turn off variable question type\",$CD66))","v":""},null,null,null,"",null,"",null,"",null,""]
[null,null,null,null,null,null,null,null,null,null,null,null,null,null,null,null,null,null,null,null,null,null,null,null,null,null,null,null,null,null,null,null,null,null,null,null,null,"",189,{"$f":"IF($I50=\"\",\"\",\"::\"&IF($B$16=\"\",\"\",$B$16&\"  \")&IF($E50=\"\",$H50,$E50)&\"::\")","v":""},{"$f":"IF($I40=\"\",\"\",IF($CE40=0,\"Enter question type or turn off variable question type\",$CD40))","v":""},{"$f":"IF($I34=\"\",\"\",\"::\"&IF($B$16=\"\",\"\",$B$16&\"  \")&IF($E34=\"\",$H34,$E34)&\"::\")","v":""},null,null,null,null,50,{"$f":"(ROW()+1)/4","v":48},50,{"$f":"(ROW()+1)/4","v":48},"",null,""]
[null,null,null,null,null,null,null,null,null,null,null,null,null,null,null,null,null,null,null,null,null,null,null,null,null,null,null,null,null,null,null,null,null,null,null,null,null,"",190,{"$f":"IF($I50=\"\",\"\",IF($CE50=0,\"Enter question type or turn off variable question type\",IF($G50=\"\",VLOOKUP($CE50,$BY:$CA,3,0),$G50)))","v":""},null,{"$f":"IF($I34=\"\",\"\",IF($CE34=0,\"Enter question type or turn off variable question type\",IF($G34=\"\",VLOOKUP($CE34,$BY:$CA,3,0),$G34)))","v":""},{"$f":"IF($I67=\"\",\"\",\"::\"&IF($B$16=\"\",\"\",$B$16&\"  \")&IF($E67=\"\",$H67,$E67)&\"::\")","v":""},null,{"$f":"ROW()-1","v":191},{"$f":"AT188+1","v":50},"",null,"",null,"",null,66,{"$f":"ROW()/3","v":64}]
[null,null,null,null,null,null,null,null,null,null,null,null,null,null,null,null,null,null,null,null,null,null,null,null,null,null,null,null,null,null,null,null,null,null,null,null,null,"",191,{"$f":"IF($I50=\"\",\"\",IF($CE50=0,\"Enter question type or turn off variable question type\",$CD50))","v":""},{"$f":"IF($I41=\"\",\"\",IF($B$18=\"\",\"INPUT MAIN CATEGORY (CELL B18) OR TURN CATEGORIES OFF\",\"$CATEGORY: \"&$B$18&IF($F41=\"\",\"\",\"/\"&$F41)))","v":""},{"$f":"IF($I34=\"\",\"\",IF($CE34=0,\"Enter question type or turn off variable question type\",$CD34))","v":""},{"$f":"IF($I67=\"\",\"\",IF($CE67=0,\"Enter question type or turn off variable question type\",$CD67))","v":""},null,{"$f":"ROW()-2","v":191},{"$f":"AT189+1","v":50},"",null,"",null,41,{"$f":"(ROW()+2)/5","v":39},""]
[null,null,null,null,null,null,null,null,null,null,null,null,null,null,null,null,null,null,null,null,null,null,null,null,null,null,null,null,null,null,null,null,null,null,null,null,null,"",192,null,null,null,null,null,null,null,"",null,"",null,"",null,""]
[null,null,null,null,null,null,null,null,null,null,null,null,null,null,null,null,null,null,null,null,null,null,null,null,null,null,null,null,null,null,null,null,null,null,null,null,null,"",193,{"$f":"IF($I51=\"\",\"\",\"::\"&IF($B$16=\"\",\"\",$B$16&\"  \")&IF($E51=\"\",$H51,$E51)&\"::\")","v":""},{"$f":"IF($I41=\"\",\"\",\"::\"&IF($B$16=\"\",\"\",$B$16&\"  \")&IF($E41=\"\",$H41,$E41)&\"::\")","v":""},{"$f":"IF($I35=\"\",\"\",IF($B$18=\"\",\"INPUT MAIN CATEGORY (CELL B18) OR TURN CATEGORIES OFF\",\"$CATEGORY: \"&$B$18&IF($F35=\"\",\"\",\"/\"&$F35)))","v":""},{"$f":"IF($I68=\"\",\"\",\"::\"&IF($B$16=\"\",\"\",$B$16&\"  \")&IF($E68=\"\",$H68,$E68)&\"::\")","v":""},null,null,null,51,{"$f":"(ROW()+1)/4","v":49},51,{"$f":"(ROW()+1)/4","v":49},"",null,67,{"$f":"ROW()/3","v":65}]
[null,null,null,null,null,null,null,null,null,null,null,null,null,null,null,null,null,null,null,null,null,null,null,null,null,null,null,null,null,null,null,null,null,null,null,null,null,"",194,{"$f":"IF($I51=\"\",\"\",IF($CE51=0,\"Enter question type or turn off variable question type\",IF($G51=\"\",VLOOKUP($CE51,$BY:$CA,3,0),$G51)))","v":""},{"$f":"IF($I41=\"\",\"\",IF($CE41=0,\"Enter question type or turn off variable question type\",$CD41))","v":""},null,{"$f":"IF($I68=\"\",\"\",IF($CE68=0,\"Enter question type or turn off variable question type\",$CD68))","v":""},null,{"$f":"ROW()-1","v":195},{"$f":"AT192+1","v":51},{"$f":"IF(AV196+2=2,\"\",AV196+2)","v":""},null,"",null,{"$f":"IF(AZ196+2=2,\"\",AZ196+2)","v":""},null,{"$f":"IF(BB196+2=2,\"\",BB196+2)","v":""}]
[null,null,null,null,null,null,null,null,null,null,null,null,null,null,null,null,null,null,null,null,null,null,null,null,null,null,null,null,null,null,null,null,null,null,null,null,null,"",195,{"$f":"IF($I51=\"\",\"\",IF($CE51=0,\"Enter question type or turn off variable question type\",$CD51))","v":""},null,{"$f":"IF($I35=\"\",\"\",\"::\"&IF($B$16=\"\",\"\",$B$16&\"  \")&IF($E35=\"\",$H35,$E35)&\"::\")","v":""},null,null,{"$f":"ROW()-2","v":195},{"$f":"AT193+1","v":51},"",null,"",null,"",null,""]
[null,null,null,null,null,null,null,null,null,null,null,null,null,null,null,null,null,null,null,null,null,null,null,null,null,null,null,null,null,null,null,null,null,null,null,null,null,{"$f":"IF(VLOOKUP($AM198,$AM:$AQ,$A$6,0)=\"\",\"\",VLOOKUP($AM198,$AM:$AQ,$A$6,0))","v":""},196,null,{"$f":"IF($I42=\"\",\"\",IF($B$18=\"\",\"INPUT MAIN CATEGORY (CELL B18) OR TURN CATEGORIES OFF\",\"$CATEGORY: \"&$B$18&IF($F42=\"\",\"\",\"/\"&$F42)))","v":""},{"$f":"IF($I35=\"\",\"\",IF($CE35=0,\"Enter question type or turn off variable question type\",IF($G35=\"\",VLOOKUP($CE35,$BY:$CA,3,0),$G35)))","v":""},{"$f":"IF($I69=\"\",\"\",\"::\"&IF($B$16=\"\",\"\",$B$16&\"  \")&IF($E69=\"\",$H69,$E69)&\"::\")","v":""},null,null,null,"",null,"",null,42,{"$f":"(ROW()+2)/5","v":40},68,{"$f":"ROW()/3","v":66}]
[null,null,null,null,null,null,null,null,null,null,null,null,null,null,null,null,null,null,null,null,null,null,null,null,null,null,null,null,null,null,null,null,null,null,null,null,null,"",197,{"$f":"IF($I52=\"\",\"\",\"::\"&IF($B$16=\"\",\"\",$B$16&\"  \")&IF($E52=\"\",$H52,$E52)&\"::\")","v":""},null,{"$f":"IF($I35=\"\",\"\",IF($CE35=0,\"Enter question type or turn off variable question type\",$CD35))","v":""},{"$f":"IF($I69=\"\",\"\",IF($CE69=0,\"Enter question type or turn off variable question type\",$CD69))","v":""},null,null,null,52,{"$f":"(ROW()+1)/4","v":50},52,{"$f":"(ROW()+1)/4","v":50},"",null,""]
[null,null,null,null,null,null,null,null,null,null,null,null,null,null,null,null,null,null,null,null,null,null,null,null,null,null,null,null,null,null,null,null,null,null,null,null,null,"",198,{"$f":"IF($I52=\"\",\"\",IF($CE52=0,\"Enter question type or turn off variable question type\",IF($G52=\"\",VLOOKUP($CE52,$BY:$CA,3,0),$G52)))","v":""},{"$f":"IF($I42=\"\",\"\",\"::\"&IF($B$16=\"\",\"\",$B$16&\"  \")&IF($E42=\"\",$H42,$E42)&\"::\")","v":""},null,null,null,{"$f":"ROW()-1","v":199},{"$f":"AT196+1","v":52},"",null,"",null,"",null,""]
[null,null,null,null,null,null,null,null,null,null,null,null,null,null,null,null,null,null,null,null,null,null,null,null,null,null,null,null,null,null,null,null,null,null,null,null,null,"",199,{"$f":"IF($I52=\"\",\"\",IF($CE52=0,\"Enter question type or turn off variable question type\",$CD52))","v":""},{"$f":"IF($I42=\"\",\"\",IF($CE42=0,\"Enter question type or turn off variable question type\",$CD42))","v":""},{"$f":"IF($I36=\"\",\"\",IF($B$18=\"\",\"INPUT MAIN CATEGORY (CELL B18) OR TURN CATEGORIES OFF\",\"$CATEGORY: \"&$B$18&IF($F36=\"\",\"\",\"/\"&$F36)))","v":""},{"$f":"IF($I70=\"\",\"\",\"::\"&IF($B$16=\"\",\"\",$B$16&\"  \")&IF($E70=\"\",$H70,$E70)&\"::\")","v":""},null,{"$f":"ROW()-2","v":199},{"$f":"AT197+1","v":52},"",null,"",null,"",null,69,{"$f":"ROW()/3","v":67}]
[null,null,null,null,null,null,null,null,null,null,null,null,null,null,null,null,null,null,null,null,null,null,null,null,null,null,null,null,null,null,null,null,null,null,null,null,null,"",200,null,null,null,{"$f":"IF($I70=\"\",\"\",IF($CE70=0,\"Enter question type or turn off variable question type\",$CD70))","v":""},null,null,null,null,null,null,null,"",null,""]
[null,null,null,null,null,null,null,null,null,null,null,null,null,null,null,null,null,null,null,null,null,null,null,null,null,null,null,null,null,null,null,null,null,null,null,null,null,"",201,{"$f":"IF($I53=\"\",\"\",\"::\"&IF($B$16=\"\",\"\",$B$16&\"  \")&IF($E53=\"\",$H53,$E53)&\"::\")","v":""},{"$f":"IF($I43=\"\",\"\",IF($B$18=\"\",\"INPUT MAIN CATEGORY (CELL B18) OR TURN CATEGORIES OFF\",\"$CATEGORY: \"&$B$18&IF($F43=\"\",\"\",\"/\"&$F43)))","v":""},{"$f":"IF($I36=\"\",\"\",\"::\"&IF($B$16=\"\",\"\",$B$16&\"  \")&IF($E36=\"\",$H36,$E36)&\"::\")","v":""},null,null,null,null,{"$f":"IF(AV203+2=2,\"\",AV203+2)","v":53},{"$f":"(ROW()+1)/4","v":51},{"$f":"IF(AX203+2=2,\"\",AX203+2)","v":53},{"$f":"(ROW()+1)/4","v":51},43,{"$f":"(ROW()+2)/5","v":41},""]
[null,null,null,null,null,null,null,null,null,null,null,null,null,null,null,null,null,null,null,null,null,null,null,null,null,null,null,null,null,null,null,null,null,null,null,null,null,"",202,{"$f":"IF($I53=\"\",\"\",IF($CE53=0,\"Enter question type or turn off variable question type\",IF($G53=\"\",VLOOKUP($CE53,$BY:$CA,3,0),$G53)))","v":""},null,{"$f":"IF($I36=\"\",\"\",IF($CE36=0,\"Enter question type or turn off variable question type\",IF($G36=\"\",VLOOKUP($CE36,$BY:$CA,3,0),$G36)))","v":""},{"$f":"IF($I71=\"\",\"\",\"::\"&IF($B$16=\"\",\"\",$B$16&\"  \")&IF($E71=\"\",$H71,$E71)&\"::\")","v":""},null,null,null,"",null,"",null,"",null,70,{"$f":"ROW()/3","v":68}]
[null,null,null,null,null,null,null,null,null,null,null,null,null,null,null,null,null,null,null,null,null,null,null,null,null,null,null,null,null,null,null,null,null,null,null,null,null,"",203,{"$f":"IF($I53=\"\",\"\",IF($CE53=0,\"Enter question type or turn off variable question type\",$CD53))","v":""},{"$f":"IF($I43=\"\",\"\",\"::\"&IF($B$16=\"\",\"\",$B$16&\"  \")&IF($E43=\"\",$H43,$E43)&\"::\")","v":""},{"$f":"IF($I36=\"\",\"\",IF($CE36=0,\"Enter question type or turn off variable question type\",$CD36))","v":""},{"$f":"IF($I71=\"\",\"\",IF($CE71=0,\"Enter question type or turn off variable question type\",$CD71))","v":""},null,null,null,"",null,"",null,"",null,""]
[null,null,null,null,null,null,null,null,null,null,null,null,null,null,null,null,null,null,null,null,null,null,null,null,null,null,null,null,null,null,null,null,null,null,null,null,null,"",204,null,{"$f":"IF($I43=\"\",\"\",IF($CE43=0,\"Enter question type or turn off variable question type\",$CD43))","v":""},null,null,null,null,null,null,null,null,null,"",null,""]
[null,null,null,null,null,null,null,null,null,null,null,null,null,null,null,null,null,null,null,null,null,null,null,null,null,null,null,null,null,null,null,null,null,null,null,null,null,"",205,{"$f":"IF($I54=\"\",\"\",\"::\"&IF($B$16=\"\",\"\",$B$16&\"  \")&IF($E54=\"\",$H54,$E54)&\"::\")","v":""},null,{"$f":"IF($I37=\"\",\"\",IF($B$18=\"\",\"INPUT MAIN CATEGORY (CELL B18) OR TURN CATEGORIES OFF\",\"$CATEGORY: \"&$B$18&IF($F37=\"\",\"\",\"/\"&$F37)))","v":""},{"$f":"IF($I72=\"\",\"\",\"::\"&IF($B$16=\"\",\"\",$B$16&\"  \")&IF($E72=\"\",$H72,$E72)&\"::\")","v":""},null,null,null,{"$f":"IF(AV207+2=2,\"\",AV207+2)","v":54},{"$f":"(ROW()+1)/4","v":52},{"$f":"IF(AX207+2=2,\"\",AX207+2)","v":54},{"$f":"(ROW()+1)/4","v":52},"",null,71,{"$f":"ROW()/3","v":69}]
[null,null,null,null,null,null,null,null,null,null,null,null,null,null,null,null,null,null,null,null,null,null,null,null,null,null,null,null,null,null,null,null,null,null,null,null,null,"",206,{"$f":"IF($I54=\"\",\"\",IF($CE54=0,\"Enter question type or turn off variable question type\",IF($G54=\"\",VLOOKUP($CE54,$BY:$CA,3,0),$G54)))","v":""},{"$f":"IF($I44=\"\",\"\",IF($B$18=\"\",\"INPUT MAIN CATEGORY (CELL B18) OR TURN CATEGORIES OFF\",\"$CATEGORY: \"&$B$18&IF($F44=\"\",\"\",\"/\"&$F44)))","v":""},null,{"$f":"IF($I72=\"\",\"\",IF($CE72=0,\"Enter question type or turn off variable question type\",$CD72))","v":""},null,null,null,"",null,"",null,44,{"$f":"(ROW()+2)/5","v":42},""]
[null,null,null,null,null,null,null,null,null,null,null,null,null,null,null,null,null,null,null,null,null,null,null,null,null,null,null,null,null,null,null,null,null,null,null,null,null,"",207,{"$f":"IF($I54=\"\",\"\",IF($CE54=0,\"Enter question type or turn off variable question type\",$CD54))","v":""},null,{"$f":"IF($I37=\"\",\"\",\"::\"&IF($B$16=\"\",\"\",$B$16&\"  \")&IF($E37=\"\",$H37,$E37)&\"::\")","v":""},null,null,null,null,"",null,"",null,"",null,""]
[null,null,null,null,null,null,null,null,null,null,null,null,null,null,null,null,null,null,null,null,null,null,null,null,null,null,null,null,null,null,null,null,null,null,null,null,null,"",208,null,{"$f":"IF($I44=\"\",\"\",\"::\"&IF($B$16=\"\",\"\",$B$16&\"  \")&IF($E44=\"\",$H44,$E44)&\"::\")","v":""},{"$f":"IF($I37=\"\",\"\",IF($CE37=0,\"Enter question type or turn off variable question type\",IF($G37=\"\",VLOOKUP($CE37,$BY:$CA,3,0),$G37)))","v":""},{"$f":"IF($I73=\"\",\"\",\"::\"&IF($B$16=\"\",\"\",$B$16&\"  \")&IF($E73=\"\",$H73,$E73)&\"::\")","v":""},null,null,null,null,null,null,null,"",null,72,{"$f":"ROW()/3","v":70}]
[null,null,null,null,null,null,null,null,null,null,null,null,null,null,null,null,null,null,null,null,null,null,null,null,null,null,null,null,null,null,null,null,null,null,null,null,null,"",209,{"$f":"IF($I55=\"\",\"\",\"::\"&IF($B$16=\"\",\"\",$B$16&\"  \")&IF($E55=\"\",$H55,$E55)&\"::\")","v":""},{"$f":"IF($I44=\"\",\"\",IF($CE44=0,\"Enter question type or turn off variable question type\",$CD44))","v":""},{"$f":"IF($I37=\"\",\"\",IF($CE37=0,\"Enter question type or turn off variable question type\",$CD37))","v":""},{"$f":"IF($I73=\"\",\"\",IF($CE73=0,\"Enter question type or turn off variable question type\",$CD73))","v":""},null,null,null,{"$f":"IF(AV211+2=2,\"\",AV211+2)","v":55},{"$f":"(ROW()+1)/4","v":53},{"$f":"IF(AX211+2=2,\"\",AX211+2)","v":55},{"$f":"(ROW()+1)/4","v":53},"",null,""]
[null,null,null,null,null,null,null,null,null,null,null,null,null,null,null,null,null,null,null,null,null,null,null,null,null,null,null,null,null,null,null,null,null,null,null,null,null,"",210,{"$f":"IF($I55=\"\",\"\",IF($CE55=0,\"Enter question type or turn off variable question type\",IF($G55=\"\",VLOOKUP($CE55,$BY:$CA,3,0),$G55)))","v":""},null,null,null,null,null,null,"",null,"",null,"",null,""]
[null,null,null,null,null,null,null,null,null,null,null,null,null,null,null,null,null,null,null,null,null,null,null,null,null,null,null,null,null,null,null,null,null,null,null,null,null,"",211,{"$f":"IF($I55=\"\",\"\",IF($CE55=0,\"Enter question type or turn off variable question type\",$CD55))","v":""},{"$f":"IF($I45=\"\",\"\",IF($B$18=\"\",\"INPUT MAIN CATEGORY (CELL B18) OR TURN CATEGORIES OFF\",\"$CATEGORY: \"&$B$18&IF($F45=\"\",\"\",\"/\"&$F45)))","v":""},{"$f":"IF($I38=\"\",\"\",IF($B$18=\"\",\"INPUT MAIN CATEGORY (CELL B18) OR TURN CATEGORIES OFF\",\"$CATEGORY: \"&$B$18&IF($F38=\"\",\"\",\"/\"&$F38)))","v":""},{"$f":"IF($I74=\"\",\"\",\"::\"&IF($B$16=\"\",\"\",$B$16&\"  \")&IF($E74=\"\",$H74,$E74)&\"::\")","v":""},null,null,null,"",null,"",null,45,{"$f":"(ROW()+2)/5","v":43},73,{"$f":"ROW()/3","v":71}]
[null,null,null,null,null,null,null,null,null,null,null,null,null,null,null,null,null,null,null,null,null,null,null,null,null,null,null,null,null,null,null,null,null,null,null,null,null,"",212,null,null,null,{"$f":"IF($I74=\"\",\"\",IF($CE74=0,\"Enter question type or turn off variable question type\",$CD74))","v":""},null,null,null,null,null,null,null,"",null,""]
[null,null,null,null,null,null,null,null,null,null,null,null,null,null,null,null,null,null,null,null,null,null,null,null,null,null,null,null,null,null,null,null,null,null,null,null,null,"",213,{"$f":"IF($I56=\"\",\"\",\"::\"&IF($B$16=\"\",\"\",$B$16&\"  \")&IF($E56=\"\",$H56,$E56)&\"::\")","v":""},{"$f":"IF($I45=\"\",\"\",\"::\"&IF($B$16=\"\",\"\",$B$16&\"  \")&IF($E45=\"\",$H45,$E45)&\"::\")","v":""},{"$f":"IF($I38=\"\",\"\",\"::\"&IF($B$16=\"\",\"\",$B$16&\"  \")&IF($E38=\"\",$H38,$E38)&\"::\")","v":""},null,null,null,null,{"$f":"IF(AV215+2=2,\"\",AV215+2)","v":56},{"$f":"(ROW()+1)/4","v":54},{"$f":"IF(AX215+2=2,\"\",AX215+2)","v":56},{"$f":"(ROW()+1)/4","v":54},"",null,""]
[null,null,null,null,null,null,null,null,null,null,null,null,null,null,null,null,null,null,null,null,null,null,null,null,null,null,null,null,null,null,null,null,null,null,null,null,null,"",214,{"$f":"IF($I56=\"\",\"\",IF($CE56=0,\"Enter question type or turn off variable question type\",IF($G56=\"\",VLOOKUP($CE56,$BY:$CA,3,0),$G56)))","v":""},{"$f":"IF($I45=\"\",\"\",IF($CE45=0,\"Enter question type or turn off variable question type\",$CD45))","v":""},{"$f":"IF($I38=\"\",\"\",IF($CE38=0,\"Enter question type or turn off variable question type\",IF($G38=\"\",VLOOKUP($CE38,$BY:$CA,3,0),$G38)))","v":""},{"$f":"IF($I75=\"\",\"\",\"::\"&IF($B$16=\"\",\"\",$B$16&\"  \")&IF($E75=\"\",$H75,$E75)&\"::\")","v":""},null,null,null,"",null,"",null,"",null,74,{"$f":"ROW()/3","v":72}]
[null,null,null,null,null,null,null,null,null,null,null,null,null,null,null,null,null,null,null,null,null,null,null,null,null,null,null,null,null,null,null,null,null,null,null,null,null,"",215,{"$f":"IF($I56=\"\",\"\",IF($CE56=0,\"Enter question type or turn off variable question type\",$CD56))","v":""},null,{"$f":"IF($I38=\"\",\"\",IF($CE38=0,\"Enter question type or turn off variable question type\",$CD38))","v":""},{"$f":"IF($I75=\"\",\"\",IF($CE75=0,\"Enter question type or turn off variable question type\",$CD75))","v":""},null,null,null,"",null,"",null,"",null,""]
[null,null,null,null,null,null,null,null,null,null,null,null,null,null,null,null,null,null,null,null,null,null,null,null,null,null,null,null,null,null,null,null,null,null,null,null,null,"",216,null,{"$f":"IF($I46=\"\",\"\",IF($B$18=\"\",\"INPUT MAIN CATEGORY (CELL B18) OR TURN CATEGORIES OFF\",\"$CATEGORY: \"&$B$18&IF($F46=\"\",\"\",\"/\"&$F46)))","v":""},null,null,null,null,null,null,null,null,null,46,{"$f":"(ROW()+2)/5","v":44},""]
[null,null,null,null,null,null,null,null,null,null,null,null,null,null,null,null,null,null,null,null,null,null,null,null,null,null,null,null,null,null,null,null,null,null,null,null,null,"",217,{"$f":"IF($I57=\"\",\"\",\"::\"&IF($B$16=\"\",\"\",$B$16&\"  \")&IF($E57=\"\",$H57,$E57)&\"::\")","v":""},null,{"$f":"IF($I39=\"\",\"\",IF($B$18=\"\",\"INPUT MAIN CATEGORY (CELL B18) OR TURN CATEGORIES OFF\",\"$CATEGORY: \"&$B$18&IF($F39=\"\",\"\",\"/\"&$F39)))","v":""},{"$f":"IF($I76=\"\",\"\",\"::\"&IF($B$16=\"\",\"\",$B$16&\"  \")&IF($E76=\"\",$H76,$E76)&\"::\")","v":""},null,null,null,{"$f":"IF(AV219+2=2,\"\",AV219+2)","v":57},{"$f":"(ROW()+1)/4","v":55},{"$f":"IF(AX219+2=2,\"\",AX219+2)","v":57},{"$f":"(ROW()+1)/4","v":55},"",null,75,{"$f":"ROW()/3","v":73}]
[null,null,null,null,null,null,null,null,null,null,null,null,null,null,null,null,null,null,null,null,null,null,null,null,null,null,null,null,null,null,null,null,null,null,null,null,null,"",218,{"$f":"IF($I57=\"\",\"\",IF($CE57=0,\"Enter question type or turn off variable question type\",IF($G57=\"\",VLOOKUP($CE57,$BY:$CA,3,0),$G57)))","v":""},{"$f":"IF($I46=\"\",\"\",\"::\"&IF($B$16=\"\",\"\",$B$16&\"  \")&IF($E46=\"\",$H46,$E46)&\"::\")","v":""},null,{"$f":"IF($I76=\"\",\"\",IF($CE76=0,\"Enter question type or turn off variable question type\",$CD76))","v":""},null,null,null,"",null,"",null,"",null,""]
[null,null,null,null,null,null,null,null,null,null,null,null,null,null,null,null,null,null,null,null,null,null,null,null,null,null,null,null,null,null,null,null,null,null,null,null,null,"",219,{"$f":"IF($I57=\"\",\"\",IF($CE57=0,\"Enter question type or turn off variable question type\",$CD57))","v":""},{"$f":"IF($I46=\"\",\"\",IF($CE46=0,\"Enter question type or turn off variable question type\",$CD46))","v":""},{"$f":"IF($I39=\"\",\"\",\"::\"&IF($B$16=\"\",\"\",$B$16&\"  \")&IF($E39=\"\",$H39,$E39)&\"::\")","v":""},null,null,null,null,"",null,"",null,"",null,""]
[null,null,null,null,null,null,null,null,null,null,null,null,null,null,null,null,null,null,null,null,null,null,null,null,null,null,null,null,null,null,null,null,null,null,null,null,null,"",220,null,null,{"$f":"IF($I39=\"\",\"\",IF($CE39=0,\"Enter question type or turn off variable question type\",IF($G39=\"\",VLOOKUP($CE39,$BY:$CA,3,0),$G39)))","v":""},{"$f":"IF($I77=\"\",\"\",\"::\"&IF($B$16=\"\",\"\",$B$16&\"  \")&IF($E77=\"\",$H77,$E77)&\"::\")","v":""},null,null,null,null,null,null,null,"",null,76,{"$f":"ROW()/3","v":74}]
[null,null,null,null,null,null,null,null,null,null,null,null,null,null,null,null,null,null,null,null,null,null,null,null,null,null,null,null,null,null,null,null,null,null,null,null,null,"",221,{"$f":"IF($I58=\"\",\"\",\"::\"&IF($B$16=\"\",\"\",$B$16&\"  \")&IF($E58=\"\",$H58,$E58)&\"::\")","v":""},{"$f":"IF($I47=\"\",\"\",IF($B$18=\"\",\"INPUT MAIN CATEGORY (CELL B18) OR TURN CATEGORIES OFF\",\"$CATEGORY: \"&$B$18&IF($F47=\"\",\"\",\"/\"&$F47)))","v":""},{"$f":"IF($I39=\"\",\"\",IF($CE39=0,\"Enter question type or turn off variable question type\",$CD39))","v":""},{"$f":"IF($I77=\"\",\"\",IF($CE77=0,\"Enter question type or turn off variable question type\",$CD77))","v":""},null,null,null,{"$f":"IF(AV223+2=2,\"\",AV223+2)","v":58},{"$f":"(ROW()+1)/4","v":56},{"$f":"IF(AX223+2=2,\"\",AX223+2)","v":58},{"$f":"(ROW()+1)/4","v":56},47,{"$f":"(ROW()+2)/5","v":45},""]
[null,null,null,null,null,null,null,null,null,null,null,null,null,null,null,null,null,null,null,null,null,null,null,null,null,null,null,null,null,null,null,null,null,null,null,null,null,"",222,{"$f":"IF($I58=\"\",\"\",IF($CE58=0,\"Enter question type or turn off variable question type\",IF($G58=\"\",VLOOKUP($CE58,$BY:$CA,3,0),$G58)))","v":""},null,null,null,null,null,null,"",null,"",null,"",null,""]
[null,null,null,null,null,null,null,null,null,null,null,null,null,null,null,null,null,null,null,null,null,null,null,null,null,null,null,null,null,null,null,null,null,null,null,null,null,"",223,{"$f":"IF($I58=\"\",\"\",IF($CE58=0,\"Enter question type or turn off variable question type\",$CD58))","v":""},{"$f":"IF($I47=\"\",\"\",\"::\"&IF($B$16=\"\",\"\",$B$16&\"  \")&IF($E47=\"\",$H47,$E47)&\"::\")","v":""},{"$f":"IF($I40=\"\",\"\",IF($B$18=\"\",\"INPUT MAIN CATEGORY (CELL B18) OR TURN CATEGORIES OFF\",\"$CATEGORY: \"&$B$18&IF($F40=\"\",\"\",\"/\"&$F40)))","v":""},{"$f":"IF($I78=\"\",\"\",\"::\"&IF($B$16=\"\",\"\",$B$16&\"  \")&IF($E78=\"\",$H78,$E78)&\"::\")","v":""},null,null,null,"",null,"",null,"",null,77,{"$f":"ROW()/3","v":75}]
[null,null,null,null,null,null,null,null,null,null,null,null,null,null,null,null,null,null,null,null,null,null,null,null,null,null,null,null,null,null,null,null,null,null,null,null,null,"",224,null,{"$f":"IF($I47=\"\",\"\",IF($CE47=0,\"Enter question type or turn off variable question type\",$CD47))","v":""},null,{"$f":"IF($I78=\"\",\"\",IF($CE78=0,\"Enter question type or turn off variable question type\",$CD78))","v":""},null,null,null,null,null,null,null,"",null,""]
[null,null,null,null,null,null,null,null,null,null,null,null,null,null,null,null,null,null,null,null,null,null,null,null,null,null,null,null,null,null,null,null,null,null,null,null,null,"",225,{"$f":"IF($I59=\"\",\"\",\"::\"&IF($B$16=\"\",\"\",$B$16&\"  \")&IF($E59=\"\",$H59,$E59)&\"::\")","v":""},null,{"$f":"IF($I40=\"\",\"\",\"::\"&IF($B$16=\"\",\"\",$B$16&\"  \")&IF($E40=\"\",$H40,$E40)&\"::\")","v":""},null,null,null,null,{"$f":"IF(AV227+2=2,\"\",AV227+2)","v":59},{"$f":"(ROW()+1)/4","v":57},{"$f":"IF(AX227+2=2,\"\",AX227+2)","v":59},{"$f":"(ROW()+1)/4","v":57},"",null,""]
[null,null,null,null,null,null,null,null,null,null,null,null,null,null,null,null,null,null,null,null,null,null,null,null,null,null,null,null,null,null,null,null,null,null,null,null,null,"",226,{"$f":"IF($I59=\"\",\"\",IF($CE59=0,\"Enter question type or turn off variable question type\",IF($G59=\"\",VLOOKUP($CE59,$BY:$CA,3,0),$G59)))","v":""},{"$f":"IF($I48=\"\",\"\",IF($B$18=\"\",\"INPUT MAIN CATEGORY (CELL B18) OR TURN CATEGORIES OFF\",\"$CATEGORY: \"&$B$18&IF($F48=\"\",\"\",\"/\"&$F48)))","v":""},{"$f":"IF($I40=\"\",\"\",IF($CE40=0,\"Enter question type or turn off variable question type\",IF($G40=\"\",VLOOKUP($CE40,$BY:$CA,3,0),$G40)))","v":""},{"$f":"IF($I79=\"\",\"\",\"::\"&IF($B$16=\"\",\"\",$B$16&\"  \")&IF($E79=\"\",$H79,$E79)&\"::\")","v":""},null,null,null,"",null,"",null,48,{"$f":"(ROW()+2)/5","v":46},78,{"$f":"ROW()/3","v":76}]
[null,null,null,null,null,null,null,null,null,null,null,null,null,null,null,null,null,null,null,null,null,null,null,null,null,null,null,null,null,null,null,null,null,null,null,null,null,"",227,{"$f":"IF($I59=\"\",\"\",IF($CE59=0,\"Enter question type or turn off variable question type\",$CD59))","v":""},null,{"$f":"IF($I40=\"\",\"\",IF($CE40=0,\"Enter question type or turn off variable question type\",$CD40))","v":""},{"$f":"IF($I79=\"\",\"\",IF($CE79=0,\"Enter question type or turn off variable question type\",$CD79))","v":""},null,null,null,"",null,"",null,"",null,""]
[null,null,null,null,null,null,null,null,null,null,null,null,null,null,null,null,null,null,null,null,null,null,null,null,null,null,null,null,null,null,null,null,null,null,null,null,null,"",228,null,{"$f":"IF($I48=\"\",\"\",\"::\"&IF($B$16=\"\",\"\",$B$16&\"  \")&IF($E48=\"\",$H48,$E48)&\"::\")","v":""},null,null,null,null,null,null,null,null,null,"",null,""]
[null,null,null,null,null,null,null,null,null,null,null,null,null,null,null,null,null,null,null,null,null,null,null,null,null,null,null,null,null,null,null,null,null,null,null,null,null,"",229,{"$f":"IF($I60=\"\",\"\",\"::\"&IF($B$16=\"\",\"\",$B$16&\"  \")&IF($E60=\"\",$H60,$E60)&\"::\")","v":""},{"$f":"IF($I48=\"\",\"\",IF($CE48=0,\"Enter question type or turn off variable question type\",$CD48))","v":""},{"$f":"IF($I41=\"\",\"\",IF($B$18=\"\",\"INPUT MAIN CATEGORY (CELL B18) OR TURN CATEGORIES OFF\",\"$CATEGORY: \"&$B$18&IF($F41=\"\",\"\",\"/\"&$F41)))","v":""},{"$f":"IF($I80=\"\",\"\",\"::\"&IF($B$16=\"\",\"\",$B$16&\"  \")&IF($E80=\"\",$H80,$E80)&\"::\")","v":""},null,null,null,{"$f":"IF(AV231+2=2,\"\",AV231+2)","v":60},{"$f":"(ROW()+1)/4","v":58},{"$f":"IF(AX231+2=2,\"\",AX231+2)","v":60},{"$f":"(ROW()+1)/4","v":58},"",null,79,{"$f":"ROW()/3","v":77}]
[null,null,null,null,null,null,null,null,null,null,null,null,null,null,null,null,null,null,null,null,null,null,null,null,null,null,null,null,null,null,null,null,null,null,null,null,null,"",230,{"$f":"IF($I60=\"\",\"\",IF($CE60=0,\"Enter question type or turn off variable question type\",IF($G60=\"\",VLOOKUP($CE60,$BY:$CA,3,0),$G60)))","v":""},null,null,{"$f":"IF($I80=\"\",\"\",IF($CE80=0,\"Enter question type or turn off variable question type\",$CD80))","v":""},null,null,null,"",null,"",null,"",null,""]
[null,null,null,null,null,null,null,null,null,null,null,null,null,null,null,null,null,null,null,null,null,null,null,null,null,null,null,null,null,null,null,null,null,null,null,null,null,"",231,{"$f":"IF($I60=\"\",\"\",IF($CE60=0,\"Enter question type or turn off variable question type\",$CD60))","v":""},{"$f":"IF($I49=\"\",\"\",IF($B$18=\"\",\"INPUT MAIN CATEGORY (CELL B18) OR TURN CATEGORIES OFF\",\"$CATEGORY: \"&$B$18&IF($F49=\"\",\"\",\"/\"&$F49)))","v":""},{"$f":"IF($I41=\"\",\"\",\"::\"&IF($B$16=\"\",\"\",$B$16&\"  \")&IF($E41=\"\",$H41,$E41)&\"::\")","v":""},null,null,null,null,"",null,"",null,49,{"$f":"(ROW()+2)/5","v":47},""]
[null,null,null,null,null,null,null,null,null,null,null,null,null,null,null,null,null,null,null,null,null,null,null,null,null,null,null,null,null,null,null,null,null,null,null,null,null,"",232,null,null,{"$f":"IF($I41=\"\",\"\",IF($CE41=0,\"Enter question type or turn off variable question type\",IF($G41=\"\",VLOOKUP($CE41,$BY:$CA,3,0),$G41)))","v":""},{"$f":"IF($I81=\"\",\"\",\"::\"&IF($B$16=\"\",\"\",$B$16&\"  \")&IF($E81=\"\",$H81,$E81)&\"::\")","v":""},null,null,null,null,null,null,null,"",null,80,{"$f":"ROW()/3","v":78}]
[null,null,null,null,null,null,null,null,null,null,null,null,null,null,null,null,null,null,null,null,null,null,null,null,null,null,null,null,null,null,null,null,null,null,null,null,null,"",233,{"$f":"IF($I61=\"\",\"\",\"::\"&IF($B$16=\"\",\"\",$B$16&\"  \")&IF($E61=\"\",$H61,$E61)&\"::\")","v":""},{"$f":"IF($I49=\"\",\"\",\"::\"&IF($B$16=\"\",\"\",$B$16&\"  \")&IF($E49=\"\",$H49,$E49)&\"::\")","v":""},{"$f":"IF($I41=\"\",\"\",IF($CE41=0,\"Enter question type or turn off variable question type\",$CD41))","v":""},{"$f":"IF($I81=\"\",\"\",IF($CE81=0,\"Enter question type or turn off variable question type\",$CD81))","v":""},null,null,null,{"$f":"IF(AV235+2=2,\"\",AV235+2)","v":61},59,{"$f":"IF(AX235+2=2,\"\",AX235+2)","v":61},59,"",null,""]
[null,null,null,null,null,null,null,null,null,null,null,null,null,null,null,null,null,null,null,null,null,null,null,null,null,null,null,null,null,null,null,null,null,null,null,null,null,"",234,{"$f":"IF($I61=\"\",\"\",IF($CE61=0,\"Enter question type or turn off variable question type\",IF($G61=\"\",VLOOKUP($CE61,$BY:$CA,3,0),$G61)))","v":""},{"$f":"IF($I49=\"\",\"\",IF($CE49=0,\"Enter question type or turn off variable question type\",$CD49))","v":""},null,null,null,null,null,"",null,"",null,"",null,""]
[null,null,null,null,null,null,null,null,null,null,null,null,null,null,null,null,null,null,null,null,null,null,null,null,null,null,null,null,null,null,null,null,null,null,null,null,null,"",235,{"$f":"IF($I61=\"\",\"\",IF($CE61=0,\"Enter question type or turn off variable question type\",$CD61))","v":""},null,{"$f":"IF($I42=\"\",\"\",IF($B$18=\"\",\"INPUT MAIN CATEGORY (CELL B18) OR TURN CATEGORIES OFF\",\"$CATEGORY: \"&$B$18&IF($F42=\"\",\"\",\"/\"&$F42)))","v":""},{"$f":"IF($I82=\"\",\"\",\"::\"&IF($B$16=\"\",\"\",$B$16&\"  \")&IF($E82=\"\",$H82,$E82)&\"::\")","v":""},null,null,null,"",null,"",null,"",null,81,{"$f":"ROW()/3","v":79}]
[null,null,null,null,null,null,null,null,null,null,null,null,null,null,null,null,null,null,null,null,null,null,null,null,null,null,null,null,null,null,null,null,null,null,null,null,null,"",236,null,{"$f":"IF($I50=\"\",\"\",IF($B$18=\"\",\"INPUT MAIN CATEGORY (CELL B18) OR TURN CATEGORIES OFF\",\"$CATEGORY: \"&$B$18&IF($F50=\"\",\"\",\"/\"&$F50)))","v":""},null,{"$f":"IF($I82=\"\",\"\",IF($CE82=0,\"Enter question type or turn off variable question type\",$CD82))","v":""},null,null,null,null,null,null,null,50,{"$f":"(ROW()+2)/5","v":48},""]
[null,null,null,null,null,null,null,null,null,null,null,null,null,null,null,null,null,null,null,null,null,null,null,null,null,null,null,null,null,null,null,null,null,null,null,null,null,"",237,{"$f":"IF($I62=\"\",\"\",\"::\"&IF($B$16=\"\",\"\",$B$16&\"  \")&IF($E62=\"\",$H62,$E62)&\"::\")","v":""},null,{"$f":"IF($I42=\"\",\"\",\"::\"&IF($B$16=\"\",\"\",$B$16&\"  \")&IF($E42=\"\",$H42,$E42)&\"::\")","v":""},null,null,null,null,{"$f":"IF(AV239+2=2,\"\",AV239+2)","v":62},{"$f":"(ROW()+1)/4","v":60},{"$f":"IF(AX239+2=2,\"\",AX239+2)","v":62},{"$f":"(ROW()+1)/4","v":60},"",null,""]
[null,null,null,null,null,null,null,null,null,null,null,null,null,null,null,null,null,null,null,null,null,null,null,null,null,null,null,null,null,null,null,null,null,null,null,null,null,"",238,{"$f":"IF($I62=\"\",\"\",IF($CE62=0,\"Enter question type or turn off variable question type\",IF($G62=\"\",VLOOKUP($CE62,$BY:$CA,3,0),$G62)))","v":""},{"$f":"IF($I50=\"\",\"\",\"::\"&IF($B$16=\"\",\"\",$B$16&\"  \")&IF($E50=\"\",$H50,$E50)&\"::\")","v":""},{"$f":"IF($I42=\"\",\"\",IF($CE42=0,\"Enter question type or turn off variable question type\",IF($G42=\"\",VLOOKUP($CE42,$BY:$CA,3,0),$G42)))","v":""},{"$f":"IF($I83=\"\",\"\",\"::\"&IF($B$16=\"\",\"\",$B$16&\"  \")&IF($E83=\"\",$H83,$E83)&\"::\")","v":""},null,null,null,"",null,"",null,"",null,82,{"$f":"ROW()/3","v":80}]
[null,null,null,null,null,null,null,null,null,null,null,null,null,null,null,null,null,null,null,null,null,null,null,null,null,null,null,null,null,null,null,null,null,null,null,null,null,"",239,{"$f":"IF($I62=\"\",\"\",IF($CE62=0,\"Enter question type or turn off variable question type\",$CD62))","v":""},{"$f":"IF($I50=\"\",\"\",IF($CE50=0,\"Enter question type or turn off variable question type\",$CD50))","v":""},{"$f":"IF($I42=\"\",\"\",IF($CE42=0,\"Enter question type or turn off variable question type\",$CD42))","v":""},{"$f":"IF($I83=\"\",\"\",IF($CE83=0,\"Enter question type or turn off variable question type\",$CD83))","v":""},null,null,null,"",null,"",null,"",null,""]
[null,null,null,null,null,null,null,null,null,null,null,null,null,null,null,null,null,null,null,null,null,null,null,null,null,null,null,null,null,null,null,null,null,null,null,null,null,"",240,null,null,null,null,null,null,null,null,null,null,null,"",null,""]
[null,null,null,null,null,null,null,null,null,null,null,null,null,null,null,null,null,null,null,null,null,null,null,null,null,null,null,null,null,null,null,null,null,null,null,null,null,"",241,{"$f":"IF($I63=\"\",\"\",\"::\"&IF($B$16=\"\",\"\",$B$16&\"  \")&IF($E63=\"\",$H63,$E63)&\"::\")","v":""},{"$f":"IF($I51=\"\",\"\",IF($B$18=\"\",\"INPUT MAIN CATEGORY (CELL B18) OR TURN CATEGORIES OFF\",\"$CATEGORY: \"&$B$18&IF($F51=\"\",\"\",\"/\"&$F51)))","v":""},{"$f":"IF($I43=\"\",\"\",IF($B$18=\"\",\"INPUT MAIN CATEGORY (CELL B18) OR TURN CATEGORIES OFF\",\"$CATEGORY: \"&$B$18&IF($F43=\"\",\"\",\"/\"&$F43)))","v":""},{"$f":"IF($I84=\"\",\"\",\"::\"&IF($B$16=\"\",\"\",$B$16&\"  \")&IF($E84=\"\",$H84,$E84)&\"::\")","v":""},null,null,null,{"$f":"IF(AV243+2=2,\"\",AV243+2)","v":63},{"$f":"(ROW()+1)/4","v":61},{"$f":"IF(AX243+2=2,\"\",AX243+2)","v":63},{"$f":"(ROW()+1)/4","v":61},51,{"$f":"(ROW()+2)/5","v":49},83,{"$f":"ROW()/3","v":81}]
[null,null,null,null,null,null,null,null,null,null,null,null,null,null,null,null,null,null,null,null,null,null,null,null,null,null,null,null,null,null,null,null,null,null,null,null,null,"",242,{"$f":"IF($I63=\"\",\"\",IF($CE63=0,\"Enter question type or turn off variable question type\",IF($G63=\"\",VLOOKUP($CE63,$BY:$CA,3,0),$G63)))","v":""},null,null,{"$f":"IF($I84=\"\",\"\",IF($CE84=0,\"Enter question type or turn off variable question type\",$CD84))","v":""},null,null,null,"",null,"",null,"",null,""]
[null,null,null,null,null,null,null,null,null,null,null,null,null,null,null,null,null,null,null,null,null,null,null,null,null,null,null,null,null,null,null,null,null,null,null,null,null,"",243,{"$f":"IF($I63=\"\",\"\",IF($CE63=0,\"Enter question type or turn off variable question type\",$CD63))","v":""},{"$f":"IF($I51=\"\",\"\",\"::\"&IF($B$16=\"\",\"\",$B$16&\"  \")&IF($E51=\"\",$H51,$E51)&\"::\")","v":""},{"$f":"IF($I43=\"\",\"\",\"::\"&IF($B$16=\"\",\"\",$B$16&\"  \")&IF($E43=\"\",$H43,$E43)&\"::\")","v":""},null,null,null,null,"",null,"",null,"",null,""]
[null,null,null,null,null,null,null,null,null,null,null,null,null,null,null,null,null,null,null,null,null,null,null,null,null,null,null,null,null,null,null,null,null,null,null,null,null,"",244,null,{"$f":"IF($I51=\"\",\"\",IF($CE51=0,\"Enter question type or turn off variable question type\",$CD51))","v":""},{"$f":"IF($I43=\"\",\"\",IF($CE43=0,\"Enter question type or turn off variable question type\",IF($G43=\"\",VLOOKUP($CE43,$BY:$CA,3,0),$G43)))","v":""},{"$f":"IF($I85=\"\",\"\",\"::\"&IF($B$16=\"\",\"\",$B$16&\"  \")&IF($E85=\"\",$H85,$E85)&\"::\")","v":""},null,null,null,null,null,null,null,"",null,84,{"$f":"ROW()/3","v":82}]
[null,null,null,null,null,null,null,null,null,null,null,null,null,null,null,null,null,null,null,null,null,null,null,null,null,null,null,null,null,null,null,null,null,null,null,null,null,"",245,{"$f":"IF($I64=\"\",\"\",\"::\"&IF($B$16=\"\",\"\",$B$16&\"  \")&IF($E64=\"\",$H64,$E64)&\"::\")","v":""},null,{"$f":"IF($I43=\"\",\"\",IF($CE43=0,\"Enter question type or turn off variable question type\",$CD43))","v":""},{"$f":"IF($I85=\"\",\"\",IF($CE85=0,\"Enter question type or turn off variable question type\",$CD85))","v":""},null,null,null,{"$f":"IF(AV247+2=2,\"\",AV247+2)","v":64},{"$f":"(ROW()+1)/4","v":62},{"$f":"IF(AX247+2=2,\"\",AX247+2)","v":64},{"$f":"(ROW()+1)/4","v":62},"",null,""]
[null,null,null,null,null,null,null,null,null,null,null,null,null,null,null,null,null,null,null,null,null,null,null,null,null,null,null,null,null,null,null,null,null,null,null,null,null,"",246,{"$f":"IF($I64=\"\",\"\",IF($CE64=0,\"Enter question type or turn off variable question type\",IF($G64=\"\",VLOOKUP($CE64,$BY:$CA,3,0),$G64)))","v":""},{"$f":"IF($I52=\"\",\"\",IF($B$18=\"\",\"INPUT MAIN CATEGORY (CELL B18) OR TURN CATEGORIES OFF\",\"$CATEGORY: \"&$B$18&IF($F52=\"\",\"\",\"/\"&$F52)))","v":""},null,null,null,null,null,"",null,"",null,52,{"$f":"(ROW()+2)/5","v":50},""]
[null,null,null,null,null,null,null,null,null,null,null,null,null,null,null,null,null,null,null,null,null,null,null,null,null,null,null,null,null,null,null,null,null,null,null,null,null,"",247,{"$f":"IF($I64=\"\",\"\",IF($CE64=0,\"Enter question type or turn off variable question type\",$CD64))","v":""},null,{"$f":"IF($I44=\"\",\"\",IF($B$18=\"\",\"INPUT MAIN CATEGORY (CELL B18) OR TURN CATEGORIES OFF\",\"$CATEGORY: \"&$B$18&IF($F44=\"\",\"\",\"/\"&$F44)))","v":""},{"$f":"IF($I86=\"\",\"\",\"::\"&IF($B$16=\"\",\"\",$B$16&\"  \")&IF($E86=\"\",$H86,$E86)&\"::\")","v":""},null,null,null,"",null,"",null,"",null,85,{"$f":"ROW()/3","v":83}]
[null,null,null,null,null,null,null,null,null,null,null,null,null,null,null,null,null,null,null,null,null,null,null,null,null,null,null,null,null,null,null,null,null,null,null,null,null,"",248,null,{"$f":"IF($I52=\"\",\"\",\"::\"&IF($B$16=\"\",\"\",$B$16&\"  \")&IF($E52=\"\",$H52,$E52)&\"::\")","v":""},null,{"$f":"IF($I86=\"\",\"\",IF($CE86=0,\"Enter question type or turn off variable question type\",$CD86))","v":""},null,null,null,null,null,null,null,"",null,""]
[null,null,null,null,null,null,null,null,null,null,null,null,null,null,null,null,null,null,null,null,null,null,null,null,null,null,null,null,null,null,null,null,null,null,null,null,null,"",249,{"$f":"IF($I65=\"\",\"\",\"::\"&IF($B$16=\"\",\"\",$B$16&\"  \")&IF($E65=\"\",$H65,$E65)&\"::\")","v":""},{"$f":"IF($I52=\"\",\"\",IF($CE52=0,\"Enter question type or turn off variable question type\",$CD52))","v":""},{"$f":"IF($I44=\"\",\"\",\"::\"&IF($B$16=\"\",\"\",$B$16&\"  \")&IF($E44=\"\",$H44,$E44)&\"::\")","v":""},null,null,null,null,{"$f":"IF(AV251+2=2,\"\",AV251+2)","v":65},63,{"$f":"IF(AX251+2=2,\"\",AX251+2)","v":65},63,"",null,""]
[null,null,null,null,null,null,null,null,null,null,null,null,null,null,null,null,null,null,null,null,null,null,null,null,null,null,null,null,null,null,null,null,null,null,null,null,null,"",250,{"$f":"IF($I65=\"\",\"\",IF($CE65=0,\"Enter question type or turn off variable question type\",IF($G65=\"\",VLOOKUP($CE65,$BY:$CA,3,0),$G65)))","v":""},null,{"$f":"IF($I44=\"\",\"\",IF($CE44=0,\"Enter question type or turn off variable question type\",IF($G44=\"\",VLOOKUP($CE44,$BY:$CA,3,0),$G44)))","v":""},{"$f":"IF($I87=\"\",\"\",\"::\"&IF($B$16=\"\",\"\",$B$16&\"  \")&IF($E87=\"\",$H87,$E87)&\"::\")","v":""},null,null,null,"",null,"",null,"",null,86,{"$f":"ROW()/3","v":84}]
[null,null,null,null,null,null,null,null,null,null,null,null,null,null,null,null,null,null,null,null,null,null,null,null,null,null,null,null,null,null,null,null,null,null,null,null,null,"",251,{"$f":"IF($I65=\"\",\"\",IF($CE65=0,\"Enter question type or turn off variable question type\",$CD65))","v":""},{"$f":"IF($I53=\"\",\"\",IF($B$18=\"\",\"INPUT MAIN CATEGORY (CELL B18) OR TURN CATEGORIES OFF\",\"$CATEGORY: \"&$B$18&IF($F53=\"\",\"\",\"/\"&$F53)))","v":""},{"$f":"IF($I44=\"\",\"\",IF($CE44=0,\"Enter question type or turn off variable question type\",$CD44))","v":""},{"$f":"IF($I87=\"\",\"\",IF($CE87=0,\"Enter question type or turn off variable question type\",$CD87))","v":""},null,null,null,"",null,"",null,{"$f":"IF(AZ253+2=2,\"\",AZ253+2)","v":53},{"$f":"(ROW()+2)/5","v":51},""]
[null,null,null,null,null,null,null,null,null,null,null,null,null,null,null,null,null,null,null,null,null,null,null,null,null,null,null,null,null,null,null,null,null,null,null,null,null,"",252,null,null,null,null,null,null,null,null,null,null,null,{"$f":"IF(AZ254+2=2,\"\",AZ254+2)","v":""},null,""]
[null,null,null,null,null,null,null,null,null,null,null,null,null,null,null,null,null,null,null,null,null,null,null,null,null,null,null,null,null,null,null,null,null,null,null,null,null,"",253,{"$f":"IF($I66=\"\",\"\",\"::\"&IF($B$16=\"\",\"\",$B$16&\"  \")&IF($E66=\"\",$H66,$E66)&\"::\")","v":""},{"$f":"IF($I53=\"\",\"\",\"::\"&IF($B$16=\"\",\"\",$B$16&\"  \")&IF($E53=\"\",$H53,$E53)&\"::\")","v":""},{"$f":"IF($I45=\"\",\"\",IF($B$18=\"\",\"INPUT MAIN CATEGORY (CELL B18) OR TURN CATEGORIES OFF\",\"$CATEGORY: \"&$B$18&IF($F45=\"\",\"\",\"/\"&$F45)))","v":""},{"$f":"IF($I88=\"\",\"\",\"::\"&IF($B$16=\"\",\"\",$B$16&\"  \")&IF($E88=\"\",$H88,$E88)&\"::\")","v":""},null,null,null,{"$f":"IF(AV255+2=2,\"\",AV255+2)","v":66},{"$f":"(ROW()+1)/4","v":64},{"$f":"IF(AX255+2=2,\"\",AX255+2)","v":66},{"$f":"(ROW()+1)/4","v":64},"",null,87,{"$f":"ROW()/3","v":85}]
[null,null,null,null,null,null,null,null,null,null,null,null,null,null,null,null,null,null,null,null,null,null,null,null,null,null,null,null,null,null,null,null,null,null,null,null,null,"",254,{"$f":"IF($I66=\"\",\"\",IF($CE66=0,\"Enter question type or turn off variable question type\",IF($G66=\"\",VLOOKUP($CE66,$BY:$CA,3,0),$G66)))","v":""},{"$f":"IF($I53=\"\",\"\",IF($CE53=0,\"Enter question type or turn off variable question type\",$CD53))","v":""},null,{"$f":"IF($I88=\"\",\"\",IF($CE88=0,\"Enter question type or turn off variable question type\",$CD88))","v":""},null,null,null,"",null,"",null,"",null,""]
[null,null,null,null,null,null,null,null,null,null,null,null,null,null,null,null,null,null,null,null,null,null,null,null,null,null,null,null,null,null,null,null,null,null,null,null,null,"",255,{"$f":"IF($I66=\"\",\"\",IF($CE66=0,\"Enter question type or turn off variable question type\",$CD66))","v":""},null,{"$f":"IF($I45=\"\",\"\",\"::\"&IF($B$16=\"\",\"\",$B$16&\"  \")&IF($E45=\"\",$H45,$E45)&\"::\")","v":""},null,null,null,null,"",null,"",null,"",null,""]
[null,null,null,null,null,null,null,null,null,null,null,null,null,null,null,null,null,null,null,null,null,null,null,null,null,null,null,null,null,null,null,null,null,null,null,null,null,"",256,null,{"$f":"IF($I54=\"\",\"\",IF($B$18=\"\",\"INPUT MAIN CATEGORY (CELL B18) OR TURN CATEGORIES OFF\",\"$CATEGORY: \"&$B$18&IF($F54=\"\",\"\",\"/\"&$F54)))","v":""},{"$f":"IF($I45=\"\",\"\",IF($CE45=0,\"Enter question type or turn off variable question type\",IF($G45=\"\",VLOOKUP($CE45,$BY:$CA,3,0),$G45)))","v":""},{"$f":"IF($I89=\"\",\"\",\"::\"&IF($B$16=\"\",\"\",$B$16&\"  \")&IF($E89=\"\",$H89,$E89)&\"::\")","v":""},null,null,null,null,null,null,null,54,{"$f":"(ROW()+2)/5","v":52},88,{"$f":"ROW()/3","v":86}]
[null,null,null,null,null,null,null,null,null,null,null,null,null,null,null,null,null,null,null,null,null,null,null,null,null,null,null,null,null,null,null,null,null,null,null,null,null,"",257,{"$f":"IF($I67=\"\",\"\",\"::\"&IF($B$16=\"\",\"\",$B$16&\"  \")&IF($E67=\"\",$H67,$E67)&\"::\")","v":""},null,{"$f":"IF($I45=\"\",\"\",IF($CE45=0,\"Enter question type or turn off variable question type\",$CD45))","v":""},{"$f":"IF($I89=\"\",\"\",IF($CE89=0,\"Enter question type or turn off variable question type\",$CD89))","v":""},null,null,null,{"$f":"IF(AV259+2=2,\"\",AV259+2)","v":67},{"$f":"(ROW()+1)/4","v":65},{"$f":"IF(AX259+2=2,\"\",AX259+2)","v":67},{"$f":"(ROW()+1)/4","v":65},"",null,""]
[null,null,null,null,null,null,null,null,null,null,null,null,null,null,null,null,null,null,null,null,null,null,null,null,null,null,null,null,null,null,null,null,null,null,null,null,null,"",258,{"$f":"IF($I67=\"\",\"\",IF($CE67=0,\"Enter question type or turn off variable question type\",IF($G67=\"\",VLOOKUP($CE67,$BY:$CA,3,0),$G67)))","v":""},{"$f":"IF($I54=\"\",\"\",\"::\"&IF($B$16=\"\",\"\",$B$16&\"  \")&IF($E54=\"\",$H54,$E54)&\"::\")","v":""},null,null,null,null,null,"",null,"",null,"",null,{"$f":"IF(BB260+2=2,\"\",BB260+2)","v":""}]
[null,null,null,null,null,null,null,null,null,null,null,null,null,null,null,null,null,null,null,null,null,null,null,null,null,null,null,null,null,null,null,null,null,null,null,null,null,"",259,{"$f":"IF($I67=\"\",\"\",IF($CE67=0,\"Enter question type or turn off variable question type\",$CD67))","v":""},{"$f":"IF($I54=\"\",\"\",IF($CE54=0,\"Enter question type or turn off variable question type\",$CD54))","v":""},{"$f":"IF($I46=\"\",\"\",IF($B$18=\"\",\"INPUT MAIN CATEGORY (CELL B18) OR TURN CATEGORIES OFF\",\"$CATEGORY: \"&$B$18&IF($F46=\"\",\"\",\"/\"&$F46)))","v":""},{"$f":"IF($I90=\"\",\"\",\"::\"&IF($B$16=\"\",\"\",$B$16&\"  \")&IF($E90=\"\",$H90,$E90)&\"::\")","v":""},null,null,null,"",null,"",null,"",null,89,{"$f":"ROW()/3","v":87}]
[null,null,null,null,null,null,null,null,null,null,null,null,null,null,null,null,null,null,null,null,null,null,null,null,null,null,null,null,null,null,null,null,null,null,null,null,null,{"$f":"IF(VLOOKUP($AM262,$AM:$AQ,$A$6,0)=\"\",\"\",VLOOKUP($AM262,$AM:$AQ,$A$6,0))","v":""},260,null,null,null,{"$f":"IF($I90=\"\",\"\",IF($CE90=0,\"Enter question type or turn off variable question type\",$CD90))","v":""},null,null,null,null,null,null,null,"",null,""]
[null,null,null,null,null,null,null,null,null,null,null,null,null,null,null,null,null,null,null,null,null,null,null,null,null,null,null,null,null,null,null,null,null,null,null,null,null,"",261,{"$f":"IF($I68=\"\",\"\",\"::\"&IF($B$16=\"\",\"\",$B$16&\"  \")&IF($E68=\"\",$H68,$E68)&\"::\")","v":""},{"$f":"IF($I55=\"\",\"\",IF($B$18=\"\",\"INPUT MAIN CATEGORY (CELL B18) OR TURN CATEGORIES OFF\",\"$CATEGORY: \"&$B$18&IF($F55=\"\",\"\",\"/\"&$F55)))","v":""},{"$f":"IF($I46=\"\",\"\",\"::\"&IF($B$16=\"\",\"\",$B$16&\"  \")&IF($E46=\"\",$H46,$E46)&\"::\")","v":""},null,null,null,null,{"$f":"IF(AV263+2=2,\"\",AV263+2)","v":68},{"$f":"(ROW()+1)/4","v":66},{"$f":"IF(AX263+2=2,\"\",AX263+2)","v":68},{"$f":"(ROW()+1)/4","v":66},55,{"$f":"(ROW()+2)/5","v":53},""]
[null,null,null,null,null,null,null,null,null,null,null,null,null,null,null,null,null,null,null,null,null,null,null,null,null,null,null,null,null,null,null,null,null,null,null,null,null,"",262,{"$f":"IF($I68=\"\",\"\",IF($CE68=0,\"Enter question type or turn off variable question type\",IF($G68=\"\",VLOOKUP($CE68,$BY:$CA,3,0),$G68)))","v":""},null,{"$f":"IF($I46=\"\",\"\",IF($CE46=0,\"Enter question type or turn off variable question type\",IF($G46=\"\",VLOOKUP($CE46,$BY:$CA,3,0),$G46)))","v":""},{"$f":"IF($I91=\"\",\"\",\"::\"&IF($B$16=\"\",\"\",$B$16&\"  \")&IF($E91=\"\",$H91,$E91)&\"::\")","v":""},null,null,null,"",null,"",null,"",null,90,{"$f":"ROW()/3","v":88}]
[null,null,null,null,null,null,null,null,null,null,null,null,null,null,null,null,null,null,null,null,null,null,null,null,null,null,null,null,null,null,null,null,null,null,null,null,null,"",263,{"$f":"IF($I68=\"\",\"\",IF($CE68=0,\"Enter question type or turn off variable question type\",$CD68))","v":""},{"$f":"IF($I55=\"\",\"\",\"::\"&IF($B$16=\"\",\"\",$B$16&\"  \")&IF($E55=\"\",$H55,$E55)&\"::\")","v":""},{"$f":"IF($I46=\"\",\"\",IF($CE46=0,\"Enter question type or turn off variable question type\",$CD46))","v":""},{"$f":"IF($I91=\"\",\"\",IF($CE91=0,\"Enter question type or turn off variable question type\",$CD91))","v":""},null,null,null,"",null,"",null,"",null,""]
[null,null,null,null,null,null,null,null,null,null,null,null,null,null,null,null,null,null,null,null,null,null,null,null,null,null,null,null,null,null,null,null,null,null,null,null,null,"",264,null,{"$f":"IF($I55=\"\",\"\",IF($CE55=0,\"Enter question type or turn off variable question type\",$CD55))","v":""},null,null,null,null,null,null,null,null,null,"",null,""]
[null,null,null,null,null,null,null,null,null,null,null,null,null,null,null,null,null,null,null,null,null,null,null,null,null,null,null,null,null,null,null,null,null,null,null,null,null,"",265,{"$f":"IF($I69=\"\",\"\",\"::\"&IF($B$16=\"\",\"\",$B$16&\"  \")&IF($E69=\"\",$H69,$E69)&\"::\")","v":""},null,{"$f":"IF($I47=\"\",\"\",IF($B$18=\"\",\"INPUT MAIN CATEGORY (CELL B18) OR TURN CATEGORIES OFF\",\"$CATEGORY: \"&$B$18&IF($F47=\"\",\"\",\"/\"&$F47)))","v":""},{"$f":"IF($I92=\"\",\"\",\"::\"&IF($B$16=\"\",\"\",$B$16&\"  \")&IF($E92=\"\",$H92,$E92)&\"::\")","v":""},null,null,null,{"$f":"IF(AV267+2=2,\"\",AV267+2)","v":69},67,{"$f":"IF(AX267+2=2,\"\",AX267+2)","v":69},67,"",null,91,{"$f":"ROW()/3","v":89}]
[null,null,null,null,null,null,null,null,null,null,null,null,null,null,null,null,null,null,null,null,null,null,null,null,null,null,null,null,null,null,null,null,null,null,null,null,null,"",266,{"$f":"IF($I69=\"\",\"\",IF($CE69=0,\"Enter question type or turn off variable question type\",IF($G69=\"\",VLOOKUP($CE69,$BY:$CA,3,0),$G69)))","v":""},{"$f":"IF($I56=\"\",\"\",IF($B$18=\"\",\"INPUT MAIN CATEGORY (CELL B18) OR TURN CATEGORIES OFF\",\"$CATEGORY: \"&$B$18&IF($F56=\"\",\"\",\"/\"&$F56)))","v":""},null,{"$f":"IF($I92=\"\",\"\",IF($CE92=0,\"Enter question type or turn off variable question type\",$CD92))","v":""},null,null,null,"",null,"",null,56,{"$f":"(ROW()+2)/5","v":54},""]
[null,null,null,null,null,null,null,null,null,null,null,null,null,null,null,null,null,null,null,null,null,null,null,null,null,null,null,null,null,null,null,null,null,null,null,null,null,"",267,{"$f":"IF($I69=\"\",\"\",IF($CE69=0,\"Enter question type or turn off variable question type\",$CD69))","v":""},null,{"$f":"IF($I47=\"\",\"\",\"::\"&IF($B$16=\"\",\"\",$B$16&\"  \")&IF($E47=\"\",$H47,$E47)&\"::\")","v":""},null,null,null,null,"",null,"",null,"",null,""]
[null,null,null,null,null,null,null,null,null,null,null,null,null,null,null,null,null,null,null,null,null,null,null,null,null,null,null,null,null,null,null,null,null,null,null,null,null,"",268,null,{"$f":"IF($I56=\"\",\"\",\"::\"&IF($B$16=\"\",\"\",$B$16&\"  \")&IF($E56=\"\",$H56,$E56)&\"::\")","v":""},{"$f":"IF($I47=\"\",\"\",IF($CE47=0,\"Enter question type or turn off variable question type\",IF($G47=\"\",VLOOKUP($CE47,$BY:$CA,3,0),$G47)))","v":""},{"$f":"IF($I93=\"\",\"\",\"::\"&IF($B$16=\"\",\"\",$B$16&\"  \")&IF($E93=\"\",$H93,$E93)&\"::\")","v":""},null,null,null,null,null,null,null,"",null,92,{"$f":"ROW()/3","v":90}]
[null,null,null,null,null,null,null,null,null,null,null,null,null,null,null,null,null,null,null,null,null,null,null,null,null,null,null,null,null,null,null,null,null,null,null,null,null,"",269,{"$f":"IF($I70=\"\",\"\",\"::\"&IF($B$16=\"\",\"\",$B$16&\"  \")&IF($E70=\"\",$H70,$E70)&\"::\")","v":""},{"$f":"IF($I56=\"\",\"\",IF($CE56=0,\"Enter question type or turn off variable question type\",$CD56))","v":""},{"$f":"IF($I47=\"\",\"\",IF($CE47=0,\"Enter question type or turn off variable question type\",$CD47))","v":""},{"$f":"IF($I93=\"\",\"\",IF($CE93=0,\"Enter question type or turn off variable question type\",$CD93))","v":""},null,null,null,{"$f":"IF(AV271+2=2,\"\",AV271+2)","v":70},{"$f":"(ROW()+1)/4","v":68},{"$f":"IF(AX271+2=2,\"\",AX271+2)","v":70},{"$f":"(ROW()+1)/4","v":68},"",null,""]
[null,null,null,null,null,null,null,null,null,null,null,null,null,null,null,null,null,null,null,null,null,null,null,null,null,null,null,null,null,null,null,null,null,null,null,null,null,"",270,{"$f":"IF($I70=\"\",\"\",IF($CE70=0,\"Enter question type or turn off variable question type\",IF($G70=\"\",VLOOKUP($CE70,$BY:$CA,3,0),$G70)))","v":""},null,null,null,null,null,null,"",null,"",null,"",null,""]
[null,null,null,null,null,null,null,null,null,null,null,null,null,null,null,null,null,null,null,null,null,null,null,null,null,null,null,null,null,null,null,null,null,null,null,null,null,"",271,{"$f":"IF($I70=\"\",\"\",IF($CE70=0,\"Enter question type or turn off variable question type\",$CD70))","v":""},{"$f":"IF($I57=\"\",\"\",IF($B$18=\"\",\"INPUT MAIN CATEGORY (CELL B18) OR TURN CATEGORIES OFF\",\"$CATEGORY: \"&$B$18&IF($F57=\"\",\"\",\"/\"&$F57)))","v":""},{"$f":"IF($I48=\"\",\"\",IF($B$18=\"\",\"INPUT MAIN CATEGORY (CELL B18) OR TURN CATEGORIES OFF\",\"$CATEGORY: \"&$B$18&IF($F48=\"\",\"\",\"/\"&$F48)))","v":""},{"$f":"IF($I94=\"\",\"\",\"::\"&IF($B$16=\"\",\"\",$B$16&\"  \")&IF($E94=\"\",$H94,$E94)&\"::\")","v":""},null,null,null,"",null,"",null,57,{"$f":"(ROW()+2)/5","v":55},93,{"$f":"ROW()/3","v":91}]
[null,null,null,null,null,null,null,null,null,null,null,null,null,null,null,null,null,null,null,null,null,null,null,null,null,null,null,null,null,null,null,null,null,null,null,null,null,"",272,null,null,null,{"$f":"IF($I94=\"\",\"\",IF($CE94=0,\"Enter question type or turn off variable question type\",$CD94))","v":""},null,null,null,null,null,null,null,"",null,""]
[null,null,null,null,null,null,null,null,null,null,null,null,null,null,null,null,null,null,null,null,null,null,null,null,null,null,null,null,null,null,null,null,null,null,null,null,null,"",273,{"$f":"IF($I71=\"\",\"\",\"::\"&IF($B$16=\"\",\"\",$B$16&\"  \")&IF($E71=\"\",$H71,$E71)&\"::\")","v":""},{"$f":"IF($I57=\"\",\"\",\"::\"&IF($B$16=\"\",\"\",$B$16&\"  \")&IF($E57=\"\",$H57,$E57)&\"::\")","v":""},{"$f":"IF($I48=\"\",\"\",\"::\"&IF($B$16=\"\",\"\",$B$16&\"  \")&IF($E48=\"\",$H48,$E48)&\"::\")","v":""},null,null,null,null,{"$f":"IF(AV275+2=2,\"\",AV275+2)","v":71},{"$f":"(ROW()+1)/4","v":69},{"$f":"IF(AX275+2=2,\"\",AX275+2)","v":71},{"$f":"(ROW()+1)/4","v":69},"",null,""]
[null,null,null,null,null,null,null,null,null,null,null,null,null,null,null,null,null,null,null,null,null,null,null,null,null,null,null,null,null,null,null,null,null,null,null,null,null,"",274,{"$f":"IF($I71=\"\",\"\",IF($CE71=0,\"Enter question type or turn off variable question type\",IF($G71=\"\",VLOOKUP($CE71,$BY:$CA,3,0),$G71)))","v":""},{"$f":"IF($I57=\"\",\"\",IF($CE57=0,\"Enter question type or turn off variable question type\",$CD57))","v":""},{"$f":"IF($I48=\"\",\"\",IF($CE48=0,\"Enter question type or turn off variable question type\",IF($G48=\"\",VLOOKUP($CE48,$BY:$CA,3,0),$G48)))","v":""},{"$f":"IF($I95=\"\",\"\",\"::\"&IF($B$16=\"\",\"\",$B$16&\"  \")&IF($E95=\"\",$H95,$E95)&\"::\")","v":""},null,null,null,"",null,"",null,"",null,94,{"$f":"ROW()/3","v":92}]
[null,null,null,null,null,null,null,null,null,null,null,null,null,null,null,null,null,null,null,null,null,null,null,null,null,null,null,null,null,null,null,null,null,null,null,null,null,"",275,{"$f":"IF($I71=\"\",\"\",IF($CE71=0,\"Enter question type or turn off variable question type\",$CD71))","v":""},null,{"$f":"IF($I48=\"\",\"\",IF($CE48=0,\"Enter question type or turn off variable question type\",$CD48))","v":""},{"$f":"IF($I95=\"\",\"\",IF($CE95=0,\"Enter question type or turn off variable question type\",$CD95))","v":""},null,null,null,"",null,"",null,"",null,""]
[null,null,null,null,null,null,null,null,null,null,null,null,null,null,null,null,null,null,null,null,null,null,null,null,null,null,null,null,null,null,null,null,null,null,null,null,null,"",276,null,{"$f":"IF($I58=\"\",\"\",IF($B$18=\"\",\"INPUT MAIN CATEGORY (CELL B18) OR TURN CATEGORIES OFF\",\"$CATEGORY: \"&$B$18&IF($F58=\"\",\"\",\"/\"&$F58)))","v":""},null,null,null,null,null,null,null,null,null,58,{"$f":"(ROW()+2)/5","v":56},""]
[null,null,null,null,null,null,null,null,null,null,null,null,null,null,null,null,null,null,null,null,null,null,null,null,null,null,null,null,null,null,null,null,null,null,null,null,null,"",277,{"$f":"IF($I72=\"\",\"\",\"::\"&IF($B$16=\"\",\"\",$B$16&\"  \")&IF($E72=\"\",$H72,$E72)&\"::\")","v":""},null,{"$f":"IF($I49=\"\",\"\",IF($B$18=\"\",\"INPUT MAIN CATEGORY (CELL B18) OR TURN CATEGORIES OFF\",\"$CATEGORY: \"&$B$18&IF($F49=\"\",\"\",\"/\"&$F49)))","v":""},{"$f":"IF($I96=\"\",\"\",\"::\"&IF($B$16=\"\",\"\",$B$16&\"  \")&IF($E96=\"\",$H96,$E96)&\"::\")","v":""},null,null,null,{"$f":"IF(AV279+2=2,\"\",AV279+2)","v":72},{"$f":"(ROW()+1)/4","v":70},{"$f":"IF(AX279+2=2,\"\",AX279+2)","v":72},{"$f":"(ROW()+1)/4","v":70},"",null,95,{"$f":"ROW()/3","v":93}]
[null,null,null,null,null,null,null,null,null,null,null,null,null,null,null,null,null,null,null,null,null,null,null,null,null,null,null,null,null,null,null,null,null,null,null,null,null,"",278,{"$f":"IF($I72=\"\",\"\",IF($CE72=0,\"Enter question type or turn off variable question type\",IF($G72=\"\",VLOOKUP($CE72,$BY:$CA,3,0),$G72)))","v":""},{"$f":"IF($I58=\"\",\"\",\"::\"&IF($B$16=\"\",\"\",$B$16&\"  \")&IF($E58=\"\",$H58,$E58)&\"::\")","v":""},null,{"$f":"IF($I96=\"\",\"\",IF($CE96=0,\"Enter question type or turn off variable question type\",$CD96))","v":""},null,null,null,"",null,"",null,"",null,""]
[null,null,null,null,null,null,null,null,null,null,null,null,null,null,null,null,null,null,null,null,null,null,null,null,null,null,null,null,null,null,null,null,null,null,null,null,null,"",279,{"$f":"IF($I72=\"\",\"\",IF($CE72=0,\"Enter question type or turn off variable question type\",$CD72))","v":""},{"$f":"IF($I58=\"\",\"\",IF($CE58=0,\"Enter question type or turn off variable question type\",$CD58))","v":""},{"$f":"IF($I49=\"\",\"\",\"::\"&IF($B$16=\"\",\"\",$B$16&\"  \")&IF($E49=\"\",$H49,$E49)&\"::\")","v":""},null,null,null,null,"",null,"",null,"",null,""]
[null,null,null,null,null,null,null,null,null,null,null,null,null,null,null,null,null,null,null,null,null,null,null,null,null,null,null,null,null,null,null,null,null,null,null,null,null,"",280,null,null,{"$f":"IF($I49=\"\",\"\",IF($CE49=0,\"Enter question type or turn off variable question type\",IF($G49=\"\",VLOOKUP($CE49,$BY:$CA,3,0),$G49)))","v":""},{"$f":"IF($I97=\"\",\"\",\"::\"&IF($B$16=\"\",\"\",$B$16&\"  \")&IF($E97=\"\",$H97,$E97)&\"::\")","v":""},null,null,null,null,null,null,null,"",null,96,{"$f":"ROW()/3","v":94}]
[null,null,null,null,null,null,null,null,null,null,null,null,null,null,null,null,null,null,null,null,null,null,null,null,null,null,null,null,null,null,null,null,null,null,null,null,null,"",281,{"$f":"IF($I73=\"\",\"\",\"::\"&IF($B$16=\"\",\"\",$B$16&\"  \")&IF($E73=\"\",$H73,$E73)&\"::\")","v":""},{"$f":"IF($I59=\"\",\"\",IF($B$18=\"\",\"INPUT MAIN CATEGORY (CELL B18) OR TURN CATEGORIES OFF\",\"$CATEGORY: \"&$B$18&IF($F59=\"\",\"\",\"/\"&$F59)))","v":""},{"$f":"IF($I49=\"\",\"\",IF($CE49=0,\"Enter question type or turn off variable question type\",$CD49))","v":""},{"$f":"IF($I97=\"\",\"\",IF($CE97=0,\"Enter question type or turn off variable question type\",$CD97))","v":""},null,null,null,{"$f":"IF(AV283+2=2,\"\",AV283+2)","v":73},71,{"$f":"IF(AX283+2=2,\"\",AX283+2)","v":73},71,59,{"$f":"(ROW()+2)/5","v":57},""]
[null,null,null,null,null,null,null,null,null,null,null,null,null,null,null,null,null,null,null,null,null,null,null,null,null,null,null,null,null,null,null,null,null,null,null,null,null,"",282,{"$f":"IF($I73=\"\",\"\",IF($CE73=0,\"Enter question type or turn off variable question type\",IF($G73=\"\",VLOOKUP($CE73,$BY:$CA,3,0),$G73)))","v":""},null,null,null,null,null,null,"",null,"",null,"",null,""]
[null,null,null,null,null,null,null,null,null,null,null,null,null,null,null,null,null,null,null,null,null,null,null,null,null,null,null,null,null,null,null,null,null,null,null,null,null,"",283,{"$f":"IF($I73=\"\",\"\",IF($CE73=0,\"Enter question type or turn off variable question type\",$CD73))","v":""},{"$f":"IF($I59=\"\",\"\",\"::\"&IF($B$16=\"\",\"\",$B$16&\"  \")&IF($E59=\"\",$H59,$E59)&\"::\")","v":""},{"$f":"IF($I50=\"\",\"\",IF($B$18=\"\",\"INPUT MAIN CATEGORY (CELL B18) OR TURN CATEGORIES OFF\",\"$CATEGORY: \"&$B$18&IF($F50=\"\",\"\",\"/\"&$F50)))","v":""},{"$f":"IF($I98=\"\",\"\",\"::\"&IF($B$16=\"\",\"\",$B$16&\"  \")&IF($E98=\"\",$H98,$E98)&\"::\")","v":""},null,null,null,"",null,"",null,"",null,97,{"$f":"ROW()/3","v":95}]
[null,null,null,null,null,null,null,null,null,null,null,null,null,null,null,null,null,null,null,null,null,null,null,null,null,null,null,null,null,null,null,null,null,null,null,null,null,"",284,null,{"$f":"IF($I59=\"\",\"\",IF($CE59=0,\"Enter question type or turn off variable question type\",$CD59))","v":""},null,{"$f":"IF($I98=\"\",\"\",IF($CE98=0,\"Enter question type or turn off variable question type\",$CD98))","v":""},null,null,null,null,null,null,null,"",null,""]
[null,null,null,null,null,null,null,null,null,null,null,null,null,null,null,null,null,null,null,null,null,null,null,null,null,null,null,null,null,null,null,null,null,null,null,null,null,"",285,{"$f":"IF($I74=\"\",\"\",\"::\"&IF($B$16=\"\",\"\",$B$16&\"  \")&IF($E74=\"\",$H74,$E74)&\"::\")","v":""},null,{"$f":"IF($I50=\"\",\"\",\"::\"&IF($B$16=\"\",\"\",$B$16&\"  \")&IF($E50=\"\",$H50,$E50)&\"::\")","v":""},null,null,null,null,{"$f":"IF(AV287+2=2,\"\",AV287+2)","v":74},{"$f":"(ROW()+1)/4","v":72},{"$f":"IF(AX287+2=2,\"\",AX287+2)","v":74},{"$f":"(ROW()+1)/4","v":72},"",null,""]
[null,null,null,null,null,null,null,null,null,null,null,null,null,null,null,null,null,null,null,null,null,null,null,null,null,null,null,null,null,null,null,null,null,null,null,null,null,"",286,{"$f":"IF($I74=\"\",\"\",IF($CE74=0,\"Enter question type or turn off variable question type\",IF($G74=\"\",VLOOKUP($CE74,$BY:$CA,3,0),$G74)))","v":""},{"$f":"IF($I60=\"\",\"\",IF($B$18=\"\",\"INPUT MAIN CATEGORY (CELL B18) OR TURN CATEGORIES OFF\",\"$CATEGORY: \"&$B$18&IF($F60=\"\",\"\",\"/\"&$F60)))","v":""},{"$f":"IF($I50=\"\",\"\",IF($CE50=0,\"Enter question type or turn off variable question type\",IF($G50=\"\",VLOOKUP($CE50,$BY:$CA,3,0),$G50)))","v":""},{"$f":"IF($I99=\"\",\"\",\"::\"&IF($B$16=\"\",\"\",$B$16&\"  \")&IF($E99=\"\",$H99,$E99)&\"::\")","v":""},null,null,null,"",null,"",null,60,{"$f":"(ROW()+2)/5","v":58},98,{"$f":"ROW()/3","v":96}]
[null,null,null,null,null,null,null,null,null,null,null,null,null,null,null,null,null,null,null,null,null,null,null,null,null,null,null,null,null,null,null,null,null,null,null,null,null,"",287,{"$f":"IF($I74=\"\",\"\",IF($CE74=0,\"Enter question type or turn off variable question type\",$CD74))","v":""},null,{"$f":"IF($I50=\"\",\"\",IF($CE50=0,\"Enter question type or turn off variable question type\",$CD50))","v":""},{"$f":"IF($I99=\"\",\"\",IF($CE99=0,\"Enter question type or turn off variable question type\",$CD99))","v":""},null,null,null,"",null,"",null,"",null,""]
[null,null,null,null,null,null,null,null,null,null,null,null,null,null,null,null,null,null,null,null,null,null,null,null,null,null,null,null,null,null,null,null,null,null,null,null,null,"",288,null,{"$f":"IF($I60=\"\",\"\",\"::\"&IF($B$16=\"\",\"\",$B$16&\"  \")&IF($E60=\"\",$H60,$E60)&\"::\")","v":""},null,null,null,null,null,null,null,null,null,"",null,""]
[null,null,null,null,null,null,null,null,null,null,null,null,null,null,null,null,null,null,null,null,null,null,null,null,null,null,null,null,null,null,null,null,null,null,null,null,null,"",289,{"$f":"IF($I75=\"\",\"\",\"::\"&IF($B$16=\"\",\"\",$B$16&\"  \")&IF($E75=\"\",$H75,$E75)&\"::\")","v":""},{"$f":"IF($I60=\"\",\"\",IF($CE60=0,\"Enter question type or turn off variable question type\",$CD60))","v":""},{"$f":"IF($I51=\"\",\"\",IF($B$18=\"\",\"INPUT MAIN CATEGORY (CELL B18) OR TURN CATEGORIES OFF\",\"$CATEGORY: \"&$B$18&IF($F51=\"\",\"\",\"/\"&$F51)))","v":""},{"$f":"IF($I100=\"\",\"\",\"::\"&IF($B$16=\"\",\"\",$B$16&\"  \")&IF($E100=\"\",$H100,$E100)&\"::\")","v":""},null,null,null,{"$f":"IF(AV291+2=2,\"\",AV291+2)","v":75},{"$f":"(ROW()+1)/4","v":73},{"$f":"IF(AX291+2=2,\"\",AX291+2)","v":75},{"$f":"(ROW()+1)/4","v":73},"",null,99,{"$f":"ROW()/3","v":97}]
[null,null,null,null,null,null,null,null,null,null,null,null,null,null,null,null,null,null,null,null,null,null,null,null,null,null,null,null,null,null,null,null,null,null,null,null,null,"",290,{"$f":"IF($I75=\"\",\"\",IF($CE75=0,\"Enter question type or turn off variable question type\",IF($G75=\"\",VLOOKUP($CE75,$BY:$CA,3,0),$G75)))","v":""},null,null,{"$f":"IF($I100=\"\",\"\",IF($CE100=0,\"Enter question type or turn off variable question type\",$CD100))","v":""},null,null,null,"",null,"",null,"",null,""]
[null,null,null,null,null,null,null,null,null,null,null,null,null,null,null,null,null,null,null,null,null,null,null,null,null,null,null,null,null,null,null,null,null,null,null,null,null,"",291,{"$f":"IF($I75=\"\",\"\",IF($CE75=0,\"Enter question type or turn off variable question type\",$CD75))","v":""},{"$f":"IF($I61=\"\",\"\",IF($B$18=\"\",\"INPUT MAIN CATEGORY (CELL B18) OR TURN CATEGORIES OFF\",\"$CATEGORY: \"&$B$18&IF($F61=\"\",\"\",\"/\"&$F61)))","v":""},{"$f":"IF($I51=\"\",\"\",\"::\"&IF($B$16=\"\",\"\",$B$16&\"  \")&IF($E51=\"\",$H51,$E51)&\"::\")","v":""},null,null,null,null,"",null,"",null,61,{"$f":"(ROW()+2)/5","v":59},""]
[null,null,null,null,null,null,null,null,null,null,null,null,null,null,null,null,null,null,null,null,null,null,null,null,null,null,null,null,null,null,null,null,null,null,null,null,null,"",292,null,null,{"$f":"IF($I51=\"\",\"\",IF($CE51=0,\"Enter question type or turn off variable question type\",IF($G51=\"\",VLOOKUP($CE51,$BY:$CA,3,0),$G51)))","v":""},{"$f":"IF($I101=\"\",\"\",\"::\"&IF($B$16=\"\",\"\",$B$16&\"  \")&IF($E101=\"\",$H101,$E101)&\"::\")","v":""},null,null,null,null,null,null,null,"",null,100,{"$f":"ROW()/3","v":98}]
[null,null,null,null,null,null,null,null,null,null,null,null,null,null,null,null,null,null,null,null,null,null,null,null,null,null,null,null,null,null,null,null,null,null,null,null,null,"",293,{"$f":"IF($I76=\"\",\"\",\"::\"&IF($B$16=\"\",\"\",$B$16&\"  \")&IF($E76=\"\",$H76,$E76)&\"::\")","v":""},{"$f":"IF($I61=\"\",\"\",\"::\"&IF($B$16=\"\",\"\",$B$16&\"  \")&IF($E61=\"\",$H61,$E61)&\"::\")","v":""},{"$f":"IF($I51=\"\",\"\",IF($CE51=0,\"Enter question type or turn off variable question type\",$CD51))","v":""},{"$f":"IF($I101=\"\",\"\",IF($CE101=0,\"Enter question type or turn off variable question type\",$CD101))","v":""},null,null,null,{"$f":"IF(AV295+2=2,\"\",AV295+2)","v":76},{"$f":"(ROW()+1)/4","v":74},{"$f":"IF(AX295+2=2,\"\",AX295+2)","v":76},{"$f":"(ROW()+1)/4","v":74},"",null,""]
[null,null,null,null,null,null,null,null,null,null,null,null,null,null,null,null,null,null,null,null,null,null,null,null,null,null,null,null,null,null,null,null,null,null,null,null,null,"",294,{"$f":"IF($I76=\"\",\"\",IF($CE76=0,\"Enter question type or turn off variable question type\",IF($G76=\"\",VLOOKUP($CE76,$BY:$CA,3,0),$G76)))","v":""},{"$f":"IF($I61=\"\",\"\",IF($CE61=0,\"Enter question type or turn off variable question type\",$CD61))","v":""},null,null,null,null,null,"",null,"",null,"",null,""]
[null,null,null,null,null,null,null,null,null,null,null,null,null,null,null,null,null,null,null,null,null,null,null,null,null,null,null,null,null,null,null,null,null,null,null,null,null,"",295,{"$f":"IF($I76=\"\",\"\",IF($CE76=0,\"Enter question type or turn off variable question type\",$CD76))","v":""},null,{"$f":"IF($I52=\"\",\"\",IF($B$18=\"\",\"INPUT MAIN CATEGORY (CELL B18) OR TURN CATEGORIES OFF\",\"$CATEGORY: \"&$B$18&IF($F52=\"\",\"\",\"/\"&$F52)))","v":""},{"$f":"IF($I201=\"\",\"\",\"::\"&IF($B$16=\"\",\"\",$B$16&\"  \")&IF($E201=\"\",$H201,$E201)&\"::\")","v":""},null,null,null,"",null,"",null,"",null,101,{"$f":"ROW()/3","v":99}]
[null,null,null,null,null,null,null,null,null,null,null,null,null,null,null,null,null,null,null,null,null,null,null,null,null,null,null,null,null,null,null,null,null,null,null,null,null,"",296,null,{"$f":"IF($I62=\"\",\"\",IF($B$18=\"\",\"INPUT MAIN CATEGORY (CELL B18) OR TURN CATEGORIES OFF\",\"$CATEGORY: \"&$B$18&IF($F62=\"\",\"\",\"/\"&$F62)))","v":""},null,{"$f":"IF($I201=\"\",\"\",IF($CE201=0,\"Enter question type or turn off variable question type\",$CD201))","v":""},null,null,null,null,null,null,null,62,{"$f":"(ROW()+2)/5","v":60},""]
[null,null,null,null,null,null,null,null,null,null,null,null,null,null,null,null,null,null,null,null,null,null,null,null,null,null,null,null,null,null,null,null,null,null,null,null,null,"",297,{"$f":"IF($I77=\"\",\"\",\"::\"&IF($B$16=\"\",\"\",$B$16&\"  \")&IF($E77=\"\",$H77,$E77)&\"::\")","v":""},null,{"$f":"IF($I52=\"\",\"\",\"::\"&IF($B$16=\"\",\"\",$B$16&\"  \")&IF($E52=\"\",$H52,$E52)&\"::\")","v":""},null,null,null,null,{"$f":"IF(AV299+2=2,\"\",AV299+2)","v":77},75,{"$f":"IF(AX299+2=2,\"\",AX299+2)","v":77},75,"",null,""]
[null,null,null,null,null,null,null,null,null,null,null,null,null,null,null,null,null,null,null,null,null,null,null,null,null,null,null,null,null,null,null,null,null,null,null,null,null,"",298,{"$f":"IF($I77=\"\",\"\",IF($CE77=0,\"Enter question type or turn off variable question type\",IF($G77=\"\",VLOOKUP($CE77,$BY:$CA,3,0),$G77)))","v":""},{"$f":"IF($I62=\"\",\"\",\"::\"&IF($B$16=\"\",\"\",$B$16&\"  \")&IF($E62=\"\",$H62,$E62)&\"::\")","v":""},{"$f":"IF($I52=\"\",\"\",IF($CE52=0,\"Enter question type or turn off variable question type\",IF($G52=\"\",VLOOKUP($CE52,$BY:$CA,3,0),$G52)))","v":""},{"$f":"IF($I202=\"\",\"\",\"::\"&IF($B$16=\"\",\"\",$B$16&\"  \")&IF($E202=\"\",$H202,$E202)&\"::\")","v":""},null,null,null,"",null,"",null,"",null,102,{"$f":"ROW()/3","v":100}]
[null,null,null,null,null,null,null,null,null,null,null,null,null,null,null,null,null,null,null,null,null,null,null,null,null,null,null,null,null,null,null,null,null,null,null,null,null,"",299,{"$f":"IF($I77=\"\",\"\",IF($CE77=0,\"Enter question type or turn off variable question type\",$CD77))","v":""},{"$f":"IF($I62=\"\",\"\",IF($CE62=0,\"Enter question type or turn off variable question type\",$CD62))","v":""},{"$f":"IF($I52=\"\",\"\",IF($CE52=0,\"Enter question type or turn off variable question type\",$CD52))","v":""},{"$f":"IF($I202=\"\",\"\",IF($CE202=0,\"Enter question type or turn off variable question type\",$CD202))","v":""},null,null,null,"",null,"",null,"",null,""]
[null,null,null,null,null,null,null,null,null,null,null,null,null,null,null,null,null,null,null,null,null,null,null,null,null,null,null,null,null,null,null,null,null,null,null,null,null,"",300,null,null,null,null,null,null,null,null,null,null,null,"",null,""]
[null,null,null,null,null,null,null,null,null,null,null,null,null,null,null,null,null,null,null,null,null,null,null,null,null,null,null,null,null,null,null,null,null,null,null,null,null,"",301,{"$f":"IF($I78=\"\",\"\",\"::\"&IF($B$16=\"\",\"\",$B$16&\"  \")&IF($E78=\"\",$H78,$E78)&\"::\")","v":""},{"$f":"IF($I63=\"\",\"\",IF($B$18=\"\",\"INPUT MAIN CATEGORY (CELL B18) OR TURN CATEGORIES OFF\",\"$CATEGORY: \"&$B$18&IF($F63=\"\",\"\",\"/\"&$F63)))","v":""},{"$f":"IF($I53=\"\",\"\",IF($B$18=\"\",\"INPUT MAIN CATEGORY (CELL B18) OR TURN CATEGORIES OFF\",\"$CATEGORY: \"&$B$18&IF($F53=\"\",\"\",\"/\"&$F53)))","v":""},null,null,null,null,{"$f":"IF(AV303+2=2,\"\",AV303+2)","v":78},{"$f":"(ROW()+1)/4","v":76},{"$f":"IF(AX303+2=2,\"\",AX303+2)","v":78},{"$f":"(ROW()+1)/4","v":76},63,{"$f":"(ROW()+2)/5","v":61}]
[null,null,null,null,null,null,null,null,null,null,null,null,null,null,null,null,null,null,null,null,null,null,null,null,null,null,null,null,null,null,null,null,null,null,null,null,null,"",302,{"$f":"IF($I78=\"\",\"\",IF($CE78=0,\"Enter question type or turn off variable question type\",IF($G78=\"\",VLOOKUP($CE78,$BY:$CA,3,0),$G78)))","v":""},null,null,null,null,null,null,"",null,"",null,""]
[null,null,null,null,null,null,null,null,null,null,null,null,null,null,null,null,null,null,null,null,null,null,null,null,null,null,null,null,null,null,null,null,null,null,null,null,null,"",303,{"$f":"IF($I78=\"\",\"\",IF($CE78=0,\"Enter question type or turn off variable question type\",$CD78))","v":""},{"$f":"IF($I63=\"\",\"\",\"::\"&IF($B$16=\"\",\"\",$B$16&\"  \")&IF($E63=\"\",$H63,$E63)&\"::\")","v":""},{"$f":"IF($I53=\"\",\"\",\"::\"&IF($B$16=\"\",\"\",$B$16&\"  \")&IF($E53=\"\",$H53,$E53)&\"::\")","v":""},null,null,null,null,"",null,"",null,""]
[null,null,null,null,null,null,null,null,null,null,null,null,null,null,null,null,null,null,null,null,null,null,null,null,null,null,null,null,null,null,null,null,null,null,null,null,null,"",304,null,{"$f":"IF($I63=\"\",\"\",IF($CE63=0,\"Enter question type or turn off variable question type\",$CD63))","v":""},{"$f":"IF($I53=\"\",\"\",IF($CE53=0,\"Enter question type or turn off variable question type\",IF($G53=\"\",VLOOKUP($CE53,$BY:$CA,3,0),$G53)))","v":""},null,null,null,null,null,null,null,null,""]
[null,null,null,null,null,null,null,null,null,null,null,null,null,null,null,null,null,null,null,null,null,null,null,null,null,null,null,null,null,null,null,null,null,null,null,null,null,"",305,{"$f":"IF($I79=\"\",\"\",\"::\"&IF($B$16=\"\",\"\",$B$16&\"  \")&IF($E79=\"\",$H79,$E79)&\"::\")","v":""},null,{"$f":"IF($I53=\"\",\"\",IF($CE53=0,\"Enter question type or turn off variable question type\",$CD53))","v":""},null,null,null,null,{"$f":"IF(AV307+2=2,\"\",AV307+2)","v":79},{"$f":"(ROW()+1)/4","v":77},{"$f":"IF(AX307+2=2,\"\",AX307+2)","v":79},{"$f":"(ROW()+1)/4","v":77},""]
[null,null,null,null,null,null,null,null,null,null,null,null,null,null,null,null,null,null,null,null,null,null,null,null,null,null,null,null,null,null,null,null,null,null,null,null,null,"",306,{"$f":"IF($I79=\"\",\"\",IF($CE79=0,\"Enter question type or turn off variable question type\",IF($G79=\"\",VLOOKUP($CE79,$BY:$CA,3,0),$G79)))","v":""},{"$f":"IF($I64=\"\",\"\",IF($B$18=\"\",\"INPUT MAIN CATEGORY (CELL B18) OR TURN CATEGORIES OFF\",\"$CATEGORY: \"&$B$18&IF($F64=\"\",\"\",\"/\"&$F64)))","v":""},null,null,null,null,null,"",null,"",null,64,{"$f":"(ROW()+2)/5","v":62}]
[null,null,null,null,null,null,null,null,null,null,null,null,null,null,null,null,null,null,null,null,null,null,null,null,null,null,null,null,null,null,null,null,null,null,null,null,null,"",307,{"$f":"IF($I79=\"\",\"\",IF($CE79=0,\"Enter question type or turn off variable question type\",$CD79))","v":""},null,{"$f":"IF($I54=\"\",\"\",IF($B$18=\"\",\"INPUT MAIN CATEGORY (CELL B18) OR TURN CATEGORIES OFF\",\"$CATEGORY: \"&$B$18&IF($F54=\"\",\"\",\"/\"&$F54)))","v":""},null,null,null,null,"",null,"",null,""]
[null,null,null,null,null,null,null,null,null,null,null,null,null,null,null,null,null,null,null,null,null,null,null,null,null,null,null,null,null,null,null,null,null,null,null,null,null,"",308,null,{"$f":"IF($I64=\"\",\"\",\"::\"&IF($B$16=\"\",\"\",$B$16&\"  \")&IF($E64=\"\",$H64,$E64)&\"::\")","v":""},null,null,null,null,null,null,null,null,null,""]
[null,null,null,null,null,null,null,null,null,null,null,null,null,null,null,null,null,null,null,null,null,null,null,null,null,null,null,null,null,null,null,null,null,null,null,null,null,"",309,{"$f":"IF($I80=\"\",\"\",\"::\"&IF($B$16=\"\",\"\",$B$16&\"  \")&IF($E80=\"\",$H80,$E80)&\"::\")","v":""},{"$f":"IF($I64=\"\",\"\",IF($CE64=0,\"Enter question type or turn off variable question type\",$CD64))","v":""},{"$f":"IF($I54=\"\",\"\",\"::\"&IF($B$16=\"\",\"\",$B$16&\"  \")&IF($E54=\"\",$H54,$E54)&\"::\")","v":""},null,null,null,null,{"$f":"IF(AV311+2=2,\"\",AV311+2)","v":80},{"$f":"(ROW()+1)/4","v":78},{"$f":"IF(AX311+2=2,\"\",AX311+2)","v":80},{"$f":"(ROW()+1)/4","v":78},""]
[null,null,null,null,null,null,null,null,null,null,null,null,null,null,null,null,null,null,null,null,null,null,null,null,null,null,null,null,null,null,null,null,null,null,null,null,null,"",310,{"$f":"IF($I80=\"\",\"\",IF($CE80=0,\"Enter question type or turn off variable question type\",IF($G80=\"\",VLOOKUP($CE80,$BY:$CA,3,0),$G80)))","v":""},null,{"$f":"IF($I54=\"\",\"\",IF($CE54=0,\"Enter question type or turn off variable question type\",IF($G54=\"\",VLOOKUP($CE54,$BY:$CA,3,0),$G54)))","v":""},null,null,null,null,"",null,"",null,""]
[null,null,null,null,null,null,null,null,null,null,null,null,null,null,null,null,null,null,null,null,null,null,null,null,null,null,null,null,null,null,null,null,null,null,null,null,null,"",311,{"$f":"IF($I80=\"\",\"\",IF($CE80=0,\"Enter question type or turn off variable question type\",$CD80))","v":""},{"$f":"IF($I65=\"\",\"\",IF($B$18=\"\",\"INPUT MAIN CATEGORY (CELL B18) OR TURN CATEGORIES OFF\",\"$CATEGORY: \"&$B$18&IF($F65=\"\",\"\",\"/\"&$F65)))","v":""},{"$f":"IF($I54=\"\",\"\",IF($CE54=0,\"Enter question type or turn off variable question type\",$CD54))","v":""},null,null,null,null,"",null,"",null,65,{"$f":"(ROW()+2)/5","v":63}]
[null,null,null,null,null,null,null,null,null,null,null,null,null,null,null,null,null,null,null,null,null,null,null,null,null,null,null,null,null,null,null,null,null,null,null,null,null,"",312,null,null,null,null,null,null,null,null,null,null,null,""]
[null,null,null,null,null,null,null,null,null,null,null,null,null,null,null,null,null,null,null,null,null,null,null,null,null,null,null,null,null,null,null,null,null,null,null,null,null,"",313,{"$f":"IF($I81=\"\",\"\",\"::\"&IF($B$16=\"\",\"\",$B$16&\"  \")&IF($E81=\"\",$H81,$E81)&\"::\")","v":""},{"$f":"IF($I65=\"\",\"\",\"::\"&IF($B$16=\"\",\"\",$B$16&\"  \")&IF($E65=\"\",$H65,$E65)&\"::\")","v":""},{"$f":"IF($I55=\"\",\"\",IF($B$18=\"\",\"INPUT MAIN CATEGORY (CELL B18) OR TURN CATEGORIES OFF\",\"$CATEGORY: \"&$B$18&IF($F55=\"\",\"\",\"/\"&$F55)))","v":""},null,null,null,null,{"$f":"IF(AV315+2=2,\"\",AV315+2)","v":81},79,{"$f":"IF(AX315+2=2,\"\",AX315+2)","v":81},79,""]
[null,null,null,null,null,null,null,null,null,null,null,null,null,null,null,null,null,null,null,null,null,null,null,null,null,null,null,null,null,null,null,null,null,null,null,null,null,"",314,{"$f":"IF($I81=\"\",\"\",IF($CE81=0,\"Enter question type or turn off variable question type\",IF($G81=\"\",VLOOKUP($CE81,$BY:$CA,3,0),$G81)))","v":""},{"$f":"IF($I65=\"\",\"\",IF($CE65=0,\"Enter question type or turn off variable question type\",$CD65))","v":""},null,null,null,null,null,"",null,"",null,""]
[null,null,null,null,null,null,null,null,null,null,null,null,null,null,null,null,null,null,null,null,null,null,null,null,null,null,null,null,null,null,null,null,null,null,null,null,null,"",315,{"$f":"IF($I81=\"\",\"\",IF($CE81=0,\"Enter question type or turn off variable question type\",$CD81))","v":""},null,{"$f":"IF($I55=\"\",\"\",\"::\"&IF($B$16=\"\",\"\",$B$16&\"  \")&IF($E55=\"\",$H55,$E55)&\"::\")","v":""},null,null,null,null,"",null,"",null,""]
[null,null,null,null,null,null,null,null,null,null,null,null,null,null,null,null,null,null,null,null,null,null,null,null,null,null,null,null,null,null,null,null,null,null,null,null,null,"",316,null,{"$f":"IF($I66=\"\",\"\",IF($B$18=\"\",\"INPUT MAIN CATEGORY (CELL B18) OR TURN CATEGORIES OFF\",\"$CATEGORY: \"&$B$18&IF($F66=\"\",\"\",\"/\"&$F66)))","v":""},{"$f":"IF($I55=\"\",\"\",IF($CE55=0,\"Enter question type or turn off variable question type\",IF($G55=\"\",VLOOKUP($CE55,$BY:$CA,3,0),$G55)))","v":""},null,null,null,null,null,null,null,null,{"$f":"IF(AZ318+2=2,\"\",AZ318+2)","v":66},{"$f":"(ROW()+2)/5","v":64}]
[null,null,null,null,null,null,null,null,null,null,null,null,null,null,null,null,null,null,null,null,null,null,null,null,null,null,null,null,null,null,null,null,null,null,null,null,null,"",317,{"$f":"IF($I82=\"\",\"\",\"::\"&IF($B$16=\"\",\"\",$B$16&\"  \")&IF($E82=\"\",$H82,$E82)&\"::\")","v":""},null,{"$f":"IF($I55=\"\",\"\",IF($CE55=0,\"Enter question type or turn off variable question type\",$CD55))","v":""},null,null,null,null,{"$f":"IF(AV319+2=2,\"\",AV319+2)","v":82},{"$f":"(ROW()+1)/4","v":80},{"$f":"IF(AX319+2=2,\"\",AX319+2)","v":82},{"$f":"(ROW()+1)/4","v":80},""]
[null,null,null,null,null,null,null,null,null,null,null,null,null,null,null,null,null,null,null,null,null,null,null,null,null,null,null,null,null,null,null,null,null,null,null,null,null,"",318,{"$f":"IF($I82=\"\",\"\",IF($CE82=0,\"Enter question type or turn off variable question type\",IF($G82=\"\",VLOOKUP($CE82,$BY:$CA,3,0),$G82)))","v":""},{"$f":"IF($I66=\"\",\"\",\"::\"&IF($B$16=\"\",\"\",$B$16&\"  \")&IF($E66=\"\",$H66,$E66)&\"::\")","v":""},null,null,null,null,null,"",null,"",null,""]
[null,null,null,null,null,null,null,null,null,null,null,null,null,null,null,null,null,null,null,null,null,null,null,null,null,null,null,null,null,null,null,null,null,null,null,null,null,"",319,{"$f":"IF($I82=\"\",\"\",IF($CE82=0,\"Enter question type or turn off variable question type\",$CD82))","v":""},{"$f":"IF($I66=\"\",\"\",IF($CE66=0,\"Enter question type or turn off variable question type\",$CD66))","v":""},{"$f":"IF($I56=\"\",\"\",IF($B$18=\"\",\"INPUT MAIN CATEGORY (CELL B18) OR TURN CATEGORIES OFF\",\"$CATEGORY: \"&$B$18&IF($F56=\"\",\"\",\"/\"&$F56)))","v":""},null,null,null,null,"",null,"",null,""]
[null,null,null,null,null,null,null,null,null,null,null,null,null,null,null,null,null,null,null,null,null,null,null,null,null,null,null,null,null,null,null,null,null,null,null,null,null,"",320,null,null,null,null,null,null,null,null,null,null,null,""]
[null,null,null,null,null,null,null,null,null,null,null,null,null,null,null,null,null,null,null,null,null,null,null,null,null,null,null,null,null,null,null,null,null,null,null,null,null,"",321,{"$f":"IF($I83=\"\",\"\",\"::\"&IF($B$16=\"\",\"\",$B$16&\"  \")&IF($E83=\"\",$H83,$E83)&\"::\")","v":""},{"$f":"IF($I67=\"\",\"\",IF($B$18=\"\",\"INPUT MAIN CATEGORY (CELL B18) OR TURN CATEGORIES OFF\",\"$CATEGORY: \"&$B$18&IF($F67=\"\",\"\",\"/\"&$F67)))","v":""},{"$f":"IF($I56=\"\",\"\",\"::\"&IF($B$16=\"\",\"\",$B$16&\"  \")&IF($E56=\"\",$H56,$E56)&\"::\")","v":""},null,null,null,null,{"$f":"IF(AV323+2=2,\"\",AV323+2)","v":83},{"$f":"(ROW()+1)/4","v":81},{"$f":"IF(AX323+2=2,\"\",AX323+2)","v":83},{"$f":"(ROW()+1)/4","v":81},67,{"$f":"(ROW()+2)/5","v":65}]
[null,null,null,null,null,null,null,null,null,null,null,null,null,null,null,null,null,null,null,null,null,null,null,null,null,null,null,null,null,null,null,null,null,null,null,null,null,"",322,{"$f":"IF($I83=\"\",\"\",IF($CE83=0,\"Enter question type or turn off variable question type\",IF($G83=\"\",VLOOKUP($CE83,$BY:$CA,3,0),$G83)))","v":""},null,{"$f":"IF($I56=\"\",\"\",IF($CE56=0,\"Enter question type or turn off variable question type\",IF($G56=\"\",VLOOKUP($CE56,$BY:$CA,3,0),$G56)))","v":""},null,null,null,null,"",null,"",null,""]
[null,null,null,null,null,null,null,null,null,null,null,null,null,null,null,null,null,null,null,null,null,null,null,null,null,null,null,null,null,null,null,null,null,null,null,null,null,"",323,{"$f":"IF($I83=\"\",\"\",IF($CE83=0,\"Enter question type or turn off variable question type\",$CD83))","v":""},{"$f":"IF($I67=\"\",\"\",\"::\"&IF($B$16=\"\",\"\",$B$16&\"  \")&IF($E67=\"\",$H67,$E67)&\"::\")","v":""},{"$f":"IF($I56=\"\",\"\",IF($CE56=0,\"Enter question type or turn off variable question type\",$CD56))","v":""},null,null,null,null,"",null,"",null,""]
[null,null,null,null,null,null,null,null,null,null,null,null,null,null,null,null,null,null,null,null,null,null,null,null,null,null,null,null,null,null,null,null,null,null,null,null,null,{"$f":"IF(VLOOKUP($AM326,$AM:$AQ,$A$6,0)=\"\",\"\",VLOOKUP($AM326,$AM:$AQ,$A$6,0))","v":""},324,null,{"$f":"IF($I67=\"\",\"\",IF($CE67=0,\"Enter question type or turn off variable question type\",$CD67))","v":""},null,null,null,null,null,null,null,null,null,""]
[null,null,null,null,null,null,null,null,null,null,null,null,null,null,null,null,null,null,null,null,null,null,null,null,null,null,null,null,null,null,null,null,null,null,null,null,null,"",325,{"$f":"IF($I84=\"\",\"\",\"::\"&IF($B$16=\"\",\"\",$B$16&\"  \")&IF($E84=\"\",$H84,$E84)&\"::\")","v":""},null,{"$f":"IF($I57=\"\",\"\",IF($B$18=\"\",\"INPUT MAIN CATEGORY (CELL B18) OR TURN CATEGORIES OFF\",\"$CATEGORY: \"&$B$18&IF($F57=\"\",\"\",\"/\"&$F57)))","v":""},null,null,null,null,{"$f":"IF(AV327+2=2,\"\",AV327+2)","v":84},{"$f":"(ROW()+1)/4","v":82},{"$f":"IF(AX327+2=2,\"\",AX327+2)","v":84},{"$f":"(ROW()+1)/4","v":82},""]
[null,null,null,null,null,null,null,null,null,null,null,null,null,null,null,null,null,null,null,null,null,null,null,null,null,null,null,null,null,null,null,null,null,null,null,null,null,"",326,{"$f":"IF($I84=\"\",\"\",IF($CE84=0,\"Enter question type or turn off variable question type\",IF($G84=\"\",VLOOKUP($CE84,$BY:$CA,3,0),$G84)))","v":""},{"$f":"IF($I68=\"\",\"\",IF($B$18=\"\",\"INPUT MAIN CATEGORY (CELL B18) OR TURN CATEGORIES OFF\",\"$CATEGORY: \"&$B$18&IF($F68=\"\",\"\",\"/\"&$F68)))","v":""},null,null,null,null,null,"",null,"",null,68,{"$f":"(ROW()+2)/5","v":66}]
[null,null,null,null,null,null,null,null,null,null,null,null,null,null,null,null,null,null,null,null,null,null,null,null,null,null,null,null,null,null,null,null,null,null,null,null,null,"",327,{"$f":"IF($I84=\"\",\"\",IF($CE84=0,\"Enter question type or turn off variable question type\",$CD84))","v":""},null,{"$f":"IF($I57=\"\",\"\",\"::\"&IF($B$16=\"\",\"\",$B$16&\"  \")&IF($E57=\"\",$H57,$E57)&\"::\")","v":""},null,null,null,null,"",null,"",null,""]
[null,null,null,null,null,null,null,null,null,null,null,null,null,null,null,null,null,null,null,null,null,null,null,null,null,null,null,null,null,null,null,null,null,null,null,null,null,"",328,null,{"$f":"IF($I68=\"\",\"\",\"::\"&IF($B$16=\"\",\"\",$B$16&\"  \")&IF($E68=\"\",$H68,$E68)&\"::\")","v":""},{"$f":"IF($I57=\"\",\"\",IF($CE57=0,\"Enter question type or turn off variable question type\",IF($G57=\"\",VLOOKUP($CE57,$BY:$CA,3,0),$G57)))","v":""},null,null,null,null,null,null,null,null,""]
[null,null,null,null,null,null,null,null,null,null,null,null,null,null,null,null,null,null,null,null,null,null,null,null,null,null,null,null,null,null,null,null,null,null,null,null,null,"",329,{"$f":"IF($I85=\"\",\"\",\"::\"&IF($B$16=\"\",\"\",$B$16&\"  \")&IF($E85=\"\",$H85,$E85)&\"::\")","v":""},{"$f":"IF($I68=\"\",\"\",IF($CE68=0,\"Enter question type or turn off variable question type\",$CD68))","v":""},{"$f":"IF($I57=\"\",\"\",IF($CE57=0,\"Enter question type or turn off variable question type\",$CD57))","v":""},null,null,null,null,{"$f":"IF(AV331+2=2,\"\",AV331+2)","v":85},83,{"$f":"IF(AX331+2=2,\"\",AX331+2)","v":85},83,""]
[null,null,null,null,null,null,null,null,null,null,null,null,null,null,null,null,null,null,null,null,null,null,null,null,null,null,null,null,null,null,null,null,null,null,null,null,null,"",330,{"$f":"IF($I85=\"\",\"\",IF($CE85=0,\"Enter question type or turn off variable question type\",IF($G85=\"\",VLOOKUP($CE85,$BY:$CA,3,0),$G85)))","v":""},null,null,null,null,null,null,"",null,"",null,""]
[null,null,null,null,null,null,null,null,null,null,null,null,null,null,null,null,null,null,null,null,null,null,null,null,null,null,null,null,null,null,null,null,null,null,null,null,null,"",331,{"$f":"IF($I85=\"\",\"\",IF($CE85=0,\"Enter question type or turn off variable question type\",$CD85))","v":""},{"$f":"IF($I69=\"\",\"\",IF($B$18=\"\",\"INPUT MAIN CATEGORY (CELL B18) OR TURN CATEGORIES OFF\",\"$CATEGORY: \"&$B$18&IF($F69=\"\",\"\",\"/\"&$F69)))","v":""},{"$f":"IF($I58=\"\",\"\",IF($B$18=\"\",\"INPUT MAIN CATEGORY (CELL B18) OR TURN CATEGORIES OFF\",\"$CATEGORY: \"&$B$18&IF($F58=\"\",\"\",\"/\"&$F58)))","v":""},null,null,null,null,"",null,"",null,69,{"$f":"(ROW()+2)/5","v":67}]
[null,null,null,null,null,null,null,null,null,null,null,null,null,null,null,null,null,null,null,null,null,null,null,null,null,null,null,null,null,null,null,null,null,null,null,null,null,"",332,null,null,null,null,null,null,null,null,null,null,null,""]
[null,null,null,null,null,null,null,null,null,null,null,null,null,null,null,null,null,null,null,null,null,null,null,null,null,null,null,null,null,null,null,null,null,null,null,null,null,"",333,{"$f":"IF($I86=\"\",\"\",\"::\"&IF($B$16=\"\",\"\",$B$16&\"  \")&IF($E86=\"\",$H86,$E86)&\"::\")","v":""},{"$f":"IF($I69=\"\",\"\",\"::\"&IF($B$16=\"\",\"\",$B$16&\"  \")&IF($E69=\"\",$H69,$E69)&\"::\")","v":""},{"$f":"IF($I58=\"\",\"\",\"::\"&IF($B$16=\"\",\"\",$B$16&\"  \")&IF($E58=\"\",$H58,$E58)&\"::\")","v":""},null,null,null,null,{"$f":"IF(AV335+2=2,\"\",AV335+2)","v":86},{"$f":"(ROW()+1)/4","v":84},{"$f":"IF(AX335+2=2,\"\",AX335+2)","v":86},{"$f":"(ROW()+1)/4","v":84},""]
[null,null,null,null,null,null,null,null,null,null,null,null,null,null,null,null,null,null,null,null,null,null,null,null,null,null,null,null,null,null,null,null,null,null,null,null,null,"",334,{"$f":"IF($I86=\"\",\"\",IF($CE86=0,\"Enter question type or turn off variable question type\",IF($G86=\"\",VLOOKUP($CE86,$BY:$CA,3,0),$G86)))","v":""},{"$f":"IF($I69=\"\",\"\",IF($CE69=0,\"Enter question type or turn off variable question type\",$CD69))","v":""},{"$f":"IF($I58=\"\",\"\",IF($CE58=0,\"Enter question type or turn off variable question type\",IF($G58=\"\",VLOOKUP($CE58,$BY:$CA,3,0),$G58)))","v":""},null,null,null,null,"",null,"",null,""]
[null,null,null,null,null,null,null,null,null,null,null,null,null,null,null,null,null,null,null,null,null,null,null,null,null,null,null,null,null,null,null,null,null,null,null,null,null,"",335,{"$f":"IF($I86=\"\",\"\",IF($CE86=0,\"Enter question type or turn off variable question type\",$CD86))","v":""},null,{"$f":"IF($I58=\"\",\"\",IF($CE58=0,\"Enter question type or turn off variable question type\",$CD58))","v":""},null,null,null,null,"",null,"",null,""]
[null,null,null,null,null,null,null,null,null,null,null,null,null,null,null,null,null,null,null,null,null,null,null,null,null,null,null,null,null,null,null,null,null,null,null,null,null,"",336,null,{"$f":"IF($I70=\"\",\"\",IF($B$18=\"\",\"INPUT MAIN CATEGORY (CELL B18) OR TURN CATEGORIES OFF\",\"$CATEGORY: \"&$B$18&IF($F70=\"\",\"\",\"/\"&$F70)))","v":""},null,null,null,null,null,null,null,null,null,70,{"$f":"(ROW()+2)/5","v":68}]
[null,null,null,null,null,null,null,null,null,null,null,null,null,null,null,null,null,null,null,null,null,null,null,null,null,null,null,null,null,null,null,null,null,null,null,null,null,"",337,{"$f":"IF($I87=\"\",\"\",\"::\"&IF($B$16=\"\",\"\",$B$16&\"  \")&IF($E87=\"\",$H87,$E87)&\"::\")","v":""},null,{"$f":"IF($I59=\"\",\"\",IF($B$18=\"\",\"INPUT MAIN CATEGORY (CELL B18) OR TURN CATEGORIES OFF\",\"$CATEGORY: \"&$B$18&IF($F59=\"\",\"\",\"/\"&$F59)))","v":""},null,null,null,null,{"$f":"IF(AV339+2=2,\"\",AV339+2)","v":87},{"$f":"(ROW()+1)/4","v":85},{"$f":"IF(AX339+2=2,\"\",AX339+2)","v":87},{"$f":"(ROW()+1)/4","v":85},""]
[null,null,null,null,null,null,null,null,null,null,null,null,null,null,null,null,null,null,null,null,null,null,null,null,null,null,null,null,null,null,null,null,null,null,null,null,null,"",338,{"$f":"IF($I87=\"\",\"\",IF($CE87=0,\"Enter question type or turn off variable question type\",IF($G87=\"\",VLOOKUP($CE87,$BY:$CA,3,0),$G87)))","v":""},{"$f":"IF($I70=\"\",\"\",\"::\"&IF($B$16=\"\",\"\",$B$16&\"  \")&IF($E70=\"\",$H70,$E70)&\"::\")","v":""},null,null,null,null,null,"",null,"",null,""]
[null,null,null,null,null,null,null,null,null,null,null,null,null,null,null,null,null,null,null,null,null,null,null,null,null,null,null,null,null,null,null,null,null,null,null,null,null,"",339,{"$f":"IF($I87=\"\",\"\",IF($CE87=0,\"Enter question type or turn off variable question type\",$CD87))","v":""},{"$f":"IF($I70=\"\",\"\",IF($CE70=0,\"Enter question type or turn off variable question type\",$CD70))","v":""},{"$f":"IF($I59=\"\",\"\",\"::\"&IF($B$16=\"\",\"\",$B$16&\"  \")&IF($E59=\"\",$H59,$E59)&\"::\")","v":""},null,null,null,null,"",null,"",null,""]
[null,null,null,null,null,null,null,null,null,null,null,null,null,null,null,null,null,null,null,null,null,null,null,null,null,null,null,null,null,null,null,null,null,null,null,null,null,"",340,null,null,{"$f":"IF($I59=\"\",\"\",IF($CE59=0,\"Enter question type or turn off variable question type\",IF($G59=\"\",VLOOKUP($CE59,$BY:$CA,3,0),$G59)))","v":""},null,null,null,null,null,null,null,null,""]
[null,null,null,null,null,null,null,null,null,null,null,null,null,null,null,null,null,null,null,null,null,null,null,null,null,null,null,null,null,null,null,null,null,null,null,null,null,"",341,{"$f":"IF($I88=\"\",\"\",\"::\"&IF($B$16=\"\",\"\",$B$16&\"  \")&IF($E88=\"\",$H88,$E88)&\"::\")","v":""},{"$f":"IF($I71=\"\",\"\",IF($B$18=\"\",\"INPUT MAIN CATEGORY (CELL B18) OR TURN CATEGORIES OFF\",\"$CATEGORY: \"&$B$18&IF($F71=\"\",\"\",\"/\"&$F71)))","v":""},{"$f":"IF($I59=\"\",\"\",IF($CE59=0,\"Enter question type or turn off variable question type\",$CD59))","v":""},null,null,null,null,{"$f":"IF(AV343+2=2,\"\",AV343+2)","v":88},{"$f":"(ROW()+1)/4","v":86},{"$f":"IF(AX343+2=2,\"\",AX343+2)","v":88},{"$f":"(ROW()+1)/4","v":86},71,{"$f":"(ROW()+2)/5","v":69}]
[null,null,null,null,null,null,null,null,null,null,null,null,null,null,null,null,null,null,null,null,null,null,null,null,null,null,null,null,null,null,null,null,null,null,null,null,null,"",342,{"$f":"IF($I88=\"\",\"\",IF($CE88=0,\"Enter question type or turn off variable question type\",IF($G88=\"\",VLOOKUP($CE88,$BY:$CA,3,0),$G88)))","v":""},null,null,null,null,null,null,"",null,"",null,""]
[null,null,null,null,null,null,null,null,null,null,null,null,null,null,null,null,null,null,null,null,null,null,null,null,null,null,null,null,null,null,null,null,null,null,null,null,null,"",343,{"$f":"IF($I88=\"\",\"\",IF($CE88=0,\"Enter question type or turn off variable question type\",$CD88))","v":""},{"$f":"IF($I71=\"\",\"\",\"::\"&IF($B$16=\"\",\"\",$B$16&\"  \")&IF($E71=\"\",$H71,$E71)&\"::\")","v":""},{"$f":"IF($I60=\"\",\"\",IF($B$18=\"\",\"INPUT MAIN CATEGORY (CELL B18) OR TURN CATEGORIES OFF\",\"$CATEGORY: \"&$B$18&IF($F60=\"\",\"\",\"/\"&$F60)))","v":""},null,null,null,null,"",null,"",null,""]
[null,null,null,null,null,null,null,null,null,null,null,null,null,null,null,null,null,null,null,null,null,null,null,null,null,null,null,null,null,null,null,null,null,null,null,null,null,"",344,null,{"$f":"IF($I71=\"\",\"\",IF($CE71=0,\"Enter question type or turn off variable question type\",$CD71))","v":""},null,null,null,null,null,null,null,null,null,""]
[null,null,null,null,null,null,null,null,null,null,null,null,null,null,null,null,null,null,null,null,null,null,null,null,null,null,null,null,null,null,null,null,null,null,null,null,null,"",345,{"$f":"IF($I89=\"\",\"\",\"::\"&IF($B$16=\"\",\"\",$B$16&\"  \")&IF($E89=\"\",$H89,$E89)&\"::\")","v":""},null,{"$f":"IF($I60=\"\",\"\",\"::\"&IF($B$16=\"\",\"\",$B$16&\"  \")&IF($E60=\"\",$H60,$E60)&\"::\")","v":""},null,null,null,null,{"$f":"IF(AV347+2=2,\"\",AV347+2)","v":89},87,{"$f":"IF(AX347+2=2,\"\",AX347+2)","v":89},87,""]
[null,null,null,null,null,null,null,null,null,null,null,null,null,null,null,null,null,null,null,null,null,null,null,null,null,null,null,null,null,null,null,null,null,null,null,null,null,"",346,{"$f":"IF($I89=\"\",\"\",IF($CE89=0,\"Enter question type or turn off variable question type\",IF($G89=\"\",VLOOKUP($CE89,$BY:$CA,3,0),$G89)))","v":""},{"$f":"IF($I72=\"\",\"\",IF($B$18=\"\",\"INPUT MAIN CATEGORY (CELL B18) OR TURN CATEGORIES OFF\",\"$CATEGORY: \"&$B$18&IF($F72=\"\",\"\",\"/\"&$F72)))","v":""},{"$f":"IF($I60=\"\",\"\",IF($CE60=0,\"Enter question type or turn off variable question type\",IF($G60=\"\",VLOOKUP($CE60,$BY:$CA,3,0),$G60)))","v":""},null,null,null,null,"",null,"",null,72,{"$f":"(ROW()+2)/5","v":70}]
[null,null,null,null,null,null,null,null,null,null,null,null,null,null,null,null,null,null,null,null,null,null,null,null,null,null,null,null,null,null,null,null,null,null,null,null,null,"",347,{"$f":"IF($I89=\"\",\"\",IF($CE89=0,\"Enter question type or turn off variable question type\",$CD89))","v":""},null,{"$f":"IF($I60=\"\",\"\",IF($CE60=0,\"Enter question type or turn off variable question type\",$CD60))","v":""},null,null,null,null,"",null,"",null,""]
[null,null,null,null,null,null,null,null,null,null,null,null,null,null,null,null,null,null,null,null,null,null,null,null,null,null,null,null,null,null,null,null,null,null,null,null,null,"",348,null,{"$f":"IF($I72=\"\",\"\",\"::\"&IF($B$16=\"\",\"\",$B$16&\"  \")&IF($E72=\"\",$H72,$E72)&\"::\")","v":""},null,null,null,null,null,null,null,null,null,""]
[null,null,null,null,null,null,null,null,null,null,null,null,null,null,null,null,null,null,null,null,null,null,null,null,null,null,null,null,null,null,null,null,null,null,null,null,null,"",349,{"$f":"IF($I90=\"\",\"\",\"::\"&IF($B$16=\"\",\"\",$B$16&\"  \")&IF($E90=\"\",$H90,$E90)&\"::\")","v":""},{"$f":"IF($I72=\"\",\"\",IF($CE72=0,\"Enter question type or turn off variable question type\",$CD72))","v":""},{"$f":"IF($I61=\"\",\"\",IF($B$18=\"\",\"INPUT MAIN CATEGORY (CELL B18) OR TURN CATEGORIES OFF\",\"$CATEGORY: \"&$B$18&IF($F61=\"\",\"\",\"/\"&$F61)))","v":""},null,null,null,null,{"$f":"IF(AV351+2=2,\"\",AV351+2)","v":90},{"$f":"(ROW()+1)/4","v":88},{"$f":"IF(AX351+2=2,\"\",AX351+2)","v":90},{"$f":"(ROW()+1)/4","v":88},""]
[null,null,null,null,null,null,null,null,null,null,null,null,null,null,null,null,null,null,null,null,null,null,null,null,null,null,null,null,null,null,null,null,null,null,null,null,null,"",350,{"$f":"IF($I90=\"\",\"\",IF($CE90=0,\"Enter question type or turn off variable question type\",IF($G90=\"\",VLOOKUP($CE90,$BY:$CA,3,0),$G90)))","v":""},null,null,null,null,null,null,"",null,"",null,""]
[null,null,null,null,null,null,null,null,null,null,null,null,null,null,null,null,null,null,null,null,null,null,null,null,null,null,null,null,null,null,null,null,null,null,null,null,null,"",351,{"$f":"IF($I90=\"\",\"\",IF($CE90=0,\"Enter question type or turn off variable question type\",$CD90))","v":""},{"$f":"IF($I73=\"\",\"\",IF($B$18=\"\",\"INPUT MAIN CATEGORY (CELL B18) OR TURN CATEGORIES OFF\",\"$CATEGORY: \"&$B$18&IF($F73=\"\",\"\",\"/\"&$F73)))","v":""},{"$f":"IF($I61=\"\",\"\",\"::\"&IF($B$16=\"\",\"\",$B$16&\"  \")&IF($E61=\"\",$H61,$E61)&\"::\")","v":""},null,null,null,null,"",null,"",null,73,{"$f":"(ROW()+2)/5","v":71}]
[null,null,null,null,null,null,null,null,null,null,null,null,null,null,null,null,null,null,null,null,null,null,null,null,null,null,null,null,null,null,null,null,null,null,null,null,null,"",352,null,null,{"$f":"IF($I61=\"\",\"\",IF($CE61=0,\"Enter question type or turn off variable question type\",IF($G61=\"\",VLOOKUP($CE61,$BY:$CA,3,0),$G61)))","v":""},null,null,null,null,null,null,null,null,""]
[null,null,null,null,null,null,null,null,null,null,null,null,null,null,null,null,null,null,null,null,null,null,null,null,null,null,null,null,null,null,null,null,null,null,null,null,null,"",353,{"$f":"IF($I91=\"\",\"\",\"::\"&IF($B$16=\"\",\"\",$B$16&\"  \")&IF($E91=\"\",$H91,$E91)&\"::\")","v":""},{"$f":"IF($I73=\"\",\"\",\"::\"&IF($B$16=\"\",\"\",$B$16&\"  \")&IF($E73=\"\",$H73,$E73)&\"::\")","v":""},{"$f":"IF($I61=\"\",\"\",IF($CE61=0,\"Enter question type or turn off variable question type\",$CD61))","v":""},null,null,null,null,{"$f":"IF(AV355+2=2,\"\",AV355+2)","v":91},{"$f":"(ROW()+1)/4","v":89},{"$f":"IF(AX355+2=2,\"\",AX355+2)","v":91},{"$f":"(ROW()+1)/4","v":89},""]
[null,null,null,null,null,null,null,null,null,null,null,null,null,null,null,null,null,null,null,null,null,null,null,null,null,null,null,null,null,null,null,null,null,null,null,null,null,"",354,{"$f":"IF($I91=\"\",\"\",IF($CE91=0,\"Enter question type or turn off variable question type\",IF($G91=\"\",VLOOKUP($CE91,$BY:$CA,3,0),$G91)))","v":""},{"$f":"IF($I73=\"\",\"\",IF($CE73=0,\"Enter question type or turn off variable question type\",$CD73))","v":""},null,null,null,null,null,"",null,"",null,""]
[null,null,null,null,null,null,null,null,null,null,null,null,null,null,null,null,null,null,null,null,null,null,null,null,null,null,null,null,null,null,null,null,null,null,null,null,null,"",355,{"$f":"IF($I91=\"\",\"\",IF($CE91=0,\"Enter question type or turn off variable question type\",$CD91))","v":""},null,{"$f":"IF($I62=\"\",\"\",IF($B$18=\"\",\"INPUT MAIN CATEGORY (CELL B18) OR TURN CATEGORIES OFF\",\"$CATEGORY: \"&$B$18&IF($F62=\"\",\"\",\"/\"&$F62)))","v":""},null,null,null,null,"",null,"",null,""]
[null,null,null,null,null,null,null,null,null,null,null,null,null,null,null,null,null,null,null,null,null,null,null,null,null,null,null,null,null,null,null,null,null,null,null,null,null,"",356,null,{"$f":"IF($I74=\"\",\"\",IF($B$18=\"\",\"INPUT MAIN CATEGORY (CELL B18) OR TURN CATEGORIES OFF\",\"$CATEGORY: \"&$B$18&IF($F74=\"\",\"\",\"/\"&$F74)))","v":""},null,null,null,null,null,null,null,null,null,74,{"$f":"(ROW()+2)/5","v":72}]
[null,null,null,null,null,null,null,null,null,null,null,null,null,null,null,null,null,null,null,null,null,null,null,null,null,null,null,null,null,null,null,null,null,null,null,null,null,"",357,{"$f":"IF($I92=\"\",\"\",\"::\"&IF($B$16=\"\",\"\",$B$16&\"  \")&IF($E92=\"\",$H92,$E92)&\"::\")","v":""},null,{"$f":"IF($I62=\"\",\"\",\"::\"&IF($B$16=\"\",\"\",$B$16&\"  \")&IF($E62=\"\",$H62,$E62)&\"::\")","v":""},null,null,null,null,{"$f":"IF(AV359+2=2,\"\",AV359+2)","v":92},{"$f":"(ROW()+1)/4","v":90},{"$f":"IF(AX359+2=2,\"\",AX359+2)","v":92},{"$f":"(ROW()+1)/4","v":90},""]
[null,null,null,null,null,null,null,null,null,null,null,null,null,null,null,null,null,null,null,null,null,null,null,null,null,null,null,null,null,null,null,null,null,null,null,null,null,"",358,{"$f":"IF($I92=\"\",\"\",IF($CE92=0,\"Enter question type or turn off variable question type\",IF($G92=\"\",VLOOKUP($CE92,$BY:$CA,3,0),$G92)))","v":""},{"$f":"IF($I74=\"\",\"\",\"::\"&IF($B$16=\"\",\"\",$B$16&\"  \")&IF($E74=\"\",$H74,$E74)&\"::\")","v":""},{"$f":"IF($I62=\"\",\"\",IF($CE62=0,\"Enter question type or turn off variable question type\",IF($G62=\"\",VLOOKUP($CE62,$BY:$CA,3,0),$G62)))","v":""},null,null,null,null,"",null,"",null,""]
[null,null,null,null,null,null,null,null,null,null,null,null,null,null,null,null,null,null,null,null,null,null,null,null,null,null,null,null,null,null,null,null,null,null,null,null,null,"",359,{"$f":"IF($I92=\"\",\"\",IF($CE92=0,\"Enter question type or turn off variable question type\",$CD92))","v":""},{"$f":"IF($I74=\"\",\"\",IF($CE74=0,\"Enter question type or turn off variable question type\",$CD74))","v":""},{"$f":"IF($I62=\"\",\"\",IF($CE62=0,\"Enter question type or turn off variable question type\",$CD62))","v":""},null,null,null,null,"",null,"",null,""]
[null,null,null,null,null,null,null,null,null,null,null,null,null,null,null,null,null,null,null,null,null,null,null,null,null,null,null,null,null,null,null,null,null,null,null,null,null,"",360,null,null,null,null,null,null,null,null,null,null,null,""]
[null,null,null,null,null,null,null,null,null,null,null,null,null,null,null,null,null,null,null,null,null,null,null,null,null,null,null,null,null,null,null,null,null,null,null,null,null,"",361,{"$f":"IF($I93=\"\",\"\",\"::\"&IF($B$16=\"\",\"\",$B$16&\"  \")&IF($E93=\"\",$H93,$E93)&\"::\")","v":""},{"$f":"IF($I75=\"\",\"\",IF($B$18=\"\",\"INPUT MAIN CATEGORY (CELL B18) OR TURN CATEGORIES OFF\",\"$CATEGORY: \"&$B$18&IF($F75=\"\",\"\",\"/\"&$F75)))","v":""},{"$f":"IF($I63=\"\",\"\",IF($B$18=\"\",\"INPUT MAIN CATEGORY (CELL B18) OR TURN CATEGORIES OFF\",\"$CATEGORY: \"&$B$18&IF($F63=\"\",\"\",\"/\"&$F63)))","v":""},null,null,null,null,{"$f":"IF(AV363+2=2,\"\",AV363+2)","v":93},91,{"$f":"IF(AX363+2=2,\"\",AX363+2)","v":93},91,75,{"$f":"(ROW()+2)/5","v":73}]
[null,null,null,null,null,null,null,null,null,null,null,null,null,null,null,null,null,null,null,null,null,null,null,null,null,null,null,null,null,null,null,null,null,null,null,null,null,"",362,{"$f":"IF($I93=\"\",\"\",IF($CE93=0,\"Enter question type or turn off variable question type\",IF($G93=\"\",VLOOKUP($CE93,$BY:$CA,3,0),$G93)))","v":""},null,null,null,null,null,null,"",null,"",null,""]
[null,null,null,null,null,null,null,null,null,null,null,null,null,null,null,null,null,null,null,null,null,null,null,null,null,null,null,null,null,null,null,null,null,null,null,null,null,"",363,{"$f":"IF($I93=\"\",\"\",IF($CE93=0,\"Enter question type or turn off variable question type\",$CD93))","v":""},{"$f":"IF($I75=\"\",\"\",\"::\"&IF($B$16=\"\",\"\",$B$16&\"  \")&IF($E75=\"\",$H75,$E75)&\"::\")","v":""},{"$f":"IF($I63=\"\",\"\",\"::\"&IF($B$16=\"\",\"\",$B$16&\"  \")&IF($E63=\"\",$H63,$E63)&\"::\")","v":""},null,null,null,null,"",null,"",null,""]
[null,null,null,null,null,null,null,null,null,null,null,null,null,null,null,null,null,null,null,null,null,null,null,null,null,null,null,null,null,null,null,null,null,null,null,null,null,"",364,null,{"$f":"IF($I75=\"\",\"\",IF($CE75=0,\"Enter question type or turn off variable question type\",$CD75))","v":""},{"$f":"IF($I63=\"\",\"\",IF($CE63=0,\"Enter question type or turn off variable question type\",IF($G63=\"\",VLOOKUP($CE63,$BY:$CA,3,0),$G63)))","v":""},null,null,null,null,null,null,null,null,""]
[null,null,null,null,null,null,null,null,null,null,null,null,null,null,null,null,null,null,null,null,null,null,null,null,null,null,null,null,null,null,null,null,null,null,null,null,null,"",365,{"$f":"IF($I94=\"\",\"\",\"::\"&IF($B$16=\"\",\"\",$B$16&\"  \")&IF($E94=\"\",$H94,$E94)&\"::\")","v":""},null,{"$f":"IF($I63=\"\",\"\",IF($CE63=0,\"Enter question type or turn off variable question type\",$CD63))","v":""},null,null,null,null,{"$f":"IF(AV367+2=2,\"\",AV367+2)","v":94},{"$f":"(ROW()+1)/4","v":92},{"$f":"IF(AX367+2=2,\"\",AX367+2)","v":94},{"$f":"(ROW()+1)/4","v":92},""]
[null,null,null,null,null,null,null,null,null,null,null,null,null,null,null,null,null,null,null,null,null,null,null,null,null,null,null,null,null,null,null,null,null,null,null,null,null,"",366,{"$f":"IF($I94=\"\",\"\",IF($CE94=0,\"Enter question type or turn off variable question type\",IF($G94=\"\",VLOOKUP($CE94,$BY:$CA,3,0),$G94)))","v":""},{"$f":"IF($I76=\"\",\"\",IF($B$18=\"\",\"INPUT MAIN CATEGORY (CELL B18) OR TURN CATEGORIES OFF\",\"$CATEGORY: \"&$B$18&IF($F76=\"\",\"\",\"/\"&$F76)))","v":""},null,null,null,null,null,"",null,"",null,76,{"$f":"(ROW()+2)/5","v":74}]
[null,null,null,null,null,null,null,null,null,null,null,null,null,null,null,null,null,null,null,null,null,null,null,null,null,null,null,null,null,null,null,null,null,null,null,null,null,"",367,{"$f":"IF($I94=\"\",\"\",IF($CE94=0,\"Enter question type or turn off variable question type\",$CD94))","v":""},null,{"$f":"IF($I64=\"\",\"\",IF($B$18=\"\",\"INPUT MAIN CATEGORY (CELL B18) OR TURN CATEGORIES OFF\",\"$CATEGORY: \"&$B$18&IF($F64=\"\",\"\",\"/\"&$F64)))","v":""},null,null,null,null,"",null,"",null,""]
[null,null,null,null,null,null,null,null,null,null,null,null,null,null,null,null,null,null,null,null,null,null,null,null,null,null,null,null,null,null,null,null,null,null,null,null,null,"",368,null,{"$f":"IF($I76=\"\",\"\",\"::\"&IF($B$16=\"\",\"\",$B$16&\"  \")&IF($E76=\"\",$H76,$E76)&\"::\")","v":""},null,null,null,null,null,null,null,null,null,""]
[null,null,null,null,null,null,null,null,null,null,null,null,null,null,null,null,null,null,null,null,null,null,null,null,null,null,null,null,null,null,null,null,null,null,null,null,null,"",369,{"$f":"IF($I95=\"\",\"\",\"::\"&IF($B$16=\"\",\"\",$B$16&\"  \")&IF($E95=\"\",$H95,$E95)&\"::\")","v":""},{"$f":"IF($I76=\"\",\"\",IF($CE76=0,\"Enter question type or turn off variable question type\",$CD76))","v":""},{"$f":"IF($I64=\"\",\"\",\"::\"&IF($B$16=\"\",\"\",$B$16&\"  \")&IF($E64=\"\",$H64,$E64)&\"::\")","v":""},null,null,null,null,{"$f":"IF(AV371+2=2,\"\",AV371+2)","v":95},{"$f":"(ROW()+1)/4","v":93},{"$f":"IF(AX371+2=2,\"\",AX371+2)","v":95},{"$f":"(ROW()+1)/4","v":93},""]
[null,null,null,null,null,null,null,null,null,null,null,null,null,null,null,null,null,null,null,null,null,null,null,null,null,null,null,null,null,null,null,null,null,null,null,null,null,"",370,{"$f":"IF($I95=\"\",\"\",IF($CE95=0,\"Enter question type or turn off variable question type\",IF($G95=\"\",VLOOKUP($CE95,$BY:$CA,3,0),$G95)))","v":""},null,{"$f":"IF($I64=\"\",\"\",IF($CE64=0,\"Enter question type or turn off variable question type\",IF($G64=\"\",VLOOKUP($CE64,$BY:$CA,3,0),$G64)))","v":""},null,null,null,null,"",null,"",null,""]
[null,null,null,null,null,null,null,null,null,null,null,null,null,null,null,null,null,null,null,null,null,null,null,null,null,null,null,null,null,null,null,null,null,null,null,null,null,"",371,{"$f":"IF($I95=\"\",\"\",IF($CE95=0,\"Enter question type or turn off variable question type\",$CD95))","v":""},{"$f":"IF($I77=\"\",\"\",IF($B$18=\"\",\"INPUT MAIN CATEGORY (CELL B18) OR TURN CATEGORIES OFF\",\"$CATEGORY: \"&$B$18&IF($F77=\"\",\"\",\"/\"&$F77)))","v":""},{"$f":"IF($I64=\"\",\"\",IF($CE64=0,\"Enter question type or turn off variable question type\",$CD64))","v":""},null,null,null,null,"",null,"",null,77,{"$f":"(ROW()+2)/5","v":75}]
[null,null,null,null,null,null,null,null,null,null,null,null,null,null,null,null,null,null,null,null,null,null,null,null,null,null,null,null,null,null,null,null,null,null,null,null,null,"",372,null,null,null,null,null,null,null,null,null,null,null,""]
[null,null,null,null,null,null,null,null,null,null,null,null,null,null,null,null,null,null,null,null,null,null,null,null,null,null,null,null,null,null,null,null,null,null,null,null,null,"",373,{"$f":"IF($I96=\"\",\"\",\"::\"&IF($B$16=\"\",\"\",$B$16&\"  \")&IF($E96=\"\",$H96,$E96)&\"::\")","v":""},{"$f":"IF($I77=\"\",\"\",\"::\"&IF($B$16=\"\",\"\",$B$16&\"  \")&IF($E77=\"\",$H77,$E77)&\"::\")","v":""},{"$f":"IF($I65=\"\",\"\",IF($B$18=\"\",\"INPUT MAIN CATEGORY (CELL B18) OR TURN CATEGORIES OFF\",\"$CATEGORY: \"&$B$18&IF($F65=\"\",\"\",\"/\"&$F65)))","v":""},null,null,null,null,{"$f":"IF(AV375+2=2,\"\",AV375+2)","v":96},{"$f":"(ROW()+1)/4","v":94},{"$f":"IF(AX375+2=2,\"\",AX375+2)","v":96},{"$f":"(ROW()+1)/4","v":94},""]
[null,null,null,null,null,null,null,null,null,null,null,null,null,null,null,null,null,null,null,null,null,null,null,null,null,null,null,null,null,null,null,null,null,null,null,null,null,"",374,{"$f":"IF($I96=\"\",\"\",IF($CE96=0,\"Enter question type or turn off variable question type\",IF($G96=\"\",VLOOKUP($CE96,$BY:$CA,3,0),$G96)))","v":""},{"$f":"IF($I77=\"\",\"\",IF($CE77=0,\"Enter question type or turn off variable question type\",$CD77))","v":""},null,null,null,null,null,"",null,"",null,""]
[null,null,null,null,null,null,null,null,null,null,null,null,null,null,null,null,null,null,null,null,null,null,null,null,null,null,null,null,null,null,null,null,null,null,null,null,null,"",375,{"$f":"IF($I96=\"\",\"\",IF($CE96=0,\"Enter question type or turn off variable question type\",$CD96))","v":""},null,{"$f":"IF($I65=\"\",\"\",\"::\"&IF($B$16=\"\",\"\",$B$16&\"  \")&IF($E65=\"\",$H65,$E65)&\"::\")","v":""},null,null,null,null,"",null,"",null,""]
[null,null,null,null,null,null,null,null,null,null,null,null,null,null,null,null,null,null,null,null,null,null,null,null,null,null,null,null,null,null,null,null,null,null,null,null,null,"",376,null,{"$f":"IF($I78=\"\",\"\",IF($B$18=\"\",\"INPUT MAIN CATEGORY (CELL B18) OR TURN CATEGORIES OFF\",\"$CATEGORY: \"&$B$18&IF($F78=\"\",\"\",\"/\"&$F78)))","v":""},{"$f":"IF($I65=\"\",\"\",IF($CE65=0,\"Enter question type or turn off variable question type\",IF($G65=\"\",VLOOKUP($CE65,$BY:$CA,3,0),$G65)))","v":""},null,null,null,null,null,null,null,null,78,{"$f":"(ROW()+2)/5","v":76}]
[null,null,null,null,null,null,null,null,null,null,null,null,null,null,null,null,null,null,null,null,null,null,null,null,null,null,null,null,null,null,null,null,null,null,null,null,null,"",377,{"$f":"IF($I97=\"\",\"\",\"::\"&IF($B$16=\"\",\"\",$B$16&\"  \")&IF($E97=\"\",$H97,$E97)&\"::\")","v":""},null,{"$f":"IF($I65=\"\",\"\",IF($CE65=0,\"Enter question type or turn off variable question type\",$CD65))","v":""},null,null,null,null,{"$f":"IF(AV379+2=2,\"\",AV379+2)","v":97},95,{"$f":"IF(AX379+2=2,\"\",AX379+2)","v":97},95,""]
[null,null,null,null,null,null,null,null,null,null,null,null,null,null,null,null,null,null,null,null,null,null,null,null,null,null,null,null,null,null,null,null,null,null,null,null,null,"",378,{"$f":"IF($I97=\"\",\"\",IF($CE97=0,\"Enter question type or turn off variable question type\",IF($G97=\"\",VLOOKUP($CE97,$BY:$CA,3,0),$G97)))","v":""},{"$f":"IF($I78=\"\",\"\",\"::\"&IF($B$16=\"\",\"\",$B$16&\"  \")&IF($E78=\"\",$H78,$E78)&\"::\")","v":""},null,null,null,null,null,"",null,"",null,""]
[null,null,null,null,null,null,null,null,null,null,null,null,null,null,null,null,null,null,null,null,null,null,null,null,null,null,null,null,null,null,null,null,null,null,null,null,null,"",379,{"$f":"IF($I97=\"\",\"\",IF($CE97=0,\"Enter question type or turn off variable question type\",$CD97))","v":""},{"$f":"IF($I78=\"\",\"\",IF($CE78=0,\"Enter question type or turn off variable question type\",$CD78))","v":""},{"$f":"IF($I66=\"\",\"\",IF($B$18=\"\",\"INPUT MAIN CATEGORY (CELL B18) OR TURN CATEGORIES OFF\",\"$CATEGORY: \"&$B$18&IF($F66=\"\",\"\",\"/\"&$F66)))","v":""},null,null,null,null,"",null,"",null,""]
[null,null,null,null,null,null,null,null,null,null,null,null,null,null,null,null,null,null,null,null,null,null,null,null,null,null,null,null,null,null,null,null,null,null,null,null,null,"",380,null,null,null,null,null,null,null,null,null,null,null,{"$f":"IF(AZ382+2=2,\"\",AZ382+2)","v":""}]
[null,null,null,null,null,null,null,null,null,null,null,null,null,null,null,null,null,null,null,null,null,null,null,null,null,null,null,null,null,null,null,null,null,null,null,null,null,"",381,{"$f":"IF($I98=\"\",\"\",\"::\"&IF($B$16=\"\",\"\",$B$16&\"  \")&IF($E98=\"\",$H98,$E98)&\"::\")","v":""},{"$f":"IF($I79=\"\",\"\",IF($B$18=\"\",\"INPUT MAIN CATEGORY (CELL B18) OR TURN CATEGORIES OFF\",\"$CATEGORY: \"&$B$18&IF($F79=\"\",\"\",\"/\"&$F79)))","v":""},{"$f":"IF($I66=\"\",\"\",\"::\"&IF($B$16=\"\",\"\",$B$16&\"  \")&IF($E66=\"\",$H66,$E66)&\"::\")","v":""},null,null,null,null,{"$f":"IF(AV383+2=2,\"\",AV383+2)","v":98},{"$f":"(ROW()+1)/4","v":96},{"$f":"IF(AX383+2=2,\"\",AX383+2)","v":98},{"$f":"(ROW()+1)/4","v":96},79,{"$f":"(ROW()+2)/5","v":77}]
[null,null,null,null,null,null,null,null,null,null,null,null,null,null,null,null,null,null,null,null,null,null,null,null,null,null,null,null,null,null,null,null,null,null,null,null,null,"",382,{"$f":"IF($I98=\"\",\"\",IF($CE98=0,\"Enter question type or turn off variable question type\",IF($G98=\"\",VLOOKUP($CE98,$BY:$CA,3,0),$G98)))","v":""},null,{"$f":"IF($I66=\"\",\"\",IF($CE66=0,\"Enter question type or turn off variable question type\",IF($G66=\"\",VLOOKUP($CE66,$BY:$CA,3,0),$G66)))","v":""},null,null,null,null,"",null,"",null,""]
[null,null,null,null,null,null,null,null,null,null,null,null,null,null,null,null,null,null,null,null,null,null,null,null,null,null,null,null,null,null,null,null,null,null,null,null,null,"",383,{"$f":"IF($I98=\"\",\"\",IF($CE98=0,\"Enter question type or turn off variable question type\",$CD98))","v":""},{"$f":"IF($I79=\"\",\"\",\"::\"&IF($B$16=\"\",\"\",$B$16&\"  \")&IF($E79=\"\",$H79,$E79)&\"::\")","v":""},{"$f":"IF($I66=\"\",\"\",IF($CE66=0,\"Enter question type or turn off variable question type\",$CD66))","v":""},null,null,null,null,"",null,"",null,""]
[null,null,null,null,null,null,null,null,null,null,null,null,null,null,null,null,null,null,null,null,null,null,null,null,null,null,null,null,null,null,null,null,null,null,null,null,null,"",384,null,{"$f":"IF($I79=\"\",\"\",IF($CE79=0,\"Enter question type or turn off variable question type\",$CD79))","v":""},null,null,null,null,null,null,null,null,null,""]
[null,null,null,null,null,null,null,null,null,null,null,null,null,null,null,null,null,null,null,null,null,null,null,null,null,null,null,null,null,null,null,null,null,null,null,null,null,"",385,{"$f":"IF($I99=\"\",\"\",\"::\"&IF($B$16=\"\",\"\",$B$16&\"  \")&IF($E99=\"\",$H99,$E99)&\"::\")","v":""},null,{"$f":"IF($I67=\"\",\"\",IF($B$18=\"\",\"INPUT MAIN CATEGORY (CELL B18) OR TURN CATEGORIES OFF\",\"$CATEGORY: \"&$B$18&IF($F67=\"\",\"\",\"/\"&$F67)))","v":""},null,null,null,null,{"$f":"IF(AV387+2=2,\"\",AV387+2)","v":99},{"$f":"(ROW()+1)/4","v":97},{"$f":"IF(AX387+2=2,\"\",AX387+2)","v":99},{"$f":"(ROW()+1)/4","v":97},""]
[null,null,null,null,null,null,null,null,null,null,null,null,null,null,null,null,null,null,null,null,null,null,null,null,null,null,null,null,null,null,null,null,null,null,null,null,null,"",386,{"$f":"IF($I99=\"\",\"\",IF($CE99=0,\"Enter question type or turn off variable question type\",IF($G99=\"\",VLOOKUP($CE99,$BY:$CA,3,0),$G99)))","v":""},{"$f":"IF($I80=\"\",\"\",IF($B$18=\"\",\"INPUT MAIN CATEGORY (CELL B18) OR TURN CATEGORIES OFF\",\"$CATEGORY: \"&$B$18&IF($F80=\"\",\"\",\"/\"&$F80)))","v":""},null,null,null,null,null,"",null,"",null,80,{"$f":"(ROW()+2)/5","v":78}]
[null,null,null,null,null,null,null,null,null,null,null,null,null,null,null,null,null,null,null,null,null,null,null,null,null,null,null,null,null,null,null,null,null,null,null,null,null,"",387,{"$f":"IF($I99=\"\",\"\",IF($CE99=0,\"Enter question type or turn off variable question type\",$CD99))","v":""},null,{"$f":"IF($I67=\"\",\"\",\"::\"&IF($B$16=\"\",\"\",$B$16&\"  \")&IF($E67=\"\",$H67,$E67)&\"::\")","v":""},null,null,null,null,"",null,"",null,""]
[null,null,null,null,null,null,null,null,null,null,null,null,null,null,null,null,null,null,null,null,null,null,null,null,null,null,null,null,null,null,null,null,null,null,null,null,null,{"$f":"IF(VLOOKUP($AM390,$AM:$AQ,$A$6,0)=\"\",\"\",VLOOKUP($AM390,$AM:$AQ,$A$6,0))","v":""},388,null,{"$f":"IF($I80=\"\",\"\",\"::\"&IF($B$16=\"\",\"\",$B$16&\"  \")&IF($E80=\"\",$H80,$E80)&\"::\")","v":""},{"$f":"IF($I67=\"\",\"\",IF($CE67=0,\"Enter question type or turn off variable question type\",IF($G67=\"\",VLOOKUP($CE67,$BY:$CA,3,0),$G67)))","v":""},null,null,null,null,null,null,null,null,""]
[null,null,null,null,null,null,null,null,null,null,null,null,null,null,null,null,null,null,null,null,null,null,null,null,null,null,null,null,null,null,null,null,null,null,null,null,null,"",389,{"$f":"IF($I100=\"\",\"\",\"::\"&IF($B$16=\"\",\"\",$B$16&\"  \")&IF($E100=\"\",$H100,$E100)&\"::\")","v":""},{"$f":"IF($I80=\"\",\"\",IF($CE80=0,\"Enter question type or turn off variable question type\",$CD80))","v":""},{"$f":"IF($I67=\"\",\"\",IF($CE67=0,\"Enter question type or turn off variable question type\",$CD67))","v":""},null,null,null,null,{"$f":"IF(AV391+2=2,\"\",AV391+2)","v":100},98,{"$f":"IF(AX391+2=2,\"\",AX391+2)","v":100},98,""]
[null,null,null,null,null,null,null,null,null,null,null,null,null,null,null,null,null,null,null,null,null,null,null,null,null,null,null,null,null,null,null,null,null,null,null,null,null,"",390,{"$f":"IF($I100=\"\",\"\",IF($CE100=0,\"Enter question type or turn off variable question type\",IF($G100=\"\",VLOOKUP($CE100,$BY:$CA,3,0),$G100)))","v":""},null,null,null,null,null,null,"",null,"",null,""]
[null,null,null,null,null,null,null,null,null,null,null,null,null,null,null,null,null,null,null,null,null,null,null,null,null,null,null,null,null,null,null,null,null,null,null,null,null,"",391,{"$f":"IF($I100=\"\",\"\",IF($CE100=0,\"Enter question type or turn off variable question type\",$CD100))","v":""},{"$f":"IF($I81=\"\",\"\",IF($B$18=\"\",\"INPUT MAIN CATEGORY (CELL B18) OR TURN CATEGORIES OFF\",\"$CATEGORY: \"&$B$18&IF($F81=\"\",\"\",\"/\"&$F81)))","v":""},{"$f":"IF($I68=\"\",\"\",IF($B$18=\"\",\"INPUT MAIN CATEGORY (CELL B18) OR TURN CATEGORIES OFF\",\"$CATEGORY: \"&$B$18&IF($F68=\"\",\"\",\"/\"&$F68)))","v":""},null,null,null,null,"",null,"",null,81,{"$f":"(ROW()+2)/5","v":79}]
[null,null,null,null,null,null,null,null,null,null,null,null,null,null,null,null,null,null,null,null,null,null,null,null,null,null,null,null,null,null,null,null,null,null,null,null,null,"",392,null,null,null,null,null,null,null,null,null,null,null,""]
[null,null,null,null,null,null,null,null,null,null,null,null,null,null,null,null,null,null,null,null,null,null,null,null,null,null,null,null,null,null,null,null,null,null,null,null,null,"",393,{"$f":"IF($I101=\"\",\"\",\"::\"&IF($B$16=\"\",\"\",$B$16&\"  \")&IF($E101=\"\",$H101,$E101)&\"::\")","v":""},{"$f":"IF($I81=\"\",\"\",\"::\"&IF($B$16=\"\",\"\",$B$16&\"  \")&IF($E81=\"\",$H81,$E81)&\"::\")","v":""},{"$f":"IF($I68=\"\",\"\",\"::\"&IF($B$16=\"\",\"\",$B$16&\"  \")&IF($E68=\"\",$H68,$E68)&\"::\")","v":""},null,null,null,null,{"$f":"IF(AV395+2=2,\"\",AV395+2)","v":101},{"$f":"(ROW()+1)/4","v":99},{"$f":"IF(AX395+2=2,\"\",AX395+2)","v":101},{"$f":"(ROW()+1)/4","v":99},""]
[null,null,null,null,null,null,null,null,null,null,null,null,null,null,null,null,null,null,null,null,null,null,null,null,null,null,null,null,null,null,null,null,null,null,null,null,null,"",394,{"$f":"IF($I101=\"\",\"\",IF($CE101=0,\"Enter question type or turn off variable question type\",IF($G101=\"\",VLOOKUP($CE101,$BY:$CA,3,0),$G101)))","v":""},{"$f":"IF($I81=\"\",\"\",IF($CE81=0,\"Enter question type or turn off variable question type\",$CD81))","v":""},{"$f":"IF($I68=\"\",\"\",IF($CE68=0,\"Enter question type or turn off variable question type\",IF($G68=\"\",VLOOKUP($CE68,$BY:$CA,3,0),$G68)))","v":""},null,null,null,null,"",null,"",null,""]
[null,null,null,null,null,null,null,null,null,null,null,null,null,null,null,null,null,null,null,null,null,null,null,null,null,null,null,null,null,null,null,null,null,null,null,null,null,"",395,{"$f":"IF($I101=\"\",\"\",IF($CE101=0,\"Enter question type or turn off variable question type\",$CD101))","v":""},null,{"$f":"IF($I68=\"\",\"\",IF($CE68=0,\"Enter question type or turn off variable question type\",$CD68))","v":""},null,null,null,null,"",null,"",null,""]
[null,null,null,null,null,null,null,null,null,null,null,null,null,null,null,null,null,null,null,null,null,null,null,null,null,null,null,null,null,null,null,null,null,null,null,null,null,"",396,null,{"$f":"IF($I82=\"\",\"\",IF($B$18=\"\",\"INPUT MAIN CATEGORY (CELL B18) OR TURN CATEGORIES OFF\",\"$CATEGORY: \"&$B$18&IF($F82=\"\",\"\",\"/\"&$F82)))","v":""},null,null,null,null,null,null,null,null,null,82,{"$f":"(ROW()+2)/5","v":80}]
[null,null,null,null,null,null,null,null,null,null,null,null,null,null,null,null,null,null,null,null,null,null,null,null,null,null,null,null,null,null,null,null,null,null,null,null,null,"",397,{"$f":"IF($I102=\"\",\"\",\"::\"&IF($B$16=\"\",\"\",$B$16&\"  \")&IF($E102=\"\",$H102,$E102)&\"::\")","v":""},null,{"$f":"IF($I69=\"\",\"\",IF($B$18=\"\",\"INPUT MAIN CATEGORY (CELL B18) OR TURN CATEGORIES OFF\",\"$CATEGORY: \"&$B$18&IF($F69=\"\",\"\",\"/\"&$F69)))","v":""},null,null,null,null,{"$f":"IF(AV399+2=2,\"\",AV399+2)","v":102},100,{"$f":"IF(AX399+2=2,\"\",AX399+2)","v":102},100,""]
[null,null,null,null,null,null,null,null,null,null,null,null,null,null,null,null,null,null,null,null,null,null,null,null,null,null,null,null,null,null,null,null,null,null,null,null,null,"",398,{"$f":"IF($I102=\"\",\"\",IF($CE102=0,\"Enter question type or turn off variable question type\",IF($G102=\"\",VLOOKUP($CE102,$BY:$CA,3,0),$G102)))","v":""},{"$f":"IF($I82=\"\",\"\",\"::\"&IF($B$16=\"\",\"\",$B$16&\"  \")&IF($E82=\"\",$H82,$E82)&\"::\")","v":""},null,null,null,null,null,"",null,"",null,""]
[null,null,null,null,null,null,null,null,null,null,null,null,null,null,null,null,null,null,null,null,null,null,null,null,null,null,null,null,null,null,null,null,null,null,null,null,null,"",399,{"$f":"IF($I102=\"\",\"\",IF($CE102=0,\"Enter question type or turn off variable question type\",$CD102))","v":""},{"$f":"IF($I82=\"\",\"\",IF($CE82=0,\"Enter question type or turn off variable question type\",$CD82))","v":""},{"$f":"IF($I69=\"\",\"\",\"::\"&IF($B$16=\"\",\"\",$B$16&\"  \")&IF($E69=\"\",$H69,$E69)&\"::\")","v":""},null,null,null,null,"",null,"",null,""]
[null,null,null,null,null,null,null,null,null,null,null,null,null,null,null,null,null,null,null,null,null,null,null,null,null,null,null,null,null,null,null,null,null,null,null,null,null,"",400,null,null,{"$f":"IF($I69=\"\",\"\",IF($CE69=0,\"Enter question type or turn off variable question type\",IF($G69=\"\",VLOOKUP($CE69,$BY:$CA,3,0),$G69)))","v":""},null,null,null,null,null,null,null,null,""]
[null,null,null,null,null,null,null,null,null,null,null,null,null,null,null,null,null,null,null,null,null,null,null,null,null,null,null,null,null,null,null,null,null,null,null,null,null,"",401,null,{"$f":"IF($I83=\"\",\"\",IF($B$18=\"\",\"INPUT MAIN CATEGORY (CELL B18) OR TURN CATEGORIES OFF\",\"$CATEGORY: \"&$B$18&IF($F83=\"\",\"\",\"/\"&$F83)))","v":""},{"$f":"IF($I69=\"\",\"\",IF($CE69=0,\"Enter question type or turn off variable question type\",$CD69))","v":""},null,null,null,null,null,null,null,null,83,{"$f":"(ROW()+2)/5","v":81}]
[null,null,null,null,null,null,null,null,null,null,null,null,null,null,null,null,null,null,null,null,null,null,null,null,null,null,null,null,null,null,null,null,null,null,null,null,null,"",402,null,null,null,null,null,null,null,null,null,null,null,""]
[null,null,null,null,null,null,null,null,null,null,null,null,null,null,null,null,null,null,null,null,null,null,null,null,null,null,null,null,null,null,null,null,null,null,null,null,null,"",403,null,{"$f":"IF($I83=\"\",\"\",\"::\"&IF($B$16=\"\",\"\",$B$16&\"  \")&IF($E83=\"\",$H83,$E83)&\"::\")","v":""},{"$f":"IF($I70=\"\",\"\",IF($B$18=\"\",\"INPUT MAIN CATEGORY (CELL B18) OR TURN CATEGORIES OFF\",\"$CATEGORY: \"&$B$18&IF($F70=\"\",\"\",\"/\"&$F70)))","v":""},null,null,null,null,null,null,null,null,""]
[null,null,null,null,null,null,null,null,null,null,null,null,null,null,null,null,null,null,null,null,null,null,null,null,null,null,null,null,null,null,null,null,null,null,null,null,null,"",404,null,{"$f":"IF($I83=\"\",\"\",IF($CE83=0,\"Enter question type or turn off variable question type\",$CD83))","v":""},null,null,null,null,null,null,null,null,null,""]
[null,null,null,null,null,null,null,null,null,null,null,null,null,null,null,null,null,null,null,null,null,null,null,null,null,null,null,null,null,null,null,null,null,null,null,null,null,"",405,null,null,{"$f":"IF($I70=\"\",\"\",\"::\"&IF($B$16=\"\",\"\",$B$16&\"  \")&IF($E70=\"\",$H70,$E70)&\"::\")","v":""},null,null,null,null,null,null,null,null,""]
[null,null,null,null,null,null,null,null,null,null,null,null,null,null,null,null,null,null,null,null,null,null,null,null,null,null,null,null,null,null,null,null,null,null,null,null,null,"",406,null,{"$f":"IF($I84=\"\",\"\",IF($B$18=\"\",\"INPUT MAIN CATEGORY (CELL B18) OR TURN CATEGORIES OFF\",\"$CATEGORY: \"&$B$18&IF($F84=\"\",\"\",\"/\"&$F84)))","v":""},{"$f":"IF($I70=\"\",\"\",IF($CE70=0,\"Enter question type or turn off variable question type\",IF($G70=\"\",VLOOKUP($CE70,$BY:$CA,3,0),$G70)))","v":""},null,null,null,null,null,null,null,null,84,{"$f":"(ROW()+2)/5","v":82}]
[null,null,null,null,null,null,null,null,null,null,null,null,null,null,null,null,null,null,null,null,null,null,null,null,null,null,null,null,null,null,null,null,null,null,null,null,null,"",407,null,null,{"$f":"IF($I70=\"\",\"\",IF($CE70=0,\"Enter question type or turn off variable question type\",$CD70))","v":""},null,null,null,null,null,null,null,null,""]
[null,null,null,null,null,null,null,null,null,null,null,null,null,null,null,null,null,null,null,null,null,null,null,null,null,null,null,null,null,null,null,null,null,null,null,null,null,"",408,null,{"$f":"IF($I84=\"\",\"\",\"::\"&IF($B$16=\"\",\"\",$B$16&\"  \")&IF($E84=\"\",$H84,$E84)&\"::\")","v":""},null,null,null,null,null,null,null,null,null,""]
[null,null,null,null,null,null,null,null,null,null,null,null,null,null,null,null,null,null,null,null,null,null,null,null,null,null,null,null,null,null,null,null,null,null,null,null,null,"",409,null,{"$f":"IF($I84=\"\",\"\",IF($CE84=0,\"Enter question type or turn off variable question type\",$CD84))","v":""},{"$f":"IF($I71=\"\",\"\",IF($B$18=\"\",\"INPUT MAIN CATEGORY (CELL B18) OR TURN CATEGORIES OFF\",\"$CATEGORY: \"&$B$18&IF($F71=\"\",\"\",\"/\"&$F71)))","v":""},null,null,null,null,null,null,null,null,""]
[null,null,null,null,null,null,null,null,null,null,null,null,null,null,null,null,null,null,null,null,null,null,null,null,null,null,null,null,null,null,null,null,null,null,null,null,null,"",410,null,null,null,null,null,null,null,null,null,null,null,""]
[null,null,null,null,null,null,null,null,null,null,null,null,null,null,null,null,null,null,null,null,null,null,null,null,null,null,null,null,null,null,null,null,null,null,null,null,null,"",411,null,{"$f":"IF($I85=\"\",\"\",IF($B$18=\"\",\"INPUT MAIN CATEGORY (CELL B18) OR TURN CATEGORIES OFF\",\"$CATEGORY: \"&$B$18&IF($F85=\"\",\"\",\"/\"&$F85)))","v":""},{"$f":"IF($I71=\"\",\"\",\"::\"&IF($B$16=\"\",\"\",$B$16&\"  \")&IF($E71=\"\",$H71,$E71)&\"::\")","v":""},null,null,null,null,null,null,null,null,85,{"$f":"(ROW()+2)/5","v":83}]
[null,null,null,null,null,null,null,null,null,null,null,null,null,null,null,null,null,null,null,null,null,null,null,null,null,null,null,null,null,null,null,null,null,null,null,null,null,"",412,null,null,{"$f":"IF($I71=\"\",\"\",IF($CE71=0,\"Enter question type or turn off variable question type\",IF($G71=\"\",VLOOKUP($CE71,$BY:$CA,3,0),$G71)))","v":""},null,null,null,null,null,null,null,null,""]
[null,null,null,null,null,null,null,null,null,null,null,null,null,null,null,null,null,null,null,null,null,null,null,null,null,null,null,null,null,null,null,null,null,null,null,null,null,"",413,null,{"$f":"IF($I85=\"\",\"\",\"::\"&IF($B$16=\"\",\"\",$B$16&\"  \")&IF($E85=\"\",$H85,$E85)&\"::\")","v":""},{"$f":"IF($I71=\"\",\"\",IF($CE71=0,\"Enter question type or turn off variable question type\",$CD71))","v":""},null,null,null,null,null,null,null,null,""]
[null,null,null,null,null,null,null,null,null,null,null,null,null,null,null,null,null,null,null,null,null,null,null,null,null,null,null,null,null,null,null,null,null,null,null,null,null,"",414,null,{"$f":"IF($I85=\"\",\"\",IF($CE85=0,\"Enter question type or turn off variable question type\",$CD85))","v":""},null,null,null,null,null,null,null,null,null,""]
[null,null,null,null,null,null,null,null,null,null,null,null,null,null,null,null,null,null,null,null,null,null,null,null,null,null,null,null,null,null,null,null,null,null,null,null,null,"",415,null,null,{"$f":"IF($I72=\"\",\"\",IF($B$18=\"\",\"INPUT MAIN CATEGORY (CELL B18) OR TURN CATEGORIES OFF\",\"$CATEGORY: \"&$B$18&IF($F72=\"\",\"\",\"/\"&$F72)))","v":""},null,null,null,null,null,null,null,null,""]
[null,null,null,null,null,null,null,null,null,null,null,null,null,null,null,null,null,null,null,null,null,null,null,null,null,null,null,null,null,null,null,null,null,null,null,null,null,"",416,null,{"$f":"IF($I86=\"\",\"\",IF($B$18=\"\",\"INPUT MAIN CATEGORY (CELL B18) OR TURN CATEGORIES OFF\",\"$CATEGORY: \"&$B$18&IF($F86=\"\",\"\",\"/\"&$F86)))","v":""},null,null,null,null,null,null,null,null,null,86,{"$f":"(ROW()+2)/5","v":84}]
[null,null,null,null,null,null,null,null,null,null,null,null,null,null,null,null,null,null,null,null,null,null,null,null,null,null,null,null,null,null,null,null,null,null,null,null,null,"",417,null,null,{"$f":"IF($I72=\"\",\"\",\"::\"&IF($B$16=\"\",\"\",$B$16&\"  \")&IF($E72=\"\",$H72,$E72)&\"::\")","v":""},null,null,null,null,null,null,null,null,""]
[null,null,null,null,null,null,null,null,null,null,null,null,null,null,null,null,null,null,null,null,null,null,null,null,null,null,null,null,null,null,null,null,null,null,null,null,null,"",418,null,{"$f":"IF($I86=\"\",\"\",\"::\"&IF($B$16=\"\",\"\",$B$16&\"  \")&IF($E86=\"\",$H86,$E86)&\"::\")","v":""},{"$f":"IF($I72=\"\",\"\",IF($CE72=0,\"Enter question type or turn off variable question type\",IF($G72=\"\",VLOOKUP($CE72,$BY:$CA,3,0),$G72)))","v":""},null,null,null,null,null,null,null,null,""]
[null,null,null,null,null,null,null,null,null,null,null,null,null,null,null,null,null,null,null,null,null,null,null,null,null,null,null,null,null,null,null,null,null,null,null,null,null,"",419,null,{"$f":"IF($I86=\"\",\"\",IF($CE86=0,\"Enter question type or turn off variable question type\",$CD86))","v":""},{"$f":"IF($I72=\"\",\"\",IF($CE72=0,\"Enter question type or turn off variable question type\",$CD72))","v":""},null,null,null,null,null,null,null,null,""]
[null,null,null,null,null,null,null,null,null,null,null,null,null,null,null,null,null,null,null,null,null,null,null,null,null,null,null,null,null,null,null,null,null,null,null,null,null,"",420,null,null,null,null,null,null,null,null,null,null,null,""]
[null,null,null,null,null,null,null,null,null,null,null,null,null,null,null,null,null,null,null,null,null,null,null,null,null,null,null,null,null,null,null,null,null,null,null,null,null,"",421,null,{"$f":"IF($I87=\"\",\"\",IF($B$18=\"\",\"INPUT MAIN CATEGORY (CELL B18) OR TURN CATEGORIES OFF\",\"$CATEGORY: \"&$B$18&IF($F87=\"\",\"\",\"/\"&$F87)))","v":""},{"$f":"IF($I73=\"\",\"\",IF($B$18=\"\",\"INPUT MAIN CATEGORY (CELL B18) OR TURN CATEGORIES OFF\",\"$CATEGORY: \"&$B$18&IF($F73=\"\",\"\",\"/\"&$F73)))","v":""},null,null,null,null,null,null,null,null,87,{"$f":"(ROW()+2)/5","v":85}]
[null,null,null,null,null,null,null,null,null,null,null,null,null,null,null,null,null,null,null,null,null,null,null,null,null,null,null,null,null,null,null,null,null,null,null,null,null,"",422,null,null,null,null,null,null,null,null,null,null,null,""]
[null,null,null,null,null,null,null,null,null,null,null,null,null,null,null,null,null,null,null,null,null,null,null,null,null,null,null,null,null,null,null,null,null,null,null,null,null,"",423,null,{"$f":"IF($I87=\"\",\"\",\"::\"&IF($B$16=\"\",\"\",$B$16&\"  \")&IF($E87=\"\",$H87,$E87)&\"::\")","v":""},{"$f":"IF($I73=\"\",\"\",\"::\"&IF($B$16=\"\",\"\",$B$16&\"  \")&IF($E73=\"\",$H73,$E73)&\"::\")","v":""},null,null,null,null,null,null,null,null,""]
[null,null,null,null,null,null,null,null,null,null,null,null,null,null,null,null,null,null,null,null,null,null,null,null,null,null,null,null,null,null,null,null,null,null,null,null,null,"",424,null,{"$f":"IF($I87=\"\",\"\",IF($CE87=0,\"Enter question type or turn off variable question type\",$CD87))","v":""},{"$f":"IF($I73=\"\",\"\",IF($CE73=0,\"Enter question type or turn off variable question type\",IF($G73=\"\",VLOOKUP($CE73,$BY:$CA,3,0),$G73)))","v":""},null,null,null,null,null,null,null,null,""]
[null,null,null,null,null,null,null,null,null,null,null,null,null,null,null,null,null,null,null,null,null,null,null,null,null,null,null,null,null,null,null,null,null,null,null,null,null,"",425,null,null,{"$f":"IF($I73=\"\",\"\",IF($CE73=0,\"Enter question type or turn off variable question type\",$CD73))","v":""},null,null,null,null,null,null,null,null,""]
[null,null,null,null,null,null,null,null,null,null,null,null,null,null,null,null,null,null,null,null,null,null,null,null,null,null,null,null,null,null,null,null,null,null,null,null,null,"",426,null,{"$f":"IF($I88=\"\",\"\",IF($B$18=\"\",\"INPUT MAIN CATEGORY (CELL B18) OR TURN CATEGORIES OFF\",\"$CATEGORY: \"&$B$18&IF($F88=\"\",\"\",\"/\"&$F88)))","v":""},null,null,null,null,null,null,null,null,null,88,{"$f":"(ROW()+2)/5","v":86}]
[null,null,null,null,null,null,null,null,null,null,null,null,null,null,null,null,null,null,null,null,null,null,null,null,null,null,null,null,null,null,null,null,null,null,null,null,null,"",427,null,null,{"$f":"IF($I74=\"\",\"\",IF($B$18=\"\",\"INPUT MAIN CATEGORY (CELL B18) OR TURN CATEGORIES OFF\",\"$CATEGORY: \"&$B$18&IF($F74=\"\",\"\",\"/\"&$F74)))","v":""},null,null,null,null,null,null,null,null,""]
[null,null,null,null,null,null,null,null,null,null,null,null,null,null,null,null,null,null,null,null,null,null,null,null,null,null,null,null,null,null,null,null,null,null,null,null,null,"",428,null,{"$f":"IF($I88=\"\",\"\",\"::\"&IF($B$16=\"\",\"\",$B$16&\"  \")&IF($E88=\"\",$H88,$E88)&\"::\")","v":""},null,null,null,null,null,null,null,null,null,""]
[null,null,null,null,null,null,null,null,null,null,null,null,null,null,null,null,null,null,null,null,null,null,null,null,null,null,null,null,null,null,null,null,null,null,null,null,null,"",429,null,{"$f":"IF($I88=\"\",\"\",IF($CE88=0,\"Enter question type or turn off variable question type\",$CD88))","v":""},{"$f":"IF($I74=\"\",\"\",\"::\"&IF($B$16=\"\",\"\",$B$16&\"  \")&IF($E74=\"\",$H74,$E74)&\"::\")","v":""},null,null,null,null,null,null,null,null,""]
[null,null,null,null,null,null,null,null,null,null,null,null,null,null,null,null,null,null,null,null,null,null,null,null,null,null,null,null,null,null,null,null,null,null,null,null,null,"",430,null,null,{"$f":"IF($I74=\"\",\"\",IF($CE74=0,\"Enter question type or turn off variable question type\",IF($G74=\"\",VLOOKUP($CE74,$BY:$CA,3,0),$G74)))","v":""},null,null,null,null,null,null,null,null,""]
[null,null,null,null,null,null,null,null,null,null,null,null,null,null,null,null,null,null,null,null,null,null,null,null,null,null,null,null,null,null,null,null,null,null,null,null,null,"",431,null,{"$f":"IF($I89=\"\",\"\",IF($B$18=\"\",\"INPUT MAIN CATEGORY (CELL B18) OR TURN CATEGORIES OFF\",\"$CATEGORY: \"&$B$18&IF($F89=\"\",\"\",\"/\"&$F89)))","v":""},{"$f":"IF($I74=\"\",\"\",IF($CE74=0,\"Enter question type or turn off variable question type\",$CD74))","v":""},null,null,null,null,null,null,null,null,89,{"$f":"(ROW()+2)/5","v":87}]
[null,null,null,null,null,null,null,null,null,null,null,null,null,null,null,null,null,null,null,null,null,null,null,null,null,null,null,null,null,null,null,null,null,null,null,null,null,"",432,null,null,null,null,null,null,null,null,null,null,null,""]
[null,null,null,null,null,null,null,null,null,null,null,null,null,null,null,null,null,null,null,null,null,null,null,null,null,null,null,null,null,null,null,null,null,null,null,null,null,"",433,null,{"$f":"IF($I89=\"\",\"\",\"::\"&IF($B$16=\"\",\"\",$B$16&\"  \")&IF($E89=\"\",$H89,$E89)&\"::\")","v":""},{"$f":"IF($I75=\"\",\"\",IF($B$18=\"\",\"INPUT MAIN CATEGORY (CELL B18) OR TURN CATEGORIES OFF\",\"$CATEGORY: \"&$B$18&IF($F75=\"\",\"\",\"/\"&$F75)))","v":""},null,null,null,null,null,null,null,null,""]
[null,null,null,null,null,null,null,null,null,null,null,null,null,null,null,null,null,null,null,null,null,null,null,null,null,null,null,null,null,null,null,null,null,null,null,null,null,"",434,null,{"$f":"IF($I89=\"\",\"\",IF($CE89=0,\"Enter question type or turn off variable question type\",$CD89))","v":""},null,null,null,null,null,null,null,null,null,""]
[null,null,null,null,null,null,null,null,null,null,null,null,null,null,null,null,null,null,null,null,null,null,null,null,null,null,null,null,null,null,null,null,null,null,null,null,null,"",435,null,null,{"$f":"IF($I75=\"\",\"\",\"::\"&IF($B$16=\"\",\"\",$B$16&\"  \")&IF($E75=\"\",$H75,$E75)&\"::\")","v":""},null,null,null,null,null,null,null,null,""]
[null,null,null,null,null,null,null,null,null,null,null,null,null,null,null,null,null,null,null,null,null,null,null,null,null,null,null,null,null,null,null,null,null,null,null,null,null,"",436,null,{"$f":"IF($I90=\"\",\"\",IF($B$18=\"\",\"INPUT MAIN CATEGORY (CELL B18) OR TURN CATEGORIES OFF\",\"$CATEGORY: \"&$B$18&IF($F90=\"\",\"\",\"/\"&$F90)))","v":""},{"$f":"IF($I75=\"\",\"\",IF($CE75=0,\"Enter question type or turn off variable question type\",IF($G75=\"\",VLOOKUP($CE75,$BY:$CA,3,0),$G75)))","v":""},null,null,null,null,null,null,null,null,90,{"$f":"(ROW()+2)/5","v":88}]
[null,null,null,null,null,null,null,null,null,null,null,null,null,null,null,null,null,null,null,null,null,null,null,null,null,null,null,null,null,null,null,null,null,null,null,null,null,"",437,null,null,{"$f":"IF($I75=\"\",\"\",IF($CE75=0,\"Enter question type or turn off variable question type\",$CD75))","v":""},null,null,null,null,null,null,null,null,""]
[null,null,null,null,null,null,null,null,null,null,null,null,null,null,null,null,null,null,null,null,null,null,null,null,null,null,null,null,null,null,null,null,null,null,null,null,null,"",438,null,{"$f":"IF($I90=\"\",\"\",\"::\"&IF($B$16=\"\",\"\",$B$16&\"  \")&IF($E90=\"\",$H90,$E90)&\"::\")","v":""},null,null,null,null,null,null,null,null,null,""]
[null,null,null,null,null,null,null,null,null,null,null,null,null,null,null,null,null,null,null,null,null,null,null,null,null,null,null,null,null,null,null,null,null,null,null,null,null,"",439,null,{"$f":"IF($I90=\"\",\"\",IF($CE90=0,\"Enter question type or turn off variable question type\",$CD90))","v":""},{"$f":"IF($I76=\"\",\"\",IF($B$18=\"\",\"INPUT MAIN CATEGORY (CELL B18) OR TURN CATEGORIES OFF\",\"$CATEGORY: \"&$B$18&IF($F76=\"\",\"\",\"/\"&$F76)))","v":""},null,null,null,null,null,null,null,null,""]
[null,null,null,null,null,null,null,null,null,null,null,null,null,null,null,null,null,null,null,null,null,null,null,null,null,null,null,null,null,null,null,null,null,null,null,null,null,"",440,null,null,null,null,null,null,null,null,null,null,null,""]
[null,null,null,null,null,null,null,null,null,null,null,null,null,null,null,null,null,null,null,null,null,null,null,null,null,null,null,null,null,null,null,null,null,null,null,null,null,"",441,null,{"$f":"IF($I91=\"\",\"\",IF($B$18=\"\",\"INPUT MAIN CATEGORY (CELL B18) OR TURN CATEGORIES OFF\",\"$CATEGORY: \"&$B$18&IF($F91=\"\",\"\",\"/\"&$F91)))","v":""},{"$f":"IF($I76=\"\",\"\",\"::\"&IF($B$16=\"\",\"\",$B$16&\"  \")&IF($E76=\"\",$H76,$E76)&\"::\")","v":""},null,null,null,null,null,null,null,null,91,{"$f":"(ROW()+2)/5","v":89}]
[null,null,null,null,null,null,null,null,null,null,null,null,null,null,null,null,null,null,null,null,null,null,null,null,null,null,null,null,null,null,null,null,null,null,null,null,null,"",442,null,null,{"$f":"IF($I76=\"\",\"\",IF($CE76=0,\"Enter question type or turn off variable question type\",IF($G76=\"\",VLOOKUP($CE76,$BY:$CA,3,0),$G76)))","v":""},null,null,null,null,null,null,null,null,""]
[null,null,null,null,null,null,null,null,null,null,null,null,null,null,null,null,null,null,null,null,null,null,null,null,null,null,null,null,null,null,null,null,null,null,null,null,null,"",443,null,{"$f":"IF($I91=\"\",\"\",\"::\"&IF($B$16=\"\",\"\",$B$16&\"  \")&IF($E91=\"\",$H91,$E91)&\"::\")","v":""},{"$f":"IF($I76=\"\",\"\",IF($CE76=0,\"Enter question type or turn off variable question type\",$CD76))","v":""},null,null,null,null,null,null,null,null,""]
[null,null,null,null,null,null,null,null,null,null,null,null,null,null,null,null,null,null,null,null,null,null,null,null,null,null,null,null,null,null,null,null,null,null,null,null,null,"",444,null,{"$f":"IF($I91=\"\",\"\",IF($CE91=0,\"Enter question type or turn off variable question type\",$CD91))","v":""},null,null,null,null,null,null,null,null,null,{"$f":"IF(AZ446+2=2,\"\",AZ446+2)","v":""}]
[null,null,null,null,null,null,null,null,null,null,null,null,null,null,null,null,null,null,null,null,null,null,null,null,null,null,null,null,null,null,null,null,null,null,null,null,null,"",445,null,null,{"$f":"IF($I77=\"\",\"\",IF($B$18=\"\",\"INPUT MAIN CATEGORY (CELL B18) OR TURN CATEGORIES OFF\",\"$CATEGORY: \"&$B$18&IF($F77=\"\",\"\",\"/\"&$F77)))","v":""},null,null,null,null,null,null,null,null,""]
[null,null,null,null,null,null,null,null,null,null,null,null,null,null,null,null,null,null,null,null,null,null,null,null,null,null,null,null,null,null,null,null,null,null,null,null,null,"",446,null,{"$f":"IF($I92=\"\",\"\",IF($B$18=\"\",\"INPUT MAIN CATEGORY (CELL B18) OR TURN CATEGORIES OFF\",\"$CATEGORY: \"&$B$18&IF($F92=\"\",\"\",\"/\"&$F92)))","v":""},null,null,null,null,null,null,null,null,null,92,{"$f":"(ROW()+2)/5","v":90}]
[null,null,null,null,null,null,null,null,null,null,null,null,null,null,null,null,null,null,null,null,null,null,null,null,null,null,null,null,null,null,null,null,null,null,null,null,null,"",447,null,null,{"$f":"IF($I77=\"\",\"\",\"::\"&IF($B$16=\"\",\"\",$B$16&\"  \")&IF($E77=\"\",$H77,$E77)&\"::\")","v":""},null,null,null,null,null,null,null,null,""]
[null,null,null,null,null,null,null,null,null,null,null,null,null,null,null,null,null,null,null,null,null,null,null,null,null,null,null,null,null,null,null,null,null,null,null,null,null,"",448,null,{"$f":"IF($I92=\"\",\"\",\"::\"&IF($B$16=\"\",\"\",$B$16&\"  \")&IF($E92=\"\",$H92,$E92)&\"::\")","v":""},{"$f":"IF($I77=\"\",\"\",IF($CE77=0,\"Enter question type or turn off variable question type\",IF($G77=\"\",VLOOKUP($CE77,$BY:$CA,3,0),$G77)))","v":""},null,null,null,null,null,null,null,null,""]
[null,null,null,null,null,null,null,null,null,null,null,null,null,null,null,null,null,null,null,null,null,null,null,null,null,null,null,null,null,null,null,null,null,null,null,null,null,"",449,null,{"$f":"IF($I92=\"\",\"\",IF($CE92=0,\"Enter question type or turn off variable question type\",$CD92))","v":""},{"$f":"IF($I77=\"\",\"\",IF($CE77=0,\"Enter question type or turn off variable question type\",$CD77))","v":""},null,null,null,null,null,null,null,null,""]
[null,null,null,null,null,null,null,null,null,null,null,null,null,null,null,null,null,null,null,null,null,null,null,null,null,null,null,null,null,null,null,null,null,null,null,null,null,"",450,null,null,null,null,null,null,null,null,null,null,null,""]
[null,null,null,null,null,null,null,null,null,null,null,null,null,null,null,null,null,null,null,null,null,null,null,null,null,null,null,null,null,null,null,null,null,null,null,null,null,"",451,null,{"$f":"IF($I93=\"\",\"\",IF($B$18=\"\",\"INPUT MAIN CATEGORY (CELL B18) OR TURN CATEGORIES OFF\",\"$CATEGORY: \"&$B$18&IF($F93=\"\",\"\",\"/\"&$F93)))","v":""},{"$f":"IF($I78=\"\",\"\",IF($B$18=\"\",\"INPUT MAIN CATEGORY (CELL B18) OR TURN CATEGORIES OFF\",\"$CATEGORY: \"&$B$18&IF($F78=\"\",\"\",\"/\"&$F78)))","v":""},null,null,null,null,null,null,null,null,93,{"$f":"(ROW()+2)/5","v":91}]
[null,null,null,null,null,null,null,null,null,null,null,null,null,null,null,null,null,null,null,null,null,null,null,null,null,null,null,null,null,null,null,null,null,null,null,null,null,{"$f":"IF(VLOOKUP($AM454,$AM:$AQ,$A$6,0)=\"\",\"\",VLOOKUP($AM454,$AM:$AQ,$A$6,0))","v":""},452,null,null,null,null,null,null,null,null,null,null,null,""]
[null,null,null,null,null,null,null,null,null,null,null,null,null,null,null,null,null,null,null,null,null,null,null,null,null,null,null,null,null,null,null,null,null,null,null,null,null,"",453,null,{"$f":"IF($I93=\"\",\"\",\"::\"&IF($B$16=\"\",\"\",$B$16&\"  \")&IF($E93=\"\",$H93,$E93)&\"::\")","v":""},{"$f":"IF($I78=\"\",\"\",\"::\"&IF($B$16=\"\",\"\",$B$16&\"  \")&IF($E78=\"\",$H78,$E78)&\"::\")","v":""},null,null,null,null,null,null,null,null,""]
[null,null,null,null,null,null,null,null,null,null,null,null,null,null,null,null,null,null,null,null,null,null,null,null,null,null,null,null,null,null,null,null,null,null,null,null,null,"",454,null,{"$f":"IF($I93=\"\",\"\",IF($CE93=0,\"Enter question type or turn off variable question type\",$CD93))","v":""},{"$f":"IF($I78=\"\",\"\",IF($CE78=0,\"Enter question type or turn off variable question type\",IF($G78=\"\",VLOOKUP($CE78,$BY:$CA,3,0),$G78)))","v":""},null,null,null,null,null,null,null,null,""]
[null,null,null,null,null,null,null,null,null,null,null,null,null,null,null,null,null,null,null,null,null,null,null,null,null,null,null,null,null,null,null,null,null,null,null,null,null,"",455,null,null,{"$f":"IF($I78=\"\",\"\",IF($CE78=0,\"Enter question type or turn off variable question type\",$CD78))","v":""},null,null,null,null,null,null,null,null,""]
[null,null,null,null,null,null,null,null,null,null,null,null,null,null,null,null,null,null,null,null,null,null,null,null,null,null,null,null,null,null,null,null,null,null,null,null,null,"",456,null,{"$f":"IF($I94=\"\",\"\",IF($B$18=\"\",\"INPUT MAIN CATEGORY (CELL B18) OR TURN CATEGORIES OFF\",\"$CATEGORY: \"&$B$18&IF($F94=\"\",\"\",\"/\"&$F94)))","v":""},null,null,null,null,null,null,null,null,null,94,{"$f":"(ROW()+2)/5","v":92}]
[null,null,null,null,null,null,null,null,null,null,null,null,null,null,null,null,null,null,null,null,null,null,null,null,null,null,null,null,null,null,null,null,null,null,null,null,null,"",457,null,null,{"$f":"IF($I79=\"\",\"\",IF($B$18=\"\",\"INPUT MAIN CATEGORY (CELL B18) OR TURN CATEGORIES OFF\",\"$CATEGORY: \"&$B$18&IF($F79=\"\",\"\",\"/\"&$F79)))","v":""},null,null,null,null,null,null,null,null,""]
[null,null,null,null,null,null,null,null,null,null,null,null,null,null,null,null,null,null,null,null,null,null,null,null,null,null,null,null,null,null,null,null,null,null,null,null,null,"",458,null,{"$f":"IF($I94=\"\",\"\",\"::\"&IF($B$16=\"\",\"\",$B$16&\"  \")&IF($E94=\"\",$H94,$E94)&\"::\")","v":""},null,null,null,null,null,null,null,null,null,""]
[null,null,null,null,null,null,null,null,null,null,null,null,null,null,null,null,null,null,null,null,null,null,null,null,null,null,null,null,null,null,null,null,null,null,null,null,null,"",459,null,{"$f":"IF($I94=\"\",\"\",IF($CE94=0,\"Enter question type or turn off variable question type\",$CD94))","v":""},{"$f":"IF($I79=\"\",\"\",\"::\"&IF($B$16=\"\",\"\",$B$16&\"  \")&IF($E79=\"\",$H79,$E79)&\"::\")","v":""},null,null,null,null,null,null,null,null,""]
[null,null,null,null,null,null,null,null,null,null,null,null,null,null,null,null,null,null,null,null,null,null,null,null,null,null,null,null,null,null,null,null,null,null,null,null,null,"",460,null,null,{"$f":"IF($I79=\"\",\"\",IF($CE79=0,\"Enter question type or turn off variable question type\",IF($G79=\"\",VLOOKUP($CE79,$BY:$CA,3,0),$G79)))","v":""},null,null,null,null,null,null,null,null,""]
[null,null,null,null,null,null,null,null,null,null,null,null,null,null,null,null,null,null,null,null,null,null,null,null,null,null,null,null,null,null,null,null,null,null,null,null,null,"",461,null,{"$f":"IF($I95=\"\",\"\",IF($B$18=\"\",\"INPUT MAIN CATEGORY (CELL B18) OR TURN CATEGORIES OFF\",\"$CATEGORY: \"&$B$18&IF($F95=\"\",\"\",\"/\"&$F95)))","v":""},{"$f":"IF($I79=\"\",\"\",IF($CE79=0,\"Enter question type or turn off variable question type\",$CD79))","v":""},null,null,null,null,null,null,null,null,95,{"$f":"(ROW()+2)/5","v":93}]
[null,null,null,null,null,null,null,null,null,null,null,null,null,null,null,null,null,null,null,null,null,null,null,null,null,null,null,null,null,null,null,null,null,null,null,null,null,"",462,null,null,null,null,null,null,null,null,null,null,null,""]
[null,null,null,null,null,null,null,null,null,null,null,null,null,null,null,null,null,null,null,null,null,null,null,null,null,null,null,null,null,null,null,null,null,null,null,null,null,"",463,null,{"$f":"IF($I95=\"\",\"\",\"::\"&IF($B$16=\"\",\"\",$B$16&\"  \")&IF($E95=\"\",$H95,$E95)&\"::\")","v":""},{"$f":"IF($I80=\"\",\"\",IF($B$18=\"\",\"INPUT MAIN CATEGORY (CELL B18) OR TURN CATEGORIES OFF\",\"$CATEGORY: \"&$B$18&IF($F80=\"\",\"\",\"/\"&$F80)))","v":""},null,null,null,null,null,null,null,null,""]
[null,null,null,null,null,null,null,null,null,null,null,null,null,null,null,null,null,null,null,null,null,null,null,null,null,null,null,null,null,null,null,null,null,null,null,null,null,"",464,null,{"$f":"IF($I95=\"\",\"\",IF($CE95=0,\"Enter question type or turn off variable question type\",$CD95))","v":""},null,null,null,null,null,null,null,null,null,""]
[null,null,null,null,null,null,null,null,null,null,null,null,null,null,null,null,null,null,null,null,null,null,null,null,null,null,null,null,null,null,null,null,null,null,null,null,null,"",465,null,null,{"$f":"IF($I80=\"\",\"\",\"::\"&IF($B$16=\"\",\"\",$B$16&\"  \")&IF($E80=\"\",$H80,$E80)&\"::\")","v":""},null,null,null,null,null,null,null,null,""]
[null,null,null,null,null,null,null,null,null,null,null,null,null,null,null,null,null,null,null,null,null,null,null,null,null,null,null,null,null,null,null,null,null,null,null,null,null,"",466,null,{"$f":"IF($I96=\"\",\"\",IF($B$18=\"\",\"INPUT MAIN CATEGORY (CELL B18) OR TURN CATEGORIES OFF\",\"$CATEGORY: \"&$B$18&IF($F96=\"\",\"\",\"/\"&$F96)))","v":""},{"$f":"IF($I80=\"\",\"\",IF($CE80=0,\"Enter question type or turn off variable question type\",IF($G80=\"\",VLOOKUP($CE80,$BY:$CA,3,0),$G80)))","v":""},null,null,null,null,null,null,null,null,96,{"$f":"(ROW()+2)/5","v":94}]
[null,null,null,null,null,null,null,null,null,null,null,null,null,null,null,null,null,null,null,null,null,null,null,null,null,null,null,null,null,null,null,null,null,null,null,null,null,"",467,null,null,{"$f":"IF($I80=\"\",\"\",IF($CE80=0,\"Enter question type or turn off variable question type\",$CD80))","v":""},null,null,null,null,null,null,null,null,""]
[null,null,null,null,null,null,null,null,null,null,null,null,null,null,null,null,null,null,null,null,null,null,null,null,null,null,null,null,null,null,null,null,null,null,null,null,null,"",468,null,{"$f":"IF($I96=\"\",\"\",\"::\"&IF($B$16=\"\",\"\",$B$16&\"  \")&IF($E96=\"\",$H96,$E96)&\"::\")","v":""},null,null,null,null,null,null,null,null,null,""]
[null,null,null,null,null,null,null,null,null,null,null,null,null,null,null,null,null,null,null,null,null,null,null,null,null,null,null,null,null,null,null,null,null,null,null,null,null,"",469,null,{"$f":"IF($I96=\"\",\"\",IF($CE96=0,\"Enter question type or turn off variable question type\",$CD96))","v":""},{"$f":"IF($I81=\"\",\"\",IF($B$18=\"\",\"INPUT MAIN CATEGORY (CELL B18) OR TURN CATEGORIES OFF\",\"$CATEGORY: \"&$B$18&IF($F81=\"\",\"\",\"/\"&$F81)))","v":""},null,null,null,null,null,null,null,null,""]
[null,null,null,null,null,null,null,null,null,null,null,null,null,null,null,null,null,null,null,null,null,null,null,null,null,null,null,null,null,null,null,null,null,null,null,null,null,"",470,null,null,null,null,null,null,null,null,null,null,null,""]
[null,null,null,null,null,null,null,null,null,null,null,null,null,null,null,null,null,null,null,null,null,null,null,null,null,null,null,null,null,null,null,null,null,null,null,null,null,"",471,null,{"$f":"IF($I97=\"\",\"\",IF($B$18=\"\",\"INPUT MAIN CATEGORY (CELL B18) OR TURN CATEGORIES OFF\",\"$CATEGORY: \"&$B$18&IF($F97=\"\",\"\",\"/\"&$F97)))","v":""},{"$f":"IF($I81=\"\",\"\",\"::\"&IF($B$16=\"\",\"\",$B$16&\"  \")&IF($E81=\"\",$H81,$E81)&\"::\")","v":""},null,null,null,null,null,null,null,null,97,{"$f":"(ROW()+2)/5","v":95}]
[null,null,null,null,null,null,null,null,null,null,null,null,null,null,null,null,null,null,null,null,null,null,null,null,null,null,null,null,null,null,null,null,null,null,null,null,null,"",472,null,null,{"$f":"IF($I81=\"\",\"\",IF($CE81=0,\"Enter question type or turn off variable question type\",IF($G81=\"\",VLOOKUP($CE81,$BY:$CA,3,0),$G81)))","v":""},null,null,null,null,null,null,null,null,""]
[null,null,null,null,null,null,null,null,null,null,null,null,null,null,null,null,null,null,null,null,null,null,null,null,null,null,null,null,null,null,null,null,null,null,null,null,null,"",473,null,{"$f":"IF($I97=\"\",\"\",\"::\"&IF($B$16=\"\",\"\",$B$16&\"  \")&IF($E97=\"\",$H97,$E97)&\"::\")","v":""},{"$f":"IF($I81=\"\",\"\",IF($CE81=0,\"Enter question type or turn off variable question type\",$CD81))","v":""},null,null,null,null,null,null,null,null,""]
[null,null,null,null,null,null,null,null,null,null,null,null,null,null,null,null,null,null,null,null,null,null,null,null,null,null,null,null,null,null,null,null,null,null,null,null,null,"",474,null,{"$f":"IF($I97=\"\",\"\",IF($CE97=0,\"Enter question type or turn off variable question type\",$CD97))","v":""},null,null,null,null,null,null,null,null,null,""]
[null,null,null,null,null,null,null,null,null,null,null,null,null,null,null,null,null,null,null,null,null,null,null,null,null,null,null,null,null,null,null,null,null,null,null,null,null,"",475,null,null,{"$f":"IF($I82=\"\",\"\",IF($B$18=\"\",\"INPUT MAIN CATEGORY (CELL B18) OR TURN CATEGORIES OFF\",\"$CATEGORY: \"&$B$18&IF($F82=\"\",\"\",\"/\"&$F82)))","v":""},null,null,null,null,null,null,null,null,""]
[null,null,null,null,null,null,null,null,null,null,null,null,null,null,null,null,null,null,null,null,null,null,null,null,null,null,null,null,null,null,null,null,null,null,null,null,null,"",476,null,{"$f":"IF($I98=\"\",\"\",IF($B$18=\"\",\"INPUT MAIN CATEGORY (CELL B18) OR TURN CATEGORIES OFF\",\"$CATEGORY: \"&$B$18&IF($F98=\"\",\"\",\"/\"&$F98)))","v":""},null,null,null,null,null,null,null,null,null,98,{"$f":"(ROW()+2)/5","v":96}]
[null,null,null,null,null,null,null,null,null,null,null,null,null,null,null,null,null,null,null,null,null,null,null,null,null,null,null,null,null,null,null,null,null,null,null,null,null,"",477,null,null,{"$f":"IF($I82=\"\",\"\",\"::\"&IF($B$16=\"\",\"\",$B$16&\"  \")&IF($E82=\"\",$H82,$E82)&\"::\")","v":""},null,null,null,null,null,null,null,null,""]
[null,null,null,null,null,null,null,null,null,null,null,null,null,null,null,null,null,null,null,null,null,null,null,null,null,null,null,null,null,null,null,null,null,null,null,null,null,"",478,null,{"$f":"IF($I98=\"\",\"\",\"::\"&IF($B$16=\"\",\"\",$B$16&\"  \")&IF($E98=\"\",$H98,$E98)&\"::\")","v":""},{"$f":"IF($I82=\"\",\"\",IF($CE82=0,\"Enter question type or turn off variable question type\",IF($G82=\"\",VLOOKUP($CE82,$BY:$CA,3,0),$G82)))","v":""},null,null,null,null,null,null,null,null,""]
[null,null,null,null,null,null,null,null,null,null,null,null,null,null,null,null,null,null,null,null,null,null,null,null,null,null,null,null,null,null,null,null,null,null,null,null,null,"",479,null,{"$f":"IF($I98=\"\",\"\",IF($CE98=0,\"Enter question type or turn off variable question type\",$CD98))","v":""},{"$f":"IF($I82=\"\",\"\",IF($CE82=0,\"Enter question type or turn off variable question type\",$CD82))","v":""},null,null,null,null,null,null,null,null,""]
[null,null,null,null,null,null,null,null,null,null,null,null,null,null,null,null,null,null,null,null,null,null,null,null,null,null,null,null,null,null,null,null,null,null,null,null,null,"",480,null,null,null,null,null,null,null,null,null,null,null,""]
[null,null,null,null,null,null,null,null,null,null,null,null,null,null,null,null,null,null,null,null,null,null,null,null,null,null,null,null,null,null,null,null,null,null,null,null,null,"",481,null,{"$f":"IF($I99=\"\",\"\",IF($B$18=\"\",\"INPUT MAIN CATEGORY (CELL B18) OR TURN CATEGORIES OFF\",\"$CATEGORY: \"&$B$18&IF($F99=\"\",\"\",\"/\"&$F99)))","v":""},{"$f":"IF($I83=\"\",\"\",IF($B$18=\"\",\"INPUT MAIN CATEGORY (CELL B18) OR TURN CATEGORIES OFF\",\"$CATEGORY: \"&$B$18&IF($F83=\"\",\"\",\"/\"&$F83)))","v":""},null,null,null,null,null,null,null,null,99,{"$f":"(ROW()+2)/5","v":97}]
[null,null,null,null,null,null,null,null,null,null,null,null,null,null,null,null,null,null,null,null,null,null,null,null,null,null,null,null,null,null,null,null,null,null,null,null,null,"",482,null,null,null,null,null,null,null,null,null,null,null,""]
[null,null,null,null,null,null,null,null,null,null,null,null,null,null,null,null,null,null,null,null,null,null,null,null,null,null,null,null,null,null,null,null,null,null,null,null,null,"",483,null,{"$f":"IF($I99=\"\",\"\",\"::\"&IF($B$16=\"\",\"\",$B$16&\"  \")&IF($E99=\"\",$H99,$E99)&\"::\")","v":""},{"$f":"IF($I83=\"\",\"\",\"::\"&IF($B$16=\"\",\"\",$B$16&\"  \")&IF($E83=\"\",$H83,$E83)&\"::\")","v":""},null,null,null,null,null,null,null,null,""]
[null,null,null,null,null,null,null,null,null,null,null,null,null,null,null,null,null,null,null,null,null,null,null,null,null,null,null,null,null,null,null,null,null,null,null,null,null,"",484,null,{"$f":"IF($I99=\"\",\"\",IF($CE99=0,\"Enter question type or turn off variable question type\",$CD99))","v":""},{"$f":"IF($I83=\"\",\"\",IF($CE83=0,\"Enter question type or turn off variable question type\",IF($G83=\"\",VLOOKUP($CE83,$BY:$CA,3,0),$G83)))","v":""},null,null,null,null,null,null,null,null,""]
[null,null,null,null,null,null,null,null,null,null,null,null,null,null,null,null,null,null,null,null,null,null,null,null,null,null,null,null,null,null,null,null,null,null,null,null,null,"",485,null,null,{"$f":"IF($I83=\"\",\"\",IF($CE83=0,\"Enter question type or turn off variable question type\",$CD83))","v":""},null,null,null,null,null,null,null,null,""]
[null,null,null,null,null,null,null,null,null,null,null,null,null,null,null,null,null,null,null,null,null,null,null,null,null,null,null,null,null,null,null,null,null,null,null,null,null,"",486,null,{"$f":"IF($I100=\"\",\"\",IF($B$18=\"\",\"INPUT MAIN CATEGORY (CELL B18) OR TURN CATEGORIES OFF\",\"$CATEGORY: \"&$B$18&IF($F100=\"\",\"\",\"/\"&$F100)))","v":""},null,null,null,null,null,null,null,null,null,100,{"$f":"(ROW()+2)/5","v":98}]
[null,null,null,null,null,null,null,null,null,null,null,null,null,null,null,null,null,null,null,null,null,null,null,null,null,null,null,null,null,null,null,null,null,null,null,null,null,"",487,null,null,{"$f":"IF($I84=\"\",\"\",IF($B$18=\"\",\"INPUT MAIN CATEGORY (CELL B18) OR TURN CATEGORIES OFF\",\"$CATEGORY: \"&$B$18&IF($F84=\"\",\"\",\"/\"&$F84)))","v":""},null,null,null,null,null,null,null,null,""]
[null,null,null,null,null,null,null,null,null,null,null,null,null,null,null,null,null,null,null,null,null,null,null,null,null,null,null,null,null,null,null,null,null,null,null,null,null,"",488,null,{"$f":"IF($I100=\"\",\"\",\"::\"&IF($B$16=\"\",\"\",$B$16&\"  \")&IF($E100=\"\",$H100,$E100)&\"::\")","v":""},null,null,null,null,null,null,null,null,null,""]
[null,null,null,null,null,null,null,null,null,null,null,null,null,null,null,null,null,null,null,null,null,null,null,null,null,null,null,null,null,null,null,null,null,null,null,null,null,"",489,null,{"$f":"IF($I100=\"\",\"\",IF($CE100=0,\"Enter question type or turn off variable question type\",$CD100))","v":""},{"$f":"IF($I84=\"\",\"\",\"::\"&IF($B$16=\"\",\"\",$B$16&\"  \")&IF($E84=\"\",$H84,$E84)&\"::\")","v":""},null,null,null,null,null,null,null,null,""]
[null,null,null,null,null,null,null,null,null,null,null,null,null,null,null,null,null,null,null,null,null,null,null,null,null,null,null,null,null,null,null,null,null,null,null,null,null,"",490,null,null,{"$f":"IF($I84=\"\",\"\",IF($CE84=0,\"Enter question type or turn off variable question type\",IF($G84=\"\",VLOOKUP($CE84,$BY:$CA,3,0),$G84)))","v":""},null,null,null,null,null,null,null,null,""]
[null,null,null,null,null,null,null,null,null,null,null,null,null,null,null,null,null,null,null,null,null,null,null,null,null,null,null,null,null,null,null,null,null,null,null,null,null,"",491,null,{"$f":"IF($I101=\"\",\"\",IF($B$18=\"\",\"INPUT MAIN CATEGORY (CELL B18) OR TURN CATEGORIES OFF\",\"$CATEGORY: \"&$B$18&IF($F101=\"\",\"\",\"/\"&$F101)))","v":""},{"$f":"IF($I84=\"\",\"\",IF($CE84=0,\"Enter question type or turn off variable question type\",$CD84))","v":""},null,null,null,null,null,null,null,null,101,{"$f":"(ROW()+2)/5","v":99}]
[null,null,null,null,null,null,null,null,null,null,null,null,null,null,null,null,null,null,null,null,null,null,null,null,null,null,null,null,null,null,null,null,null,null,null,null,null,"",492,null,null,null,null,null,null,null,null,null,null,null,""]
[null,null,null,null,null,null,null,null,null,null,null,null,null,null,null,null,null,null,null,null,null,null,null,null,null,null,null,null,null,null,null,null,null,null,null,null,null,"",493,null,{"$f":"IF($I101=\"\",\"\",\"::\"&IF($B$16=\"\",\"\",$B$16&\"  \")&IF($E101=\"\",$H101,$E101)&\"::\")","v":""},{"$f":"IF($I85=\"\",\"\",IF($B$18=\"\",\"INPUT MAIN CATEGORY (CELL B18) OR TURN CATEGORIES OFF\",\"$CATEGORY: \"&$B$18&IF($F85=\"\",\"\",\"/\"&$F85)))","v":""},null,null,null,null,null,null,null,null,""]
[null,null,null,null,null,null,null,null,null,null,null,null,null,null,null,null,null,null,null,null,null,null,null,null,null,null,null,null,null,null,null,null,null,null,null,null,null,"",494,null,{"$f":"IF($I101=\"\",\"\",IF($CE101=0,\"Enter question type or turn off variable question type\",$CD101))","v":""},null,null,null,null,null,null,null,null,null,""]
[null,null,null,null,null,null,null,null,null,null,null,null,null,null,null,null,null,null,null,null,null,null,null,null,null,null,null,null,null,null,null,null,null,null,null,null,null,"",495,null,null,{"$f":"IF($I85=\"\",\"\",\"::\"&IF($B$16=\"\",\"\",$B$16&\"  \")&IF($E85=\"\",$H85,$E85)&\"::\")","v":""},null,null,null,null,null,null,null,null,""]
[null,null,null,null,null,null,null,null,null,null,null,null,null,null,null,null,null,null,null,null,null,null,null,null,null,null,null,null,null,null,null,null,null,null,null,null,null,"",496,null,{"$f":"IF($I102=\"\",\"\",IF($B$18=\"\",\"INPUT MAIN CATEGORY (CELL B18) OR TURN CATEGORIES OFF\",\"$CATEGORY: \"&$B$18&IF($F102=\"\",\"\",\"/\"&$F102)))","v":""},{"$f":"IF($I85=\"\",\"\",IF($CE85=0,\"Enter question type or turn off variable question type\",IF($G85=\"\",VLOOKUP($CE85,$BY:$CA,3,0),$G85)))","v":""},null,null,null,null,null,null,null,null,102,{"$f":"(ROW()+2)/5","v":100}]
[null,null,null,null,null,null,null,null,null,null,null,null,null,null,null,null,null,null,null,null,null,null,null,null,null,null,null,null,null,null,null,null,null,null,null,null,null,"",497,null,null,{"$f":"IF($I85=\"\",\"\",IF($CE85=0,\"Enter question type or turn off variable question type\",$CD85))","v":""},null,null,null,null,null,null,null,null,""]
[null,null,null,null,null,null,null,null,null,null,null,null,null,null,null,null,null,null,null,null,null,null,null,null,null,null,null,null,null,null,null,null,null,null,null,null,null,"",498,null,{"$f":"IF($I102=\"\",\"\",\"::\"&IF($B$16=\"\",\"\",$B$16&\"  \")&IF($E102=\"\",$H102,$E102)&\"::\")","v":""},null,null,null,null,null,null,null,null,null,""]
[null,null,null,null,null,null,null,null,null,null,null,null,null,null,null,null,null,null,null,null,null,null,null,null,null,null,null,null,null,null,null,null,null,null,null,null,null,"",499,null,{"$f":"IF($I102=\"\",\"\",IF($CE102=0,\"Enter question type or turn off variable question type\",$CD102))","v":""},{"$f":"IF($I86=\"\",\"\",IF($B$18=\"\",\"INPUT MAIN CATEGORY (CELL B18) OR TURN CATEGORIES OFF\",\"$CATEGORY: \"&$B$18&IF($F86=\"\",\"\",\"/\"&$F86)))","v":""},null,null,null,null,null,null,null,null,""]
[null,null,null,null,null,null,null,null,null,null,null,null,null,null,null,null,null,null,null,null,null,null,null,null,null,null,null,null,null,null,null,null,null,null,null,null,null,"",500,null,null,null,null,null,null,null,null,null,null,null,""]
[null,null,null,null,null,null,null,null,null,null,null,null,null,null,null,null,null,null,null,null,null,null,null,null,null,null,null,null,null,null,null,null,null,null,null,null,null,"",501,null,null,{"$f":"IF($I86=\"\",\"\",\"::\"&IF($B$16=\"\",\"\",$B$16&\"  \")&IF($E86=\"\",$H86,$E86)&\"::\")","v":""}]
[null,null,null,null,null,null,null,null,null,null,null,null,null,null,null,null,null,null,null,null,null,null,null,null,null,null,null,null,null,null,null,null,null,null,null,null,null,"",502,null,null,{"$f":"IF($I86=\"\",\"\",IF($CE86=0,\"Enter question type or turn off variable question type\",IF($G86=\"\",VLOOKUP($CE86,$BY:$CA,3,0),$G86)))","v":""}]
[null,null,null,null,null,null,null,null,null,null,null,null,null,null,null,null,null,null,null,null,null,null,null,null,null,null,null,null,null,null,null,null,null,null,null,null,null,"",503,null,null,{"$f":"IF($I86=\"\",\"\",IF($CE86=0,\"Enter question type or turn off variable question type\",$CD86))","v":""}]
[null,null,null,null,null,null,null,null,null,null,null,null,null,null,null,null,null,null,null,null,null,null,null,null,null,null,null,null,null,null,null,null,null,null,null,null,null,"",504]
[null,null,null,null,null,null,null,null,null,null,null,null,null,null,null,null,null,null,null,null,null,null,null,null,null,null,null,null,null,null,null,null,null,null,null,null,null,"",505,null,null,{"$f":"IF($I87=\"\",\"\",IF($B$18=\"\",\"INPUT MAIN CATEGORY (CELL B18) OR TURN CATEGORIES OFF\",\"$CATEGORY: \"&$B$18&IF($F87=\"\",\"\",\"/\"&$F87)))","v":""}]
[null,null,null,null,null,null,null,null,null,null,null,null,null,null,null,null,null,null,null,null,null,null,null,null,null,null,null,null,null,null,null,null,null,null,null,null,null,"",506]
[null,null,null,null,null,null,null,null,null,null,null,null,null,null,null,null,null,null,null,null,null,null,null,null,null,null,null,null,null,null,null,null,null,null,null,null,null,"",507,null,null,{"$f":"IF($I87=\"\",\"\",\"::\"&IF($B$16=\"\",\"\",$B$16&\"  \")&IF($E87=\"\",$H87,$E87)&\"::\")","v":""}]
[null,null,null,null,null,null,null,null,null,null,null,null,null,null,null,null,null,null,null,null,null,null,null,null,null,null,null,null,null,null,null,null,null,null,null,null,null,"",508,null,null,{"$f":"IF($I87=\"\",\"\",IF($CE87=0,\"Enter question type or turn off variable question type\",IF($G87=\"\",VLOOKUP($CE87,$BY:$CA,3,0),$G87)))","v":""}]
[null,null,null,null,null,null,null,null,null,null,null,null,null,null,null,null,null,null,null,null,null,null,null,null,null,null,null,null,null,null,null,null,null,null,null,null,null,"",509,null,null,{"$f":"IF($I87=\"\",\"\",IF($CE87=0,\"Enter question type or turn off variable question type\",$CD87))","v":""}]
[null,null,null,null,null,null,null,null,null,null,null,null,null,null,null,null,null,null,null,null,null,null,null,null,null,null,null,null,null,null,null,null,null,null,null,null,null,"",510]
[null,null,null,null,null,null,null,null,null,null,null,null,null,null,null,null,null,null,null,null,null,null,null,null,null,null,null,null,null,null,null,null,null,null,null,null,null,"",511,null,null,{"$f":"IF($I88=\"\",\"\",IF($B$18=\"\",\"INPUT MAIN CATEGORY (CELL B18) OR TURN CATEGORIES OFF\",\"$CATEGORY: \"&$B$18&IF($F88=\"\",\"\",\"/\"&$F88)))","v":""}]
[null,null,null,null,null,null,null,null,null,null,null,null,null,null,null,null,null,null,null,null,null,null,null,null,null,null,null,null,null,null,null,null,null,null,null,null,null,"",512]
[null,null,null,null,null,null,null,null,null,null,null,null,null,null,null,null,null,null,null,null,null,null,null,null,null,null,null,null,null,null,null,null,null,null,null,null,null,"",513,null,null,{"$f":"IF($I88=\"\",\"\",\"::\"&IF($B$16=\"\",\"\",$B$16&\"  \")&IF($E88=\"\",$H88,$E88)&\"::\")","v":""}]
[null,null,null,null,null,null,null,null,null,null,null,null,null,null,null,null,null,null,null,null,null,null,null,null,null,null,null,null,null,null,null,null,null,null,null,null,null,"",514,null,null,{"$f":"IF($I88=\"\",\"\",IF($CE88=0,\"Enter question type or turn off variable question type\",IF($G88=\"\",VLOOKUP($CE88,$BY:$CA,3,0),$G88)))","v":""}]
[null,null,null,null,null,null,null,null,null,null,null,null,null,null,null,null,null,null,null,null,null,null,null,null,null,null,null,null,null,null,null,null,null,null,null,null,null,"",515,null,null,{"$f":"IF($I88=\"\",\"\",IF($CE88=0,\"Enter question type or turn off variable question type\",$CD88))","v":""}]
[null,null,null,null,null,null,null,null,null,null,null,null,null,null,null,null,null,null,null,null,null,null,null,null,null,null,null,null,null,null,null,null,null,null,null,null,null,{"$f":"IF(VLOOKUP($AM518,$AM:$AQ,$A$6,0)=\"\",\"\",VLOOKUP($AM518,$AM:$AQ,$A$6,0))","v":""},516]
[null,null,null,null,null,null,null,null,null,null,null,null,null,null,null,null,null,null,null,null,null,null,null,null,null,null,null,null,null,null,null,null,null,null,null,null,null,"",517,null,null,{"$f":"IF($I89=\"\",\"\",IF($B$18=\"\",\"INPUT MAIN CATEGORY (CELL B18) OR TURN CATEGORIES OFF\",\"$CATEGORY: \"&$B$18&IF($F89=\"\",\"\",\"/\"&$F89)))","v":""}]
[null,null,null,null,null,null,null,null,null,null,null,null,null,null,null,null,null,null,null,null,null,null,null,null,null,null,null,null,null,null,null,null,null,null,null,null,null,"",518]
[null,null,null,null,null,null,null,null,null,null,null,null,null,null,null,null,null,null,null,null,null,null,null,null,null,null,null,null,null,null,null,null,null,null,null,null,null,"",519,null,null,{"$f":"IF($I89=\"\",\"\",\"::\"&IF($B$16=\"\",\"\",$B$16&\"  \")&IF($E89=\"\",$H89,$E89)&\"::\")","v":""}]
[null,null,null,null,null,null,null,null,null,null,null,null,null,null,null,null,null,null,null,null,null,null,null,null,null,null,null,null,null,null,null,null,null,null,null,null,null,"",520,null,null,{"$f":"IF($I89=\"\",\"\",IF($CE89=0,\"Enter question type or turn off variable question type\",IF($G89=\"\",VLOOKUP($CE89,$BY:$CA,3,0),$G89)))","v":""}]
[null,null,null,null,null,null,null,null,null,null,null,null,null,null,null,null,null,null,null,null,null,null,null,null,null,null,null,null,null,null,null,null,null,null,null,null,null,"",521,null,null,{"$f":"IF($I89=\"\",\"\",IF($CE89=0,\"Enter question type or turn off variable question type\",$CD89))","v":""}]
[null,null,null,null,null,null,null,null,null,null,null,null,null,null,null,null,null,null,null,null,null,null,null,null,null,null,null,null,null,null,null,null,null,null,null,null,null,"",522]
[null,null,null,null,null,null,null,null,null,null,null,null,null,null,null,null,null,null,null,null,null,null,null,null,null,null,null,null,null,null,null,null,null,null,null,null,null,"",523,null,null,{"$f":"IF($I90=\"\",\"\",IF($B$18=\"\",\"INPUT MAIN CATEGORY (CELL B18) OR TURN CATEGORIES OFF\",\"$CATEGORY: \"&$B$18&IF($F90=\"\",\"\",\"/\"&$F90)))","v":""}]
[null,null,null,null,null,null,null,null,null,null,null,null,null,null,null,null,null,null,null,null,null,null,null,null,null,null,null,null,null,null,null,null,null,null,null,null,null,"",524]
[null,null,null,null,null,null,null,null,null,null,null,null,null,null,null,null,null,null,null,null,null,null,null,null,null,null,null,null,null,null,null,null,null,null,null,null,null,"",525,null,null,{"$f":"IF($I90=\"\",\"\",\"::\"&IF($B$16=\"\",\"\",$B$16&\"  \")&IF($E90=\"\",$H90,$E90)&\"::\")","v":""}]
[null,null,null,null,null,null,null,null,null,null,null,null,null,null,null,null,null,null,null,null,null,null,null,null,null,null,null,null,null,null,null,null,null,null,null,null,null,"",526,null,null,{"$f":"IF($I90=\"\",\"\",IF($CE90=0,\"Enter question type or turn off variable question type\",IF($G90=\"\",VLOOKUP($CE90,$BY:$CA,3,0),$G90)))","v":""}]
[null,null,null,null,null,null,null,null,null,null,null,null,null,null,null,null,null,null,null,null,null,null,null,null,null,null,null,null,null,null,null,null,null,null,null,null,null,"",527,null,null,{"$f":"IF($I90=\"\",\"\",IF($CE90=0,\"Enter question type or turn off variable question type\",$CD90))","v":""}]
[null,null,null,null,null,null,null,null,null,null,null,null,null,null,null,null,null,null,null,null,null,null,null,null,null,null,null,null,null,null,null,null,null,null,null,null,null,"",528]
[null,null,null,null,null,null,null,null,null,null,null,null,null,null,null,null,null,null,null,null,null,null,null,null,null,null,null,null,null,null,null,null,null,null,null,null,null,"",529,null,null,{"$f":"IF($I91=\"\",\"\",IF($B$18=\"\",\"INPUT MAIN CATEGORY (CELL B18) OR TURN CATEGORIES OFF\",\"$CATEGORY: \"&$B$18&IF($F91=\"\",\"\",\"/\"&$F91)))","v":""}]
[null,null,null,null,null,null,null,null,null,null,null,null,null,null,null,null,null,null,null,null,null,null,null,null,null,null,null,null,null,null,null,null,null,null,null,null,null,"",530]
[null,null,null,null,null,null,null,null,null,null,null,null,null,null,null,null,null,null,null,null,null,null,null,null,null,null,null,null,null,null,null,null,null,null,null,null,null,"",531,null,null,{"$f":"IF($I91=\"\",\"\",\"::\"&IF($B$16=\"\",\"\",$B$16&\"  \")&IF($E91=\"\",$H91,$E91)&\"::\")","v":""}]
[null,null,null,null,null,null,null,null,null,null,null,null,null,null,null,null,null,null,null,null,null,null,null,null,null,null,null,null,null,null,null,null,null,null,null,null,null,"",532,null,null,{"$f":"IF($I91=\"\",\"\",IF($CE91=0,\"Enter question type or turn off variable question type\",IF($G91=\"\",VLOOKUP($CE91,$BY:$CA,3,0),$G91)))","v":""}]
[null,null,null,null,null,null,null,null,null,null,null,null,null,null,null,null,null,null,null,null,null,null,null,null,null,null,null,null,null,null,null,null,null,null,null,null,null,"",533,null,null,{"$f":"IF($I91=\"\",\"\",IF($CE91=0,\"Enter question type or turn off variable question type\",$CD91))","v":""}]
[null,null,null,null,null,null,null,null,null,null,null,null,null,null,null,null,null,null,null,null,null,null,null,null,null,null,null,null,null,null,null,null,null,null,null,null,null,"",534]
[null,null,null,null,null,null,null,null,null,null,null,null,null,null,null,null,null,null,null,null,null,null,null,null,null,null,null,null,null,null,null,null,null,null,null,null,null,"",535,null,null,{"$f":"IF($I92=\"\",\"\",IF($B$18=\"\",\"INPUT MAIN CATEGORY (CELL B18) OR TURN CATEGORIES OFF\",\"$CATEGORY: \"&$B$18&IF($F92=\"\",\"\",\"/\"&$F92)))","v":""}]
[null,null,null,null,null,null,null,null,null,null,null,null,null,null,null,null,null,null,null,null,null,null,null,null,null,null,null,null,null,null,null,null,null,null,null,null,null,"",536]
[null,null,null,null,null,null,null,null,null,null,null,null,null,null,null,null,null,null,null,null,null,null,null,null,null,null,null,null,null,null,null,null,null,null,null,null,null,"",537,null,null,{"$f":"IF($I92=\"\",\"\",\"::\"&IF($B$16=\"\",\"\",$B$16&\"  \")&IF($E92=\"\",$H92,$E92)&\"::\")","v":""}]
[null,null,null,null,null,null,null,null,null,null,null,null,null,null,null,null,null,null,null,null,null,null,null,null,null,null,null,null,null,null,null,null,null,null,null,null,null,"",538,null,null,{"$f":"IF($I92=\"\",\"\",IF($CE92=0,\"Enter question type or turn off variable question type\",IF($G92=\"\",VLOOKUP($CE92,$BY:$CA,3,0),$G92)))","v":""}]
[null,null,null,null,null,null,null,null,null,null,null,null,null,null,null,null,null,null,null,null,null,null,null,null,null,null,null,null,null,null,null,null,null,null,null,null,null,"",539,null,null,{"$f":"IF($I92=\"\",\"\",IF($CE92=0,\"Enter question type or turn off variable question type\",$CD92))","v":""}]
[null,null,null,null,null,null,null,null,null,null,null,null,null,null,null,null,null,null,null,null,null,null,null,null,null,null,null,null,null,null,null,null,null,null,null,null,null,"",540]
[null,null,null,null,null,null,null,null,null,null,null,null,null,null,null,null,null,null,null,null,null,null,null,null,null,null,null,null,null,null,null,null,null,null,null,null,null,"",541,null,null,{"$f":"IF($I93=\"\",\"\",IF($B$18=\"\",\"INPUT MAIN CATEGORY (CELL B18) OR TURN CATEGORIES OFF\",\"$CATEGORY: \"&$B$18&IF($F93=\"\",\"\",\"/\"&$F93)))","v":""}]
[null,null,null,null,null,null,null,null,null,null,null,null,null,null,null,null,null,null,null,null,null,null,null,null,null,null,null,null,null,null,null,null,null,null,null,null,null,"",542]
[null,null,null,null,null,null,null,null,null,null,null,null,null,null,null,null,null,null,null,null,null,null,null,null,null,null,null,null,null,null,null,null,null,null,null,null,null,"",543,null,null,{"$f":"IF($I93=\"\",\"\",\"::\"&IF($B$16=\"\",\"\",$B$16&\"  \")&IF($E93=\"\",$H93,$E93)&\"::\")","v":""}]
[null,null,null,null,null,null,null,null,null,null,null,null,null,null,null,null,null,null,null,null,null,null,null,null,null,null,null,null,null,null,null,null,null,null,null,null,null,"",544,null,null,{"$f":"IF($I93=\"\",\"\",IF($CE93=0,\"Enter question type or turn off variable question type\",IF($G93=\"\",VLOOKUP($CE93,$BY:$CA,3,0),$G93)))","v":""}]
[null,null,null,null,null,null,null,null,null,null,null,null,null,null,null,null,null,null,null,null,null,null,null,null,null,null,null,null,null,null,null,null,null,null,null,null,null,"",545,null,null,{"$f":"IF($I93=\"\",\"\",IF($CE93=0,\"Enter question type or turn off variable question type\",$CD93))","v":""}]
[null,null,null,null,null,null,null,null,null,null,null,null,null,null,null,null,null,null,null,null,null,null,null,null,null,null,null,null,null,null,null,null,null,null,null,null,null,"",546]
[null,null,null,null,null,null,null,null,null,null,null,null,null,null,null,null,null,null,null,null,null,null,null,null,null,null,null,null,null,null,null,null,null,null,null,null,null,"",547,null,null,{"$f":"IF($I94=\"\",\"\",IF($B$18=\"\",\"INPUT MAIN CATEGORY (CELL B18) OR TURN CATEGORIES OFF\",\"$CATEGORY: \"&$B$18&IF($F94=\"\",\"\",\"/\"&$F94)))","v":""}]
[null,null,null,null,null,null,null,null,null,null,null,null,null,null,null,null,null,null,null,null,null,null,null,null,null,null,null,null,null,null,null,null,null,null,null,null,null,"",548]
[null,null,null,null,null,null,null,null,null,null,null,null,null,null,null,null,null,null,null,null,null,null,null,null,null,null,null,null,null,null,null,null,null,null,null,null,null,"",549,null,null,{"$f":"IF($I94=\"\",\"\",\"::\"&IF($B$16=\"\",\"\",$B$16&\"  \")&IF($E94=\"\",$H94,$E94)&\"::\")","v":""}]
[null,null,null,null,null,null,null,null,null,null,null,null,null,null,null,null,null,null,null,null,null,null,null,null,null,null,null,null,null,null,null,null,null,null,null,null,null,"",550,null,null,{"$f":"IF($I94=\"\",\"\",IF($CE94=0,\"Enter question type or turn off variable question type\",IF($G94=\"\",VLOOKUP($CE94,$BY:$CA,3,0),$G94)))","v":""}]
[null,null,null,null,null,null,null,null,null,null,null,null,null,null,null,null,null,null,null,null,null,null,null,null,null,null,null,null,null,null,null,null,null,null,null,null,null,"",551,null,null,{"$f":"IF($I94=\"\",\"\",IF($CE94=0,\"Enter question type or turn off variable question type\",$CD94))","v":""}]
[null,null,null,null,null,null,null,null,null,null,null,null,null,null,null,null,null,null,null,null,null,null,null,null,null,null,null,null,null,null,null,null,null,null,null,null,null,"",552]
[null,null,null,null,null,null,null,null,null,null,null,null,null,null,null,null,null,null,null,null,null,null,null,null,null,null,null,null,null,null,null,null,null,null,null,null,null,"",553,null,null,{"$f":"IF($I95=\"\",\"\",IF($B$18=\"\",\"INPUT MAIN CATEGORY (CELL B18) OR TURN CATEGORIES OFF\",\"$CATEGORY: \"&$B$18&IF($F95=\"\",\"\",\"/\"&$F95)))","v":""}]
[null,null,null,null,null,null,null,null,null,null,null,null,null,null,null,null,null,null,null,null,null,null,null,null,null,null,null,null,null,null,null,null,null,null,null,null,null,"",554]
[null,null,null,null,null,null,null,null,null,null,null,null,null,null,null,null,null,null,null,null,null,null,null,null,null,null,null,null,null,null,null,null,null,null,null,null,null,"",555,null,null,{"$f":"IF($I95=\"\",\"\",\"::\"&IF($B$16=\"\",\"\",$B$16&\"  \")&IF($E95=\"\",$H95,$E95)&\"::\")","v":""}]
[null,null,null,null,null,null,null,null,null,null,null,null,null,null,null,null,null,null,null,null,null,null,null,null,null,null,null,null,null,null,null,null,null,null,null,null,null,"",556,null,null,{"$f":"IF($I95=\"\",\"\",IF($CE95=0,\"Enter question type or turn off variable question type\",IF($G95=\"\",VLOOKUP($CE95,$BY:$CA,3,0),$G95)))","v":""}]
[null,null,null,null,null,null,null,null,null,null,null,null,null,null,null,null,null,null,null,null,null,null,null,null,null,null,null,null,null,null,null,null,null,null,null,null,null,"",557,null,null,{"$f":"IF($I95=\"\",\"\",IF($CE95=0,\"Enter question type or turn off variable question type\",$CD95))","v":""}]
[null,null,null,null,null,null,null,null,null,null,null,null,null,null,null,null,null,null,null,null,null,null,null,null,null,null,null,null,null,null,null,null,null,null,null,null,null,"",558]
[null,null,null,null,null,null,null,null,null,null,null,null,null,null,null,null,null,null,null,null,null,null,null,null,null,null,null,null,null,null,null,null,null,null,null,null,null,"",559,null,null,{"$f":"IF($I96=\"\",\"\",IF($B$18=\"\",\"INPUT MAIN CATEGORY (CELL B18) OR TURN CATEGORIES OFF\",\"$CATEGORY: \"&$B$18&IF($F96=\"\",\"\",\"/\"&$F96)))","v":""}]
[null,null,null,null,null,null,null,null,null,null,null,null,null,null,null,null,null,null,null,null,null,null,null,null,null,null,null,null,null,null,null,null,null,null,null,null,null,"",560]
[null,null,null,null,null,null,null,null,null,null,null,null,null,null,null,null,null,null,null,null,null,null,null,null,null,null,null,null,null,null,null,null,null,null,null,null,null,"",561,null,null,{"$f":"IF($I96=\"\",\"\",\"::\"&IF($B$16=\"\",\"\",$B$16&\"  \")&IF($E96=\"\",$H96,$E96)&\"::\")","v":""}]
[null,null,null,null,null,null,null,null,null,null,null,null,null,null,null,null,null,null,null,null,null,null,null,null,null,null,null,null,null,null,null,null,null,null,null,null,null,"",562,null,null,{"$f":"IF($I96=\"\",\"\",IF($CE96=0,\"Enter question type or turn off variable question type\",IF($G96=\"\",VLOOKUP($CE96,$BY:$CA,3,0),$G96)))","v":""}]
[null,null,null,null,null,null,null,null,null,null,null,null,null,null,null,null,null,null,null,null,null,null,null,null,null,null,null,null,null,null,null,null,null,null,null,null,null,"",563,null,null,{"$f":"IF($I96=\"\",\"\",IF($CE96=0,\"Enter question type or turn off variable question type\",$CD96))","v":""}]
[null,null,null,null,null,null,null,null,null,null,null,null,null,null,null,null,null,null,null,null,null,null,null,null,null,null,null,null,null,null,null,null,null,null,null,null,null,"",564]
[null,null,null,null,null,null,null,null,null,null,null,null,null,null,null,null,null,null,null,null,null,null,null,null,null,null,null,null,null,null,null,null,null,null,null,null,null,"",565,null,null,{"$f":"IF($I97=\"\",\"\",IF($B$18=\"\",\"INPUT MAIN CATEGORY (CELL B18) OR TURN CATEGORIES OFF\",\"$CATEGORY: \"&$B$18&IF($F97=\"\",\"\",\"/\"&$F97)))","v":""}]
[null,null,null,null,null,null,null,null,null,null,null,null,null,null,null,null,null,null,null,null,null,null,null,null,null,null,null,null,null,null,null,null,null,null,null,null,null,"",566]
[null,null,null,null,null,null,null,null,null,null,null,null,null,null,null,null,null,null,null,null,null,null,null,null,null,null,null,null,null,null,null,null,null,null,null,null,null,"",567,null,null,{"$f":"IF($I97=\"\",\"\",\"::\"&IF($B$16=\"\",\"\",$B$16&\"  \")&IF($E97=\"\",$H97,$E97)&\"::\")","v":""}]
[null,null,null,null,null,null,null,null,null,null,null,null,null,null,null,null,null,null,null,null,null,null,null,null,null,null,null,null,null,null,null,null,null,null,null,null,null,"",568,null,null,{"$f":"IF($I97=\"\",\"\",IF($CE97=0,\"Enter question type or turn off variable question type\",IF($G97=\"\",VLOOKUP($CE97,$BY:$CA,3,0),$G97)))","v":""}]
[null,null,null,null,null,null,null,null,null,null,null,null,null,null,null,null,null,null,null,null,null,null,null,null,null,null,null,null,null,null,null,null,null,null,null,null,null,"",569,null,null,{"$f":"IF($I97=\"\",\"\",IF($CE97=0,\"Enter question type or turn off variable question type\",$CD97))","v":""}]
[null,null,null,null,null,null,null,null,null,null,null,null,null,null,null,null,null,null,null,null,null,null,null,null,null,null,null,null,null,null,null,null,null,null,null,null,null,"",570]
[null,null,null,null,null,null,null,null,null,null,null,null,null,null,null,null,null,null,null,null,null,null,null,null,null,null,null,null,null,null,null,null,null,null,null,null,null,"",571,null,null,{"$f":"IF($I98=\"\",\"\",IF($B$18=\"\",\"INPUT MAIN CATEGORY (CELL B18) OR TURN CATEGORIES OFF\",\"$CATEGORY: \"&$B$18&IF($F98=\"\",\"\",\"/\"&$F98)))","v":""}]
[null,null,null,null,null,null,null,null,null,null,null,null,null,null,null,null,null,null,null,null,null,null,null,null,null,null,null,null,null,null,null,null,null,null,null,null,null,"",572]
[null,null,null,null,null,null,null,null,null,null,null,null,null,null,null,null,null,null,null,null,null,null,null,null,null,null,null,null,null,null,null,null,null,null,null,null,null,"",573,null,null,{"$f":"IF($I98=\"\",\"\",\"::\"&IF($B$16=\"\",\"\",$B$16&\"  \")&IF($E98=\"\",$H98,$E98)&\"::\")","v":""}]
[null,null,null,null,null,null,null,null,null,null,null,null,null,null,null,null,null,null,null,null,null,null,null,null,null,null,null,null,null,null,null,null,null,null,null,null,null,"",574,null,null,{"$f":"IF($I98=\"\",\"\",IF($CE98=0,\"Enter question type or turn off variable question type\",IF($G98=\"\",VLOOKUP($CE98,$BY:$CA,3,0),$G98)))","v":""}]
[null,null,null,null,null,null,null,null,null,null,null,null,null,null,null,null,null,null,null,null,null,null,null,null,null,null,null,null,null,null,null,null,null,null,null,null,null,"",575,null,null,{"$f":"IF($I98=\"\",\"\",IF($CE98=0,\"Enter question type or turn off variable question type\",$CD98))","v":""}]
[null,null,null,null,null,null,null,null,null,null,null,null,null,null,null,null,null,null,null,null,null,null,null,null,null,null,null,null,null,null,null,null,null,null,null,null,null,"",576]
[null,null,null,null,null,null,null,null,null,null,null,null,null,null,null,null,null,null,null,null,null,null,null,null,null,null,null,null,null,null,null,null,null,null,null,null,null,"",577,null,null,{"$f":"IF($I99=\"\",\"\",IF($B$18=\"\",\"INPUT MAIN CATEGORY (CELL B18) OR TURN CATEGORIES OFF\",\"$CATEGORY: \"&$B$18&IF($F99=\"\",\"\",\"/\"&$F99)))","v":""}]
[null,null,null,null,null,null,null,null,null,null,null,null,null,null,null,null,null,null,null,null,null,null,null,null,null,null,null,null,null,null,null,null,null,null,null,null,null,"",578]
[null,null,null,null,null,null,null,null,null,null,null,null,null,null,null,null,null,null,null,null,null,null,null,null,null,null,null,null,null,null,null,null,null,null,null,null,null,"",579,null,null,{"$f":"IF($I99=\"\",\"\",\"::\"&IF($B$16=\"\",\"\",$B$16&\"  \")&IF($E99=\"\",$H99,$E99)&\"::\")","v":""}]
[null,null,null,null,null,null,null,null,null,null,null,null,null,null,null,null,null,null,null,null,null,null,null,null,null,null,null,null,null,null,null,null,null,null,null,null,null,{"$f":"IF(VLOOKUP($AM582,$AM:$AQ,$A$6,0)=\"\",\"\",VLOOKUP($AM582,$AM:$AQ,$A$6,0))","v":""},580,null,null,{"$f":"IF($I99=\"\",\"\",IF($CE99=0,\"Enter question type or turn off variable question type\",IF($G99=\"\",VLOOKUP($CE99,$BY:$CA,3,0),$G99)))","v":""}]
[null,null,null,null,null,null,null,null,null,null,null,null,null,null,null,null,null,null,null,null,null,null,null,null,null,null,null,null,null,null,null,null,null,null,null,null,null,"",581,null,null,{"$f":"IF($I99=\"\",\"\",IF($CE99=0,\"Enter question type or turn off variable question type\",$CD99))","v":""}]
[null,null,null,null,null,null,null,null,null,null,null,null,null,null,null,null,null,null,null,null,null,null,null,null,null,null,null,null,null,null,null,null,null,null,null,null,null,"",582]
[null,null,null,null,null,null,null,null,null,null,null,null,null,null,null,null,null,null,null,null,null,null,null,null,null,null,null,null,null,null,null,null,null,null,null,null,null,"",583,null,null,{"$f":"IF($I100=\"\",\"\",IF($B$18=\"\",\"INPUT MAIN CATEGORY (CELL B18) OR TURN CATEGORIES OFF\",\"$CATEGORY: \"&$B$18&IF($F100=\"\",\"\",\"/\"&$F100)))","v":""}]
[null,null,null,null,null,null,null,null,null,null,null,null,null,null,null,null,null,null,null,null,null,null,null,null,null,null,null,null,null,null,null,null,null,null,null,null,null,"",584]
[null,null,null,null,null,null,null,null,null,null,null,null,null,null,null,null,null,null,null,null,null,null,null,null,null,null,null,null,null,null,null,null,null,null,null,null,null,"",585,null,null,{"$f":"IF($I100=\"\",\"\",\"::\"&IF($B$16=\"\",\"\",$B$16&\"  \")&IF($E100=\"\",$H100,$E100)&\"::\")","v":""}]
[null,null,null,null,null,null,null,null,null,null,null,null,null,null,null,null,null,null,null,null,null,null,null,null,null,null,null,null,null,null,null,null,null,null,null,null,null,"",586,null,null,{"$f":"IF($I100=\"\",\"\",IF($CE100=0,\"Enter question type or turn off variable question type\",IF($G100=\"\",VLOOKUP($CE100,$BY:$CA,3,0),$G100)))","v":""}]
[null,null,null,null,null,null,null,null,null,null,null,null,null,null,null,null,null,null,null,null,null,null,null,null,null,null,null,null,null,null,null,null,null,null,null,null,null,"",587,null,null,{"$f":"IF($I100=\"\",\"\",IF($CE100=0,\"Enter question type or turn off variable question type\",$CD100))","v":""}]
[null,null,null,null,null,null,null,null,null,null,null,null,null,null,null,null,null,null,null,null,null,null,null,null,null,null,null,null,null,null,null,null,null,null,null,null,null,"",588]
[null,null,null,null,null,null,null,null,null,null,null,null,null,null,null,null,null,null,null,null,null,null,null,null,null,null,null,null,null,null,null,null,null,null,null,null,null,"",589,null,null,{"$f":"IF($I101=\"\",\"\",IF($B$18=\"\",\"INPUT MAIN CATEGORY (CELL B18) OR TURN CATEGORIES OFF\",\"$CATEGORY: \"&$B$18&IF($F101=\"\",\"\",\"/\"&$F101)))","v":""}]
[null,null,null,null,null,null,null,null,null,null,null,null,null,null,null,null,null,null,null,null,null,null,null,null,null,null,null,null,null,null,null,null,null,null,null,null,null,"",590]
[null,null,null,null,null,null,null,null,null,null,null,null,null,null,null,null,null,null,null,null,null,null,null,null,null,null,null,null,null,null,null,null,null,null,null,null,null,"",591,null,null,{"$f":"IF($I101=\"\",\"\",\"::\"&IF($B$16=\"\",\"\",$B$16&\"  \")&IF($E101=\"\",$H101,$E101)&\"::\")","v":""}]
[null,null,null,null,null,null,null,null,null,null,null,null,null,null,null,null,null,null,null,null,null,null,null,null,null,null,null,null,null,null,null,null,null,null,null,null,null,"",592,null,null,{"$f":"IF($I101=\"\",\"\",IF($CE101=0,\"Enter question type or turn off variable question type\",IF($G101=\"\",VLOOKUP($CE101,$BY:$CA,3,0),$G101)))","v":""}]
[null,null,null,null,null,null,null,null,null,null,null,null,null,null,null,null,null,null,null,null,null,null,null,null,null,null,null,null,null,null,null,null,null,null,null,null,null,"",593,null,null,{"$f":"IF($I101=\"\",\"\",IF($CE101=0,\"Enter question type or turn off variable question type\",$CD101))","v":""}]
[null,null,null,null,null,null,null,null,null,null,null,null,null,null,null,null,null,null,null,null,null,null,null,null,null,null,null,null,null,null,null,null,null,null,null,null,null,"",594]
[null,null,null,null,null,null,null,null,null,null,null,null,null,null,null,null,null,null,null,null,null,null,null,null,null,null,null,null,null,null,null,null,null,null,null,null,null,"",595,null,null,{"$f":"IF($I102=\"\",\"\",IF($B$18=\"\",\"INPUT MAIN CATEGORY (CELL B18) OR TURN CATEGORIES OFF\",\"$CATEGORY: \"&$B$18&IF($F102=\"\",\"\",\"/\"&$F102)))","v":""}]
[null,null,null,null,null,null,null,null,null,null,null,null,null,null,null,null,null,null,null,null,null,null,null,null,null,null,null,null,null,null,null,null,null,null,null,null,null,"",596]
[null,null,null,null,null,null,null,null,null,null,null,null,null,null,null,null,null,null,null,null,null,null,null,null,null,null,null,null,null,null,null,null,null,null,null,null,null,"",597,null,null,{"$f":"IF($I102=\"\",\"\",\"::\"&IF($B$16=\"\",\"\",$B$16&\"  \")&IF($E102=\"\",$H102,$E102)&\"::\")","v":""}]
[null,null,null,null,null,null,null,null,null,null,null,null,null,null,null,null,null,null,null,null,null,null,null,null,null,null,null,null,null,null,null,null,null,null,null,null,null,"",598,null,null,{"$f":"IF($I102=\"\",\"\",IF($CE102=0,\"Enter question type or turn off variable question type\",IF($G102=\"\",VLOOKUP($CE102,$BY:$CA,3,0),$G102)))","v":""}]
[null,null,null,null,null,null,null,null,null,null,null,null,null,null,null,null,null,null,null,null,null,null,null,null,null,null,null,null,null,null,null,null,null,null,null,null,null,"",599,null,null,{"$f":"IF($I102=\"\",\"\",IF($CE102=0,\"Enter question type or turn off variable question type\",$CD102))","v":""}]
[null,null,null,null,null,null,null,null,null,null,null,null,null,null,null,null,null,null,null,null,null,null,null,null,null,null,null,null,null,null,null,null,null,null,null,null,null,"",600]

{"sheet":"Version History","index":5,"n_rows":14,"n_cols":3,"rows_kept":14,"cut":false,"hidden":false,"merged":[[11,0,12,0],[11,1,12,1],[1,1,9,1],[1,0,9,0]]}
["Version","Date","Updates"]
[2,"2020-05-08","Upgraded GIFT Generator to align with Moodle Cloze + GIFT Code Generator V3.3:"]
[null,null,"Options for missing word, true/false, and essay questions"]
[null,null,"Enabled feedback presets"]
[null,null,"Additional question titling and categorization options"]
[null,null,"Cleaner control panel"]
[null,null,"Updated instructions"]
[null,null,"Quiz maker button layout enhancements"]
[null,null,"Added version history"]
[null,null,"Bug fixes"]
[1.21,"2020-04-01","Updated instructions for Quizlet site structure changes"]
[1.2,"2019-04-01","Updated paste data code for Quizlet site structure changes"]
[null,null,"Bug fixes"]
[1,"2018-03-01","Initially created"]

{"sheet":"Processing","index":6,"n_rows":1000,"n_cols":17,"rows_kept":1000,"cut":false,"hidden":false,"merged":[]}
[1,null,null,null,null,null,null,null,null,null,null,null,null,null,null,"Lesson","Please kindly ignore this tab (but do not hide or delete it)."]
[2,null,null,null,null,null,"terms","Index","Set + Term","Term","Definition","Percent",null,null,null,"Review"]
[3,null,null,null,null,null,"terms",1,{"$f":"IFERROR(#REF!&\" \"&VLOOKUP(H3,$C:$F,2,0),\"\")","v":""},{"$f":"IFERROR(VLOOKUP(H3,$C:$F,2,0),\"\")","v":""},{"$f":"IFERROR(VLOOKUP($H3,$C:$F,3,0),\"\")","v":""},{"$f":"IFERROR(VLOOKUP($H3,$C:$F,4,0),\"\")","v":""}]
[4,null,null,null,null,null,"terms",2,{"$f":"IFERROR(#REF!&\" \"&VLOOKUP(H4,$C:$F,2,0),\"\")","v":""},"","",""]
[5,null,null,null,null,null,"terms",3,{"$f":"IFERROR(#REF!&\" \"&VLOOKUP(H5,$C:$F,2,0),\"\")","v":""},"","",""]
[6,null,null,null,null,null,"terms",4,{"$f":"IFERROR(#REF!&\" \"&VLOOKUP(H6,$C:$F,2,0),\"\")","v":""},"","",""]
[7,null,null,null,null,null,"terms",5,{"$f":"IFERROR(#REF!&\" \"&VLOOKUP(H7,$C:$F,2,0),\"\")","v":""},"","",""]
[8,null,null,null,null,null,"terms",6,{"$f":"IFERROR(#REF!&\" \"&VLOOKUP(H8,$C:$F,2,0),\"\")","v":""},"","",""]
[9,null,null,null,null,null,"terms",7,{"$f":"IFERROR(#REF!&\" \"&VLOOKUP(H9,$C:$F,2,0),\"\")","v":""},"","",""]
[10,null,null,null,null,null,"terms",8,{"$f":"IFERROR(#REF!&\" \"&VLOOKUP(H10,$C:$F,2,0),\"\")","v":""},"","",""]
[11,null,null,null,null,null,"terms",9,{"$f":"IFERROR(#REF!&\" \"&VLOOKUP(H11,$C:$F,2,0),\"\")","v":""},"","",""]
[12,null,null,null,null,null,"terms",10,{"$f":"IFERROR(#REF!&\" \"&VLOOKUP(H12,$C:$F,2,0),\"\")","v":""},"","",""]
[13,null,null,null,null,null,"terms",11,{"$f":"IFERROR(#REF!&\" \"&VLOOKUP(H13,$C:$F,2,0),\"\")","v":""},"","",""]
[14,null,null,null,null,null,"terms",12,{"$f":"IFERROR(#REF!&\" \"&VLOOKUP(H14,$C:$F,2,0),\"\")","v":""},"","",""]
[15,null,null,null,null,null,"terms",13,{"$f":"IFERROR(#REF!&\" \"&VLOOKUP(H15,$C:$F,2,0),\"\")","v":""},"","",""]
[16,null,null,null,null,null,"terms",14,{"$f":"IFERROR(#REF!&\" \"&VLOOKUP(H16,$C:$F,2,0),\"\")","v":""},"","",""]
[17,null,null,null,null,null,"terms",15,{"$f":"IFERROR(#REF!&\" \"&VLOOKUP(H17,$C:$F,2,0),\"\")","v":""},"","",""]
[18,null,{"$f":"IF(D18=\"\",\"\",1+COUNT($C$1:C17))","v":""},{"$f":"IF(F18=\"\",\"\",IF(B18=\"\",\"\",IFERROR(IF(_xlfn.NUMBERVALUE(LEFT(B18,1))>=0,IFERROR(IF(FIND(G18,B18,1)>=1,\"\",\"\"),B19),\"\"),\"\")))","v":""},{"$f":"IF(B18=\"\",\"\",IFERROR(IF(_xlfn.NUMBERVALUE(LEFT(B18,1))>=0,IFERROR(IF(FIND(G18,B18,1)>=1,\"\",\"\"),B20),\"\"),\"\"))","v":""},{"$f":"IF(B18=\"\",\"\",IF(B18>1,\"\",B18))","v":""},"terms",16,{"$f":"IFERROR(#REF!&\" \"&VLOOKUP(H18,$C:$F,2,0),\"\")","v":""},"","",""]
[19,null,{"$f":"IF(D19=\"\",\"\",1+COUNT($C$1:C18))","v":""},{"$f":"IF(F19=\"\",\"\",IF(B19=\"\",\"\",IFERROR(IF(_xlfn.NUMBERVALUE(LEFT(B19,1))>=0,IFERROR(IF(FIND(G19,B19,1)>=1,\"\",\"\"),B20),\"\"),\"\")))","v":""},"",{"$f":"IF(B19=\"\",\"\",IF(B19>1,\"\",B19))","v":""},"terms",17,{"$f":"IFERROR(#REF!&\" \"&VLOOKUP(H19,$C:$F,2,0),\"\")","v":""},"","",""]
[20,null,{"$f":"IF(D20=\"\",\"\",1+COUNT($C$1:C19))","v":""},"","","","terms",18,{"$f":"IFERROR(#REF!&\" \"&VLOOKUP(H20,$C:$F,2,0),\"\")","v":""},"","",""]
[21,null,{"$f":"IF(D21=\"\",\"\",1+COUNT($C$1:C20))","v":""},"","","","terms",19,{"$f":"IFERROR(#REF!&\" \"&VLOOKUP(H21,$C:$F,2,0),\"\")","v":""},"","",""]
[22,null,{"$f":"IF(D22=\"\",\"\",1+COUNT($C$1:C21))","v":""},"","","","terms",20,{"$f":"IFERROR(#REF!&\" \"&VLOOKUP(H22,$C:$F,2,0),\"\")","v":""},"","",""]
[23,null,{"$f":"IF(D23=\"\",\"\",1+COUNT($C$1:C22))","v":""},"","","","terms",21,{"$f":"IFERROR(#REF!&\" \"&VLOOKUP(H23,$C:$F,2,0),\"\")","v":""},"","",""]
[24,null,{"$f":"IF(D24=\"\",\"\",1+COUNT($C$1:C23))","v":""},"","","","terms",22,{"$f":"IFERROR(#REF!&\" \"&VLOOKUP(H24,$C:$F,2,0),\"\")","v":""},"","",""]
[25,null,{"$f":"IF(D25=\"\",\"\",1+COUNT($C$1:C24))","v":""},"","","","terms",23,{"$f":"IFERROR(#REF!&\" \"&VLOOKUP(H25,$C:$F,2,0),\"\")","v":""},"","",""]
[26,null,{"$f":"IF(D26=\"\",\"\",1+COUNT($C$1:C25))","v":""},"","","","terms",24,{"$f":"IFERROR(#REF!&\" \"&VLOOKUP(H26,$C:$F,2,0),\"\")","v":""},"","",""]
[27,null,{"$f":"IF(D27=\"\",\"\",1+COUNT($C$1:C26))","v":""},"","","","terms",25,{"$f":"IFERROR(#REF!&\" \"&VLOOKUP(H27,$C:$F,2,0),\"\")","v":""},"","",""]
[28,null,{"$f":"IF(D28=\"\",\"\",1+COUNT($C$1:C27))","v":""},"","","","terms",26,{"$f":"IFERROR(#REF!&\" \"&VLOOKUP(H28,$C:$F,2,0),\"\")","v":""},"","",""]
[29,null,{"$f":"IF(D29=\"\",\"\",1+COUNT($C$1:C28))","v":""},"","","","terms",27,{"$f":"IFERROR(#REF!&\" \"&VLOOKUP(H29,$C:$F,2,0),\"\")","v":""},"","",""]
[30,null,{"$f":"IF(D30=\"\",\"\",1+COUNT($C$1:C29))","v":""},"","","","terms",28,{"$f":"IFERROR(#REF!&\" \"&VLOOKUP(H30,$C:$F,2,0),\"\")","v":""},"","",""]
[31,null,{"$f":"IF(D31=\"\",\"\",1+COUNT($C$1:C30))","v":""},"","","","terms",29,{"$f":"IFERROR(#REF!&\" \"&VLOOKUP(H31,$C:$F,2,0),\"\")","v":""},"","",""]
[32,null,{"$f":"IF(D32=\"\",\"\",1+COUNT($C$1:C31))","v":""},"","","","terms",30,{"$f":"IFERROR(#REF!&\" \"&VLOOKUP(H32,$C:$F,2,0),\"\")","v":""},"","",""]
[33,null,{"$f":"IF(D33=\"\",\"\",1+COUNT($C$1:C32))","v":""},"","","","terms",31,{"$f":"IFERROR(#REF!&\" \"&VLOOKUP(H33,$C:$F,2,0),\"\")","v":""},"","",""]
[34,null,{"$f":"IF(D34=\"\",\"\",1+COUNT($C$1:C33))","v":""},"","","","terms",32,{"$f":"IFERROR(#REF!&\" \"&VLOOKUP(H34,$C:$F,2,0),\"\")","v":""},"","",""]
[35,null,{"$f":"IF(D35=\"\",\"\",1+COUNT($C$1:C34))","v":""},"","","","terms",33,{"$f":"IFERROR(#REF!&\" \"&VLOOKUP(H35,$C:$F,2,0),\"\")","v":""},"","",""]
[36,null,{"$f":"IF(D36=\"\",\"\",1+COUNT($C$1:C35))","v":""},"","","","terms",34,{"$f":"IFERROR(#REF!&\" \"&VLOOKUP(H36,$C:$F,2,0),\"\")","v":""},"","",""]
[37,null,{"$f":"IF(D37=\"\",\"\",1+COUNT($C$1:C36))","v":""},"","","","terms",35,{"$f":"IFERROR(#REF!&\" \"&VLOOKUP(H37,$C:$F,2,0),\"\")","v":""},"","",""]
[38,null,{"$f":"IF(D38=\"\",\"\",1+COUNT($C$1:C37))","v":""},"","","","terms",36,{"$f":"IFERROR(#REF!&\" \"&VLOOKUP(H38,$C:$F,2,0),\"\")","v":""},"","",""]
[39,null,{"$f":"IF(D39=\"\",\"\",1+COUNT($C$1:C38))","v":""},"","","","terms",37,{"$f":"IFERROR(#REF!&\" \"&VLOOKUP(H39,$C:$F,2,0),\"\")","v":""},"","",""]
[40,null,{"$f":"IF(D40=\"\",\"\",1+COUNT($C$1:C39))","v":""},"","","","terms",38,{"$f":"IFERROR(#REF!&\" \"&VLOOKUP(H40,$C:$F,2,0),\"\")","v":""},"","",""]
[41,null,{"$f":"IF(D41=\"\",\"\",1+COUNT($C$1:C40))","v":""},"","","","terms",39,{"$f":"IFERROR(#REF!&\" \"&VLOOKUP(H41,$C:$F,2,0),\"\")","v":""},"","",""]
[42,null,{"$f":"IF(D42=\"\",\"\",1+COUNT($C$1:C41))","v":""},"","","","terms",40,{"$f":"IFERROR(#REF!&\" \"&VLOOKUP(H42,$C:$F,2,0),\"\")","v":""},"","",""]
[43,null,{"$f":"IF(D43=\"\",\"\",1+COUNT($C$1:C42))","v":""},"","","","terms",41,{"$f":"IFERROR(#REF!&\" \"&VLOOKUP(H43,$C:$F,2,0),\"\")","v":""},"","",""]
[44,null,{"$f":"IF(D44=\"\",\"\",1+COUNT($C$1:C43))","v":""},"","","","terms",42,{"$f":"IFERROR(#REF!&\" \"&VLOOKUP(H44,$C:$F,2,0),\"\")","v":""},"","",""]
[45,null,{"$f":"IF(D45=\"\",\"\",1+COUNT($C$1:C44))","v":""},"","","","terms",43,{"$f":"IFERROR(#REF!&\" \"&VLOOKUP(H45,$C:$F,2,0),\"\")","v":""},"","",""]
[46,null,{"$f":"IF(D46=\"\",\"\",1+COUNT($C$1:C45))","v":""},"","","","terms",44,{"$f":"IFERROR(#REF!&\" \"&VLOOKUP(H46,$C:$F,2,0),\"\")","v":""},"","",""]
[47,null,{"$f":"IF(D47=\"\",\"\",1+COUNT($C$1:C46))","v":""},"","","","terms",45,{"$f":"IFERROR(#REF!&\" \"&VLOOKUP(H47,$C:$F,2,0),\"\")","v":""},"","",""]
[48,null,{"$f":"IF(D48=\"\",\"\",1+COUNT($C$1:C47))","v":""},"","","","terms",46,{"$f":"IFERROR(#REF!&\" \"&VLOOKUP(H48,$C:$F,2,0),\"\")","v":""},"","",""]
[49,null,{"$f":"IF(D49=\"\",\"\",1+COUNT($C$1:C48))","v":""},"","","","terms",47,{"$f":"IFERROR(#REF!&\" \"&VLOOKUP(H49,$C:$F,2,0),\"\")","v":""},"","",""]
[50,null,{"$f":"IF(D50=\"\",\"\",1+COUNT($C$1:C49))","v":""},"","","","terms",48,{"$f":"IFERROR(#REF!&\" \"&VLOOKUP(H50,$C:$F,2,0),\"\")","v":""},"","",""]
[51,null,{"$f":"IF(D51=\"\",\"\",1+COUNT($C$1:C50))","v":""},"","","","terms",49,{"$f":"IFERROR(#REF!&\" \"&VLOOKUP(H51,$C:$F,2,0),\"\")","v":""},"","",""]
[52,null,{"$f":"IF(D52=\"\",\"\",1+COUNT($C$1:C51))","v":""},"","","","terms",50,{"$f":"IFERROR(#REF!&\" \"&VLOOKUP(H52,$C:$F,2,0),\"\")","v":""},"","",""]
[53,null,{"$f":"IF(D53=\"\",\"\",1+COUNT($C$1:C52))","v":""},"","","","terms",51,{"$f":"IFERROR(#REF!&\" \"&VLOOKUP(H53,$C:$F,2,0),\"\")","v":""},"","",""]
[54,null,{"$f":"IF(D54=\"\",\"\",1+COUNT($C$1:C53))","v":""},"","","","terms",52,{"$f":"IFERROR(#REF!&\" \"&VLOOKUP(H54,$C:$F,2,0),\"\")","v":""},"","",""]
[55,null,{"$f":"IF(D55=\"\",\"\",1+COUNT($C$1:C54))","v":""},"","","","terms",53,{"$f":"IFERROR(#REF!&\" \"&VLOOKUP(H55,$C:$F,2,0),\"\")","v":""},"","",""]
[56,null,{"$f":"IF(D56=\"\",\"\",1+COUNT($C$1:C55))","v":""},"","","","terms",54,{"$f":"IFERROR(#REF!&\" \"&VLOOKUP(H56,$C:$F,2,0),\"\")","v":""},"","",""]
[57,null,{"$f":"IF(D57=\"\",\"\",1+COUNT($C$1:C56))","v":""},"","","","terms",55,{"$f":"IFERROR(#REF!&\" \"&VLOOKUP(H57,$C:$F,2,0),\"\")","v":""},"","",""]
[58,null,{"$f":"IF(D58=\"\",\"\",1+COUNT($C$1:C57))","v":""},"","","","terms",56,{"$f":"IFERROR(#REF!&\" \"&VLOOKUP(H58,$C:$F,2,0),\"\")","v":""},"","",""]
[59,null,{"$f":"IF(D59=\"\",\"\",1+COUNT($C$1:C58))","v":""},"","","","terms",57,{"$f":"IFERROR(#REF!&\" \"&VLOOKUP(H59,$C:$F,2,0),\"\")","v":""},"","",""]
[60,null,{"$f":"IF(D60=\"\",\"\",1+COUNT($C$1:C59))","v":""},"","","","terms",58,{"$f":"IFERROR(#REF!&\" \"&VLOOKUP(H60,$C:$F,2,0),\"\")","v":""},"","",""]
[61,null,{"$f":"IF(D61=\"\",\"\",1+COUNT($C$1:C60))","v":""},"","","","terms",59,{"$f":"IFERROR(#REF!&\" \"&VLOOKUP(H61,$C:$F,2,0),\"\")","v":""},"","",""]
[62,null,{"$f":"IF(D62=\"\",\"\",1+COUNT($C$1:C61))","v":""},"","","","terms",60,{"$f":"IFERROR(#REF!&\" \"&VLOOKUP(H62,$C:$F,2,0),\"\")","v":""},"","",""]
[63,null,{"$f":"IF(D63=\"\",\"\",1+COUNT($C$1:C62))","v":""},"","","","terms",61,{"$f":"IFERROR(#REF!&\" \"&VLOOKUP(H63,$C:$F,2,0),\"\")","v":""},"","",""]
[64,null,{"$f":"IF(D64=\"\",\"\",1+COUNT($C$1:C63))","v":""},"","","","terms",62,{"$f":"IFERROR(#REF!&\" \"&VLOOKUP(H64,$C:$F,2,0),\"\")","v":""},"","",""]
[65,null,{"$f":"IF(D65=\"\",\"\",1+COUNT($C$1:C64))","v":""},"","","","terms",63,{"$f":"IFERROR(#REF!&\" \"&VLOOKUP(H65,$C:$F,2,0),\"\")","v":""},"","",""]
[66,null,{"$f":"IF(D66=\"\",\"\",1+COUNT($C$1:C65))","v":""},"","","","terms",64,{"$f":"IFERROR(#REF!&\" \"&VLOOKUP(H66,$C:$F,2,0),\"\")","v":""},"","",""]
[67,null,{"$f":"IF(D67=\"\",\"\",1+COUNT($C$1:C66))","v":""},"","","","terms",65,{"$f":"IFERROR(#REF!&\" \"&VLOOKUP(H67,$C:$F,2,0),\"\")","v":""},{"$f":"IFERROR(VLOOKUP(H67,$C:$F,2,0),\"\")","v":""},{"$f":"IFERROR(VLOOKUP($H67,$C:$F,3,0),\"\")","v":""},{"$f":"IFERROR(VLOOKUP($H67,$C:$F,4,0),\"\")","v":""}]
[68,null,{"$f":"IF(D68=\"\",\"\",1+COUNT($C$1:C67))","v":""},"","","","terms",66,{"$f":"IFERROR(#REF!&\" \"&VLOOKUP(H68,$C:$F,2,0),\"\")","v":""},"","",""]
[69,null,{"$f":"IF(D69=\"\",\"\",1+COUNT($C$1:C68))","v":""},"","","","terms",67,{"$f":"IFERROR(#REF!&\" \"&VLOOKUP(H69,$C:$F,2,0),\"\")","v":""},"","",""]
[70,null,{"$f":"IF(D70=\"\",\"\",1+COUNT($C$1:C69))","v":""},"","","","terms",68,{"$f":"IFERROR(#REF!&\" \"&VLOOKUP(H70,$C:$F,2,0),\"\")","v":""},"","",""]
[71,null,{"$f":"IF(D71=\"\",\"\",1+COUNT($C$1:C70))","v":""},"","","","terms",69,{"$f":"IFERROR(#REF!&\" \"&VLOOKUP(H71,$C:$F,2,0),\"\")","v":""},"","",""]
[72,null,{"$f":"IF(D72=\"\",\"\",1+COUNT($C$1:C71))","v":""},"","","","terms",70,{"$f":"IFERROR(#REF!&\" \"&VLOOKUP(H72,$C:$F,2,0),\"\")","v":""},"","",""]
[73,null,{"$f":"IF(D73=\"\",\"\",1+COUNT($C$1:C72))","v":""},"","","","terms",71,{"$f":"IFERROR(#REF!&\" \"&VLOOKUP(H73,$C:$F,2,0),\"\")","v":""},"","",""]
[74,null,{"$f":"IF(D74=\"\",\"\",1+COUNT($C$1:C73))","v":""},"","","","terms",72,{"$f":"IFERROR(#REF!&\" \"&VLOOKUP(H74,$C:$F,2,0),\"\")","v":""},"","",""]
[75,null,{"$f":"IF(D75=\"\",\"\",1+COUNT($C$1:C74))","v":""},"","","","terms",73,{"$f":"IFERROR(#REF!&\" \"&VLOOKUP(H75,$C:$F,2,0),\"\")","v":""},"","",""]
[76,null,{"$f":"IF(D76=\"\",\"\",1+COUNT($C$1:C75))","v":""},"","","","terms",74,{"$f":"IFERROR(#REF!&\" \"&VLOOKUP(H76,$C:$F,2,0),\"\")","v":""},"","",""]
[77,null,{"$f":"IF(D77=\"\",\"\",1+COUNT($C$1:C76))","v":""},"","","","terms",75,{"$f":"IFERROR(#REF!&\" \"&VLOOKUP(H77,$C:$F,2,0),\"\")","v":""},"","",""]
[78,null,{"$f":"IF(D78=\"\",\"\",1+COUNT($C$1:C77))","v":""},"","","","terms",76,{"$f":"IFERROR(#REF!&\" \"&VLOOKUP(H78,$C:$F,2,0),\"\")","v":""},"","",""]
[79,null,{"$f":"IF(D79=\"\",\"\",1+COUNT($C$1:C78))","v":""},"","","","terms",77,{"$f":"IFERROR(#REF!&\" \"&VLOOKUP(H79,$C:$F,2,0),\"\")","v":""},"","",""]
[80,null,{"$f":"IF(D80=\"\",\"\",1+COUNT($C$1:C79))","v":""},"","","","terms",78,{"$f":"IFERROR(#REF!&\" \"&VLOOKUP(H80,$C:$F,2,0),\"\")","v":""},"","",""]
[81,null,{"$f":"IF(D81=\"\",\"\",1+COUNT($C$1:C80))","v":""},"","","","terms",79,{"$f":"IFERROR(#REF!&\" \"&VLOOKUP(H81,$C:$F,2,0),\"\")","v":""},"","",""]
[82,null,{"$f":"IF(D82=\"\",\"\",1+COUNT($C$1:C81))","v":""},"",{"$f":"IF(B82=\"\",\"\",IFERROR(IF(_xlfn.NUMBERVALUE(LEFT(B82,1))>=0,IFERROR(IF(FIND(G82,B82,1)>=1,\"\",\"\"),B84),\"\"),\"\"))","v":""},"","terms",80,{"$f":"IFERROR(#REF!&\" \"&VLOOKUP(H82,$C:$F,2,0),\"\")","v":""},"","",""]
[83,null,{"$f":"IF(D83=\"\",\"\",1+COUNT($C$1:C82))","v":""},{"$f":"IF(F83=\"\",\"\",IF(B83=\"\",\"\",IFERROR(IF(_xlfn.NUMBERVALUE(LEFT(B83,1))>=0,IFERROR(IF(FIND(G83,B83,1)>=1,\"\",\"\"),B84),\"\"),\"\")))","v":""},"",{"$f":"IF(B83=\"\",\"\",IF(B83>1,\"\",B83))","v":""},"terms",81,{"$f":"IFERROR(#REF!&\" \"&VLOOKUP(H83,$C:$F,2,0),\"\")","v":""},"","",""]
[84,null,{"$f":"IF(D84=\"\",\"\",1+COUNT($C$1:C83))","v":""},"","","","terms",82,{"$f":"IFERROR(#REF!&\" \"&VLOOKUP(H84,$C:$F,2,0),\"\")","v":""},"","",""]
[85,null,{"$f":"IF(D85=\"\",\"\",1+COUNT($C$1:C84))","v":""},"","","","terms",83,{"$f":"IFERROR(#REF!&\" \"&VLOOKUP(H85,$C:$F,2,0),\"\")","v":""},"","",""]
[86,null,{"$f":"IF(D86=\"\",\"\",1+COUNT($C$1:C85))","v":""},"","","","terms",84,{"$f":"IFERROR(#REF!&\" \"&VLOOKUP(H86,$C:$F,2,0),\"\")","v":""},"","",""]
[87,null,{"$f":"IF(D87=\"\",\"\",1+COUNT($C$1:C86))","v":""},"","","","terms",85,{"$f":"IFERROR(#REF!&\" \"&VLOOKUP(H87,$C:$F,2,0),\"\")","v":""},"","",""]
[88,null,{"$f":"IF(D88=\"\",\"\",1+COUNT($C$1:C87))","v":""},"","","","terms",86,{"$f":"IFERROR(#REF!&\" \"&VLOOKUP(H88,$C:$F,2,0),\"\")","v":""},"","",""]
[89,null,{"$f":"IF(D89=\"\",\"\",1+COUNT($C$1:C88))","v":""},"","","","terms",87,{"$f":"IFERROR(#REF!&\" \"&VLOOKUP(H89,$C:$F,2,0),\"\")","v":""},"","",""]
[90,null,{"$f":"IF(D90=\"\",\"\",1+COUNT($C$1:C89))","v":""},"","","","terms",88,{"$f":"IFERROR(#REF!&\" \"&VLOOKUP(H90,$C:$F,2,0),\"\")","v":""},"","",""]
[91,null,{"$f":"IF(D91=\"\",\"\",1+COUNT($C$1:C90))","v":""},"","","","terms",89,{"$f":"IFERROR(#REF!&\" \"&VLOOKUP(H91,$C:$F,2,0),\"\")","v":""},"","",""]
[92,null,{"$f":"IF(D92=\"\",\"\",1+COUNT($C$1:C91))","v":""},"","","","terms",90,{"$f":"IFERROR(#REF!&\" \"&VLOOKUP(H92,$C:$F,2,0),\"\")","v":""},"","",""]
[93,null,{"$f":"IF(D93=\"\",\"\",1+COUNT($C$1:C92))","v":""},"","","","terms",91,{"$f":"IFERROR(#REF!&\" \"&VLOOKUP(H93,$C:$F,2,0),\"\")","v":""},"","",""]
[94,null,{"$f":"IF(D94=\"\",\"\",1+COUNT($C$1:C93))","v":""},"","","","terms",92,{"$f":"IFERROR(#REF!&\" \"&VLOOKUP(H94,$C:$F,2,0),\"\")","v":""},"","",""]
[95,null,{"$f":"IF(D95=\"\",\"\",1+COUNT($C$1:C94))","v":""},"","","","terms",93,{"$f":"IFERROR(#REF!&\" \"&VLOOKUP(H95,$C:$F,2,0),\"\")","v":""},"","",""]
[96,null,{"$f":"IF(D96=\"\",\"\",1+COUNT($C$1:C95))","v":""},"","","","terms",94,{"$f":"IFERROR(#REF!&\" \"&VLOOKUP(H96,$C:$F,2,0),\"\")","v":""},"","",""]
[97,null,{"$f":"IF(D97=\"\",\"\",1+COUNT($C$1:C96))","v":""},"","","","terms",95,{"$f":"IFERROR(#REF!&\" \"&VLOOKUP(H97,$C:$F,2,0),\"\")","v":""},"","",""]
[98,null,{"$f":"IF(D98=\"\",\"\",1+COUNT($C$1:C97))","v":""},"","","","terms",96,{"$f":"IFERROR(#REF!&\" \"&VLOOKUP(H98,$C:$F,2,0),\"\")","v":""},"","",""]
[99,null,{"$f":"IF(D99=\"\",\"\",1+COUNT($C$1:C98))","v":""},"","","","terms",97,{"$f":"IFERROR(#REF!&\" \"&VLOOKUP(H99,$C:$F,2,0),\"\")","v":""},"","",""]
[100,null,{"$f":"IF(D100=\"\",\"\",1+COUNT($C$1:C99))","v":""},"","","","terms",98,{"$f":"IFERROR(#REF!&\" \"&VLOOKUP(H100,$C:$F,2,0),\"\")","v":""},"","",""]
[101,null,{"$f":"IF(D101=\"\",\"\",1+COUNT($C$1:C100))","v":""},"","","","terms",99,{"$f":"IFERROR(#REF!&\" \"&VLOOKUP(H101,$C:$F,2,0),\"\")","v":""},"","",""]
[102,null,{"$f":"IF(D102=\"\",\"\",1+COUNT($C$1:C101))","v":""},"","","","terms",100,{"$f":"IFERROR(#REF!&\" \"&VLOOKUP(H102,$C:$F,2,0),\"\")","v":""},"","",""]
[103,null,{"$f":"IF(D103=\"\",\"\",1+COUNT($C$1:C102))","v":""},"","","","terms",101,{"$f":"IFERROR(#REF!&\" \"&VLOOKUP(H103,$C:$F,2,0),\"\")","v":""},"","",""]
[104,null,{"$f":"IF(D104=\"\",\"\",1+COUNT($C$1:C103))","v":""},"","","","terms",102,{"$f":"IFERROR(#REF!&\" \"&VLOOKUP(H104,$C:$F,2,0),\"\")","v":""},"","",""]
[105,null,{"$f":"IF(D105=\"\",\"\",1+COUNT($C$1:C104))","v":""},"","","","terms",103,{"$f":"IFERROR(#REF!&\" \"&VLOOKUP(H105,$C:$F,2,0),\"\")","v":""},"","",""]
[106,null,{"$f":"IF(D106=\"\",\"\",1+COUNT($C$1:C105))","v":""},"","","","terms",104,{"$f":"IFERROR(#REF!&\" \"&VLOOKUP(H106,$C:$F,2,0),\"\")","v":""},"","",""]
[107,null,{"$f":"IF(D107=\"\",\"\",1+COUNT($C$1:C106))","v":""},"","","","terms",105,{"$f":"IFERROR(#REF!&\" \"&VLOOKUP(H107,$C:$F,2,0),\"\")","v":""},"","",""]
[108,null,{"$f":"IF(D108=\"\",\"\",1+COUNT($C$1:C107))","v":""},"","","","terms",106,{"$f":"IFERROR(#REF!&\" \"&VLOOKUP(H108,$C:$F,2,0),\"\")","v":""},"","",""]
[109,null,{"$f":"IF(D109=\"\",\"\",1+COUNT($C$1:C108))","v":""},"","","","terms",107,{"$f":"IFERROR(#REF!&\" \"&VLOOKUP(H109,$C:$F,2,0),\"\")","v":""},"","",""]
[110,null,{"$f":"IF(D110=\"\",\"\",1+COUNT($C$1:C109))","v":""},"","","","terms",108,{"$f":"IFERROR(#REF!&\" \"&VLOOKUP(H110,$C:$F,2,0),\"\")","v":""},"","",""]
[111,null,{"$f":"IF(D111=\"\",\"\",1+COUNT($C$1:C110))","v":""},"","","","terms",109,{"$f":"IFERROR(#REF!&\" \"&VLOOKUP(H111,$C:$F,2,0),\"\")","v":""},"","",""]
[112,null,{"$f":"IF(D112=\"\",\"\",1+COUNT($C$1:C111))","v":""},"","","","terms",110,{"$f":"IFERROR(#REF!&\" \"&VLOOKUP(H112,$C:$F,2,0),\"\")","v":""},"","",""]
[113,null,{"$f":"IF(D113=\"\",\"\",1+COUNT($C$1:C112))","v":""},"","","","terms",111,{"$f":"IFERROR(#REF!&\" \"&VLOOKUP(H113,$C:$F,2,0),\"\")","v":""},"","",""]
[114,null,{"$f":"IF(D114=\"\",\"\",1+COUNT($C$1:C113))","v":""},"","","","terms",112,{"$f":"IFERROR(#REF!&\" \"&VLOOKUP(H114,$C:$F,2,0),\"\")","v":""},"","",""]
[115,null,{"$f":"IF(D115=\"\",\"\",1+COUNT($C$1:C114))","v":""},"","","","terms",113,{"$f":"IFERROR(#REF!&\" \"&VLOOKUP(H115,$C:$F,2,0),\"\")","v":""},"","",""]
[116,null,{"$f":"IF(D116=\"\",\"\",1+COUNT($C$1:C115))","v":""},"","","","terms",114,{"$f":"IFERROR(#REF!&\" \"&VLOOKUP(H116,$C:$F,2,0),\"\")","v":""},"","",""]
[117,null,{"$f":"IF(D117=\"\",\"\",1+COUNT($C$1:C116))","v":""},"","","","terms",115,{"$f":"IFERROR(#REF!&\" \"&VLOOKUP(H117,$C:$F,2,0),\"\")","v":""},"","",""]
[118,null,{"$f":"IF(D118=\"\",\"\",1+COUNT($C$1:C117))","v":""},"","","","terms",116,{"$f":"IFERROR(#REF!&\" \"&VLOOKUP(H118,$C:$F,2,0),\"\")","v":""},"","",""]
[119,null,{"$f":"IF(D119=\"\",\"\",1+COUNT($C$1:C118))","v":""},"","","","terms",117,{"$f":"IFERROR(#REF!&\" \"&VLOOKUP(H119,$C:$F,2,0),\"\")","v":""},"","",""]
[120,null,{"$f":"IF(D120=\"\",\"\",1+COUNT($C$1:C119))","v":""},"","","","terms",118,{"$f":"IFERROR(#REF!&\" \"&VLOOKUP(H120,$C:$F,2,0),\"\")","v":""},"","",""]
[121,null,{"$f":"IF(D121=\"\",\"\",1+COUNT($C$1:C120))","v":""},"","","","terms",119,{"$f":"IFERROR(#REF!&\" \"&VLOOKUP(H121,$C:$F,2,0),\"\")","v":""},"","",""]
[122,null,{"$f":"IF(D122=\"\",\"\",1+COUNT($C$1:C121))","v":""},"","","","terms",120,{"$f":"IFERROR(#REF!&\" \"&VLOOKUP(H122,$C:$F,2,0),\"\")","v":""},"","",""]
[123,null,{"$f":"IF(D123=\"\",\"\",1+COUNT($C$1:C122))","v":""},"","","","terms",121,{"$f":"IFERROR(#REF!&\" \"&VLOOKUP(H123,$C:$F,2,0),\"\")","v":""},"","",""]
[124,null,{"$f":"IF(D124=\"\",\"\",1+COUNT($C$1:C123))","v":""},"","","","terms",122,{"$f":"IFERROR(#REF!&\" \"&VLOOKUP(H124,$C:$F,2,0),\"\")","v":""},"","",""]
[125,null,{"$f":"IF(D125=\"\",\"\",1+COUNT($C$1:C124))","v":""},"","","","terms",123,{"$f":"IFERROR(#REF!&\" \"&VLOOKUP(H125,$C:$F,2,0),\"\")","v":""},"","",""]
[126,null,{"$f":"IF(D126=\"\",\"\",1+COUNT($C$1:C125))","v":""},"","","","terms",124,{"$f":"IFERROR(#REF!&\" \"&VLOOKUP(H126,$C:$F,2,0),\"\")","v":""},"","",""]
[127,null,{"$f":"IF(D127=\"\",\"\",1+COUNT($C$1:C126))","v":""},"","","","terms",125,{"$f":"IFERROR(#REF!&\" \"&VLOOKUP(H127,$C:$F,2,0),\"\")","v":""},"","",""]
[128,null,{"$f":"IF(D128=\"\",\"\",1+COUNT($C$1:C127))","v":""},"","","","terms",126,{"$f":"IFERROR(#REF!&\" \"&VLOOKUP(H128,$C:$F,2,0),\"\")","v":""},"","",""]
[129,null,{"$f":"IF(D129=\"\",\"\",1+COUNT($C$1:C128))","v":""},"","","","terms",127,{"$f":"IFERROR(#REF!&\" \"&VLOOKUP(H129,$C:$F,2,0),\"\")","v":""},"","",""]
[130,null,{"$f":"IF(D130=\"\",\"\",1+COUNT($C$1:C129))","v":""},"","","","terms",128,{"$f":"IFERROR(#REF!&\" \"&VLOOKUP(H130,$C:$F,2,0),\"\")","v":""},"","",""]
[131,null,{"$f":"IF(D131=\"\",\"\",1+COUNT($C$1:C130))","v":""},"","","","terms",129,{"$f":"IFERROR(#REF!&\" \"&VLOOKUP(H131,$C:$F,2,0),\"\")","v":""},{"$f":"IFERROR(VLOOKUP(H131,$C:$F,2,0),\"\")","v":""},{"$f":"IFERROR(VLOOKUP($H131,$C:$F,3,0),\"\")","v":""},{"$f":"IFERROR(VLOOKUP($H131,$C:$F,4,0),\"\")","v":""}]
[132,null,{"$f":"IF(D132=\"\",\"\",1+COUNT($C$1:C131))","v":""},"","","","terms",130,{"$f":"IFERROR(#REF!&\" \"&VLOOKUP(H132,$C:$F,2,0),\"\")","v":""},"","",""]
[133,null,{"$f":"IF(D133=\"\",\"\",1+COUNT($C$1:C132))","v":""},"","","","terms",131,{"$f":"IFERROR(#REF!&\" \"&VLOOKUP(H133,$C:$F,2,0),\"\")","v":""},"","",""]
[134,null,{"$f":"IF(D134=\"\",\"\",1+COUNT($C$1:C133))","v":""},"","","","terms",132,{"$f":"IFERROR(#REF!&\" \"&VLOOKUP(H134,$C:$F,2,0),\"\")","v":""},"","",""]
[135,null,{"$f":"IF(D135=\"\",\"\",1+COUNT($C$1:C134))","v":""},"","","","terms",133,{"$f":"IFERROR(#REF!&\" \"&VLOOKUP(H135,$C:$F,2,0),\"\")","v":""},"","",""]
[136,null,{"$f":"IF(D136=\"\",\"\",1+COUNT($C$1:C135))","v":""},"","","","terms",134,{"$f":"IFERROR(#REF!&\" \"&VLOOKUP(H136,$C:$F,2,0),\"\")","v":""},"","",""]
[137,null,{"$f":"IF(D137=\"\",\"\",1+COUNT($C$1:C136))","v":""},"","","","terms",135,{"$f":"IFERROR(#REF!&\" \"&VLOOKUP(H137,$C:$F,2,0),\"\")","v":""},"","",""]
[138,null,{"$f":"IF(D138=\"\",\"\",1+COUNT($C$1:C137))","v":""},"","","","terms",136,{"$f":"IFERROR(#REF!&\" \"&VLOOKUP(H138,$C:$F,2,0),\"\")","v":""},"","",""]
[139,null,{"$f":"IF(D139=\"\",\"\",1+COUNT($C$1:C138))","v":""},"","","","terms",137,{"$f":"IFERROR(#REF!&\" \"&VLOOKUP(H139,$C:$F,2,0),\"\")","v":""},"","",""]
[140,null,{"$f":"IF(D140=\"\",\"\",1+COUNT($C$1:C139))","v":""},"","","","terms",138,{"$f":"IFERROR(#REF!&\" \"&VLOOKUP(H140,$C:$F,2,0),\"\")","v":""},"","",""]
[141,null,{"$f":"IF(D141=\"\",\"\",1+COUNT($C$1:C140))","v":""},"","","","terms",139,{"$f":"IFERROR(#REF!&\" \"&VLOOKUP(H141,$C:$F,2,0),\"\")","v":""},"","",""]
[142,null,{"$f":"IF(D142=\"\",\"\",1+COUNT($C$1:C141))","v":""},"","","","terms",140,{"$f":"IFERROR(#REF!&\" \"&VLOOKUP(H142,$C:$F,2,0),\"\")","v":""},"","",""]
[143,null,{"$f":"IF(D143=\"\",\"\",1+COUNT($C$1:C142))","v":""},"","","","terms",141,{"$f":"IFERROR(#REF!&\" \"&VLOOKUP(H143,$C:$F,2,0),\"\")","v":""},"","",""]
[144,null,{"$f":"IF(D144=\"\",\"\",1+COUNT($C$1:C143))","v":""},"","","","terms",142,{"$f":"IFERROR(#REF!&\" \"&VLOOKUP(H144,$C:$F,2,0),\"\")","v":""},"","",""]
[145,null,{"$f":"IF(D145=\"\",\"\",1+COUNT($C$1:C144))","v":""},"","","","terms",143,{"$f":"IFERROR(#REF!&\" \"&VLOOKUP(H145,$C:$F,2,0),\"\")","v":""},"","",""]
[146,null,{"$f":"IF(D146=\"\",\"\",1+COUNT($C$1:C145))","v":""},"",{"$f":"IF(B146=\"\",\"\",IFERROR(IF(_xlfn.NUMBERVALUE(LEFT(B146,1))>=0,IFERROR(IF(FIND(G146,B146,1)>=1,\"\",\"\"),B148),\"\"),\"\"))","v":""},"","terms",144,{"$f":"IFERROR(#REF!&\" \"&VLOOKUP(H146,$C:$F,2,0),\"\")","v":""},"","",""]
[147,null,{"$f":"IF(D147=\"\",\"\",1+COUNT($C$1:C146))","v":""},{"$f":"IF(F147=\"\",\"\",IF(B147=\"\",\"\",IFERROR(IF(_xlfn.NUMBERVALUE(LEFT(B147,1))>=0,IFERROR(IF(FIND(G147,B147,1)>=1,\"\",\"\"),B148),\"\"),\"\")))","v":""},"",{"$f":"IF(B147=\"\",\"\",IF(B147>1,\"\",B147))","v":""},"terms",145,{"$f":"IFERROR(#REF!&\" \"&VLOOKUP(H147,$C:$F,2,0),\"\")","v":""},"","",""]
[148,null,{"$f":"IF(D148=\"\",\"\",1+COUNT($C$1:C147))","v":""},"","","","terms",146,{"$f":"IFERROR(#REF!&\" \"&VLOOKUP(H148,$C:$F,2,0),\"\")","v":""},"","",""]
[149,null,{"$f":"IF(D149=\"\",\"\",1+COUNT($C$1:C148))","v":""},"","","","terms",147,{"$f":"IFERROR(#REF!&\" \"&VLOOKUP(H149,$C:$F,2,0),\"\")","v":""},"","",""]
[150,null,{"$f":"IF(D150=\"\",\"\",1+COUNT($C$1:C149))","v":""},"","","","terms",148,{"$f":"IFERROR(#REF!&\" \"&VLOOKUP(H150,$C:$F,2,0),\"\")","v":""},"","",""]
[151,null,{"$f":"IF(D151=\"\",\"\",1+COUNT($C$1:C150))","v":""},"","","","terms",149,{"$f":"IFERROR(#REF!&\" \"&VLOOKUP(H151,$C:$F,2,0),\"\")","v":""},"","",""]
[152,null,{"$f":"IF(D152=\"\",\"\",1+COUNT($C$1:C151))","v":""},"","","","terms",150,{"$f":"IFERROR(#REF!&\" \"&VLOOKUP(H152,$C:$F,2,0),\"\")","v":""},"","",""]
[153,null,{"$f":"IF(D153=\"\",\"\",1+COUNT($C$1:C152))","v":""},"","","","terms",151,{"$f":"IFERROR(#REF!&\" \"&VLOOKUP(H153,$C:$F,2,0),\"\")","v":""},"","",""]
[154,null,{"$f":"IF(D154=\"\",\"\",1+COUNT($C$1:C153))","v":""},"","","","terms",152,{"$f":"IFERROR(#REF!&\" \"&VLOOKUP(H154,$C:$F,2,0),\"\")","v":""},"","",""]
[155,null,{"$f":"IF(D155=\"\",\"\",1+COUNT($C$1:C154))","v":""},"","","","terms",153,{"$f":"IFERROR(#REF!&\" \"&VLOOKUP(H155,$C:$F,2,0),\"\")","v":""},"","",""]
[156,null,{"$f":"IF(D156=\"\",\"\",1+COUNT($C$1:C155))","v":""},"","","","terms",154,{"$f":"IFERROR(#REF!&\" \"&VLOOKUP(H156,$C:$F,2,0),\"\")","v":""},"","",""]
[157,null,{"$f":"IF(D157=\"\",\"\",1+COUNT($C$1:C156))","v":""},"","","","terms",155,{"$f":"IFERROR(#REF!&\" \"&VLOOKUP(H157,$C:$F,2,0),\"\")","v":""},"","",""]
[158,null,{"$f":"IF(D158=\"\",\"\",1+COUNT($C$1:C157))","v":""},"","","","terms",156,{"$f":"IFERROR(#REF!&\" \"&VLOOKUP(H158,$C:$F,2,0),\"\")","v":""},"","",""]
[159,null,{"$f":"IF(D159=\"\",\"\",1+COUNT($C$1:C158))","v":""},"","","","terms",157,{"$f":"IFERROR(#REF!&\" \"&VLOOKUP(H159,$C:$F,2,0),\"\")","v":""},"","",""]
[160,null,{"$f":"IF(D160=\"\",\"\",1+COUNT($C$1:C159))","v":""},"","","","terms",158,{"$f":"IFERROR(#REF!&\" \"&VLOOKUP(H160,$C:$F,2,0),\"\")","v":""},"","",""]
[161,null,{"$f":"IF(D161=\"\",\"\",1+COUNT($C$1:C160))","v":""},"","","","terms",159,{"$f":"IFERROR(#REF!&\" \"&VLOOKUP(H161,$C:$F,2,0),\"\")","v":""},"","",""]
[162,null,{"$f":"IF(D162=\"\",\"\",1+COUNT($C$1:C161))","v":""},"","","","terms",160,{"$f":"IFERROR(#REF!&\" \"&VLOOKUP(H162,$C:$F,2,0),\"\")","v":""},"","",""]
[163,null,{"$f":"IF(D163=\"\",\"\",1+COUNT($C$1:C162))","v":""},"","","","terms",161,{"$f":"IFERROR(#REF!&\" \"&VLOOKUP(H163,$C:$F,2,0),\"\")","v":""},"","",""]
[164,null,{"$f":"IF(D164=\"\",\"\",1+COUNT($C$1:C163))","v":""},"","","","terms",162,{"$f":"IFERROR(#REF!&\" \"&VLOOKUP(H164,$C:$F,2,0),\"\")","v":""},"","",""]
[165,null,{"$f":"IF(D165=\"\",\"\",1+COUNT($C$1:C164))","v":""},"","","","terms",163,{"$f":"IFERROR(#REF!&\" \"&VLOOKUP(H165,$C:$F,2,0),\"\")","v":""},"","",""]
[166,null,{"$f":"IF(D166=\"\",\"\",1+COUNT($C$1:C165))","v":""},"","","","terms",164,{"$f":"IFERROR(#REF!&\" \"&VLOOKUP(H166,$C:$F,2,0),\"\")","v":""},"","",""]
[167,null,{"$f":"IF(D167=\"\",\"\",1+COUNT($C$1:C166))","v":""},"","","","terms",165,{"$f":"IFERROR(#REF!&\" \"&VLOOKUP(H167,$C:$F,2,0),\"\")","v":""},"","",""]
[168,null,{"$f":"IF(D168=\"\",\"\",1+COUNT($C$1:C167))","v":""},"","","","terms",166,{"$f":"IFERROR(#REF!&\" \"&VLOOKUP(H168,$C:$F,2,0),\"\")","v":""},"","",""]
[169,null,{"$f":"IF(D169=\"\",\"\",1+COUNT($C$1:C168))","v":""},"","","","terms",167,{"$f":"IFERROR(#REF!&\" \"&VLOOKUP(H169,$C:$F,2,0),\"\")","v":""},"","",""]
[170,null,{"$f":"IF(D170=\"\",\"\",1+COUNT($C$1:C169))","v":""},"","","","terms",168,{"$f":"IFERROR(#REF!&\" \"&VLOOKUP(H170,$C:$F,2,0),\"\")","v":""},"","",""]
[171,null,{"$f":"IF(D171=\"\",\"\",1+COUNT($C$1:C170))","v":""},"","","","terms",169,{"$f":"IFERROR(#REF!&\" \"&VLOOKUP(H171,$C:$F,2,0),\"\")","v":""},"","",""]
[172,null,{"$f":"IF(D172=\"\",\"\",1+COUNT($C$1:C171))","v":""},"","","","terms",170,{"$f":"IFERROR(#REF!&\" \"&VLOOKUP(H172,$C:$F,2,0),\"\")","v":""},"","",""]
[173,null,{"$f":"IF(D173=\"\",\"\",1+COUNT($C$1:C172))","v":""},"","","","terms",171,{"$f":"IFERROR(#REF!&\" \"&VLOOKUP(H173,$C:$F,2,0),\"\")","v":""},"","",""]
[174,null,{"$f":"IF(D174=\"\",\"\",1+COUNT($C$1:C173))","v":""},"","","","terms",172,{"$f":"IFERROR(#REF!&\" \"&VLOOKUP(H174,$C:$F,2,0),\"\")","v":""},"","",""]
[175,null,{"$f":"IF(D175=\"\",\"\",1+COUNT($C$1:C174))","v":""},"","","","terms",173,{"$f":"IFERROR(#REF!&\" \"&VLOOKUP(H175,$C:$F,2,0),\"\")","v":""},"","",""]
[176,null,{"$f":"IF(D176=\"\",\"\",1+COUNT($C$1:C175))","v":""},"","","","terms",174,{"$f":"IFERROR(#REF!&\" \"&VLOOKUP(H176,$C:$F,2,0),\"\")","v":""},"","",""]
[177,null,{"$f":"IF(D177=\"\",\"\",1+COUNT($C$1:C176))","v":""},"","","","terms",175,{"$f":"IFERROR(#REF!&\" \"&VLOOKUP(H177,$C:$F,2,0),\"\")","v":""},"","",""]
[178,null,{"$f":"IF(D178=\"\",\"\",1+COUNT($C$1:C177))","v":""},"","","","terms",176,{"$f":"IFERROR(#REF!&\" \"&VLOOKUP(H178,$C:$F,2,0),\"\")","v":""},"","",""]
[179,null,{"$f":"IF(D179=\"\",\"\",1+COUNT($C$1:C178))","v":""},"","","","terms",177,{"$f":"IFERROR(#REF!&\" \"&VLOOKUP(H179,$C:$F,2,0),\"\")","v":""},"","",""]
[180,null,{"$f":"IF(D180=\"\",\"\",1+COUNT($C$1:C179))","v":""},"",{"$f":"IF(B180=\"\",\"\",IFERROR(IF(_xlfn.NUMBERVALUE(LEFT(B180,1))>=0,IFERROR(IF(FIND(G180,B180,1)>=1,\"\",\"\"),B182),\"\"),\"\"))","v":""},"","terms",178,{"$f":"IFERROR(#REF!&\" \"&VLOOKUP(H180,$C:$F,2,0),\"\")","v":""},"","",""]
[181,null,{"$f":"IF(D181=\"\",\"\",1+COUNT($C$1:C180))","v":""},"",{"$f":"IF(B181=\"\",\"\",IFERROR(IF(_xlfn.NUMBERVALUE(LEFT(B181,1))>=0,IFERROR(IF(FIND(G181,B181,1)>=1,\"\",\"\"),B183),\"\"),\"\"))","v":""},"","terms",179,{"$f":"IFERROR(#REF!&\" \"&VLOOKUP(H181,$C:$F,2,0),\"\")","v":""},"","",""]
[182,null,{"$f":"IF(D182=\"\",\"\",1+COUNT($C$1:C181))","v":""},"","","","terms",180,{"$f":"IFERROR(#REF!&\" \"&VLOOKUP(H182,$C:$F,2,0),\"\")","v":""},"","",""]
[183,null,{"$f":"IF(D183=\"\",\"\",1+COUNT($C$1:C182))","v":""},"","","","terms",181,{"$f":"IFERROR(#REF!&\" \"&VLOOKUP(H183,$C:$F,2,0),\"\")","v":""},"","",""]
[184,null,{"$f":"IF(D184=\"\",\"\",1+COUNT($C$1:C183))","v":""},"","","","terms",182,{"$f":"IFERROR(#REF!&\" \"&VLOOKUP(H184,$C:$F,2,0),\"\")","v":""},"","",""]
[185,null,{"$f":"IF(D185=\"\",\"\",1+COUNT($C$1:C184))","v":""},"","","","terms",183,{"$f":"IFERROR(#REF!&\" \"&VLOOKUP(H185,$C:$F,2,0),\"\")","v":""},"","",""]
[186,null,{"$f":"IF(D186=\"\",\"\",1+COUNT($C$1:C185))","v":""},"","","","terms",184,{"$f":"IFERROR(#REF!&\" \"&VLOOKUP(H186,$C:$F,2,0),\"\")","v":""},"","",""]
[187,null,{"$f":"IF(D187=\"\",\"\",1+COUNT($C$1:C186))","v":""},"","","","terms",185,{"$f":"IFERROR(#REF!&\" \"&VLOOKUP(H187,$C:$F,2,0),\"\")","v":""},"","",""]
[188,null,{"$f":"IF(D188=\"\",\"\",1+COUNT($C$1:C187))","v":""},"","","","terms",186,{"$f":"IFERROR(#REF!&\" \"&VLOOKUP(H188,$C:$F,2,0),\"\")","v":""},"","",""]
[189,null,{"$f":"IF(D189=\"\",\"\",1+COUNT($C$1:C188))","v":""},"","","","terms",187,{"$f":"IFERROR(#REF!&\" \"&VLOOKUP(H189,$C:$F,2,0),\"\")","v":""},"","",""]
[190,null,{"$f":"IF(D190=\"\",\"\",1+COUNT($C$1:C189))","v":""},"","","","terms",188,{"$f":"IFERROR(#REF!&\" \"&VLOOKUP(H190,$C:$F,2,0),\"\")","v":""},"","",""]
[191,null,{"$f":"IF(D191=\"\",\"\",1+COUNT($C$1:C190))","v":""},"","","","terms",189,{"$f":"IFERROR(#REF!&\" \"&VLOOKUP(H191,$C:$F,2,0),\"\")","v":""},"","",""]
[192,null,{"$f":"IF(D192=\"\",\"\",1+COUNT($C$1:C191))","v":""},"","","","terms",190,{"$f":"IFERROR(#REF!&\" \"&VLOOKUP(H192,$C:$F,2,0),\"\")","v":""},"","",""]
[193,null,{"$f":"IF(D193=\"\",\"\",1+COUNT($C$1:C192))","v":""},"","","","terms",191,{"$f":"IFERROR(#REF!&\" \"&VLOOKUP(H193,$C:$F,2,0),\"\")","v":""},"","",""]
[194,null,{"$f":"IF(D194=\"\",\"\",1+COUNT($C$1:C193))","v":""},"","","","terms",192,{"$f":"IFERROR(#REF!&\" \"&VLOOKUP(H194,$C:$F,2,0),\"\")","v":""},"","",""]
[195,null,{"$f":"IF(D195=\"\",\"\",1+COUNT($C$1:C194))","v":""},"","","","terms",193,{"$f":"IFERROR(#REF!&\" \"&VLOOKUP(H195,$C:$F,2,0),\"\")","v":""},{"$f":"IFERROR(VLOOKUP(H195,$C:$F,2,0),\"\")","v":""},{"$f":"IFERROR(VLOOKUP($H195,$C:$F,3,0),\"\")","v":""},{"$f":"IFERROR(VLOOKUP($H195,$C:$F,4,0),\"\")","v":""}]
[196,null,{"$f":"IF(D196=\"\",\"\",1+COUNT($C$1:C195))","v":""},"","","","terms",194,{"$f":"IFERROR(#REF!&\" \"&VLOOKUP(H196,$C:$F,2,0),\"\")","v":""},"","",""]
[197,null,{"$f":"IF(D197=\"\",\"\",1+COUNT($C$1:C196))","v":""},"","","","terms",195,{"$f":"IFERROR(#REF!&\" \"&VLOOKUP(H197,$C:$F,2,0),\"\")","v":""},"","",""]
[198,null,{"$f":"IF(D198=\"\",\"\",1+COUNT($C$1:C197))","v":""},"","","","terms",196,{"$f":"IFERROR(#REF!&\" \"&VLOOKUP(H198,$C:$F,2,0),\"\")","v":""},"","",""]
[199,null,{"$f":"IF(D199=\"\",\"\",1+COUNT($C$1:C198))","v":""},"","","","terms",197,{"$f":"IFERROR(#REF!&\" \"&VLOOKUP(H199,$C:$F,2,0),\"\")","v":""},"","",""]
[200,null,{"$f":"IF(D200=\"\",\"\",1+COUNT($C$1:C199))","v":""},"","","","terms",198,{"$f":"IFERROR(#REF!&\" \"&VLOOKUP(H200,$C:$F,2,0),\"\")","v":""},"","",""]
[201,null,{"$f":"IF(D201=\"\",\"\",1+COUNT($C$1:C200))","v":""},"","","","terms",199,{"$f":"IFERROR(#REF!&\" \"&VLOOKUP(H201,$C:$F,2,0),\"\")","v":""},"","",""]
[202,null,{"$f":"IF(D202=\"\",\"\",1+COUNT($C$1:C201))","v":""},"","","","terms",200,{"$f":"IFERROR(#REF!&\" \"&VLOOKUP(H202,$C:$F,2,0),\"\")","v":""},"","",""]
[203,null,{"$f":"IF(D203=\"\",\"\",1+COUNT($C$1:C202))","v":""},"","","","terms",201,{"$f":"IFERROR(#REF!&\" \"&VLOOKUP(H203,$C:$F,2,0),\"\")","v":""},"","",""]
[204,null,{"$f":"IF(D204=\"\",\"\",1+COUNT($C$1:C203))","v":""},"","","","terms",202,{"$f":"IFERROR(#REF!&\" \"&VLOOKUP(H204,$C:$F,2,0),\"\")","v":""},"","",""]
[205,null,{"$f":"IF(D205=\"\",\"\",1+COUNT($C$1:C204))","v":""},"","","","terms",203,{"$f":"IFERROR(#REF!&\" \"&VLOOKUP(H205,$C:$F,2,0),\"\")","v":""},"","",""]
[206,null,{"$f":"IF(D206=\"\",\"\",1+COUNT($C$1:C205))","v":""},"","","","terms",204,{"$f":"IFERROR(#REF!&\" \"&VLOOKUP(H206,$C:$F,2,0),\"\")","v":""},"","",""]
[207,null,{"$f":"IF(D207=\"\",\"\",1+COUNT($C$1:C206))","v":""},"","","","terms",205,{"$f":"IFERROR(#REF!&\" \"&VLOOKUP(H207,$C:$F,2,0),\"\")","v":""},"","",""]
[208,null,{"$f":"IF(D208=\"\",\"\",1+COUNT($C$1:C207))","v":""},"","","","terms",206,{"$f":"IFERROR(#REF!&\" \"&VLOOKUP(H208,$C:$F,2,0),\"\")","v":""},"","",""]
[209,null,{"$f":"IF(D209=\"\",\"\",1+COUNT($C$1:C208))","v":""},"","","","terms",207,{"$f":"IFERROR(#REF!&\" \"&VLOOKUP(H209,$C:$F,2,0),\"\")","v":""},"","",""]
[210,null,{"$f":"IF(D210=\"\",\"\",1+COUNT($C$1:C209))","v":""},"","","","terms",208,{"$f":"IFERROR(#REF!&\" \"&VLOOKUP(H210,$C:$F,2,0),\"\")","v":""},"","",""]
[211,null,{"$f":"IF(D211=\"\",\"\",1+COUNT($C$1:C210))","v":""},{"$f":"IF(F211=\"\",\"\",IF(B211=\"\",\"\",IFERROR(IF(_xlfn.NUMBERVALUE(LEFT(B211,1))>=0,IFERROR(IF(FIND(G211,B211,1)>=1,\"\",\"\"),B212),\"\"),\"\")))","v":""},"",{"$f":"IF(B211=\"\",\"\",IF(B211>1,\"\",B211))","v":""},"terms",209,{"$f":"IFERROR(#REF!&\" \"&VLOOKUP(H211,$C:$F,2,0),\"\")","v":""},"","",""]
[212,null,{"$f":"IF(D212=\"\",\"\",1+COUNT($C$1:C211))","v":""},"","","","terms",210,{"$f":"IFERROR(#REF!&\" \"&VLOOKUP(H212,$C:$F,2,0),\"\")","v":""},"","",""]
[213,null,{"$f":"IF(D213=\"\",\"\",1+COUNT($C$1:C212))","v":""},"","","","terms",211,{"$f":"IFERROR(#REF!&\" \"&VLOOKUP(H213,$C:$F,2,0),\"\")","v":""},"","",""]
[214,null,{"$f":"IF(D214=\"\",\"\",1+COUNT($C$1:C213))","v":""},"","","","terms",212,{"$f":"IFERROR(#REF!&\" \"&VLOOKUP(H214,$C:$F,2,0),\"\")","v":""},"","",""]
[215,null,{"$f":"IF(D215=\"\",\"\",1+COUNT($C$1:C214))","v":""},"","","","terms",213,{"$f":"IFERROR(#REF!&\" \"&VLOOKUP(H215,$C:$F,2,0),\"\")","v":""},"","",""]
[216,null,{"$f":"IF(D216=\"\",\"\",1+COUNT($C$1:C215))","v":""},"","","","terms",214,{"$f":"IFERROR(#REF!&\" \"&VLOOKUP(H216,$C:$F,2,0),\"\")","v":""},"","",""]
[217,null,{"$f":"IF(D217=\"\",\"\",1+COUNT($C$1:C216))","v":""},"","","","terms",215,{"$f":"IFERROR(#REF!&\" \"&VLOOKUP(H217,$C:$F,2,0),\"\")","v":""},"","",""]
[218,null,{"$f":"IF(D218=\"\",\"\",1+COUNT($C$1:C217))","v":""},"","","","terms",216,{"$f":"IFERROR(#REF!&\" \"&VLOOKUP(H218,$C:$F,2,0),\"\")","v":""},"","",""]
[219,null,{"$f":"IF(D219=\"\",\"\",1+COUNT($C$1:C218))","v":""},"","","","terms",217,{"$f":"IFERROR(#REF!&\" \"&VLOOKUP(H219,$C:$F,2,0),\"\")","v":""},"","",""]
[220,null,{"$f":"IF(D220=\"\",\"\",1+COUNT($C$1:C219))","v":""},"","","","terms",218,{"$f":"IFERROR(#REF!&\" \"&VLOOKUP(H220,$C:$F,2,0),\"\")","v":""},"","",""]
[221,null,{"$f":"IF(D221=\"\",\"\",1+COUNT($C$1:C220))","v":""},"","","","terms",219,{"$f":"IFERROR(#REF!&\" \"&VLOOKUP(H221,$C:$F,2,0),\"\")","v":""},"","",""]
[222,null,{"$f":"IF(D222=\"\",\"\",1+COUNT($C$1:C221))","v":""},"","","","terms",220,{"$f":"IFERROR(#REF!&\" \"&VLOOKUP(H222,$C:$F,2,0),\"\")","v":""},"","",""]
[223,null,{"$f":"IF(D223=\"\",\"\",1+COUNT($C$1:C222))","v":""},"","","","terms",221,{"$f":"IFERROR(#REF!&\" \"&VLOOKUP(H223,$C:$F,2,0),\"\")","v":""},"","",""]
[224,null,{"$f":"IF(D224=\"\",\"\",1+COUNT($C$1:C223))","v":""},"","","","terms",222,{"$f":"IFERROR(#REF!&\" \"&VLOOKUP(H224,$C:$F,2,0),\"\")","v":""},"","",""]
[225,null,{"$f":"IF(D225=\"\",\"\",1+COUNT($C$1:C224))","v":""},"","","","terms",223,{"$f":"IFERROR(#REF!&\" \"&VLOOKUP(H225,$C:$F,2,0),\"\")","v":""},"","",""]
[226,null,{"$f":"IF(D226=\"\",\"\",1+COUNT($C$1:C225))","v":""},"","","","terms",224,{"$f":"IFERROR(#REF!&\" \"&VLOOKUP(H226,$C:$F,2,0),\"\")","v":""},"","",""]
[227,null,{"$f":"IF(D227=\"\",\"\",1+COUNT($C$1:C226))","v":""},"","","","terms",225,{"$f":"IFERROR(#REF!&\" \"&VLOOKUP(H227,$C:$F,2,0),\"\")","v":""},"","",""]
[228,null,{"$f":"IF(D228=\"\",\"\",1+COUNT($C$1:C227))","v":""},"","","","terms",226,{"$f":"IFERROR(#REF!&\" \"&VLOOKUP(H228,$C:$F,2,0),\"\")","v":""},"","",""]
[229,null,{"$f":"IF(D229=\"\",\"\",1+COUNT($C$1:C228))","v":""},"","","","terms",227,{"$f":"IFERROR(#REF!&\" \"&VLOOKUP(H229,$C:$F,2,0),\"\")","v":""},"","",""]
[230,null,{"$f":"IF(D230=\"\",\"\",1+COUNT($C$1:C229))","v":""},"","","","terms",228,{"$f":"IFERROR(#REF!&\" \"&VLOOKUP(H230,$C:$F,2,0),\"\")","v":""},"","",""]
[231,null,{"$f":"IF(D231=\"\",\"\",1+COUNT($C$1:C230))","v":""},"","","","terms",229,{"$f":"IFERROR(#REF!&\" \"&VLOOKUP(H231,$C:$F,2,0),\"\")","v":""},"","",""]
[232,null,{"$f":"IF(D232=\"\",\"\",1+COUNT($C$1:C231))","v":""},"","","","terms",230,{"$f":"IFERROR(#REF!&\" \"&VLOOKUP(H232,$C:$F,2,0),\"\")","v":""},"","",""]
[233,null,{"$f":"IF(D233=\"\",\"\",1+COUNT($C$1:C232))","v":""},"","","","terms",231,{"$f":"IFERROR(#REF!&\" \"&VLOOKUP(H233,$C:$F,2,0),\"\")","v":""},"","",""]
[234,null,{"$f":"IF(D234=\"\",\"\",1+COUNT($C$1:C233))","v":""},"","","","terms",232,{"$f":"IFERROR(#REF!&\" \"&VLOOKUP(H234,$C:$F,2,0),\"\")","v":""},"","",""]
[235,null,{"$f":"IF(D235=\"\",\"\",1+COUNT($C$1:C234))","v":""},"","","","terms",233,{"$f":"IFERROR(#REF!&\" \"&VLOOKUP(H235,$C:$F,2,0),\"\")","v":""},"","",""]
[236,null,{"$f":"IF(D236=\"\",\"\",1+COUNT($C$1:C235))","v":""},"","","","terms",234,{"$f":"IFERROR(#REF!&\" \"&VLOOKUP(H236,$C:$F,2,0),\"\")","v":""},"","",""]
[237,null,{"$f":"IF(D237=\"\",\"\",1+COUNT($C$1:C236))","v":""},"","","","terms",235,{"$f":"IFERROR(#REF!&\" \"&VLOOKUP(H237,$C:$F,2,0),\"\")","v":""},"","",""]
[238,null,{"$f":"IF(D238=\"\",\"\",1+COUNT($C$1:C237))","v":""},"","","","terms",236,{"$f":"IFERROR(#REF!&\" \"&VLOOKUP(H238,$C:$F,2,0),\"\")","v":""},"","",""]
[239,null,{"$f":"IF(D239=\"\",\"\",1+COUNT($C$1:C238))","v":""},"","","","terms",237,{"$f":"IFERROR(#REF!&\" \"&VLOOKUP(H239,$C:$F,2,0),\"\")","v":""},"","",""]
[240,null,{"$f":"IF(D240=\"\",\"\",1+COUNT($C$1:C239))","v":""},"","","","terms",238,{"$f":"IFERROR(#REF!&\" \"&VLOOKUP(H240,$C:$F,2,0),\"\")","v":""},"","",""]
[241,null,{"$f":"IF(D241=\"\",\"\",1+COUNT($C$1:C240))","v":""},"","","","terms",239,{"$f":"IFERROR(#REF!&\" \"&VLOOKUP(H241,$C:$F,2,0),\"\")","v":""},"","",""]
[242,null,{"$f":"IF(D242=\"\",\"\",1+COUNT($C$1:C241))","v":""},"","","","terms",240,{"$f":"IFERROR(#REF!&\" \"&VLOOKUP(H242,$C:$F,2,0),\"\")","v":""},"","",""]
[243,null,{"$f":"IF(D243=\"\",\"\",1+COUNT($C$1:C242))","v":""},"","","","terms",241,{"$f":"IFERROR(#REF!&\" \"&VLOOKUP(H243,$C:$F,2,0),\"\")","v":""},"","",""]
[244,null,{"$f":"IF(D244=\"\",\"\",1+COUNT($C$1:C243))","v":""},"","","","terms",242,{"$f":"IFERROR(#REF!&\" \"&VLOOKUP(H244,$C:$F,2,0),\"\")","v":""},"","",""]
[245,null,{"$f":"IF(D245=\"\",\"\",1+COUNT($C$1:C244))","v":""},"",{"$f":"IF(B245=\"\",\"\",IFERROR(IF(_xlfn.NUMBERVALUE(LEFT(B245,1))>=0,IFERROR(IF(FIND(G245,B245,1)>=1,\"\",\"\"),B247),\"\"),\"\"))","v":""},"","terms",243,{"$f":"IFERROR(#REF!&\" \"&VLOOKUP(H245,$C:$F,2,0),\"\")","v":""},"","",""]
[246,null,{"$f":"IF(D246=\"\",\"\",1+COUNT($C$1:C245))","v":""},"","","","terms",244,{"$f":"IFERROR(#REF!&\" \"&VLOOKUP(H246,$C:$F,2,0),\"\")","v":""},"","",""]
[247,null,{"$f":"IF(D247=\"\",\"\",1+COUNT($C$1:C246))","v":""},"","","","terms",245,{"$f":"IFERROR(#REF!&\" \"&VLOOKUP(H247,$C:$F,2,0),\"\")","v":""},"","",""]
[248,null,{"$f":"IF(D248=\"\",\"\",1+COUNT($C$1:C247))","v":""},"","","","terms",246,{"$f":"IFERROR(#REF!&\" \"&VLOOKUP(H248,$C:$F,2,0),\"\")","v":""},"","",""]
[249,null,{"$f":"IF(D249=\"\",\"\",1+COUNT($C$1:C248))","v":""},"","","","terms",247,{"$f":"IFERROR(#REF!&\" \"&VLOOKUP(H249,$C:$F,2,0),\"\")","v":""},"","",""]
[250,null,{"$f":"IF(D250=\"\",\"\",1+COUNT($C$1:C249))","v":""},"","","","terms",248,{"$f":"IFERROR(#REF!&\" \"&VLOOKUP(H250,$C:$F,2,0),\"\")","v":""},"","",""]
[251,null,{"$f":"IF(D251=\"\",\"\",1+COUNT($C$1:C250))","v":""},"","","","terms",249,{"$f":"IFERROR(#REF!&\" \"&VLOOKUP(H251,$C:$F,2,0),\"\")","v":""},"","",""]
[252,null,{"$f":"IF(D252=\"\",\"\",1+COUNT($C$1:C251))","v":""},"","","","terms",250,{"$f":"IFERROR(#REF!&\" \"&VLOOKUP(H252,$C:$F,2,0),\"\")","v":""},"","",""]
[253,null,{"$f":"IF(D253=\"\",\"\",1+COUNT($C$1:C252))","v":""},"","","","terms",251,{"$f":"IFERROR(#REF!&\" \"&VLOOKUP(H253,$C:$F,2,0),\"\")","v":""},"","",""]
[254,null,{"$f":"IF(D254=\"\",\"\",1+COUNT($C$1:C253))","v":""},"","","","terms",252,{"$f":"IFERROR(#REF!&\" \"&VLOOKUP(H254,$C:$F,2,0),\"\")","v":""},"","",""]
[255,null,{"$f":"IF(D255=\"\",\"\",1+COUNT($C$1:C254))","v":""},"","","","terms",253,{"$f":"IFERROR(#REF!&\" \"&VLOOKUP(H255,$C:$F,2,0),\"\")","v":""},"","",""]
[256,null,{"$f":"IF(D256=\"\",\"\",1+COUNT($C$1:C255))","v":""},"","","","terms",254,{"$f":"IFERROR(#REF!&\" \"&VLOOKUP(H256,$C:$F,2,0),\"\")","v":""},"","",""]
[257,null,{"$f":"IF(D257=\"\",\"\",1+COUNT($C$1:C256))","v":""},"","","","terms",255,{"$f":"IFERROR(#REF!&\" \"&VLOOKUP(H257,$C:$F,2,0),\"\")","v":""},"","",""]
[258,null,{"$f":"IF(D258=\"\",\"\",1+COUNT($C$1:C257))","v":""},"","","","terms",256,{"$f":"IFERROR(#REF!&\" \"&VLOOKUP(H258,$C:$F,2,0),\"\")","v":""},"","",""]
[259,null,{"$f":"IF(D259=\"\",\"\",1+COUNT($C$1:C258))","v":""},"","","","terms",257,{"$f":"IFERROR(#REF!&\" \"&VLOOKUP(H259,$C:$F,2,0),\"\")","v":""},{"$f":"IFERROR(VLOOKUP(H259,$C:$F,2,0),\"\")","v":""},{"$f":"IFERROR(VLOOKUP($H259,$C:$F,3,0),\"\")","v":""},{"$f":"IFERROR(VLOOKUP($H259,$C:$F,4,0),\"\")","v":""}]
[260,null,{"$f":"IF(D260=\"\",\"\",1+COUNT($C$1:C259))","v":""},"","","","terms",258,{"$f":"IFERROR(#REF!&\" \"&VLOOKUP(H260,$C:$F,2,0),\"\")","v":""},"","",""]
[261,null,{"$f":"IF(D261=\"\",\"\",1+COUNT($C$1:C260))","v":""},"","","","terms",259,{"$f":"IFERROR(#REF!&\" \"&VLOOKUP(H261,$C:$F,2,0),\"\")","v":""},"","",""]
[262,null,{"$f":"IF(D262=\"\",\"\",1+COUNT($C$1:C261))","v":""},"","","","terms",260,{"$f":"IFERROR(#REF!&\" \"&VLOOKUP(H262,$C:$F,2,0),\"\")","v":""},"","",""]
[263,null,{"$f":"IF(D263=\"\",\"\",1+COUNT($C$1:C262))","v":""},"","","","terms",261,{"$f":"IFERROR(#REF!&\" \"&VLOOKUP(H263,$C:$F,2,0),\"\")","v":""},"","",""]
[264,null,{"$f":"IF(D264=\"\",\"\",1+COUNT($C$1:C263))","v":""},"","","","terms",262,{"$f":"IFERROR(#REF!&\" \"&VLOOKUP(H264,$C:$F,2,0),\"\")","v":""},"","",""]
[265,null,{"$f":"IF(D265=\"\",\"\",1+COUNT($C$1:C264))","v":""},"","","","terms",263,{"$f":"IFERROR(#REF!&\" \"&VLOOKUP(H265,$C:$F,2,0),\"\")","v":""},"","",""]
[266,null,{"$f":"IF(D266=\"\",\"\",1+COUNT($C$1:C265))","v":""},"","","","terms",264,{"$f":"IFERROR(#REF!&\" \"&VLOOKUP(H266,$C:$F,2,0),\"\")","v":""},"","",""]
[267,null,{"$f":"IF(D267=\"\",\"\",1+COUNT($C$1:C266))","v":""},"","","","terms",265,{"$f":"IFERROR(#REF!&\" \"&VLOOKUP(H267,$C:$F,2,0),\"\")","v":""},"","",""]
[268,null,{"$f":"IF(D268=\"\",\"\",1+COUNT($C$1:C267))","v":""},"","","","terms",266,{"$f":"IFERROR(#REF!&\" \"&VLOOKUP(H268,$C:$F,2,0),\"\")","v":""},"","",""]
[269,null,{"$f":"IF(D269=\"\",\"\",1+COUNT($C$1:C268))","v":""},"","","","terms",267,{"$f":"IFERROR(#REF!&\" \"&VLOOKUP(H269,$C:$F,2,0),\"\")","v":""},"","",""]
[270,null,{"$f":"IF(D270=\"\",\"\",1+COUNT($C$1:C269))","v":""},"","","","terms",268,{"$f":"IFERROR(#REF!&\" \"&VLOOKUP(H270,$C:$F,2,0),\"\")","v":""},"","",""]
[271,null,{"$f":"IF(D271=\"\",\"\",1+COUNT($C$1:C270))","v":""},"","","","terms",269,{"$f":"IFERROR(#REF!&\" \"&VLOOKUP(H271,$C:$F,2,0),\"\")","v":""},"","",""]
[272,null,{"$f":"IF(D272=\"\",\"\",1+COUNT($C$1:C271))","v":""},"","","","terms",270,{"$f":"IFERROR(#REF!&\" \"&VLOOKUP(H272,$C:$F,2,0),\"\")","v":""},"","",""]
[273,null,{"$f":"IF(D273=\"\",\"\",1+COUNT($C$1:C272))","v":""},"","","","terms",271,{"$f":"IFERROR(#REF!&\" \"&VLOOKUP(H273,$C:$F,2,0),\"\")","v":""},"","",""]
[274,null,{"$f":"IF(D274=\"\",\"\",1+COUNT($C$1:C273))","v":""},"","","","terms",272,{"$f":"IFERROR(#REF!&\" \"&VLOOKUP(H274,$C:$F,2,0),\"\")","v":""},"","",""]
[275,null,{"$f":"IF(D275=\"\",\"\",1+COUNT($C$1:C274))","v":""},{"$f":"IF(F275=\"\",\"\",IF(B275=\"\",\"\",IFERROR(IF(_xlfn.NUMBERVALUE(LEFT(B275,1))>=0,IFERROR(IF(FIND(G275,B275,1)>=1,\"\",\"\"),B276),\"\"),\"\")))","v":""},"",{"$f":"IF(B275=\"\",\"\",IF(B275>1,\"\",B275))","v":""},"terms",273,{"$f":"IFERROR(#REF!&\" \"&VLOOKUP(H275,$C:$F,2,0),\"\")","v":""},"","",""]
[276,null,{"$f":"IF(D276=\"\",\"\",1+COUNT($C$1:C275))","v":""},"","","","terms",274,{"$f":"IFERROR(#REF!&\" \"&VLOOKUP(H276,$C:$F,2,0),\"\")","v":""},"","",""]
[277,null,{"$f":"IF(D277=\"\",\"\",1+COUNT($C$1:C276))","v":""},"","","","terms",275,{"$f":"IFERROR(#REF!&\" \"&VLOOKUP(H277,$C:$F,2,0),\"\")","v":""},"","",""]
[278,null,{"$f":"IF(D278=\"\",\"\",1+COUNT($C$1:C277))","v":""},"","","","terms",276,{"$f":"IFERROR(#REF!&\" \"&VLOOKUP(H278,$C:$F,2,0),\"\")","v":""},"","",""]
[279,null,{"$f":"IF(D279=\"\",\"\",1+COUNT($C$1:C278))","v":""},"","","","terms",277,{"$f":"IFERROR(#REF!&\" \"&VLOOKUP(H279,$C:$F,2,0),\"\")","v":""},"","",""]
[280,null,{"$f":"IF(D280=\"\",\"\",1+COUNT($C$1:C279))","v":""},"","","","terms",278,{"$f":"IFERROR(#REF!&\" \"&VLOOKUP(H280,$C:$F,2,0),\"\")","v":""},"","",""]
[281,null,{"$f":"IF(D281=\"\",\"\",1+COUNT($C$1:C280))","v":""},"","","","terms",279,{"$f":"IFERROR(#REF!&\" \"&VLOOKUP(H281,$C:$F,2,0),\"\")","v":""},"","",""]
[282,null,{"$f":"IF(D282=\"\",\"\",1+COUNT($C$1:C281))","v":""},"","","","terms",280,{"$f":"IFERROR(#REF!&\" \"&VLOOKUP(H282,$C:$F,2,0),\"\")","v":""},"","",""]
[283,null,{"$f":"IF(D283=\"\",\"\",1+COUNT($C$1:C282))","v":""},"","","","terms",281,{"$f":"IFERROR(#REF!&\" \"&VLOOKUP(H283,$C:$F,2,0),\"\")","v":""},"","",""]
[284,null,{"$f":"IF(D284=\"\",\"\",1+COUNT($C$1:C283))","v":""},"","","","terms",282,{"$f":"IFERROR(#REF!&\" \"&VLOOKUP(H284,$C:$F,2,0),\"\")","v":""},"","",""]
[285,null,{"$f":"IF(D285=\"\",\"\",1+COUNT($C$1:C284))","v":""},"","","","terms",283,{"$f":"IFERROR(#REF!&\" \"&VLOOKUP(H285,$C:$F,2,0),\"\")","v":""},"","",""]
[286,null,{"$f":"IF(D286=\"\",\"\",1+COUNT($C$1:C285))","v":""},"","","","terms",284,{"$f":"IFERROR(#REF!&\" \"&VLOOKUP(H286,$C:$F,2,0),\"\")","v":""},"","",""]
[287,null,{"$f":"IF(D287=\"\",\"\",1+COUNT($C$1:C286))","v":""},"","","","terms",285,{"$f":"IFERROR(#REF!&\" \"&VLOOKUP(H287,$C:$F,2,0),\"\")","v":""},"","",""]
[288,null,{"$f":"IF(D288=\"\",\"\",1+COUNT($C$1:C287))","v":""},"","","","terms",286,{"$f":"IFERROR(#REF!&\" \"&VLOOKUP(H288,$C:$F,2,0),\"\")","v":""},"","",""]
[289,null,{"$f":"IF(D289=\"\",\"\",1+COUNT($C$1:C288))","v":""},"","","","terms",287,{"$f":"IFERROR(#REF!&\" \"&VLOOKUP(H289,$C:$F,2,0),\"\")","v":""},"","",""]
[290,null,{"$f":"IF(D290=\"\",\"\",1+COUNT($C$1:C289))","v":""},"","","","terms",288,{"$f":"IFERROR(#REF!&\" \"&VLOOKUP(H290,$C:$F,2,0),\"\")","v":""},"","",""]
[291,null,{"$f":"IF(D291=\"\",\"\",1+COUNT($C$1:C290))","v":""},"","","","terms",289,{"$f":"IFERROR(#REF!&\" \"&VLOOKUP(H291,$C:$F,2,0),\"\")","v":""},"","",""]
[292,null,{"$f":"IF(D292=\"\",\"\",1+COUNT($C$1:C291))","v":""},"","","","terms",290,{"$f":"IFERROR(#REF!&\" \"&VLOOKUP(H292,$C:$F,2,0),\"\")","v":""},"","",""]
[293,null,{"$f":"IF(D293=\"\",\"\",1+COUNT($C$1:C292))","v":""},"","","","terms",291,{"$f":"IFERROR(#REF!&\" \"&VLOOKUP(H293,$C:$F,2,0),\"\")","v":""},"","",""]
[294,null,{"$f":"IF(D294=\"\",\"\",1+COUNT($C$1:C293))","v":""},"","","","terms",292,{"$f":"IFERROR(#REF!&\" \"&VLOOKUP(H294,$C:$F,2,0),\"\")","v":""},"","",""]
[295,null,{"$f":"IF(D295=\"\",\"\",1+COUNT($C$1:C294))","v":""},"","","","terms",293,{"$f":"IFERROR(#REF!&\" \"&VLOOKUP(H295,$C:$F,2,0),\"\")","v":""},"","",""]
[296,null,{"$f":"IF(D296=\"\",\"\",1+COUNT($C$1:C295))","v":""},"","","","terms",294,{"$f":"IFERROR(#REF!&\" \"&VLOOKUP(H296,$C:$F,2,0),\"\")","v":""},"","",""]
[297,null,{"$f":"IF(D297=\"\",\"\",1+COUNT($C$1:C296))","v":""},"","","","terms",295,{"$f":"IFERROR(#REF!&\" \"&VLOOKUP(H297,$C:$F,2,0),\"\")","v":""},"","",""]
[298,null,{"$f":"IF(D298=\"\",\"\",1+COUNT($C$1:C297))","v":""},"","","","terms",296,{"$f":"IFERROR(#REF!&\" \"&VLOOKUP(H298,$C:$F,2,0),\"\")","v":""},"","",""]
[299,null,{"$f":"IF(D299=\"\",\"\",1+COUNT($C$1:C298))","v":""},"","","","terms",297,{"$f":"IFERROR(#REF!&\" \"&VLOOKUP(H299,$C:$F,2,0),\"\")","v":""},"","",""]
[300,null,{"$f":"IF(D300=\"\",\"\",1+COUNT($C$1:C299))","v":""},"","","","terms",298,{"$f":"IFERROR(#REF!&\" \"&VLOOKUP(H300,$C:$F,2,0),\"\")","v":""},"","",""]
[301,null,{"$f":"IF(D301=\"\",\"\",1+COUNT($C$1:C300))","v":""},"","","","terms",299,{"$f":"IFERROR(#REF!&\" \"&VLOOKUP(H301,$C:$F,2,0),\"\")","v":""},"","",""]
[302,null,{"$f":"IF(D302=\"\",\"\",1+COUNT($C$1:C301))","v":""},"","","","terms",300,{"$f":"IFERROR(#REF!&\" \"&VLOOKUP(H302,$C:$F,2,0),\"\")","v":""},"","",""]
[303,null,{"$f":"IF(D303=\"\",\"\",1+COUNT($C$1:C302))","v":""},"","","","terms"]
[304,null,{"$f":"IF(D304=\"\",\"\",1+COUNT($C$1:C303))","v":""},"","","","terms"]
[305,null,{"$f":"IF(D305=\"\",\"\",1+COUNT($C$1:C304))","v":""},"","","","terms"]
[306,null,{"$f":"IF(D306=\"\",\"\",1+COUNT($C$1:C305))","v":""},"","","","terms"]
[307,null,{"$f":"IF(D307=\"\",\"\",1+COUNT($C$1:C306))","v":""},"","","","terms"]
[308,null,{"$f":"IF(D308=\"\",\"\",1+COUNT($C$1:C307))","v":""},"","","","terms"]
[309,null,{"$f":"IF(D309=\"\",\"\",1+COUNT($C$1:C308))","v":""},"",{"$f":"IF(B309=\"\",\"\",IFERROR(IF(_xlfn.NUMBERVALUE(LEFT(B309,1))>=0,IFERROR(IF(FIND(G309,B309,1)>=1,\"\",\"\"),B311),\"\"),\"\"))","v":""},"","terms"]
[310,null,{"$f":"IF(D310=\"\",\"\",1+COUNT($C$1:C309))","v":""},"","","","terms"]
[311,null,{"$f":"IF(D311=\"\",\"\",1+COUNT($C$1:C310))","v":""},"","","","terms"]
[312,null,{"$f":"IF(D312=\"\",\"\",1+COUNT($C$1:C311))","v":""},"","","","terms"]
[313,null,{"$f":"IF(D313=\"\",\"\",1+COUNT($C$1:C312))","v":""},"","","","terms"]
[314,null,{"$f":"IF(D314=\"\",\"\",1+COUNT($C$1:C313))","v":""},"","","","terms"]
[315,null,{"$f":"IF(D315=\"\",\"\",1+COUNT($C$1:C314))","v":""},"","","","terms"]
[316,null,{"$f":"IF(D316=\"\",\"\",1+COUNT($C$1:C315))","v":""},"","","","terms"]
[317,null,{"$f":"IF(D317=\"\",\"\",1+COUNT($C$1:C316))","v":""},"","","","terms"]
[318,null,{"$f":"IF(D318=\"\",\"\",1+COUNT($C$1:C317))","v":""},"","","","terms"]
[319,null,{"$f":"IF(D319=\"\",\"\",1+COUNT($C$1:C318))","v":""},"","","","terms"]
[320,null,{"$f":"IF(D320=\"\",\"\",1+COUNT($C$1:C319))","v":""},"","","","terms"]
[321,null,{"$f":"IF(D321=\"\",\"\",1+COUNT($C$1:C320))","v":""},"","","","terms"]
[322,null,{"$f":"IF(D322=\"\",\"\",1+COUNT($C$1:C321))","v":""},"","","","terms"]
[323,null,{"$f":"IF(D323=\"\",\"\",1+COUNT($C$1:C322))","v":""},"","","","terms"]
[324,null,{"$f":"IF(D324=\"\",\"\",1+COUNT($C$1:C323))","v":""},"","","","terms"]
[325,null,{"$f":"IF(D325=\"\",\"\",1+COUNT($C$1:C324))","v":""},"","","","terms"]
[326,null,{"$f":"IF(D326=\"\",\"\",1+COUNT($C$1:C325))","v":""},"","","","terms"]
[327,null,{"$f":"IF(D327=\"\",\"\",1+COUNT($C$1:C326))","v":""},"","","","terms"]
[328,null,{"$f":"IF(D328=\"\",\"\",1+COUNT($C$1:C327))","v":""},"","","","terms"]
[329,null,{"$f":"IF(D329=\"\",\"\",1+COUNT($C$1:C328))","v":""},"","","","terms"]
[330,null,{"$f":"IF(D330=\"\",\"\",1+COUNT($C$1:C329))","v":""},"","","","terms"]
[331,null,{"$f":"IF(D331=\"\",\"\",1+COUNT($C$1:C330))","v":""},"","","","terms"]
[332,null,{"$f":"IF(D332=\"\",\"\",1+COUNT($C$1:C331))","v":""},"","","","terms"]
[333,null,{"$f":"IF(D333=\"\",\"\",1+COUNT($C$1:C332))","v":""},"","","","terms"]
[334,null,{"$f":"IF(D334=\"\",\"\",1+COUNT($C$1:C333))","v":""},"","","","terms"]
[335,null,{"$f":"IF(D335=\"\",\"\",1+COUNT($C$1:C334))","v":""},"","","","terms"]
[336,null,{"$f":"IF(D336=\"\",\"\",1+COUNT($C$1:C335))","v":""},"","","","terms"]
[337,null,{"$f":"IF(D337=\"\",\"\",1+COUNT($C$1:C336))","v":""},"","","","terms"]
[338,null,{"$f":"IF(D338=\"\",\"\",1+COUNT($C$1:C337))","v":""},"","","","terms"]
[339,null,{"$f":"IF(D339=\"\",\"\",1+COUNT($C$1:C338))","v":""},{"$f":"IF(F339=\"\",\"\",IF(B339=\"\",\"\",IFERROR(IF(_xlfn.NUMBERVALUE(LEFT(B339,1))>=0,IFERROR(IF(FIND(G339,B339,1)>=1,\"\",\"\"),B340),\"\"),\"\")))","v":""},"",{"$f":"IF(B339=\"\",\"\",IF(B339>1,\"\",B339))","v":""},"terms"]
[340,null,{"$f":"IF(D340=\"\",\"\",1+COUNT($C$1:C339))","v":""},"","","","terms"]
[341,null,{"$f":"IF(D341=\"\",\"\",1+COUNT($C$1:C340))","v":""},"","","","terms"]
[342,null,{"$f":"IF(D342=\"\",\"\",1+COUNT($C$1:C341))","v":""},"","","","terms"]
[343,null,{"$f":"IF(D343=\"\",\"\",1+COUNT($C$1:C342))","v":""},"","","","terms"]
[344,null,{"$f":"IF(D344=\"\",\"\",1+COUNT($C$1:C343))","v":""},"","","","terms"]
[345,null,{"$f":"IF(D345=\"\",\"\",1+COUNT($C$1:C344))","v":""},"","","","terms"]
[346,null,{"$f":"IF(D346=\"\",\"\",1+COUNT($C$1:C345))","v":""},"","","","terms"]
[347,null,{"$f":"IF(D347=\"\",\"\",1+COUNT($C$1:C346))","v":""},"","","","terms"]
[348,null,{"$f":"IF(D348=\"\",\"\",1+COUNT($C$1:C347))","v":""},"","","","terms"]
[349,null,{"$f":"IF(D349=\"\",\"\",1+COUNT($C$1:C348))","v":""},"","","","terms"]
[350,null,{"$f":"IF(D350=\"\",\"\",1+COUNT($C$1:C349))","v":""},"","","","terms"]
[351,null,{"$f":"IF(D351=\"\",\"\",1+COUNT($C$1:C350))","v":""},"","","","terms"]
[352,null,{"$f":"IF(D352=\"\",\"\",1+COUNT($C$1:C351))","v":""},"","","","terms"]
[353,null,{"$f":"IF(D353=\"\",\"\",1+COUNT($C$1:C352))","v":""},"","","","terms"]
[354,null,{"$f":"IF(D354=\"\",\"\",1+COUNT($C$1:C353))","v":""},"","","","terms"]
[355,null,{"$f":"IF(D355=\"\",\"\",1+COUNT($C$1:C354))","v":""},"","","","terms"]
[356,null,{"$f":"IF(D356=\"\",\"\",1+COUNT($C$1:C355))","v":""},"","","","terms"]
[357,null,{"$f":"IF(D357=\"\",\"\",1+COUNT($C$1:C356))","v":""},"","","","terms"]
[358,null,{"$f":"IF(D358=\"\",\"\",1+COUNT($C$1:C357))","v":""},"","","","terms"]
[359,null,{"$f":"IF(D359=\"\",\"\",1+COUNT($C$1:C358))","v":""},"","","","terms"]
[360,null,{"$f":"IF(D360=\"\",\"\",1+COUNT($C$1:C359))","v":""},"","","","terms"]
[361,null,{"$f":"IF(D361=\"\",\"\",1+COUNT($C$1:C360))","v":""},"","","","terms"]
[362,null,{"$f":"IF(D362=\"\",\"\",1+COUNT($C$1:C361))","v":""},"","","","terms"]
[363,null,{"$f":"IF(D363=\"\",\"\",1+COUNT($C$1:C362))","v":""},"","","","terms"]
[364,null,{"$f":"IF(D364=\"\",\"\",1+COUNT($C$1:C363))","v":""},"","","","terms"]
[365,null,{"$f":"IF(D365=\"\",\"\",1+COUNT($C$1:C364))","v":""},"","","","terms"]
[366,null,{"$f":"IF(D366=\"\",\"\",1+COUNT($C$1:C365))","v":""},"","","","terms"]
[367,null,{"$f":"IF(D367=\"\",\"\",1+COUNT($C$1:C366))","v":""},"","","","terms"]
[368,null,{"$f":"IF(D368=\"\",\"\",1+COUNT($C$1:C367))","v":""},"","","","terms"]
[369,null,{"$f":"IF(D369=\"\",\"\",1+COUNT($C$1:C368))","v":""},"","","","terms"]
[370,null,{"$f":"IF(D370=\"\",\"\",1+COUNT($C$1:C369))","v":""},"","","","terms"]
[371,null,{"$f":"IF(D371=\"\",\"\",1+COUNT($C$1:C370))","v":""},"","","","terms"]
[372,null,{"$f":"IF(D372=\"\",\"\",1+COUNT($C$1:C371))","v":""},"","","","terms"]
[373,null,{"$f":"IF(D373=\"\",\"\",1+COUNT($C$1:C372))","v":""},"",{"$f":"IF(B373=\"\",\"\",IFERROR(IF(_xlfn.NUMBERVALUE(LEFT(B373,1))>=0,IFERROR(IF(FIND(G373,B373,1)>=1,\"\",\"\"),B375),\"\"),\"\"))","v":""},"","terms"]
[374,null,{"$f":"IF(D374=\"\",\"\",1+COUNT($C$1:C373))","v":""},"","","","terms"]
[375,null,{"$f":"IF(D375=\"\",\"\",1+COUNT($C$1:C374))","v":""},"","","","terms"]
[376,null,{"$f":"IF(D376=\"\",\"\",1+COUNT($C$1:C375))","v":""},"","","","terms"]
[377,null,{"$f":"IF(D377=\"\",\"\",1+COUNT($C$1:C376))","v":""},"","","","terms"]
[378,null,{"$f":"IF(D378=\"\",\"\",1+COUNT($C$1:C377))","v":""},"","","","terms"]
[379,null,{"$f":"IF(D379=\"\",\"\",1+COUNT($C$1:C378))","v":""},"","","","terms"]
[380,null,{"$f":"IF(D380=\"\",\"\",1+COUNT($C$1:C379))","v":""},"","","","terms"]
[381,null,{"$f":"IF(D381=\"\",\"\",1+COUNT($C$1:C380))","v":""},"","","","terms"]
[382,null,{"$f":"IF(D382=\"\",\"\",1+COUNT($C$1:C381))","v":""},"","","","terms"]
[383,null,{"$f":"IF(D383=\"\",\"\",1+COUNT($C$1:C382))","v":""},"","","","terms"]
[384,null,{"$f":"IF(D384=\"\",\"\",1+COUNT($C$1:C383))","v":""},"","","","terms"]
[385,null,{"$f":"IF(D385=\"\",\"\",1+COUNT($C$1:C384))","v":""},"","","","terms"]
[386,null,{"$f":"IF(D386=\"\",\"\",1+COUNT($C$1:C385))","v":""},"","","","terms"]
[387,null,{"$f":"IF(D387=\"\",\"\",1+COUNT($C$1:C386))","v":""},"","","","terms"]
[388,null,{"$f":"IF(D388=\"\",\"\",1+COUNT($C$1:C387))","v":""},"","","","terms"]
[389,null,{"$f":"IF(D389=\"\",\"\",1+COUNT($C$1:C388))","v":""},"","","","terms"]
[390,null,{"$f":"IF(D390=\"\",\"\",1+COUNT($C$1:C389))","v":""},"","","","terms"]
[391,null,{"$f":"IF(D391=\"\",\"\",1+COUNT($C$1:C390))","v":""},"","","","terms"]
[392,null,{"$f":"IF(D392=\"\",\"\",1+COUNT($C$1:C391))","v":""},"","","","terms"]
[393,null,{"$f":"IF(D393=\"\",\"\",1+COUNT($C$1:C392))","v":""},"","","","terms"]
[394,null,{"$f":"IF(D394=\"\",\"\",1+COUNT($C$1:C393))","v":""},"","","","terms"]
[395,null,{"$f":"IF(D395=\"\",\"\",1+COUNT($C$1:C394))","v":""},"","","","terms"]
[396,null,{"$f":"IF(D396=\"\",\"\",1+COUNT($C$1:C395))","v":""},"","","","terms"]
[397,null,{"$f":"IF(D397=\"\",\"\",1+COUNT($C$1:C396))","v":""},"","","","terms"]
[398,null,{"$f":"IF(D398=\"\",\"\",1+COUNT($C$1:C397))","v":""},"","","","terms"]
[399,null,{"$f":"IF(D399=\"\",\"\",1+COUNT($C$1:C398))","v":""},"","","","terms"]
[400,null,{"$f":"IF(D400=\"\",\"\",1+COUNT($C$1:C399))","v":""},"","","","terms"]
[401,null,{"$f":"IF(D401=\"\",\"\",1+COUNT($C$1:C400))","v":""},"","","","terms"]
[402,null,{"$f":"IF(D402=\"\",\"\",1+COUNT($C$1:C401))","v":""},"","","","terms"]
[403,null,{"$f":"IF(D403=\"\",\"\",1+COUNT($C$1:C402))","v":""},{"$f":"IF(F403=\"\",\"\",IF(B403=\"\",\"\",IFERROR(IF(_xlfn.NUMBERVALUE(LEFT(B403,1))>=0,IFERROR(IF(FIND(G403,B403,1)>=1,\"\",\"\"),B404),\"\"),\"\")))","v":""},"",{"$f":"IF(B403=\"\",\"\",IF(B403>1,\"\",B403))","v":""},"terms"]
[404,null,{"$f":"IF(D404=\"\",\"\",1+COUNT($C$1:C403))","v":""},"","","","terms"]
[405,null,{"$f":"IF(D405=\"\",\"\",1+COUNT($C$1:C404))","v":""},"","","","terms"]
[406,null,{"$f":"IF(D406=\"\",\"\",1+COUNT($C$1:C405))","v":""},"","","","terms"]
[407,null,{"$f":"IF(D407=\"\",\"\",1+COUNT($C$1:C406))","v":""},"","","","terms"]
[408,null,{"$f":"IF(D408=\"\",\"\",1+COUNT($C$1:C407))","v":""},"","","","terms"]
[409,null,{"$f":"IF(D409=\"\",\"\",1+COUNT($C$1:C408))","v":""},"","","","terms"]
[410,null,{"$f":"IF(D410=\"\",\"\",1+COUNT($C$1:C409))","v":""},"","","","terms"]
[411,null,{"$f":"IF(D411=\"\",\"\",1+COUNT($C$1:C410))","v":""},"","","","terms"]
[412,null,{"$f":"IF(D412=\"\",\"\",1+COUNT($C$1:C411))","v":""},"","","","terms"]
[413,null,{"$f":"IF(D413=\"\",\"\",1+COUNT($C$1:C412))","v":""},"","","","terms"]
[414,null,{"$f":"IF(D414=\"\",\"\",1+COUNT($C$1:C413))","v":""},"","","","terms"]
[415,null,{"$f":"IF(D415=\"\",\"\",1+COUNT($C$1:C414))","v":""},"","","","terms"]
[416,null,{"$f":"IF(D416=\"\",\"\",1+COUNT($C$1:C415))","v":""},"","","","terms"]
[417,null,{"$f":"IF(D417=\"\",\"\",1+COUNT($C$1:C416))","v":""},"","","","terms"]
[418,null,{"$f":"IF(D418=\"\",\"\",1+COUNT($C$1:C417))","v":""},"","","","terms"]
[419,null,{"$f":"IF(D419=\"\",\"\",1+COUNT($C$1:C418))","v":""},"","","","terms"]
[420,null,{"$f":"IF(D420=\"\",\"\",1+COUNT($C$1:C419))","v":""},"","","","terms"]
[421,null,{"$f":"IF(D421=\"\",\"\",1+COUNT($C$1:C420))","v":""},"","","","terms"]
[422,null,{"$f":"IF(D422=\"\",\"\",1+COUNT($C$1:C421))","v":""},"","","","terms"]
[423,null,{"$f":"IF(D423=\"\",\"\",1+COUNT($C$1:C422))","v":""},"","","","terms"]
[424,null,{"$f":"IF(D424=\"\",\"\",1+COUNT($C$1:C423))","v":""},"","","","terms"]
[425,null,{"$f":"IF(D425=\"\",\"\",1+COUNT($C$1:C424))","v":""},"","","","terms"]
[426,null,{"$f":"IF(D426=\"\",\"\",1+COUNT($C$1:C425))","v":""},"","","","terms"]
[427,null,{"$f":"IF(D427=\"\",\"\",1+COUNT($C$1:C426))","v":""},"","","","terms"]
[428,null,{"$f":"IF(D428=\"\",\"\",1+COUNT($C$1:C427))","v":""},"","","","terms"]
[429,null,{"$f":"IF(D429=\"\",\"\",1+COUNT($C$1:C428))","v":""},"","","","terms"]
[430,null,{"$f":"IF(D430=\"\",\"\",1+COUNT($C$1:C429))","v":""},"","","","terms"]
[431,null,{"$f":"IF(D431=\"\",\"\",1+COUNT($C$1:C430))","v":""},"","","","terms"]
[432,null,{"$f":"IF(D432=\"\",\"\",1+COUNT($C$1:C431))","v":""},"","","","terms"]
[433,null,{"$f":"IF(D433=\"\",\"\",1+COUNT($C$1:C432))","v":""},"","","","terms"]
[434,null,{"$f":"IF(D434=\"\",\"\",1+COUNT($C$1:C433))","v":""},"","","","terms"]
[435,null,{"$f":"IF(D435=\"\",\"\",1+COUNT($C$1:C434))","v":""},"","","","terms"]
[436,null,{"$f":"IF(D436=\"\",\"\",1+COUNT($C$1:C435))","v":""},"","","","terms"]
[437,null,{"$f":"IF(D437=\"\",\"\",1+COUNT($C$1:C436))","v":""},"",{"$f":"IF(B437=\"\",\"\",IFERROR(IF(_xlfn.NUMBERVALUE(LEFT(B437,1))>=0,IFERROR(IF(FIND(G437,B437,1)>=1,\"\",\"\"),B439),\"\"),\"\"))","v":""},"","terms"]
[438,null,{"$f":"IF(D438=\"\",\"\",1+COUNT($C$1:C437))","v":""},"","","","terms"]
[439,null,{"$f":"IF(D439=\"\",\"\",1+COUNT($C$1:C438))","v":""},"","","","terms"]
[440,null,{"$f":"IF(D440=\"\",\"\",1+COUNT($C$1:C439))","v":""},"","","","terms"]
[441,null,{"$f":"IF(D441=\"\",\"\",1+COUNT($C$1:C440))","v":""},"","","","terms"]
[442,null,{"$f":"IF(D442=\"\",\"\",1+COUNT($C$1:C441))","v":""},"","","","terms"]
[443,null,{"$f":"IF(D443=\"\",\"\",1+COUNT($C$1:C442))","v":""},"","","","terms"]
[444,null,{"$f":"IF(D444=\"\",\"\",1+COUNT($C$1:C443))","v":""},"","","","terms"]
[445,null,{"$f":"IF(D445=\"\",\"\",1+COUNT($C$1:C444))","v":""},"","","","terms"]
[446,null,{"$f":"IF(D446=\"\",\"\",1+COUNT($C$1:C445))","v":""},"","","","terms"]
[447,null,{"$f":"IF(D447=\"\",\"\",1+COUNT($C$1:C446))","v":""},"","","","terms"]
[448,null,{"$f":"IF(D448=\"\",\"\",1+COUNT($C$1:C447))","v":""},"","","","terms"]
[449,null,{"$f":"IF(D449=\"\",\"\",1+COUNT($C$1:C448))","v":""},"","","","terms"]
[450,null,{"$f":"IF(D450=\"\",\"\",1+COUNT($C$1:C449))","v":""},"","","","terms"]
[451,null,{"$f":"IF(D451=\"\",\"\",1+COUNT($C$1:C450))","v":""},"","","","terms"]
[452,null,{"$f":"IF(D452=\"\",\"\",1+COUNT($C$1:C451))","v":""},"","","","terms"]
[453,null,{"$f":"IF(D453=\"\",\"\",1+COUNT($C$1:C452))","v":""},"","","","terms"]
[454,null,{"$f":"IF(D454=\"\",\"\",1+COUNT($C$1:C453))","v":""},"","","","terms"]
[455,null,{"$f":"IF(D455=\"\",\"\",1+COUNT($C$1:C454))","v":""},"","","","terms"]
[456,null,{"$f":"IF(D456=\"\",\"\",1+COUNT($C$1:C455))","v":""},"","","","terms"]
[457,null,{"$f":"IF(D457=\"\",\"\",1+COUNT($C$1:C456))","v":""},"","","","terms"]
[458,null,{"$f":"IF(D458=\"\",\"\",1+COUNT($C$1:C457))","v":""},"","","","terms"]
[459,null,{"$f":"IF(D459=\"\",\"\",1+COUNT($C$1:C458))","v":""},"","","","terms"]
[460,null,{"$f":"IF(D460=\"\",\"\",1+COUNT($C$1:C459))","v":""},"","","","terms"]
[461,null,{"$f":"IF(D461=\"\",\"\",1+COUNT($C$1:C460))","v":""},"","","","terms"]
[462,null,{"$f":"IF(D462=\"\",\"\",1+COUNT($C$1:C461))","v":""},"","","","terms"]
[463,null,{"$f":"IF(D463=\"\",\"\",1+COUNT($C$1:C462))","v":""},"","","","terms"]
[464,null,{"$f":"IF(D464=\"\",\"\",1+COUNT($C$1:C463))","v":""},"","","","terms"]
[465,null,{"$f":"IF(D465=\"\",\"\",1+COUNT($C$1:C464))","v":""},"","","","terms"]
[466,null,{"$f":"IF(D466=\"\",\"\",1+COUNT($C$1:C465))","v":""},"","","","terms"]
[467,null,{"$f":"IF(D467=\"\",\"\",1+COUNT($C$1:C466))","v":""},{"$f":"IF(F467=\"\",\"\",IF(B467=\"\",\"\",IFERROR(IF(_xlfn.NUMBERVALUE(LEFT(B467,1))>=0,IFERROR(IF(FIND(G467,B467,1)>=1,\"\",\"\"),B468),\"\"),\"\")))","v":""},"",{"$f":"IF(B467=\"\",\"\",IF(B467>1,\"\",B467))","v":""},"terms"]
[468,null,{"$f":"IF(D468=\"\",\"\",1+COUNT($C$1:C467))","v":""},"","","","terms"]
[469,null,{"$f":"IF(D469=\"\",\"\",1+COUNT($C$1:C468))","v":""},"","","","terms"]
[470,null,{"$f":"IF(D470=\"\",\"\",1+COUNT($C$1:C469))","v":""},"","","","terms"]
[471,null,{"$f":"IF(D471=\"\",\"\",1+COUNT($C$1:C470))","v":""},"","","","terms"]
[472,null,{"$f":"IF(D472=\"\",\"\",1+COUNT($C$1:C471))","v":""},"","","","terms"]
[473,null,{"$f":"IF(D473=\"\",\"\",1+COUNT($C$1:C472))","v":""},"","","","terms"]
[474,null,{"$f":"IF(D474=\"\",\"\",1+COUNT($C$1:C473))","v":""},"","","","terms"]
[475,null,{"$f":"IF(D475=\"\",\"\",1+COUNT($C$1:C474))","v":""},"","","","terms"]
[476,null,{"$f":"IF(D476=\"\",\"\",1+COUNT($C$1:C475))","v":""},"","","","terms"]
[477,null,{"$f":"IF(D477=\"\",\"\",1+COUNT($C$1:C476))","v":""},"","","","terms"]
[478,null,{"$f":"IF(D478=\"\",\"\",1+COUNT($C$1:C477))","v":""},"","","","terms"]
[479,null,{"$f":"IF(D479=\"\",\"\",1+COUNT($C$1:C478))","v":""},"","","","terms"]
[480,null,{"$f":"IF(D480=\"\",\"\",1+COUNT($C$1:C479))","v":""},"","","","terms"]
[481,null,{"$f":"IF(D481=\"\",\"\",1+COUNT($C$1:C480))","v":""},"","","","terms"]
[482,null,{"$f":"IF(D482=\"\",\"\",1+COUNT($C$1:C481))","v":""},"","","","terms"]
[483,null,{"$f":"IF(D483=\"\",\"\",1+COUNT($C$1:C482))","v":""},"","","","terms"]
[484,null,{"$f":"IF(D484=\"\",\"\",1+COUNT($C$1:C483))","v":""},"","","","terms"]
[485,null,{"$f":"IF(D485=\"\",\"\",1+COUNT($C$1:C484))","v":""},"","","","terms"]
[486,null,{"$f":"IF(D486=\"\",\"\",1+COUNT($C$1:C485))","v":""},"","","","terms"]
[487,null,{"$f":"IF(D487=\"\",\"\",1+COUNT($C$1:C486))","v":""},"","","","terms"]
[488,null,{"$f":"IF(D488=\"\",\"\",1+COUNT($C$1:C487))","v":""},"","","","terms"]
[489,null,{"$f":"IF(D489=\"\",\"\",1+COUNT($C$1:C488))","v":""},"","","","terms"]
[490,null,{"$f":"IF(D490=\"\",\"\",1+COUNT($C$1:C489))","v":""},"","","","terms"]
[491,null,{"$f":"IF(D491=\"\",\"\",1+COUNT($C$1:C490))","v":""},"","","","terms"]
[492,null,{"$f":"IF(D492=\"\",\"\",1+COUNT($C$1:C491))","v":""},"","","","terms"]
[493,null,{"$f":"IF(D493=\"\",\"\",1+COUNT($C$1:C492))","v":""},"","","","terms"]
[494,null,{"$f":"IF(D494=\"\",\"\",1+COUNT($C$1:C493))","v":""},"","","","terms"]
[495,null,{"$f":"IF(D495=\"\",\"\",1+COUNT($C$1:C494))","v":""},"","","","terms"]
[496,null,{"$f":"IF(D496=\"\",\"\",1+COUNT($C$1:C495))","v":""},"","","","terms"]
[497,null,{"$f":"IF(D497=\"\",\"\",1+COUNT($C$1:C496))","v":""},"","","","terms"]
[498,null,{"$f":"IF(D498=\"\",\"\",1+COUNT($C$1:C497))","v":""},"","","","terms"]
[499,null,{"$f":"IF(D499=\"\",\"\",1+COUNT($C$1:C498))","v":""},"","","","terms"]
[500,null,{"$f":"IF(D500=\"\",\"\",1+COUNT($C$1:C499))","v":""},"","","","terms"]
[501,null,{"$f":"IF(D501=\"\",\"\",1+COUNT($C$1:C500))","v":""},"",{"$f":"IF(B501=\"\",\"\",IFERROR(IF(_xlfn.NUMBERVALUE(LEFT(B501,1))>=0,IFERROR(IF(FIND(G501,B501,1)>=1,\"\",\"\"),B503),\"\"),\"\"))","v":""},"","terms"]
[502,null,{"$f":"IF(D502=\"\",\"\",1+COUNT($C$1:C501))","v":""},"","","","terms"]
[503,null,{"$f":"IF(D503=\"\",\"\",1+COUNT($C$1:C502))","v":""},"","","","terms"]
[504,null,{"$f":"IF(D504=\"\",\"\",1+COUNT($C$1:C503))","v":""},"","","","terms"]
[505,null,{"$f":"IF(D505=\"\",\"\",1+COUNT($C$1:C504))","v":""},"","","","terms"]
[506,null,{"$f":"IF(D506=\"\",\"\",1+COUNT($C$1:C505))","v":""},"","","","terms"]
[507,null,{"$f":"IF(D507=\"\",\"\",1+COUNT($C$1:C506))","v":""},"","","","terms"]
[508,null,{"$f":"IF(D508=\"\",\"\",1+COUNT($C$1:C507))","v":""},"","","","terms"]
[509,null,{"$f":"IF(D509=\"\",\"\",1+COUNT($C$1:C508))","v":""},"","","","terms"]
[510,null,{"$f":"IF(D510=\"\",\"\",1+COUNT($C$1:C509))","v":""},"","","","terms"]
[511,null,{"$f":"IF(D511=\"\",\"\",1+COUNT($C$1:C510))","v":""},"","","","terms"]
[512,null,{"$f":"IF(D512=\"\",\"\",1+COUNT($C$1:C511))","v":""},"","","","terms"]
[513,null,{"$f":"IF(D513=\"\",\"\",1+COUNT($C$1:C512))","v":""},"","","","terms"]
[514,null,{"$f":"IF(D514=\"\",\"\",1+COUNT($C$1:C513))","v":""},"","","","terms"]
[515,null,{"$f":"IF(D515=\"\",\"\",1+COUNT($C$1:C514))","v":""},"","","","terms"]
[516,null,{"$f":"IF(D516=\"\",\"\",1+COUNT($C$1:C515))","v":""},"","","","terms"]
[517,null,{"$f":"IF(D517=\"\",\"\",1+COUNT($C$1:C516))","v":""},"","","","terms"]
[518,null,{"$f":"IF(D518=\"\",\"\",1+COUNT($C$1:C517))","v":""},"","","","terms"]
[519,null,{"$f":"IF(D519=\"\",\"\",1+COUNT($C$1:C518))","v":""},"","","","terms"]
[520,null,{"$f":"IF(D520=\"\",\"\",1+COUNT($C$1:C519))","v":""},"","","","terms"]
[521,null,{"$f":"IF(D521=\"\",\"\",1+COUNT($C$1:C520))","v":""},"","","","terms"]
[522,null,{"$f":"IF(D522=\"\",\"\",1+COUNT($C$1:C521))","v":""},"","","","terms"]
[523,null,{"$f":"IF(D523=\"\",\"\",1+COUNT($C$1:C522))","v":""},"","","","terms"]
[524,null,{"$f":"IF(D524=\"\",\"\",1+COUNT($C$1:C523))","v":""},"","","","terms"]
[525,null,{"$f":"IF(D525=\"\",\"\",1+COUNT($C$1:C524))","v":""},"","","","terms"]
[526,null,{"$f":"IF(D526=\"\",\"\",1+COUNT($C$1:C525))","v":""},"","","","terms"]
[527,null,{"$f":"IF(D527=\"\",\"\",1+COUNT($C$1:C526))","v":""},"","","","terms"]
[528,null,{"$f":"IF(D528=\"\",\"\",1+COUNT($C$1:C527))","v":""},"","","","terms"]
[529,null,{"$f":"IF(D529=\"\",\"\",1+COUNT($C$1:C528))","v":""},"","","","terms"]
[530,null,{"$f":"IF(D530=\"\",\"\",1+COUNT($C$1:C529))","v":""},"","","","terms"]
[531,null,{"$f":"IF(D531=\"\",\"\",1+COUNT($C$1:C530))","v":""},{"$f":"IF(F531=\"\",\"\",IF(B531=\"\",\"\",IFERROR(IF(_xlfn.NUMBERVALUE(LEFT(B531,1))>=0,IFERROR(IF(FIND(G531,B531,1)>=1,\"\",\"\"),B532),\"\"),\"\")))","v":""},"",{"$f":"IF(B531=\"\",\"\",IF(B531>1,\"\",B531))","v":""},"terms"]
[532,null,{"$f":"IF(D532=\"\",\"\",1+COUNT($C$1:C531))","v":""},"","","","terms"]
[533,null,{"$f":"IF(D533=\"\",\"\",1+COUNT($C$1:C532))","v":""},"","","","terms"]
[534,null,{"$f":"IF(D534=\"\",\"\",1+COUNT($C$1:C533))","v":""},"","","","terms"]
[535,null,{"$f":"IF(D535=\"\",\"\",1+COUNT($C$1:C534))","v":""},"","","","terms"]
[536,null,{"$f":"IF(D536=\"\",\"\",1+COUNT($C$1:C535))","v":""},"","","","terms"]
[537,null,{"$f":"IF(D537=\"\",\"\",1+COUNT($C$1:C536))","v":""},"","","","terms"]
[538,null,{"$f":"IF(D538=\"\",\"\",1+COUNT($C$1:C537))","v":""},"","","","terms"]
[539,null,{"$f":"IF(D539=\"\",\"\",1+COUNT($C$1:C538))","v":""},"","","","terms"]
[540,null,{"$f":"IF(D540=\"\",\"\",1+COUNT($C$1:C539))","v":""},"","","","terms"]
[541,null,{"$f":"IF(D541=\"\",\"\",1+COUNT($C$1:C540))","v":""},"","","","terms"]
[542,null,{"$f":"IF(D542=\"\",\"\",1+COUNT($C$1:C541))","v":""},"","","","terms"]
[543,null,{"$f":"IF(D543=\"\",\"\",1+COUNT($C$1:C542))","v":""},"","","","terms"]
[544,null,{"$f":"IF(D544=\"\",\"\",1+COUNT($C$1:C543))","v":""},"","","","terms"]
[545,null,{"$f":"IF(D545=\"\",\"\",1+COUNT($C$1:C544))","v":""},"","","","terms"]
[546,null,{"$f":"IF(D546=\"\",\"\",1+COUNT($C$1:C545))","v":""},"","","","terms"]
[547,null,{"$f":"IF(D547=\"\",\"\",1+COUNT($C$1:C546))","v":""},"","","","terms"]
[548,null,{"$f":"IF(D548=\"\",\"\",1+COUNT($C$1:C547))","v":""},"","","","terms"]
[549,null,{"$f":"IF(D549=\"\",\"\",1+COUNT($C$1:C548))","v":""},"","","","terms"]
[550,null,{"$f":"IF(D550=\"\",\"\",1+COUNT($C$1:C549))","v":""},"","","","terms"]
[551,null,{"$f":"IF(D551=\"\",\"\",1+COUNT($C$1:C550))","v":""},"","","","terms"]
[552,null,{"$f":"IF(D552=\"\",\"\",1+COUNT($C$1:C551))","v":""},"","","","terms"]
[553,null,{"$f":"IF(D553=\"\",\"\",1+COUNT($C$1:C552))","v":""},"","","","terms"]
[554,null,{"$f":"IF(D554=\"\",\"\",1+COUNT($C$1:C553))","v":""},"","","","terms"]
[555,null,{"$f":"IF(D555=\"\",\"\",1+COUNT($C$1:C554))","v":""},"","","","terms"]
[556,null,{"$f":"IF(D556=\"\",\"\",1+COUNT($C$1:C555))","v":""},"","","","terms"]
[557,null,{"$f":"IF(D557=\"\",\"\",1+COUNT($C$1:C556))","v":""},"","","","terms"]
[558,null,{"$f":"IF(D558=\"\",\"\",1+COUNT($C$1:C557))","v":""},"","","","terms"]
[559,null,{"$f":"IF(D559=\"\",\"\",1+COUNT($C$1:C558))","v":""},"","","","terms"]
[560,null,{"$f":"IF(D560=\"\",\"\",1+COUNT($C$1:C559))","v":""},"","","","terms"]
[561,null,{"$f":"IF(D561=\"\",\"\",1+COUNT($C$1:C560))","v":""},"","","","terms"]
[562,null,{"$f":"IF(D562=\"\",\"\",1+COUNT($C$1:C561))","v":""},"","","","terms"]
[563,null,{"$f":"IF(D563=\"\",\"\",1+COUNT($C$1:C562))","v":""},"","","","terms"]
[564,null,{"$f":"IF(D564=\"\",\"\",1+COUNT($C$1:C563))","v":""},"","","","terms"]
[565,null,{"$f":"IF(D565=\"\",\"\",1+COUNT($C$1:C564))","v":""},"",{"$f":"IF(B565=\"\",\"\",IFERROR(IF(_xlfn.NUMBERVALUE(LEFT(B565,1))>=0,IFERROR(IF(FIND(G565,B565,1)>=1,\"\",\"\"),B567),\"\"),\"\"))","v":""},"","terms"]
[566,null,{"$f":"IF(D566=\"\",\"\",1+COUNT($C$1:C565))","v":""},"","","","terms"]
[567,null,{"$f":"IF(D567=\"\",\"\",1+COUNT($C$1:C566))","v":""},"","","","terms"]
[568,null,{"$f":"IF(D568=\"\",\"\",1+COUNT($C$1:C567))","v":""},"","","","terms"]
[569,null,{"$f":"IF(D569=\"\",\"\",1+COUNT($C$1:C568))","v":""},"","","","terms"]
[570,null,{"$f":"IF(D570=\"\",\"\",1+COUNT($C$1:C569))","v":""},"","","","terms"]
[571,null,{"$f":"IF(D571=\"\",\"\",1+COUNT($C$1:C570))","v":""},"","","","terms"]
[572,null,{"$f":"IF(D572=\"\",\"\",1+COUNT($C$1:C571))","v":""},"","","","terms"]
[573,null,{"$f":"IF(D573=\"\",\"\",1+COUNT($C$1:C572))","v":""},"","","","terms"]
[574,null,{"$f":"IF(D574=\"\",\"\",1+COUNT($C$1:C573))","v":""},"","","","terms"]
[575,null,{"$f":"IF(D575=\"\",\"\",1+COUNT($C$1:C574))","v":""},"","","","terms"]
[576,null,{"$f":"IF(D576=\"\",\"\",1+COUNT($C$1:C575))","v":""},"","","","terms"]
[577,null,{"$f":"IF(D577=\"\",\"\",1+COUNT($C$1:C576))","v":""},"","","","terms"]
[578,null,{"$f":"IF(D578=\"\",\"\",1+COUNT($C$1:C577))","v":""},"","","","terms"]
[579,null,{"$f":"IF(D579=\"\",\"\",1+COUNT($C$1:C578))","v":""},"","","","terms"]
[580,null,{"$f":"IF(D580=\"\",\"\",1+COUNT($C$1:C579))","v":""},"","","","terms"]
[581,null,{"$f":"IF(D581=\"\",\"\",1+COUNT($C$1:C580))","v":""},"","","","terms"]
[582,null,{"$f":"IF(D582=\"\",\"\",1+COUNT($C$1:C581))","v":""},"","","","terms"]
[583,null,{"$f":"IF(D583=\"\",\"\",1+COUNT($C$1:C582))","v":""},"","","","terms"]
[584,null,{"$f":"IF(D584=\"\",\"\",1+COUNT($C$1:C583))","v":""},"","","","terms"]
[585,null,{"$f":"IF(D585=\"\",\"\",1+COUNT($C$1:C584))","v":""},"","","","terms"]
[586,null,{"$f":"IF(D586=\"\",\"\",1+COUNT($C$1:C585))","v":""},"","","","terms"]
[587,null,{"$f":"IF(D587=\"\",\"\",1+COUNT($C$1:C586))","v":""},"","","","terms"]
[588,null,{"$f":"IF(D588=\"\",\"\",1+COUNT($C$1:C587))","v":""},"","","","terms"]
[589,null,{"$f":"IF(D589=\"\",\"\",1+COUNT($C$1:C588))","v":""},"","","","terms"]
[590,null,{"$f":"IF(D590=\"\",\"\",1+COUNT($C$1:C589))","v":""},"","","","terms"]
[591,null,{"$f":"IF(D591=\"\",\"\",1+COUNT($C$1:C590))","v":""},"","","","terms"]
[592,null,{"$f":"IF(D592=\"\",\"\",1+COUNT($C$1:C591))","v":""},"","","","terms"]
[593,null,{"$f":"IF(D593=\"\",\"\",1+COUNT($C$1:C592))","v":""},"","","","terms"]
[594,null,{"$f":"IF(D594=\"\",\"\",1+COUNT($C$1:C593))","v":""},"","","","terms"]
[595,null,{"$f":"IF(D595=\"\",\"\",1+COUNT($C$1:C594))","v":""},{"$f":"IF(F595=\"\",\"\",IF(B595=\"\",\"\",IFERROR(IF(_xlfn.NUMBERVALUE(LEFT(B595,1))>=0,IFERROR(IF(FIND(G595,B595,1)>=1,\"\",\"\"),B596),\"\"),\"\")))","v":""},"",{"$f":"IF(B595=\"\",\"\",IF(B595>1,\"\",B595))","v":""},"terms"]
[596,null,{"$f":"IF(D596=\"\",\"\",1+COUNT($C$1:C595))","v":""},"","","","terms"]
[597,null,{"$f":"IF(D597=\"\",\"\",1+COUNT($C$1:C596))","v":""},"","","","terms"]
[598,null,{"$f":"IF(D598=\"\",\"\",1+COUNT($C$1:C597))","v":""},"","","","terms"]
[599,null,{"$f":"IF(D599=\"\",\"\",1+COUNT($C$1:C598))","v":""},"","","","terms"]
[600,null,{"$f":"IF(D600=\"\",\"\",1+COUNT($C$1:C599))","v":""},"","","","terms"]
[601,null,{"$f":"IF(D601=\"\",\"\",1+COUNT($C$1:C600))","v":""},"","","","terms"]
[602,null,{"$f":"IF(D602=\"\",\"\",1+COUNT($C$1:C601))","v":""},"","","","terms"]
[603,null,{"$f":"IF(D603=\"\",\"\",1+COUNT($C$1:C602))","v":""},"","","","terms"]
[604,null,{"$f":"IF(D604=\"\",\"\",1+COUNT($C$1:C603))","v":""},"","","","terms"]
[605,null,{"$f":"IF(D605=\"\",\"\",1+COUNT($C$1:C604))","v":""},"","","","terms"]
[606,null,{"$f":"IF(D606=\"\",\"\",1+COUNT($C$1:C605))","v":""},"","","","terms"]
[607,null,{"$f":"IF(D607=\"\",\"\",1+COUNT($C$1:C606))","v":""},"","","","terms"]
[608,null,{"$f":"IF(D608=\"\",\"\",1+COUNT($C$1:C607))","v":""},"","","","terms"]
[609,null,{"$f":"IF(D609=\"\",\"\",1+COUNT($C$1:C608))","v":""},"","","","terms"]
[610,null,{"$f":"IF(D610=\"\",\"\",1+COUNT($C$1:C609))","v":""},"","","","terms"]
[611,null,{"$f":"IF(D611=\"\",\"\",1+COUNT($C$1:C610))","v":""},"","","","terms"]
[612,null,{"$f":"IF(D612=\"\",\"\",1+COUNT($C$1:C611))","v":""},"","","","terms"]
[613,null,{"$f":"IF(D613=\"\",\"\",1+COUNT($C$1:C612))","v":""},"","","","terms"]
[614,null,{"$f":"IF(D614=\"\",\"\",1+COUNT($C$1:C613))","v":""},"","","","terms"]
[615,null,{"$f":"IF(D615=\"\",\"\",1+COUNT($C$1:C614))","v":""},"","","","terms"]
[616,null,{"$f":"IF(D616=\"\",\"\",1+COUNT($C$1:C615))","v":""},"","","","terms"]
[617,null,{"$f":"IF(D617=\"\",\"\",1+COUNT($C$1:C616))","v":""},"","","","terms"]
[618,null,{"$f":"IF(D618=\"\",\"\",1+COUNT($C$1:C617))","v":""},"","","","terms"]
[619,null,{"$f":"IF(D619=\"\",\"\",1+COUNT($C$1:C618))","v":""},"","","","terms"]
[620,null,{"$f":"IF(D620=\"\",\"\",1+COUNT($C$1:C619))","v":""},"","","","terms"]
[621,null,{"$f":"IF(D621=\"\",\"\",1+COUNT($C$1:C620))","v":""},"","","","terms"]
[622,null,{"$f":"IF(D622=\"\",\"\",1+COUNT($C$1:C621))","v":""},"","","","terms"]
[623,null,{"$f":"IF(D623=\"\",\"\",1+COUNT($C$1:C622))","v":""},"","","","terms"]
[624,null,{"$f":"IF(D624=\"\",\"\",1+COUNT($C$1:C623))","v":""},"","","","terms"]
[625,null,{"$f":"IF(D625=\"\",\"\",1+COUNT($C$1:C624))","v":""},"","","","terms"]
[626,null,{"$f":"IF(D626=\"\",\"\",1+COUNT($C$1:C625))","v":""},"","","","terms"]
[627,null,{"$f":"IF(D627=\"\",\"\",1+COUNT($C$1:C626))","v":""},"","","","terms"]
[628,null,{"$f":"IF(D628=\"\",\"\",1+COUNT($C$1:C627))","v":""},"","","","terms"]
[629,null,{"$f":"IF(D629=\"\",\"\",1+COUNT($C$1:C628))","v":""},"",{"$f":"IF(B629=\"\",\"\",IFERROR(IF(_xlfn.NUMBERVALUE(LEFT(B629,1))>=0,IFERROR(IF(FIND(G629,B629,1)>=1,\"\",\"\"),B631),\"\"),\"\"))","v":""},"","terms"]
[630,null,{"$f":"IF(D630=\"\",\"\",1+COUNT($C$1:C629))","v":""},"","","","terms"]
[631,null,{"$f":"IF(D631=\"\",\"\",1+COUNT($C$1:C630))","v":""},"","","","terms"]
[632,null,{"$f":"IF(D632=\"\",\"\",1+COUNT($C$1:C631))","v":""},"","","","terms"]
[633,null,{"$f":"IF(D633=\"\",\"\",1+COUNT($C$1:C632))","v":""},"","","","terms"]
[634,null,{"$f":"IF(D634=\"\",\"\",1+COUNT($C$1:C633))","v":""},"","","","terms"]
[635,null,{"$f":"IF(D635=\"\",\"\",1+COUNT($C$1:C634))","v":""},"","","","terms"]
[636,null,{"$f":"IF(D636=\"\",\"\",1+COUNT($C$1:C635))","v":""},"","","","terms"]
[637,null,{"$f":"IF(D637=\"\",\"\",1+COUNT($C$1:C636))","v":""},"","","","terms"]
[638,null,{"$f":"IF(D638=\"\",\"\",1+COUNT($C$1:C637))","v":""},"","","","terms"]
[639,null,{"$f":"IF(D639=\"\",\"\",1+COUNT($C$1:C638))","v":""},"","","","terms"]
[640,null,{"$f":"IF(D640=\"\",\"\",1+COUNT($C$1:C639))","v":""},"","","","terms"]
[641,null,{"$f":"IF(D641=\"\",\"\",1+COUNT($C$1:C640))","v":""},"","","","terms"]
[642,null,{"$f":"IF(D642=\"\",\"\",1+COUNT($C$1:C641))","v":""},"","","","terms"]
[643,null,{"$f":"IF(D643=\"\",\"\",1+COUNT($C$1:C642))","v":""},"","","","terms"]
[644,null,{"$f":"IF(D644=\"\",\"\",1+COUNT($C$1:C643))","v":""},"","","","terms"]
[645,null,{"$f":"IF(D645=\"\",\"\",1+COUNT($C$1:C644))","v":""},"","","","terms"]
[646,null,{"$f":"IF(D646=\"\",\"\",1+COUNT($C$1:C645))","v":""},"","","","terms"]
[647,null,{"$f":"IF(D647=\"\",\"\",1+COUNT($C$1:C646))","v":""},"","","","terms"]
[648,null,{"$f":"IF(D648=\"\",\"\",1+COUNT($C$1:C647))","v":""},"","","","terms"]
[649,null,{"$f":"IF(D649=\"\",\"\",1+COUNT($C$1:C648))","v":""},"","","","terms"]
[650,null,{"$f":"IF(D650=\"\",\"\",1+COUNT($C$1:C649))","v":""},"","","","terms"]
[651,null,{"$f":"IF(D651=\"\",\"\",1+COUNT($C$1:C650))","v":""},"","","","terms"]
[652,null,{"$f":"IF(D652=\"\",\"\",1+COUNT($C$1:C651))","v":""},"","","","terms"]
[653,null,{"$f":"IF(D653=\"\",\"\",1+COUNT($C$1:C652))","v":""},"","","","terms"]
[654,null,{"$f":"IF(D654=\"\",\"\",1+COUNT($C$1:C653))","v":""},"","","","terms"]
[655,null,{"$f":"IF(D655=\"\",\"\",1+COUNT($C$1:C654))","v":""},"","","","terms"]
[656,null,{"$f":"IF(D656=\"\",\"\",1+COUNT($C$1:C655))","v":""},"","","","terms"]
[657,null,{"$f":"IF(D657=\"\",\"\",1+COUNT($C$1:C656))","v":""},"","","","terms"]
[658,null,{"$f":"IF(D658=\"\",\"\",1+COUNT($C$1:C657))","v":""},"","","","terms"]
[659,null,{"$f":"IF(D659=\"\",\"\",1+COUNT($C$1:C658))","v":""},{"$f":"IF(F659=\"\",\"\",IF(B659=\"\",\"\",IFERROR(IF(_xlfn.NUMBERVALUE(LEFT(B659,1))>=0,IFERROR(IF(FIND(G659,B659,1)>=1,\"\",\"\"),B660),\"\"),\"\")))","v":""},"",{"$f":"IF(B659=\"\",\"\",IF(B659>1,\"\",B659))","v":""},"terms"]
[660,null,{"$f":"IF(D660=\"\",\"\",1+COUNT($C$1:C659))","v":""},"","","","terms"]
[661,null,{"$f":"IF(D661=\"\",\"\",1+COUNT($C$1:C660))","v":""},"","","","terms"]
[662,null,{"$f":"IF(D662=\"\",\"\",1+COUNT($C$1:C661))","v":""},"","","","terms"]
[663,null,{"$f":"IF(D663=\"\",\"\",1+COUNT($C$1:C662))","v":""},"","","","terms"]
[664,null,{"$f":"IF(D664=\"\",\"\",1+COUNT($C$1:C663))","v":""},"","","","terms"]
[665,null,{"$f":"IF(D665=\"\",\"\",1+COUNT($C$1:C664))","v":""},"","","","terms"]
[666,null,{"$f":"IF(D666=\"\",\"\",1+COUNT($C$1:C665))","v":""},"","","","terms"]
[667,null,{"$f":"IF(D667=\"\",\"\",1+COUNT($C$1:C666))","v":""},"","","","terms"]
[668,null,{"$f":"IF(D668=\"\",\"\",1+COUNT($C$1:C667))","v":""},"","","","terms"]
[669,null,{"$f":"IF(D669=\"\",\"\",1+COUNT($C$1:C668))","v":""},"","","","terms"]
[670,null,{"$f":"IF(D670=\"\",\"\",1+COUNT($C$1:C669))","v":""},"","","","terms"]
[671,null,{"$f":"IF(D671=\"\",\"\",1+COUNT($C$1:C670))","v":""},"","","","terms"]
[672,null,{"$f":"IF(D672=\"\",\"\",1+COUNT($C$1:C671))","v":""},"","","","terms"]
[673,null,{"$f":"IF(D673=\"\",\"\",1+COUNT($C$1:C672))","v":""},"","","","terms"]
[674,null,{"$f":"IF(D674=\"\",\"\",1+COUNT($C$1:C673))","v":""},"","","","terms"]
[675,null,{"$f":"IF(D675=\"\",\"\",1+COUNT($C$1:C674))","v":""},"","","","terms"]
[676,null,{"$f":"IF(D676=\"\",\"\",1+COUNT($C$1:C675))","v":""},"","","","terms"]
[677,null,{"$f":"IF(D677=\"\",\"\",1+COUNT($C$1:C676))","v":""},"","","","terms"]
[678,null,{"$f":"IF(D678=\"\",\"\",1+COUNT($C$1:C677))","v":""},"","","","terms"]
[679,null,{"$f":"IF(D679=\"\",\"\",1+COUNT($C$1:C678))","v":""},"","","","terms"]
[680,null,{"$f":"IF(D680=\"\",\"\",1+COUNT($C$1:C679))","v":""},"","","","terms"]
[681,null,{"$f":"IF(D681=\"\",\"\",1+COUNT($C$1:C680))","v":""},"","","","terms"]
[682,null,{"$f":"IF(D682=\"\",\"\",1+COUNT($C$1:C681))","v":""},"","","","terms"]
[683,null,{"$f":"IF(D683=\"\",\"\",1+COUNT($C$1:C682))","v":""},"","","","terms"]
[684,null,{"$f":"IF(D684=\"\",\"\",1+COUNT($C$1:C683))","v":""},"","","","terms"]
[685,null,{"$f":"IF(D685=\"\",\"\",1+COUNT($C$1:C684))","v":""},"","","","terms"]
[686,null,{"$f":"IF(D686=\"\",\"\",1+COUNT($C$1:C685))","v":""},"","","","terms"]
[687,null,{"$f":"IF(D687=\"\",\"\",1+COUNT($C$1:C686))","v":""},"","","","terms"]
[688,null,{"$f":"IF(D688=\"\",\"\",1+COUNT($C$1:C687))","v":""},"","","","terms"]
[689,null,{"$f":"IF(D689=\"\",\"\",1+COUNT($C$1:C688))","v":""},"","","","terms"]
[690,null,{"$f":"IF(D690=\"\",\"\",1+COUNT($C$1:C689))","v":""},"","","","terms"]
[691,null,{"$f":"IF(D691=\"\",\"\",1+COUNT($C$1:C690))","v":""},"","","","terms"]
[692,null,{"$f":"IF(D692=\"\",\"\",1+COUNT($C$1:C691))","v":""},"","","","terms"]
[693,null,{"$f":"IF(D693=\"\",\"\",1+COUNT($C$1:C692))","v":""},"",{"$f":"IF(B693=\"\",\"\",IFERROR(IF(_xlfn.NUMBERVALUE(LEFT(B693,1))>=0,IFERROR(IF(FIND(G693,B693,1)>=1,\"\",\"\"),B695),\"\"),\"\"))","v":""},"","terms"]
[694,null,{"$f":"IF(D694=\"\",\"\",1+COUNT($C$1:C693))","v":""},"","","","terms"]
[695,null,{"$f":"IF(D695=\"\",\"\",1+COUNT($C$1:C694))","v":""},"","","","terms"]
[696,null,{"$f":"IF(D696=\"\",\"\",1+COUNT($C$1:C695))","v":""},"","","","terms"]
[697,null,{"$f":"IF(D697=\"\",\"\",1+COUNT($C$1:C696))","v":""},"","","","terms"]
[698,null,{"$f":"IF(D698=\"\",\"\",1+COUNT($C$1:C697))","v":""},"","","","terms"]
[699,null,{"$f":"IF(D699=\"\",\"\",1+COUNT($C$1:C698))","v":""},"","","","terms"]
[700,null,{"$f":"IF(D700=\"\",\"\",1+COUNT($C$1:C699))","v":""},"","","","terms"]
[701,null,{"$f":"IF(D701=\"\",\"\",1+COUNT($C$1:C700))","v":""},"","","","terms"]
[702,null,{"$f":"IF(D702=\"\",\"\",1+COUNT($C$1:C701))","v":""},"","","","terms"]
[703,null,{"$f":"IF(D703=\"\",\"\",1+COUNT($C$1:C702))","v":""},"","","","terms"]
[704,null,{"$f":"IF(D704=\"\",\"\",1+COUNT($C$1:C703))","v":""},"","","","terms"]
[705,null,{"$f":"IF(D705=\"\",\"\",1+COUNT($C$1:C704))","v":""},"","","","terms"]
[706,null,{"$f":"IF(D706=\"\",\"\",1+COUNT($C$1:C705))","v":""},"","","","terms"]
[707,null,{"$f":"IF(D707=\"\",\"\",1+COUNT($C$1:C706))","v":""},"","","","terms"]
[708,null,{"$f":"IF(D708=\"\",\"\",1+COUNT($C$1:C707))","v":""},"","","","terms"]
[709,null,{"$f":"IF(D709=\"\",\"\",1+COUNT($C$1:C708))","v":""},"","","","terms"]
[710,null,{"$f":"IF(D710=\"\",\"\",1+COUNT($C$1:C709))","v":""},"","","","terms"]
[711,null,{"$f":"IF(D711=\"\",\"\",1+COUNT($C$1:C710))","v":""},"","","","terms"]
[712,null,{"$f":"IF(D712=\"\",\"\",1+COUNT($C$1:C711))","v":""},"","","","terms"]
[713,null,{"$f":"IF(D713=\"\",\"\",1+COUNT($C$1:C712))","v":""},"","","","terms"]
[714,null,{"$f":"IF(D714=\"\",\"\",1+COUNT($C$1:C713))","v":""},"","","","terms"]
[715,null,{"$f":"IF(D715=\"\",\"\",1+COUNT($C$1:C714))","v":""},"","","","terms"]
[716,null,{"$f":"IF(D716=\"\",\"\",1+COUNT($C$1:C715))","v":""},"","","","terms"]
[717,null,{"$f":"IF(D717=\"\",\"\",1+COUNT($C$1:C716))","v":""},"","","","terms"]
[718,null,{"$f":"IF(D718=\"\",\"\",1+COUNT($C$1:C717))","v":""},"","","","terms"]
[719,null,{"$f":"IF(D719=\"\",\"\",1+COUNT($C$1:C718))","v":""},"","","","terms"]
[720,null,{"$f":"IF(D720=\"\",\"\",1+COUNT($C$1:C719))","v":""},"","","","terms"]
[721,null,{"$f":"IF(D721=\"\",\"\",1+COUNT($C$1:C720))","v":""},"","","","terms"]
[722,null,{"$f":"IF(D722=\"\",\"\",1+COUNT($C$1:C721))","v":""},"","","","terms"]
[723,null,{"$f":"IF(D723=\"\",\"\",1+COUNT($C$1:C722))","v":""},{"$f":"IF(F723=\"\",\"\",IF(B723=\"\",\"\",IFERROR(IF(_xlfn.NUMBERVALUE(LEFT(B723,1))>=0,IFERROR(IF(FIND(G723,B723,1)>=1,\"\",\"\"),B724),\"\"),\"\")))","v":""},"",{"$f":"IF(B723=\"\",\"\",IF(B723>1,\"\",B723))","v":""},"terms"]
[724,null,{"$f":"IF(D724=\"\",\"\",1+COUNT($C$1:C723))","v":""},"","","","terms"]
[725,null,{"$f":"IF(D725=\"\",\"\",1+COUNT($C$1:C724))","v":""},"","","","terms"]
[726,null,{"$f":"IF(D726=\"\",\"\",1+COUNT($C$1:C725))","v":""},"","","","terms"]
[727,null,{"$f":"IF(D727=\"\",\"\",1+COUNT($C$1:C726))","v":""},"","","","terms"]
[728,null,{"$f":"IF(D728=\"\",\"\",1+COUNT($C$1:C727))","v":""},"","","","terms"]
[729,null,{"$f":"IF(D729=\"\",\"\",1+COUNT($C$1:C728))","v":""},"","","","terms"]
[730,null,{"$f":"IF(D730=\"\",\"\",1+COUNT($C$1:C729))","v":""},"","","","terms"]
[731,null,{"$f":"IF(D731=\"\",\"\",1+COUNT($C$1:C730))","v":""},"","","","terms"]
[732,null,{"$f":"IF(D732=\"\",\"\",1+COUNT($C$1:C731))","v":""},"","","","terms"]
[733,null,{"$f":"IF(D733=\"\",\"\",1+COUNT($C$1:C732))","v":""},"","","","terms"]
[734,null,{"$f":"IF(D734=\"\",\"\",1+COUNT($C$1:C733))","v":""},"","","","terms"]
[735,null,{"$f":"IF(D735=\"\",\"\",1+COUNT($C$1:C734))","v":""},"","","","terms"]
[736,null,{"$f":"IF(D736=\"\",\"\",1+COUNT($C$1:C735))","v":""},"","","","terms"]
[737,null,{"$f":"IF(D737=\"\",\"\",1+COUNT($C$1:C736))","v":""},"","","","terms"]
[738,null,{"$f":"IF(D738=\"\",\"\",1+COUNT($C$1:C737))","v":""},"","","","terms"]
[739,null,{"$f":"IF(D739=\"\",\"\",1+COUNT($C$1:C738))","v":""},"","","","terms"]
[740,null,{"$f":"IF(D740=\"\",\"\",1+COUNT($C$1:C739))","v":""},"","","","terms"]
[741,null,{"$f":"IF(D741=\"\",\"\",1+COUNT($C$1:C740))","v":""},"","","","terms"]
[742,null,{"$f":"IF(D742=\"\",\"\",1+COUNT($C$1:C741))","v":""},"","","","terms"]
[743,null,{"$f":"IF(D743=\"\",\"\",1+COUNT($C$1:C742))","v":""},"","","","terms"]
[744,null,{"$f":"IF(D744=\"\",\"\",1+COUNT($C$1:C743))","v":""},"","","","terms"]
[745,null,{"$f":"IF(D745=\"\",\"\",1+COUNT($C$1:C744))","v":""},"","","","terms"]
[746,null,{"$f":"IF(D746=\"\",\"\",1+COUNT($C$1:C745))","v":""},"","","","terms"]
[747,null,{"$f":"IF(D747=\"\",\"\",1+COUNT($C$1:C746))","v":""},"","","","terms"]
[748,null,{"$f":"IF(D748=\"\",\"\",1+COUNT($C$1:C747))","v":""},"","","","terms"]
[749,null,{"$f":"IF(D749=\"\",\"\",1+COUNT($C$1:C748))","v":""},"","","","terms"]
[750,null,{"$f":"IF(D750=\"\",\"\",1+COUNT($C$1:C749))","v":""},"","","","terms"]
[751,null,{"$f":"IF(D751=\"\",\"\",1+COUNT($C$1:C750))","v":""},"","","","terms"]
[752,null,{"$f":"IF(D752=\"\",\"\",1+COUNT($C$1:C751))","v":""},"","","","terms"]
[753,null,{"$f":"IF(D753=\"\",\"\",1+COUNT($C$1:C752))","v":""},"","","","terms"]
[754,null,{"$f":"IF(D754=\"\",\"\",1+COUNT($C$1:C753))","v":""},"","","","terms"]
[755,null,{"$f":"IF(D755=\"\",\"\",1+COUNT($C$1:C754))","v":""},"","","","terms"]
[756,null,{"$f":"IF(D756=\"\",\"\",1+COUNT($C$1:C755))","v":""},"","","","terms"]
[757,null,{"$f":"IF(D757=\"\",\"\",1+COUNT($C$1:C756))","v":""},"",{"$f":"IF(B757=\"\",\"\",IFERROR(IF(_xlfn.NUMBERVALUE(LEFT(B757,1))>=0,IFERROR(IF(FIND(G757,B757,1)>=1,\"\",\"\"),B759),\"\"),\"\"))","v":""},"","terms"]
[758,null,{"$f":"IF(D758=\"\",\"\",1+COUNT($C$1:C757))","v":""},"","","","terms"]
[759,null,{"$f":"IF(D759=\"\",\"\",1+COUNT($C$1:C758))","v":""},"","","","terms"]
[760,null,{"$f":"IF(D760=\"\",\"\",1+COUNT($C$1:C759))","v":""},"","","","terms"]
[761,null,{"$f":"IF(D761=\"\",\"\",1+COUNT($C$1:C760))","v":""},"","","","terms"]
[762,null,{"$f":"IF(D762=\"\",\"\",1+COUNT($C$1:C761))","v":""},"","","","terms"]
[763,null,{"$f":"IF(D763=\"\",\"\",1+COUNT($C$1:C762))","v":""},"","","","terms"]
[764,null,{"$f":"IF(D764=\"\",\"\",1+COUNT($C$1:C763))","v":""},"","","","terms"]
[765,null,{"$f":"IF(D765=\"\",\"\",1+COUNT($C$1:C764))","v":""},"","","","terms"]
[766,null,{"$f":"IF(D766=\"\",\"\",1+COUNT($C$1:C765))","v":""},"","","","terms"]
[767,null,{"$f":"IF(D767=\"\",\"\",1+COUNT($C$1:C766))","v":""},"","","","terms"]
[768,null,{"$f":"IF(D768=\"\",\"\",1+COUNT($C$1:C767))","v":""},"","","","terms"]
[769,null,{"$f":"IF(D769=\"\",\"\",1+COUNT($C$1:C768))","v":""},"","","","terms"]
[770,null,{"$f":"IF(D770=\"\",\"\",1+COUNT($C$1:C769))","v":""},"","","","terms"]
[771,null,{"$f":"IF(D771=\"\",\"\",1+COUNT($C$1:C770))","v":""},"","","","terms"]
[772,null,{"$f":"IF(D772=\"\",\"\",1+COUNT($C$1:C771))","v":""},"","","","terms"]
[773,null,{"$f":"IF(D773=\"\",\"\",1+COUNT($C$1:C772))","v":""},"","","","terms"]
[774,null,{"$f":"IF(D774=\"\",\"\",1+COUNT($C$1:C773))","v":""},"","","","terms"]
[775,null,{"$f":"IF(D775=\"\",\"\",1+COUNT($C$1:C774))","v":""},"","","","terms"]
[776,null,{"$f":"IF(D776=\"\",\"\",1+COUNT($C$1:C775))","v":""},"","","","terms"]
[777,null,{"$f":"IF(D777=\"\",\"\",1+COUNT($C$1:C776))","v":""},"","","","terms"]
[778,null,{"$f":"IF(D778=\"\",\"\",1+COUNT($C$1:C777))","v":""},"","","","terms"]
[779,null,{"$f":"IF(D779=\"\",\"\",1+COUNT($C$1:C778))","v":""},"","","","terms"]
[780,null,{"$f":"IF(D780=\"\",\"\",1+COUNT($C$1:C779))","v":""},"","","","terms"]
[781,null,{"$f":"IF(D781=\"\",\"\",1+COUNT($C$1:C780))","v":""},"","","","terms"]
[782,null,{"$f":"IF(D782=\"\",\"\",1+COUNT($C$1:C781))","v":""},"","","","terms"]
[783,null,{"$f":"IF(D783=\"\",\"\",1+COUNT($C$1:C782))","v":""},"","","","terms"]
[784,null,{"$f":"IF(D784=\"\",\"\",1+COUNT($C$1:C783))","v":""},"","","","terms"]
[785,null,{"$f":"IF(D785=\"\",\"\",1+COUNT($C$1:C784))","v":""},"","","","terms"]
[786,null,{"$f":"IF(D786=\"\",\"\",1+COUNT($C$1:C785))","v":""},"","","","terms"]
[787,null,{"$f":"IF(D787=\"\",\"\",1+COUNT($C$1:C786))","v":""},{"$f":"IF(F787=\"\",\"\",IF(B787=\"\",\"\",IFERROR(IF(_xlfn.NUMBERVALUE(LEFT(B787,1))>=0,IFERROR(IF(FIND(G787,B787,1)>=1,\"\",\"\"),B788),\"\"),\"\")))","v":""},"",{"$f":"IF(B787=\"\",\"\",IF(B787>1,\"\",B787))","v":""},"terms"]
[788,null,{"$f":"IF(D788=\"\",\"\",1+COUNT($C$1:C787))","v":""},"","","","terms"]
[789,null,{"$f":"IF(D789=\"\",\"\",1+COUNT($C$1:C788))","v":""},"","","","terms"]
[790,null,{"$f":"IF(D790=\"\",\"\",1+COUNT($C$1:C789))","v":""},"","","","terms"]
[791,null,{"$f":"IF(D791=\"\",\"\",1+COUNT($C$1:C790))","v":""},"","","","terms"]
[792,null,{"$f":"IF(D792=\"\",\"\",1+COUNT($C$1:C791))","v":""},"","","","terms"]
[793,null,{"$f":"IF(D793=\"\",\"\",1+COUNT($C$1:C792))","v":""},"","","","terms"]
[794,null,{"$f":"IF(D794=\"\",\"\",1+COUNT($C$1:C793))","v":""},"","","","terms"]
[795,null,{"$f":"IF(D795=\"\",\"\",1+COUNT($C$1:C794))","v":""},"","","","terms"]
[796,null,{"$f":"IF(D796=\"\",\"\",1+COUNT($C$1:C795))","v":""},"","","","terms"]
[797,null,{"$f":"IF(D797=\"\",\"\",1+COUNT($C$1:C796))","v":""},"","","","terms"]
[798,null,{"$f":"IF(D798=\"\",\"\",1+COUNT($C$1:C797))","v":""},"","","","terms"]
[799,null,{"$f":"IF(D799=\"\",\"\",1+COUNT($C$1:C798))","v":""},"","","","terms"]
[800,null,{"$f":"IF(D800=\"\",\"\",1+COUNT($C$1:C799))","v":""},"","","","terms"]
[801,null,{"$f":"IF(D801=\"\",\"\",1+COUNT($C$1:C800))","v":""},"","","","terms"]
[802,null,{"$f":"IF(D802=\"\",\"\",1+COUNT($C$1:C801))","v":""},"","","","terms"]
[803,null,{"$f":"IF(D803=\"\",\"\",1+COUNT($C$1:C802))","v":""},"","","","terms"]
[804,null,{"$f":"IF(D804=\"\",\"\",1+COUNT($C$1:C803))","v":""},"","","","terms"]
[805,null,{"$f":"IF(D805=\"\",\"\",1+COUNT($C$1:C804))","v":""},"","","","terms"]
[806,null,{"$f":"IF(D806=\"\",\"\",1+COUNT($C$1:C805))","v":""},"","","","terms"]
[807,null,{"$f":"IF(D807=\"\",\"\",1+COUNT($C$1:C806))","v":""},"","","","terms"]
[808,null,{"$f":"IF(D808=\"\",\"\",1+COUNT($C$1:C807))","v":""},"","","","terms"]
[809,null,{"$f":"IF(D809=\"\",\"\",1+COUNT($C$1:C808))","v":""},"","","","terms"]
[810,null,{"$f":"IF(D810=\"\",\"\",1+COUNT($C$1:C809))","v":""},"","","","terms"]
[811,null,{"$f":"IF(D811=\"\",\"\",1+COUNT($C$1:C810))","v":""},"","","","terms"]
[812,null,{"$f":"IF(D812=\"\",\"\",1+COUNT($C$1:C811))","v":""},"","","","terms"]
[813,null,{"$f":"IF(D813=\"\",\"\",1+COUNT($C$1:C812))","v":""},"","","","terms"]
[814,null,{"$f":"IF(D814=\"\",\"\",1+COUNT($C$1:C813))","v":""},"","","","terms"]
[815,null,{"$f":"IF(D815=\"\",\"\",1+COUNT($C$1:C814))","v":""},"","","","terms"]
[816,null,{"$f":"IF(D816=\"\",\"\",1+COUNT($C$1:C815))","v":""},"","","","terms"]
[817,null,{"$f":"IF(D817=\"\",\"\",1+COUNT($C$1:C816))","v":""},"","","","terms"]
[818,null,{"$f":"IF(D818=\"\",\"\",1+COUNT($C$1:C817))","v":""},"","","","terms"]
[819,null,{"$f":"IF(D819=\"\",\"\",1+COUNT($C$1:C818))","v":""},"","","","terms"]
[820,null,{"$f":"IF(D820=\"\",\"\",1+COUNT($C$1:C819))","v":""},"","","","terms"]
[821,null,{"$f":"IF(D821=\"\",\"\",1+COUNT($C$1:C820))","v":""},"",{"$f":"IF(B821=\"\",\"\",IFERROR(IF(_xlfn.NUMBERVALUE(LEFT(B821,1))>=0,IFERROR(IF(FIND(G821,B821,1)>=1,\"\",\"\"),B823),\"\"),\"\"))","v":""},"","terms"]
[822,null,{"$f":"IF(D822=\"\",\"\",1+COUNT($C$1:C821))","v":""},"","","","terms"]
[823,null,{"$f":"IF(D823=\"\",\"\",1+COUNT($C$1:C822))","v":""},"","","","terms"]
[824,null,{"$f":"IF(D824=\"\",\"\",1+COUNT($C$1:C823))","v":""},"","","","terms"]
[825,null,{"$f":"IF(D825=\"\",\"\",1+COUNT($C$1:C824))","v":""},"","","","terms"]
[826,null,{"$f":"IF(D826=\"\",\"\",1+COUNT($C$1:C825))","v":""},"","","","terms"]
[827,null,{"$f":"IF(D827=\"\",\"\",1+COUNT($C$1:C826))","v":""},"","","","terms"]
[828,null,{"$f":"IF(D828=\"\",\"\",1+COUNT($C$1:C827))","v":""},"","","","terms"]
[829,null,{"$f":"IF(D829=\"\",\"\",1+COUNT($C$1:C828))","v":""},"","","","terms"]
[830,null,{"$f":"IF(D830=\"\",\"\",1+COUNT($C$1:C829))","v":""},"","","","terms"]
[831,null,{"$f":"IF(D831=\"\",\"\",1+COUNT($C$1:C830))","v":""},"","","","terms"]
[832,null,{"$f":"IF(D832=\"\",\"\",1+COUNT($C$1:C831))","v":""},"","","","terms"]
[833,null,{"$f":"IF(D833=\"\",\"\",1+COUNT($C$1:C832))","v":""},"","","","terms"]
[834,null,{"$f":"IF(D834=\"\",\"\",1+COUNT($C$1:C833))","v":""},"","","","terms"]
[835,null,{"$f":"IF(D835=\"\",\"\",1+COUNT($C$1:C834))","v":""},"","","","terms"]
[836,null,{"$f":"IF(D836=\"\",\"\",1+COUNT($C$1:C835))","v":""},"","","","terms"]
[837,null,{"$f":"IF(D837=\"\",\"\",1+COUNT($C$1:C836))","v":""},"","","","terms"]
[838,null,{"$f":"IF(D838=\"\",\"\",1+COUNT($C$1:C837))","v":""},"","","","terms"]
[839,null,{"$f":"IF(D839=\"\",\"\",1+COUNT($C$1:C838))","v":""},"","","","terms"]
[840,null,{"$f":"IF(D840=\"\",\"\",1+COUNT($C$1:C839))","v":""},"","","","terms"]
[841,null,{"$f":"IF(D841=\"\",\"\",1+COUNT($C$1:C840))","v":""},"","","","terms"]
[842,null,{"$f":"IF(D842=\"\",\"\",1+COUNT($C$1:C841))","v":""},"","","","terms"]
[843,null,{"$f":"IF(D843=\"\",\"\",1+COUNT($C$1:C842))","v":""},"","","","terms"]
[844,null,{"$f":"IF(D844=\"\",\"\",1+COUNT($C$1:C843))","v":""},"","","","terms"]
[845,null,{"$f":"IF(D845=\"\",\"\",1+COUNT($C$1:C844))","v":""},"","","","terms"]
[846,null,{"$f":"IF(D846=\"\",\"\",1+COUNT($C$1:C845))","v":""},"","","","terms"]
[847,null,{"$f":"IF(D847=\"\",\"\",1+COUNT($C$1:C846))","v":""},"","","","terms"]
[848,null,{"$f":"IF(D848=\"\",\"\",1+COUNT($C$1:C847))","v":""},"","","","terms"]
[849,null,{"$f":"IF(D849=\"\",\"\",1+COUNT($C$1:C848))","v":""},"","","","terms"]
[850,null,{"$f":"IF(D850=\"\",\"\",1+COUNT($C$1:C849))","v":""},"","","","terms"]
[851,null,{"$f":"IF(D851=\"\",\"\",1+COUNT($C$1:C850))","v":""},{"$f":"IF(F851=\"\",\"\",IF(B851=\"\",\"\",IFERROR(IF(_xlfn.NUMBERVALUE(LEFT(B851,1))>=0,IFERROR(IF(FIND(G851,B851,1)>=1,\"\",\"\"),B852),\"\"),\"\")))","v":""},"",{"$f":"IF(B851=\"\",\"\",IF(B851>1,\"\",B851))","v":""},"terms"]
[852,null,{"$f":"IF(D852=\"\",\"\",1+COUNT($C$1:C851))","v":""},"","","","terms"]
[853,null,{"$f":"IF(D853=\"\",\"\",1+COUNT($C$1:C852))","v":""},"","","","terms"]
[854,null,{"$f":"IF(D854=\"\",\"\",1+COUNT($C$1:C853))","v":""},"","","","terms"]
[855,null,{"$f":"IF(D855=\"\",\"\",1+COUNT($C$1:C854))","v":""},"","","","terms"]
[856,null,{"$f":"IF(D856=\"\",\"\",1+COUNT($C$1:C855))","v":""},"","","","terms"]
[857,null,{"$f":"IF(D857=\"\",\"\",1+COUNT($C$1:C856))","v":""},"","","","terms"]
[858,null,{"$f":"IF(D858=\"\",\"\",1+COUNT($C$1:C857))","v":""},"","","","terms"]
[859,null,{"$f":"IF(D859=\"\",\"\",1+COUNT($C$1:C858))","v":""},"","","","terms"]
[860,null,{"$f":"IF(D860=\"\",\"\",1+COUNT($C$1:C859))","v":""},"","","","terms"]
[861,null,{"$f":"IF(D861=\"\",\"\",1+COUNT($C$1:C860))","v":""},"","","","terms"]
[862,null,{"$f":"IF(D862=\"\",\"\",1+COUNT($C$1:C861))","v":""},"","","","terms"]
[863,null,{"$f":"IF(D863=\"\",\"\",1+COUNT($C$1:C862))","v":""},"","","","terms"]
[864,null,{"$f":"IF(D864=\"\",\"\",1+COUNT($C$1:C863))","v":""},"","","","terms"]
[865,null,{"$f":"IF(D865=\"\",\"\",1+COUNT($C$1:C864))","v":""},"","","","terms"]
[866,null,{"$f":"IF(D866=\"\",\"\",1+COUNT($C$1:C865))","v":""},"","","","terms"]
[867,null,{"$f":"IF(D867=\"\",\"\",1+COUNT($C$1:C866))","v":""},"","","","terms"]
[868,null,{"$f":"IF(D868=\"\",\"\",1+COUNT($C$1:C867))","v":""},"","","","terms"]
[869,null,{"$f":"IF(D869=\"\",\"\",1+COUNT($C$1:C868))","v":""},"","","","terms"]
[870,null,{"$f":"IF(D870=\"\",\"\",1+COUNT($C$1:C869))","v":""},"","","","terms"]
[871,null,{"$f":"IF(D871=\"\",\"\",1+COUNT($C$1:C870))","v":""},"","","","terms"]
[872,null,{"$f":"IF(D872=\"\",\"\",1+COUNT($C$1:C871))","v":""},"","","","terms"]
[873,null,{"$f":"IF(D873=\"\",\"\",1+COUNT($C$1:C872))","v":""},"","","","terms"]
[874,null,{"$f":"IF(D874=\"\",\"\",1+COUNT($C$1:C873))","v":""},"","","","terms"]
[875,null,{"$f":"IF(D875=\"\",\"\",1+COUNT($C$1:C874))","v":""},"","","","terms"]
[876,null,{"$f":"IF(D876=\"\",\"\",1+COUNT($C$1:C875))","v":""},"","","","terms"]
[877,null,{"$f":"IF(D877=\"\",\"\",1+COUNT($C$1:C876))","v":""},"","","","terms"]
[878,null,{"$f":"IF(D878=\"\",\"\",1+COUNT($C$1:C877))","v":""},"","","","terms"]
[879,null,{"$f":"IF(D879=\"\",\"\",1+COUNT($C$1:C878))","v":""},"","","","terms"]
[880,null,{"$f":"IF(D880=\"\",\"\",1+COUNT($C$1:C879))","v":""},"","","","terms"]
[881,null,{"$f":"IF(D881=\"\",\"\",1+COUNT($C$1:C880))","v":""},"","","","terms"]
[882,null,{"$f":"IF(D882=\"\",\"\",1+COUNT($C$1:C881))","v":""},"","","","terms"]
[883,null,{"$f":"IF(D883=\"\",\"\",1+COUNT($C$1:C882))","v":""},"","","","terms"]
[884,null,{"$f":"IF(D884=\"\",\"\",1+COUNT($C$1:C883))","v":""},"","","","terms"]
[885,null,{"$f":"IF(D885=\"\",\"\",1+COUNT($C$1:C884))","v":""},"",{"$f":"IF(B885=\"\",\"\",IFERROR(IF(_xlfn.NUMBERVALUE(LEFT(B885,1))>=0,IFERROR(IF(FIND(G885,B885,1)>=1,\"\",\"\"),B887),\"\"),\"\"))","v":""},"","terms"]
[886,null,{"$f":"IF(D886=\"\",\"\",1+COUNT($C$1:C885))","v":""},"","","","terms"]
[887,null,{"$f":"IF(D887=\"\",\"\",1+COUNT($C$1:C886))","v":""},"","","","terms"]
[888,null,{"$f":"IF(D888=\"\",\"\",1+COUNT($C$1:C887))","v":""},"","","","terms"]
[889,null,{"$f":"IF(D889=\"\",\"\",1+COUNT($C$1:C888))","v":""},"","","","terms"]
[890,null,{"$f":"IF(D890=\"\",\"\",1+COUNT($C$1:C889))","v":""},"","","","terms"]
[891,null,{"$f":"IF(D891=\"\",\"\",1+COUNT($C$1:C890))","v":""},"","","","terms"]
[892,null,{"$f":"IF(D892=\"\",\"\",1+COUNT($C$1:C891))","v":""},"","","","terms"]
[893,null,{"$f":"IF(D893=\"\",\"\",1+COUNT($C$1:C892))","v":""},"","","","terms"]
[894,null,{"$f":"IF(D894=\"\",\"\",1+COUNT($C$1:C893))","v":""},"","","","terms"]
[895,null,{"$f":"IF(D895=\"\",\"\",1+COUNT($C$1:C894))","v":""},"","","","terms"]
[896,null,{"$f":"IF(D896=\"\",\"\",1+COUNT($C$1:C895))","v":""},"","","","terms"]
[897,null,{"$f":"IF(D897=\"\",\"\",1+COUNT($C$1:C896))","v":""},"","","","terms"]
[898,null,{"$f":"IF(D898=\"\",\"\",1+COUNT($C$1:C897))","v":""},"","","","terms"]
[899,null,{"$f":"IF(D899=\"\",\"\",1+COUNT($C$1:C898))","v":""},"","","","terms"]
[900,null,{"$f":"IF(D900=\"\",\"\",1+COUNT($C$1:C899))","v":""},"","","","terms"]
[901,null,{"$f":"IF(D901=\"\",\"\",1+COUNT($C$1:C900))","v":""},"","","","terms"]
[902,null,{"$f":"IF(D902=\"\",\"\",1+COUNT($C$1:C901))","v":""},"","","","terms"]
[903,null,{"$f":"IF(D903=\"\",\"\",1+COUNT($C$1:C902))","v":""},"","","","terms"]
[904,null,{"$f":"IF(D904=\"\",\"\",1+COUNT($C$1:C903))","v":""},"","","","terms"]
[905,null,{"$f":"IF(D905=\"\",\"\",1+COUNT($C$1:C904))","v":""},"","","","terms"]
[906,null,{"$f":"IF(D906=\"\",\"\",1+COUNT($C$1:C905))","v":""},"","","","terms"]
[907,null,{"$f":"IF(D907=\"\",\"\",1+COUNT($C$1:C906))","v":""},"","","","terms"]
[908,null,{"$f":"IF(D908=\"\",\"\",1+COUNT($C$1:C907))","v":""},"","","","terms"]
[909,null,{"$f":"IF(D909=\"\",\"\",1+COUNT($C$1:C908))","v":""},"","","","terms"]
[910,null,{"$f":"IF(D910=\"\",\"\",1+COUNT($C$1:C909))","v":""},"","","","terms"]
[911,null,{"$f":"IF(D911=\"\",\"\",1+COUNT($C$1:C910))","v":""},"","","","terms"]
[912,null,{"$f":"IF(D912=\"\",\"\",1+COUNT($C$1:C911))","v":""},"","","","terms"]
[913,null,{"$f":"IF(D913=\"\",\"\",1+COUNT($C$1:C912))","v":""},"","","","terms"]
[914,null,{"$f":"IF(D914=\"\",\"\",1+COUNT($C$1:C913))","v":""},"","","","terms"]
[915,null,{"$f":"IF(D915=\"\",\"\",1+COUNT($C$1:C914))","v":""},{"$f":"IF(F915=\"\",\"\",IF(B915=\"\",\"\",IFERROR(IF(_xlfn.NUMBERVALUE(LEFT(B915,1))>=0,IFERROR(IF(FIND(G915,B915,1)>=1,\"\",\"\"),B916),\"\"),\"\")))","v":""},"",{"$f":"IF(B915=\"\",\"\",IF(B915>1,\"\",B915))","v":""},"terms"]
[916,null,{"$f":"IF(D916=\"\",\"\",1+COUNT($C$1:C915))","v":""},"","","","terms"]
[917,null,{"$f":"IF(D917=\"\",\"\",1+COUNT($C$1:C916))","v":""},"","","","terms"]
[918,null,{"$f":"IF(D918=\"\",\"\",1+COUNT($C$1:C917))","v":""},"","","","terms"]
[919,null,{"$f":"IF(D919=\"\",\"\",1+COUNT($C$1:C918))","v":""},"","","","terms"]
[920,null,{"$f":"IF(D920=\"\",\"\",1+COUNT($C$1:C919))","v":""},"","","","terms"]
[921,null,{"$f":"IF(D921=\"\",\"\",1+COUNT($C$1:C920))","v":""},"","","","terms"]
[922,null,{"$f":"IF(D922=\"\",\"\",1+COUNT($C$1:C921))","v":""},"","","","terms"]
[923,null,{"$f":"IF(D923=\"\",\"\",1+COUNT($C$1:C922))","v":""},"","","","terms"]
[924,null,{"$f":"IF(D924=\"\",\"\",1+COUNT($C$1:C923))","v":""},"","","","terms"]
[925,null,{"$f":"IF(D925=\"\",\"\",1+COUNT($C$1:C924))","v":""},"","","","terms"]
[926,null,{"$f":"IF(D926=\"\",\"\",1+COUNT($C$1:C925))","v":""},"","","","terms"]
[927,null,{"$f":"IF(D927=\"\",\"\",1+COUNT($C$1:C926))","v":""},"","","","terms"]
[928,null,{"$f":"IF(D928=\"\",\"\",1+COUNT($C$1:C927))","v":""},"","","","terms"]
[929,null,{"$f":"IF(D929=\"\",\"\",1+COUNT($C$1:C928))","v":""},"","","","terms"]
[930,null,{"$f":"IF(D930=\"\",\"\",1+COUNT($C$1:C929))","v":""},"","","","terms"]
[931,null,{"$f":"IF(D931=\"\",\"\",1+COUNT($C$1:C930))","v":""},"","","","terms"]
[932,null,{"$f":"IF(D932=\"\",\"\",1+COUNT($C$1:C931))","v":""},"","","","terms"]
[933,null,{"$f":"IF(D933=\"\",\"\",1+COUNT($C$1:C932))","v":""},"","","","terms"]
[934,null,{"$f":"IF(D934=\"\",\"\",1+COUNT($C$1:C933))","v":""},"","","","terms"]
[935,null,{"$f":"IF(D935=\"\",\"\",1+COUNT($C$1:C934))","v":""},"","","","terms"]
[936,null,{"$f":"IF(D936=\"\",\"\",1+COUNT($C$1:C935))","v":""},"","","","terms"]
[937,null,{"$f":"IF(D937=\"\",\"\",1+COUNT($C$1:C936))","v":""},"","","","terms"]
[938,null,{"$f":"IF(D938=\"\",\"\",1+COUNT($C$1:C937))","v":""},"","","","terms"]
[939,null,{"$f":"IF(D939=\"\",\"\",1+COUNT($C$1:C938))","v":""},"","","","terms"]
[940,null,{"$f":"IF(D940=\"\",\"\",1+COUNT($C$1:C939))","v":""},"","","","terms"]
[941,null,{"$f":"IF(D941=\"\",\"\",1+COUNT($C$1:C940))","v":""},"","","","terms"]
[942,null,{"$f":"IF(D942=\"\",\"\",1+COUNT($C$1:C941))","v":""},"","","","terms"]
[943,null,{"$f":"IF(D943=\"\",\"\",1+COUNT($C$1:C942))","v":""},"","","","terms"]
[944,null,{"$f":"IF(D944=\"\",\"\",1+COUNT($C$1:C943))","v":""},"","","","terms"]
[945,null,{"$f":"IF(D945=\"\",\"\",1+COUNT($C$1:C944))","v":""},"","","","terms"]
[946,null,{"$f":"IF(D946=\"\",\"\",1+COUNT($C$1:C945))","v":""},"","","","terms"]
[947,null,{"$f":"IF(D947=\"\",\"\",1+COUNT($C$1:C946))","v":""},"","","","terms"]
[948,null,{"$f":"IF(D948=\"\",\"\",1+COUNT($C$1:C947))","v":""},"","","","terms"]
[949,null,{"$f":"IF(D949=\"\",\"\",1+COUNT($C$1:C948))","v":""},"",{"$f":"IF(B949=\"\",\"\",IFERROR(IF(_xlfn.NUMBERVALUE(LEFT(B949,1))>=0,IFERROR(IF(FIND(G949,B949,1)>=1,\"\",\"\"),B951),\"\"),\"\"))","v":""},"","terms"]
[950,null,{"$f":"IF(D950=\"\",\"\",1+COUNT($C$1:C949))","v":""},"","","","terms"]
[951,null,{"$f":"IF(D951=\"\",\"\",1+COUNT($C$1:C950))","v":""},"","","","terms"]
[952,null,{"$f":"IF(D952=\"\",\"\",1+COUNT($C$1:C951))","v":""},"","","","terms"]
[953,null,{"$f":"IF(D953=\"\",\"\",1+COUNT($C$1:C952))","v":""},"","","","terms"]
[954,null,{"$f":"IF(D954=\"\",\"\",1+COUNT($C$1:C953))","v":""},"","","","terms"]
[955,null,{"$f":"IF(D955=\"\",\"\",1+COUNT($C$1:C954))","v":""},"","","","terms"]
[956,null,{"$f":"IF(D956=\"\",\"\",1+COUNT($C$1:C955))","v":""},"","","","terms"]
[957,null,{"$f":"IF(D957=\"\",\"\",1+COUNT($C$1:C956))","v":""},"","","","terms"]
[958,null,{"$f":"IF(D958=\"\",\"\",1+COUNT($C$1:C957))","v":""},"","","","terms"]
[959,null,{"$f":"IF(D959=\"\",\"\",1+COUNT($C$1:C958))","v":""},"","","","terms"]
[960,null,{"$f":"IF(D960=\"\",\"\",1+COUNT($C$1:C959))","v":""},"","","","terms"]
[961,null,{"$f":"IF(D961=\"\",\"\",1+COUNT($C$1:C960))","v":""},"","","","terms"]
[962,null,{"$f":"IF(D962=\"\",\"\",1+COUNT($C$1:C961))","v":""},"","","","terms"]
[963,null,{"$f":"IF(D963=\"\",\"\",1+COUNT($C$1:C962))","v":""},"","","","terms"]
[964,null,{"$f":"IF(D964=\"\",\"\",1+COUNT($C$1:C963))","v":""},"","","","terms"]
[965,null,{"$f":"IF(D965=\"\",\"\",1+COUNT($C$1:C964))","v":""},"","","","terms"]
[966,null,{"$f":"IF(D966=\"\",\"\",1+COUNT($C$1:C965))","v":""},"","","","terms"]
[967,null,{"$f":"IF(D967=\"\",\"\",1+COUNT($C$1:C966))","v":""},"","","","terms"]
[968,null,{"$f":"IF(D968=\"\",\"\",1+COUNT($C$1:C967))","v":""},"","","","terms"]
[969,null,{"$f":"IF(D969=\"\",\"\",1+COUNT($C$1:C968))","v":""},"","","","terms"]
[970,null,{"$f":"IF(D970=\"\",\"\",1+COUNT($C$1:C969))","v":""},"","","","terms"]
[971,null,{"$f":"IF(D971=\"\",\"\",1+COUNT($C$1:C970))","v":""},"","","","terms"]
[972,null,{"$f":"IF(D972=\"\",\"\",1+COUNT($C$1:C971))","v":""},"","","","terms"]
[973,null,{"$f":"IF(D973=\"\",\"\",1+COUNT($C$1:C972))","v":""},"","","","terms"]
[974,null,{"$f":"IF(D974=\"\",\"\",1+COUNT($C$1:C973))","v":""},"","","","terms"]
[975,null,{"$f":"IF(D975=\"\",\"\",1+COUNT($C$1:C974))","v":""},"","","","terms"]
[976,null,{"$f":"IF(D976=\"\",\"\",1+COUNT($C$1:C975))","v":""},"","","","terms"]
[977,null,{"$f":"IF(D977=\"\",\"\",1+COUNT($C$1:C976))","v":""},"","","","terms"]
[978,null,{"$f":"IF(D978=\"\",\"\",1+COUNT($C$1:C977))","v":""},"","","","terms"]
[979,null,{"$f":"IF(D979=\"\",\"\",1+COUNT($C$1:C978))","v":""},{"$f":"IF(F979=\"\",\"\",IF(B979=\"\",\"\",IFERROR(IF(_xlfn.NUMBERVALUE(LEFT(B979,1))>=0,IFERROR(IF(FIND(G979,B979,1)>=1,\"\",\"\"),B980),\"\"),\"\")))","v":""},"",{"$f":"IF(B979=\"\",\"\",IF(B979>1,\"\",B979))","v":""},"terms"]
[980,null,{"$f":"IF(D980=\"\",\"\",1+COUNT($C$1:C979))","v":""},"","","","terms"]
[981,null,{"$f":"IF(D981=\"\",\"\",1+COUNT($C$1:C980))","v":""},"","","","terms"]
[982,null,{"$f":"IF(D982=\"\",\"\",1+COUNT($C$1:C981))","v":""},"","","","terms"]
[983,null,{"$f":"IF(D983=\"\",\"\",1+COUNT($C$1:C982))","v":""},"","","","terms"]
[984,null,{"$f":"IF(D984=\"\",\"\",1+COUNT($C$1:C983))","v":""},"","","","terms"]
[985,null,{"$f":"IF(D985=\"\",\"\",1+COUNT($C$1:C984))","v":""},"","","","terms"]
[986,null,{"$f":"IF(D986=\"\",\"\",1+COUNT($C$1:C985))","v":""},"","","","terms"]
[987,null,{"$f":"IF(D987=\"\",\"\",1+COUNT($C$1:C986))","v":""},"","","","terms"]
[988,null,{"$f":"IF(D988=\"\",\"\",1+COUNT($C$1:C987))","v":""},"","","","terms"]
[989,null,{"$f":"IF(D989=\"\",\"\",1+COUNT($C$1:C988))","v":""},"","","","terms"]
[990,null,{"$f":"IF(D990=\"\",\"\",1+COUNT($C$1:C989))","v":""},"","","","terms"]
[991,null,{"$f":"IF(D991=\"\",\"\",1+COUNT($C$1:C990))","v":""},"","","","terms"]
[992,null,{"$f":"IF(D992=\"\",\"\",1+COUNT($C$1:C991))","v":""},"","","","terms"]
[993,null,{"$f":"IF(D993=\"\",\"\",1+COUNT($C$1:C992))","v":""},"","","","terms"]
[994,null,{"$f":"IF(D994=\"\",\"\",1+COUNT($C$1:C993))","v":""},"","","","terms"]
[995,null,{"$f":"IF(D995=\"\",\"\",1+COUNT($C$1:C994))","v":""},"","","","terms"]
[996,null,{"$f":"IF(D996=\"\",\"\",1+COUNT($C$1:C995))","v":""},"","","","terms"]
[997,null,{"$f":"IF(D997=\"\",\"\",1+COUNT($C$1:C996))","v":""},"","","","terms"]
[998,null,{"$f":"IF(D998=\"\",\"\",1+COUNT($C$1:C997))","v":""},"","","","terms"]
[999,null,{"$f":"IF(D999=\"\",\"\",1+COUNT($C$1:C998))","v":""},"","","","terms"]
[1000,null,{"$f":"IF(D1000=\"\",\"\",1+COUNT($C$1:C999))","v":""},"","","","terms"]