{"text_format":"1","workbook":"xlsx","n_sheets":6,"sheets":["Instructions","FAQ","Embedded Answer (Cloze) Strings","GIFT Import Strings","Version History","Cloze Gift Spelling Part"],"not_rendered":{"charts":0,"images":1,"macros":1,"external_links":0,"defined_names":0,"comments":0,"pivot_tables":0},"unopened":[],"bounds":{"document_bytes":16777216,"sheet_cells":100000,"rows_first":2000,"rows_last":500,"rows_between":2000,"halvings":0,"cell_chars":16384,"cell_head_chars":4096},"cells_cut":0,"cells_raw":0,"read":"whole","date_system":"1900"}

{"sheet":"Instructions","index":0,"n_rows":119,"n_cols":87,"rows_kept":119,"cut":false,"hidden":false,"merged":[[6,2,6,86],[20,1,20,86],[22,1,22,86],[24,1,24,86],[10,0,10,86],[18,0,18,86],[96,1,96,86],[97,3,97,16383],[25,3,25,86],[27,1,27,86],[28,3,28,86],[30,1,30,86],[31,3,31,16383],[32,3,32,86],[33,3,33,86],[35,1,35,86],[80,3,80,16383],[82,1,82,16383],[36,3,36,86],[91,1,91,86],[83,3,83,16383],[86,1,86,16383],[112,1,112,16383],[114,1,114,16383],[116,1,116,16383],[118,1,118,16383],[99,1,99,16383],[100,3,100,16383],[106,1,106,16383],[109,1,109,86],[110,3,110,16383],[102,1,102,86],[103,3,103,16383],[104,3,104,16383],[107,3,107,16383],[77,3,77,16383],[87,3,87,86],[88,3,88,16383],[89,3,89,16383],[41,1,41,86],[42,3,42,16383],[44,1,44,16383],[45,3,45,16383],[5,0,5,86],[92,3,92,16383],[94,1,94,86],[70,1,70,16383],[71,3,71,16383],[54,1,54,16383],[58,0,58,16383],[65,0,65,16383],[67,1,67,16383],[47,1,47,16383],[49,1,49,16383],[52,1,52,86],[50,3,50,16383],[68,3,68,16383],[74,1,74,16383],[79,1,79,16383]]}
["Moodle Cloze and GIFT Code Generator, Version 3.30",null,null,null,null,null,null,null,null,null,null,null,null,null,null,null,null,null,null,null,null,null,null,null,null,null,null,null,null,null,null,null,null,null,null,null,null,null,null,null,null,null,null,null,null,null,null,null,null,null,null,null,null,null,null,null,null,null,null,null,null,null,null,null,null,null,null,null,null,null,null,null,null,null,null,null,null,null,null,null,null,null,null,null,null,null,"Jordan Svien, Bunkyo English Communication Center, Hiroshima Bunkyo University"]
["Last updated: May 7, 2020",null,null,null,null,null,null,null,null,null,null,null,null,null,null,null,null,null,null,null,null,null,null,null,null,null,null,null,null,null,null,null,null,null,null,null,null,null,null,null,null,null,null,null,null,null,null,null,null,null,null,null,null,null,null,null,null,null,null,null,null,null,null,null,null,null,null,null,null,null,null,null,null,null,null,null,null,null,null,null,null,null,null,null,null,null,"jsvien.becc@gmail.com"]
[null,null,null,null,null,null,null,null,null,null,null,null,null,null,null,null,null,null,null,null,null,null,null,null,null,null,null,null,null,null,null,null,null,null,null,null,null,null,null,null,null,null,null,null,null,null,null,null,null,null,null,null,null,null,null,null,null,null,null,null,null,null,null,null,null,null,null,null,null,null,null,null,null,null,null,null,null,null,null,null,null,null,null,null,null,null,"hbubecc.wixsite.com/jordan/tools"]
[]
[]
["Welcome to the Moodle Cloze and GIFT Code Generator! This tool allows you to create two different kinds of Moodle code: \n  A: Embedded Answer (Cloze) strings for pasting into the body of cloze questions on Moodle.\n  B: GIFT question strings that are ready to be imported in bulk. \nRead the directions below for operating procedures. To see what's new in V3.30, see the Version History tab. Please send any feedback, questions, comments, troubleshooting, or update requests to Jordan Svien at jsvien.becc@gmail.com."]
[null,null,"Note: If this Excel sheet opens in Protected View, click \"Allow Editing\" to disable Protected View. If macros are disabled, enable them to allow full sheet functionality."]
[]
["A: Using the Embedded Answer (Cloze) Strings Generator"]
[]
["The embedded answer (cloze) strings generator can generate lines of pastable question code for the following embedded answer questions:"]
[null,"In-Line Replacement Drop-Down Questions"]
[null,"After-Text Drop-Down Questions"]
[null,"Vertical Multiple Choice Questions"]
[null,"Horizontal Multiple Choice Questions"]
[null,"Short Answer Questions"]
[null,"Spelling Questions (drop-down for each letter of a word)"]
[]
["To use the embedded answer (cloze) strings generator:"]
[]
[null,"1. Select the question type you wish to produce by clicking the yellow Cell B2 in the Control Panel (Column B) and subsequently clicking the drop down arrow."]
[]
[null,"2. (Optional) Choose if you wish questions to be numbered automatically by clicking the green button in the Control Panel (Column B)."]
[]
[null,"3. Enter your question text into Column E, beginning with cell E3."]
[null,null,null,"Note: In the case of spelling questions, no text is needed in Column E."]
[]
[null,"4. Enter the correct answer to your question in the green Column F to the right of the question text."]
[null,null,null,"Note: In the case of spelling questions, enter the word to be spelled here."]
[]
[null,"5. Enter the incorrect answer choices in Columns H through K to the right of the correct answer."]
[null,null,null,"Note 1: If you need more incorrect answer choices, click the blue button located in the Control Panel (Column B). Click it again to hide these additional columns."]
[null,null,null,"Note 2: In the case of short answer questions, wrong answer columns are replaced by alternative answers columns, allowing for alternative correct answers."]
[null,null,null,"Note 3: In the case of spelling questions, wrong answer columns are not used."]
[]
[null,"6. (Optional) To provide answer feedback, click the pink button in the Control Panel (Column B). Then, enter feedback into the appropriate Columns."]
[null,null,null,"Note: Feedback shortcuts can be assigned in Columns AK to AO. Follow the instructions as specified there."]
[]
[null,"7. (Optional) To assign partial credit to incorrect answers, click the yellow button in the Control Panel (Column B). Then, enter the partial credit out of 100 into the appropriate"]
[null,null,"  columns."]
[]
[null,"8. (Optional) Set the point value of each question in Column C."]
[null,null,null,"Note: If you do not set point values, all questions will default to single points (equal weight). Therefore, you may skip this step unless you want unequal question weighting."]
[]
[null,"9. When your questions are ready, copy the desired question code strings from column AI."]
[null,null,null,"Note: As embedded answer (cloze) strings questions on Moodle allow for multiple student inputs to be embedded within the same question, any number of question strings can be copied."]
[]
[null,"10. Enter your Moodle Question Bank and create an \"Embedded Answer (Cloze)\" type question."]
[]
[null,"11. Paste your question string(s) into the body of the question box."]
[null,null,null,"Note: It is recommended that you right click and choose \"Paste as text\" (on a Mac, right click/two-finger tap and choose \"Paste and match style\") to keep the formatting as simple as possible."]
[]
[null,"12. If you are creating multiple embedded answer (cloze) questions in Moodle, repeat steps 9-11 until you are finished."]
[]
[null,"13. When you are ready to clear your question data and begin afresh, press the red button located in the Control Panel (Column B)."]
[]
["B: Using the GIFT Import Strings Generator"]
[]
["The GIFT Import Strings generator can generate the following lines of question code that can be imported to Moodle via the GIFT formatting import function:"]
[null,"Multiple Choice Questions"]
[null,"Missing Word Questions"]
[null,"True or False Questions"]
[null,"Short Answer Questions"]
[null,"Essay Questions (New in Version 3.30)"]
[]
["To use the GIFT Import strings generator:"]
[]
[null,"1. Select the question type you wish to produce by clicking the yellow Cell B2 in the Control Panel (Column B) and subsequently clicking the drop down arrow."]
[null,null,null,"Note 1: If you wish to have multiple question types, select \"Variable\" from the drop down menu in cell B2. Then, enter each question type into Column D by clicking the drop down arrow within each cell before entering question text and answers."]
[]
[null,"2. (Optional) Enter a name for your question set in Cell B16 of the Control Panel (Column B)."]
[null,null,null,"Note 1: This name will appear in the title of each question in Moodle once the import process is completed (even if importing to multiple categories)."]
[null,null,null,"Note 2: Question titles can be later customized for each question if desired (see step 10)."]
[]
[null,"3. (Optional) Choose if you wish for question instructions to appear (ON) or not appear (OFF) before each question by pressing the light blue button in the Control Panel (Column B)."]
[]
[null,"4. (Optional) To attach a Moodle Question Bank category to your questions, press the purple button in the Control Panel (Column B). Then, enter the category name into Cell B18."]
[null,null,null,"Note: By using a \"/\", subcategories can be designated, i.e. Vocabulary/Test 1. Subcategories can also be assigned to individual questions (see step 12)."]
[]
[null,"5. Enter your question text into Column H, starting with question 1 (cell H3)."]
[null,null,null,"Note: In the case of missing word questions, enter your question text as normal, including the answer word. The code generator will automatically take it out."]
[]
[null,"6. Enter the correct answer to the question in the green Column I."]
[null,null,null,"Note 1: In the case of true or false questions, enter T or F into Column I."]
[null,null,null,"Note 2: In the case of essay questions, enter X into Column I. (New in Version 3.30)"]
[]
[null,"7. Enter incorrect answers in the pink incorrect answer Columns K through N."]
[null,null,null,"Note 1: If you need more incorrect answer choices, click the blue \"Show/Hide Additional Answer Columns\" button in the Control Panel (Column B). Click it again to hide these additional columns."]
[null,null,null,"Note 2: In the case of short answer questions, wrong answer Columns are replaced by alternative answers columns, allowing for alternative correct answers."]
[null,null,null,"Note 3: In the case of true or false questions, wrong answer columns are not used."]
[]
[null,"8. (Optional) To provide answer feedback, click the pink button in the Control Panel (Column B). Then, enter feedback into the appropriate columns."]
[null,null,null,"Note: Feedback shortcuts can be assigned in Columns BE to BI. Follow the instructions as specified there."]
[]
[null,"9. (Optional) To assign partial credit to incorrect answers, click the yellow button in the Control Panel (Column B). Enter the partial credit out of 100 into the appropriate columns."]
[]
[null,"10. (Optional) Enter a question title for each question in Column E, or leave Column E blank to use the question text (step 5) as each question's title."]
[null,null,null,"Note: If a question set name was entered in step 2 (cell B16), this name will appear in every question title before the specific title or question text."]
[]
[null,"11. (Optional) If question instructions have been turned on (see step 3), you may write specific directions for any question in Column G."]
[null,null,null,"Note: If Column G is left blank and question instructions are ON, default instructions will appear based on the question type.  To change these default instructions, edit the text that appears next to the appropriate question type in Column BL."]
[]
[null,"12. (Optional) If categories have been turned on (see step 4), you may specify specific subcategories for each question in Column F."]
[null,null,null,"Note 1: Moodle will automatically create these subcategories in the Question Bank if they do not exist already."]
[null,null,null,"Note 2: If using multiple subcategories, it may be beneficial to use a non-quiz specific question set title (see step 2)."]
[]
[null,"13. When your data entry is finished, click on the green \"Copy Data to Clipboard\" button in the Control Panel (Column B)."]
[null,null,null,"Note: The data can also be copied manually."]
[]
[null,"14. Open a text editor software tool such as Notepad (on a PC) or TextEdit (on a Mac) and paste your copied code."]
[null,null,null,"Note: If you used the copy button the above step and you have fewer than 100 questions, you will need to scroll to the top of the text editor to see your pasted code text."]
[]
[null,"15. Save the text file. If you have Japanese text, change the encoding option on the Save screen to UTF-8."]
[]
[null,"16. Open your Moodle Question Bank and choose \"Import\". Then, Select \"GIFT Formatting\" and upload your text document."]
[]
[null,"17. Follow the on-screen directions in Moodle to finalize your questions."]
[]
[null,"18. When you are ready to clear your question data and begin afresh, press the red button located below the Control Panel (Column B)."]

{"sheet":"FAQ","index":1,"n_rows":32,"n_cols":1,"rows_kept":32,"cut":false,"hidden":false,"merged":[[30,0,30,51],[31,0,31,51],[0,0,0,51],[1,0,1,51],[20,0,20,51],[15,0,15,51],[16,0,16,51],[17,0,17,51],[18,0,18,51],[19,0,19,51],[7,0,7,51],[8,0,8,51],[11,0,11,51],[12,0,12,51],[2,0,2,51],[3,0,3,51],[13,0,13,51],[14,0,14,51],[9,0,9,51],[10,0,10,51],[4,0,4,51],[5,0,5,51],[27,0,27,51],[24,0,24,51],[25,0,25,51],[28,0,28,51],[21,0,21,51],[22,0,22,51],[23,0,23,51],[26,0,26,51]]}
["Frequently Asked Questions"]
[]
["Q: Where can I find this generator online?"]
["A: You can find it at this link:"]
["https://hbubecc.wixsite.com/jordan/tools"]
["In addition to this generator, you can find proceedings papers that go further into the generator's functionality than this FAQ. You can also find other Excel-based quiz or data management tools that integrate with Moodle and Quizlet."]
[]
["Q: Why are there two generators? What is the difference between the embedded answer (cloze) generator and the GIFT generator?"]
["A: When you create a question in the Moodle question bank, you are given different options for question types, such as multiple choice, short answer, missing word, and so on. The GIFT generator allows you to create the questions not manually in Moodle but here in this Excel sheet, which you then import to Moodle via the GIFT format import process.\n\nAlternatively, Moodle also has a special question type called \"Embedded Answer (Cloze)\", which replicates other types of questions (i.e. multiple choice, short answer, missing word, etc.) via special cloze coding that is typed directly into the question text (rather than through a series of interface clicks like other question types). The embedded answer strings generator makes this code for you. This is extremely convenient as you can have multi-part questions embedded together as one Moodle \"Question\" rather than having separate Moodle questions required for each time input is required by a student.\n\nIn short, GIFT questions are imported each as unique Moodle questions through the GIFT import process, while embedded answer code is pasted manually into an embedded answer question, a flexible format for making and also combining different question types.\n\nVisit the links below to learn more about GIFT format and embedded answer (cloze) format (current through Moodle V3.8)."]
["https://docs.moodle.org/38/en/GIFT_format"]
["https://docs.moodle.org/38/en/Embedded_Answers_(Cloze)_question_type"]
[]
["Q: What if my test has more than 100 questions? Can I insert more question rows at the bottom of the generator?"]
["A: Unfortunately, you cannot add more rows at the bottom due to the way the sheet's formulas and macros are coded. However, you can always save the cloze / GIFT output to a text file and then clear the data in preparation to use the interface a second time. In the GIFT tab, the question numbers can also be changed (i.e. to questions 101 to 200). Finally, although cumbersome, you can always copy and rename the entire generator file to save the question data for more than 100 questions (i.e. Test part 1 & Test part 2)."]
[]
["Q: I've accidentally overwritten some formulas. Can I reset the formulas?"]
["A: You won't be able to reset formulas, so it may be best to just download the file again from the link above."]
[]
["Q: The directions reference a cell that I cannot find. What should I do?"]
["A: My apologies! There have been various layouts of the generator since 2017 due to various new functionalities, and I may have missed updating a cell reference here or there in the directions. Please contact me at the email listed in the instructions page if the directions seem to point to the wrong place."]
[]
["Q: Why do I have to type an X in the correct answer column for GIFT essay questions?"]
["A: The generator is configured to only generate code if a correct answer is provided; thus, a dummy answer (x) is needed. Subsequent code removes this dummy answer."]
[]
["Q: I found a bug. / Something doesn't look right."]
["A: Please contact me via the email listed in the instructions page and I will fix it as soon as I can."]
[]
["Q: I would really love to have OXOX question type!"]
["A: Please contact me via the email listed in the instructions page. Depending on its implementation difficulty some requests may take longer than others, while some may not take long at all."]
[]
["Q: I really like this tool! How can I support you?"]
["A: Thanks! There isn't any official platform, but any recommendations on blogs, YouTube or even via word of mouth is appreciated! You could also leave a recommendation on LinkedIn. Send me an invite with a message saying you'd like to leave a recommendation, and I'll accept it as soon as I see it."]

{"sheet":"Embedded Answer (Cloze) Strings","index":2,"n_rows":201,"n_cols":85,"rows_kept":201,"cut":false,"hidden":false,"merged":[[1,36,1,37],[1,39,1,40],[0,36,0,40],[0,9,0,34]]}
["Off","Control Panel",null,null,null,null,null,null,null,null,null,null,null,null,null,null,null,null,null,null,null,null,null,null,null,null,null,null,null,null,null,null,null,null,null,null,"Feedback Shortcuts",null,null,null,null,null,null,null,null,null,null,null,null,null,null,null,null,null,null,null,null,null,null,null,null,null,null,null,null,null,null,null,null,null,null,null,null,null,"Alt Feedback Code"]
["Off","Drop Down (In-Line Replacement)","Question Number","Point Value (Blank = 1)",{"$f":"VLOOKUP($B$2,$AT:$BF,AV11,0)","v":"Question Text (type with answer included in-line; generator will remove it automatically)"},{"$f":"VLOOKUP($B$2,$AT:$BF,AW11,0)","v":"Correct Answer"},{"$f":"IF(B2=\"Spelling\",\"Column Not Used with Question\",\"Feedback on \"&F2)","v":"Feedback on Correct Answer"},{"$f":"VLOOKUP($B$2,$AT:$BF,AX11,0)","v":"Wrong Answer 1"},{"$f":"VLOOKUP($B$2,$AT:$BF,AY11,0)","v":"Wrong Answer 2 "},{"$f":"VLOOKUP($B$2,$AT:$BF,AZ11,0)","v":"Wrong Answer 3"},{"$f":"VLOOKUP($B$2,$AT:$BF,BA11,0)","v":"Wrong Answer 4"},{"$f":"IF(H2=\"Column Not Used with Question\",\"Column Not Used with Question\",\"Partial Credit on \"&H2)","v":"Partial Credit on Wrong Answer 1"},{"$f":"IF(I2=\"Column Not Used with Question\",\"Column Not Used with Question\",\"Partial Credit on \"&I2)","v":"Partial Credit on Wrong Answer 2 "},"Partial Credit on Wrong Answer 3","Partial Credit on Wrong Answer 4",{"$f":"IF($B$2=\"Short Answer\",\"Incorrect Answer Feedback\",IF(H2=\"Column Not Used with Question\",\"Column Not Used with Question\",\"Feedback on \"&H2))","v":"Feedback on Wrong Answer 1"},{"$f":"IF(I2=\"Column Not Used with Question\",\"Column Not Used with Question\",\"Feedback on \"&I2)","v":"Feedback on Wrong Answer 2 "},{"$f":"IF(J2=\"Column Not Used with Question\",\"Column Not Used with Question\",\"Feedback on \"&J2)","v":"Feedback on Wrong Answer 3"},{"$f":"IF(K2=\"Column Not Used with Question\",\"Column Not Used with Question\",\"Feedback on \"&K2)","v":"Feedback on Wrong Answer 4"},{"$f":"VLOOKUP($B$2,$AT:$BF,BB11,0)","v":"Wrong Answer 5"},{"$f":"VLOOKUP($B$2,$AT:$BF,BC11,0)","v":"Wrong Answer 6"},{"$f":"VLOOKUP($B$2,$AT:$BF,BD11,0)","v":"Wrong Answer 7"},{"$f":"VLOOKUP($B$2,$AT:$BF,BE11,0)","v":"Wrong Answer 8"},{"$f":"VLOOKUP($B$2,$AT:$BF,BF11,0)","v":"Wrong Answer 9"},{"$f":"IF(T2=\"Column Not Used with Question\",\"Column Not Used with Question\",\"Partial Credit on \"&T2)","v":"Partial Credit on Wrong Answer 5"},{"$f":"IF(U2=\"Column Not Used with Question\",\"Column Not Used with Question\",\"Partial Credit on \"&U2)","v":"Partial Credit on Wrong Answer 6"},"Partial Credit on Wrong Answer 7","Partial Credit on Wrong Answer 8","Partial Credit on Wrong Answer 9",{"$f":"IF(T2=\"Column Not Used with Question\",\"Column Not Used with Question\",\"Feedback on \"&T2)","v":"Feedback on Wrong Answer 5"},{"$f":"IF(U2=\"Column Not Used with Question\",\"Column Not Used with Question\",\"Feedback on \"&U2)","v":"Feedback on Wrong Answer 6"},{"$f":"IF(V2=\"Column Not Used with Question\",\"Column Not Used with Question\",\"Feedback on \"&V2)","v":"Feedback on Wrong Answer 7"},{"$f":"IF(W2=\"Column Not Used with Question\",\"Column Not Used with Question\",\"Feedback on \"&W2)","v":"Feedback on Wrong Answer 8"},{"$f":"IF(X2=\"Column Not Used with Question\",\"Column Not Used with Question\",\"Feedback on \"&X2)","v":"Feedback on Wrong Answer 9"},"Cloze Question Strings \nPaste into cloze question body text\nNote: not all code may display below due to formatting constraints.",null,"Individual Answer Automated Feedback:\n1. Enter comments for each number\n2. Enter number in appropriate feedback column(s)",null,null,"Group Incorrect Answer Automated Feedback:\n1. Enter group feedback comments for each letter.\n2. Enter letter in \"Feedback on Wrong Answer 1\" to apply that feedback to all wrong answers for that question. \n3. Leave other incorrect answer feedback columns blank.",null,null,null,null,null,null,null,"Question Text","Correct Answer","Wrong Answer 1","Wrong Answer 2 ","Wrong Answer 3","Wrong Answer 4","Wrong Answer 5","Wrong Answer 6","Wrong Answer 7","Wrong Answer 8","Wrong Answer 9",null,"Final Question String - copy and paste as plain text","Ccopy","Drop Down Code","Short Answer Code","MCV Code","MCH Code","Ccode","Fcorrect","Wcode1","Wcode2","Wcode3","Wcode4","FWrong1","FWrong2","FWrong3","FWrong4","Wcode5","Wcode6","Wcode7","Wcode8","Wcode9","FWrong5","FWrong6","FWrong7","FWrong8","FWrong9"]
["Off",null,1,null,null,null,null,null,null,null,null,null,null,null,null,null,null,null,null,null,null,null,null,null,null,null,null,null,null,null,null,null,null,null,{"$f":"BH3","v":""},null,1,"You got it!",null,"A","Not quite. Please review the lesson contents.",null,null,null,null,"Drop Down (In-Line Replacement)",2,"Question Text (type with answer included in-line; generator will remove it automatically)","Correct Answer","Wrong Answer 1","Wrong Answer 2 ","Wrong Answer 3","Wrong Answer 4","Wrong Answer 5","Wrong Answer 6","Wrong Answer 7","Wrong Answer 8","Wrong Answer 9",null,{"$f":"IF($B$2=\"Spelling\",IF($F3=\"\",\"\",IF($A$4=\"On\",C3&\". \",\"\")&'Cloze Gift Spelling Part'!H482),IF(E3=\"\",\"\",IF($A$4=\"On\",C3&\". \",\"\")&IF($B$2=\"Drop Down (In-Line Replacement)\",SUBSTITUTE(E3,F3,VLOOKUP(BI3,BI3:BM3,VLOOKUP($B$2,$AT:$AU,2,0),0)),E3&\" \"&SUBSTITUTE(F3,F3,VLOOKUP(BI3,BI3:BM3,VLOOKUP($B$2,$AT:$AU,2,0),0)))))","v":""},{"$f":"F3","v":0},{"$f":"IF(BN3=\"\",\"\",\"{\"&IF(D3=\"\",1,D3)&\":MCS:\"&BN3&BO3&IF(BP3=\"\",\"\",\"~\"&BP3&BT3)&IF(BQ3=\"\",\"\",\"~\"&BQ3&BU3)&IF(BR3=\"\",\"\",\"~\"&BR3&BV3)&IF(BS3=\"\",\"\",\"~\"&BS3&BW3)&IF(BX3=\"\",\"\",\"~\"&BX3&CC3)&IF(BY3=\"\",\"\",\"~\"&BY3&CD3)&IF(BZ3=\"\",\"\",\"~\"&BZ3&CE3)&IF(CA3=\"\",\"\",\"~\"&CA3&CF3)&IF(CB3=\"\",\"\",\"~\"&CB3&CG3)&\"}\")","v":""},{"$f":"IF(E3=\"\",\"\",\"{\"&IF(D3=\"\",1,D3)&\":SA:=\"&F3&BO3&IF(I3=\"\",\"\",\" ~%\"&IF(M3=\"\",100,M3)&\"%\"&I3&BU3)&IF(J3=\"\",\"\",\" ~%\"&IF(N3=\"\",100,N3)&\"%\"&J3&BV3)&IF(K3=\"\",\"\",\" ~%\"&IF(O3=\"\",100,O3)&\"%\"&K3&BW3)&IF(T3=\"\",\"\",\" ~%\"&IF(Y3=\"\",100,Y3)&\"%\"&T3&CC3)&IF(U3=\"\",\"\",\" ~%\"&IF(Z3=\"\",100,Z3)&\"%\"&U3&CD3)&IF(V3=\"\",\"\",\" ~%\"&IF(AA3=\"\",100,AA3)&\"%\"&V3&CE3)&IF(W3=\"\",\"\",\" ~%\"&IF(AB3=\"\",100,AB3)&\"%\"&W3&CF3)&IF(X3=\"\",\"\",\" ~%\"&IF(AC3=\"\",100,AC3)&\"%\"&X3&CG3)&IF(P3=\"\",\"\",\"~*#\"&IFERROR(VLOOKUP(P3,AK:AL,2,0),P3))&\"}\")","v":""},{"$f":"IF(BN3=\"\",\"\",\"{\"&IF(D3=\"\",1,D3)&\":MCVS:\"&BN3&BO3&IF(BP3=\"\",\"\",\"~\"&BP3&BT3)&IF(BQ3=\"\",\"\",\"~\"&BQ3&BU3)&IF(BR3=\"\",\"\",\"~\"&BR3&BV3)&IF(BS3=\"\",\"\",\"~\"&BS3&BW3)&IF(BX3=\"\",\"\",\"~\"&BX3&CC3)&IF(BY3=\"\",\"\",\"~\"&BY3&CD3)&IF(BZ3=\"\",\"\",\"~\"&BZ3&CE3)&IF(CA3=\"\",\"\",\"~\"&CA3&CF3)&IF(CB3=\"\",\"\",\"~\"&CB3&CG3)&\"}\")","v":""},{"$f":"IF(BN3=\"\",\"\",\"{\"&IF(D3=\"\",1,D3)&\":MCHS:\"&BN3&BO3&IF(BP3=\"\",\"\",\"~\"&BP3&BT3)&IF(BQ3=\"\",\"\",\"~\"&BQ3&BU3)&IF(BR3=\"\",\"\",\"~\"&BR3&BV3)&IF(BS3=\"\",\"\",\"~\"&BS3&BW3)&IF(BX3=\"\",\"\",\"~\"&BX3&CC3)&IF(BY3=\"\",\"\",\"~\"&BY3&CD3)&IF(BZ3=\"\",\"\",\"~\"&BZ3&CE3)&IF(CA3=\"\",\"\",\"~\"&CA3&CF3)&IF(CB3=\"\",\"\",\"~\"&CB3&CG3)&\"}\")","v":""},{"$f":"IF(F3=\"\",\"\",\"=\"&F3)","v":""},{"$f":"IF(G3=\"\",\"\",\"#\"&IFERROR(VLOOKUP(G3,$AK:$AL,2,0),G3))","v":""},{"$f":"IF(H3=\"\",\"\",\"%\"&IF(L3=\"\",0,L3)&\"%\"&H3)","v":""},{"$f":"IF(I3=\"\",\"\",\"%\"&IF(M3=\"\",0,M3)&\"%\"&I3)","v":""},"","",{"$f":"IF(H3=\"\",\"\",IFERROR(\"#\"&VLOOKUP($P3,$AN:$AO,2,0),IF(P3=\"\",\"\",\"#\"&IFERROR(VLOOKUP(P3,$AK:$AL,2,0),P3))))","v":""},{"$f":"IF(I3=\"\",\"\",IFERROR(\"#\"&VLOOKUP($P3,$AN:$AO,2,0),IF(Q3=\"\",\"\",\"#\"&IFERROR(VLOOKUP(Q3,$AK:$AL,2,0),Q3))))","v":""},{"$f":"IF(J3=\"\",\"\",IFERROR(\"#\"&VLOOKUP($P3,$AN:$AO,2,0),IF(R3=\"\",\"\",\"#\"&IFERROR(VLOOKUP(R3,$AK:$AL,2,0),R3))))","v":""},{"$f":"IF(K3=\"\",\"\",IFERROR(\"#\"&VLOOKUP($P3,$AN:$AO,2,0),IF(S3=\"\",\"\",\"#\"&IFERROR(VLOOKUP(S3,$AK:$AL,2,0),S3))))","v":""},{"$f":"IF(T3=\"\",\"\",\"%\"&IF(Y3=\"\",0,Y3)&\"%\"&T3)","v":""},{"$f":"IF(U3=\"\",\"\",\"%\"&IF(Z3=\"\",0,Z3)&\"%\"&U3)","v":""},"","","",{"$f":"IF(T3=\"\",\"\",IFERROR(\"#\"&VLOOKUP($P3,$AN:$AO,2,0),IF(AD3=\"\",\"\",\"#\"&IFERROR(VLOOKUP(AD3,$AK:$AL,2,0),AD3))))","v":""},{"$f":"IF(U3=\"\",\"\",IFERROR(\"#\"&VLOOKUP($P3,$AN:$AO,2,0),IF(AE3=\"\",\"\",\"#\"&IFERROR(VLOOKUP(AE3,$AK:$AL,2,0),AE3))))","v":""},{"$f":"IF(V3=\"\",\"\",IFERROR(\"#\"&VLOOKUP($P3,$AN:$AO,2,0),IF(AF3=\"\",\"\",\"#\"&IFERROR(VLOOKUP(AF3,$AK:$AL,2,0),AF3))))","v":""},{"$f":"IF(W3=\"\",\"\",IFERROR(\"#\"&VLOOKUP($P3,$AN:$AO,2,0),IF(AG3=\"\",\"\",\"#\"&IFERROR(VLOOKUP(AG3,$AK:$AL,2,0),AG3))))","v":""},{"$f":"IF(X3=\"\",\"\",IFERROR(\"#\"&VLOOKUP($P3,$AN:$AO,2,0),IF(AH3=\"\",\"\",\"#\"&IFERROR(VLOOKUP(AH3,$AK:$AL,2,0),AH3))))","v":""}]
["On",null,2,null,null,null,null,null,null,null,null,null,null,null,null,null,null,null,null,null,null,null,null,null,null,null,null,null,null,null,null,null,null,null,null,null,2,"Excellent! That was a hard one.",null,"B","This was a difficult one.",null,null,null,null,"Drop Down (After Question)",2,"Question Text","Correct Answer","Wrong Answer 1","Wrong Answer 2 ","Wrong Answer 3","Wrong Answer 4","Wrong Answer 5","Wrong Answer 6","Wrong Answer 7","Wrong Answer 8","Wrong Answer 9",null,{"$f":"IF($B$2=\"Spelling\",IF($F4=\"\",\"\",IF($A$4=\"On\",C4&\". \",\"\")&'Cloze Gift Spelling Part'!H483),IF(E4=\"\",\"\",IF($A$4=\"On\",C4&\". \",\"\")&IF($B$2=\"Drop Down (In-Line Replacement)\",SUBSTITUTE(E4,F4,VLOOKUP(BI4,BI4:BM4,VLOOKUP($B$2,$AT:$AU,2,0),0)),E4&\" \"&SUBSTITUTE(F4,F4,VLOOKUP(BI4,BI4:BM4,VLOOKUP($B$2,$AT:$AU,2,0),0)))))","v":""},0,"","","","","","",{"$f":"IF(H4=\"\",\"\",\"%\"&IF(L4=\"\",0,L4)&\"%\"&H4)","v":""},{"$f":"IF(I4=\"\",\"\",\"%\"&IF(M4=\"\",0,M4)&\"%\"&I4)","v":""},{"$f":"IF(J4=\"\",\"\",\"%\"&IF(N4=\"\",0,N4)&\"%\"&J4)","v":""},{"$f":"IF(K4=\"\",\"\",\"%\"&IF(O4=\"\",0,O4)&\"%\"&K4)","v":""},"","","","",{"$f":"IF(T4=\"\",\"\",\"%\"&IF(Y4=\"\",0,Y4)&\"%\"&T4)","v":""},{"$f":"IF(U4=\"\",\"\",\"%\"&IF(Z4=\"\",0,Z4)&\"%\"&U4)","v":""},{"$f":"IF(V4=\"\",\"\",\"%\"&IF(AA4=\"\",0,AA4)&\"%\"&V4)","v":""},{"$f":"IF(W4=\"\",\"\",\"%\"&IF(AB4=\"\",0,AB4)&\"%\"&W4)","v":""},{"$f":"IF(X4=\"\",\"\",\"%\"&IF(AC4=\"\",0,AC4)&\"%\"&X4)","v":""},"","","","",""]
[null,null,3,null,null,null,null,null,null,null,null,null,null,null,null,null,null,null,null,null,null,null,null,null,null,null,null,null,null,null,null,null,null,null,{"$f":"BH4","v":""},null,3,"Sorry, that's not right.",null,"C",null,null,null,null,null,"Multiple Choice Vertical",4,"Question Text","Correct Answer","Wrong Answer 1","Wrong Answer 2 ","Wrong Answer 3","Wrong Answer 4","Wrong Answer 5","Wrong Answer 6","Wrong Answer 7","Wrong Answer 8","Wrong Answer 9",null,{"$f":"IF($B$2=\"Spelling\",IF($F5=\"\",\"\",IF($A$4=\"On\",C5&\". \",\"\")&'Cloze Gift Spelling Part'!H484),IF(E5=\"\",\"\",IF($A$4=\"On\",C5&\". \",\"\")&IF($B$2=\"Drop Down (In-Line Replacement)\",SUBSTITUTE(E5,F5,VLOOKUP(BI5,BI5:BM5,VLOOKUP($B$2,$AT:$AU,2,0),0)),E5&\" \"&SUBSTITUTE(F5,F5,VLOOKUP(BI5,BI5:BM5,VLOOKUP($B$2,$AT:$AU,2,0),0)))))","v":""},0,"","","","","","","","","","","","","","","","","","","","","","","",""]
[null,null,4,null,null,null,null,null,null,null,null,null,null,null,null,null,null,null,null,null,null,null,null,null,null,null,null,null,null,null,null,null,null,null,null,null,4,"No, that is incorrect. Please review the lesson contents.",null,"D",null,null,null,null,null,"Multiple Choice Horizontal",5,"Question Text","Correct Answer","Wrong Answer 1","Wrong Answer 2 ","Wrong Answer 3","Wrong Answer 4","Wrong Answer 5","Wrong Answer 6","Wrong Answer 7","Wrong Answer 8","Wrong Answer 9",null,{"$f":"IF($B$2=\"Spelling\",IF($F6=\"\",\"\",IF($A$4=\"On\",C6&\". \",\"\")&'Cloze Gift Spelling Part'!H485),IF(E6=\"\",\"\",IF($A$4=\"On\",C6&\". \",\"\")&IF($B$2=\"Drop Down (In-Line Replacement)\",SUBSTITUTE(E6,F6,VLOOKUP(BI6,BI6:BM6,VLOOKUP($B$2,$AT:$AU,2,0),0)),E6&\" \"&SUBSTITUTE(F6,F6,VLOOKUP(BI6,BI6:BM6,VLOOKUP($B$2,$AT:$AU,2,0),0)))))","v":""},0,"","","","","","","","","","","","","","","","","","","","","","","",""]
[null,null,5,null,null,null,null,null,null,null,null,null,null,null,null,null,null,null,null,null,null,null,null,null,null,null,null,null,null,null,null,null,null,null,{"$f":"BH5","v":""},null,5,null,null,"E",null,null,null,null,null,"Short Answer",3,"Question Text","Correct Answer","Column Not Used with Question","Alternative Answer 1","Alternative Answer 2","Alternative Answer 3","Alternative Answer 4","Alternative Answer 5","Alternative Answer 6","Alternative Answer 7","Alternative Answer 8",null,{"$f":"IF($B$2=\"Spelling\",IF($F7=\"\",\"\",IF($A$4=\"On\",C7&\". \",\"\")&'Cloze Gift Spelling Part'!H486),IF(E7=\"\",\"\",IF($A$4=\"On\",C7&\". \",\"\")&IF($B$2=\"Drop Down (In-Line Replacement)\",SUBSTITUTE(E7,F7,VLOOKUP(BI7,BI7:BM7,VLOOKUP($B$2,$AT:$AU,2,0),0)),E7&\" \"&SUBSTITUTE(F7,F7,VLOOKUP(BI7,BI7:BM7,VLOOKUP($B$2,$AT:$AU,2,0),0)))))","v":""},0,"","","","","","","","","","","","","","","","","","","","","","","",""]
["On",null,6,null,null,null,null,null,null,null,null,null,null,null,null,null,null,null,null,null,null,null,null,null,null,null,null,null,null,null,null,null,null,null,null,null,6,null,null,"F",null,null,null,null,null,"Spelling",6,"Column Not Used with Question","Spelling Word","Column Not Used with Question","Column Not Used with Question","Column Not Used with Question","Column Not Used with Question","Column Not Used with Question","Column Not Used with Question","Column Not Used with Question","Column Not Used with Question","Column Not Used with Question",null,{"$f":"IF($B$2=\"Spelling\",IF($F8=\"\",\"\",IF($A$4=\"On\",C8&\". \",\"\")&'Cloze Gift Spelling Part'!H487),IF(E8=\"\",\"\",IF($A$4=\"On\",C8&\". \",\"\")&IF($B$2=\"Drop Down (In-Line Replacement)\",SUBSTITUTE(E8,F8,VLOOKUP(BI8,BI8:BM8,VLOOKUP($B$2,$AT:$AU,2,0),0)),E8&\" \"&SUBSTITUTE(F8,F8,VLOOKUP(BI8,BI8:BM8,VLOOKUP($B$2,$AT:$AU,2,0),0)))))","v":""},0,"","","","","","","","","","","","","","","","","","","","","","","",""]
[null,null,7,null,null,null,null,null,null,null,null,null,null,null,null,null,null,null,null,null,null,null,null,null,null,null,null,null,null,null,null,null,null,null,{"$f":"BH6","v":""},null,7,null,null,"G",null,null,null,null,null,"On",null,null,null,null,null,null,null,null,null,null,null,null,null,{"$f":"IF($B$2=\"Spelling\",IF($F9=\"\",\"\",IF($A$4=\"On\",C9&\". \",\"\")&'Cloze Gift Spelling Part'!H488),IF(E9=\"\",\"\",IF($A$4=\"On\",C9&\". \",\"\")&IF($B$2=\"Drop Down (In-Line Replacement)\",SUBSTITUTE(E9,F9,VLOOKUP(BI9,BI9:BM9,VLOOKUP($B$2,$AT:$AU,2,0),0)),E9&\" \"&SUBSTITUTE(F9,F9,VLOOKUP(BI9,BI9:BM9,VLOOKUP($B$2,$AT:$AU,2,0),0)))))","v":""},0,"","","","","","","","","","","","","","","","","","","","","","","",""]
[null,null,8,null,null,null,null,null,null,null,null,null,null,null,null,null,null,null,null,null,null,null,null,null,null,null,null,null,null,null,null,null,null,null,null,null,8,null,null,"H",null,null,null,null,null,"Off",null,null,null,null,null,null,null,null,null,null,null,null,null,{"$f":"IF($B$2=\"Spelling\",IF($F10=\"\",\"\",IF($A$4=\"On\",C10&\". \",\"\")&'Cloze Gift Spelling Part'!H489),IF(E10=\"\",\"\",IF($A$4=\"On\",C10&\". \",\"\")&IF($B$2=\"Drop Down (In-Line Replacement)\",SUBSTITUTE(E10,F10,VLOOKUP(BI10,BI10:BM10,VLOOKUP($B$2,$AT:$AU,2,0),0)),E10&\" \"&SUBSTITUTE(F10,F10,VLOOKUP(BI10,BI10:BM10,VLOOKUP($B$2,$AT:$AU,2,0),0)))))","v":""},0,"","","","","","","","","","","","","","","","","","","","","","","",""]
[null,null,9,null,null,null,null,null,null,null,null,null,null,null,null,null,null,null,null,null,null,null,null,null,null,null,null,null,null,null,null,null,null,null,{"$f":"BH7","v":""},null,9,null,null,"I",null,null,null,null,null,null,null,{"$f":"COLUMN()-(COLUMN()-AV12)","v":3},{"$f":"COLUMN()-(COLUMN()-AW12)","v":4},5,6,7,8,9,10,11,12,13,null,{"$f":"IF($B$2=\"Spelling\",IF($F11=\"\",\"\",IF($A$4=\"On\",C11&\". \",\"\")&'Cloze Gift Spelling Part'!H490),IF(E11=\"\",\"\",IF($A$4=\"On\",C11&\". \",\"\")&IF($B$2=\"Drop Down (In-Line Replacement)\",SUBSTITUTE(E11,F11,VLOOKUP(BI11,BI11:BM11,VLOOKUP($B$2,$AT:$AU,2,0),0)),E11&\" \"&SUBSTITUTE(F11,F11,VLOOKUP(BI11,BI11:BM11,VLOOKUP($B$2,$AT:$AU,2,0),0)))))","v":""},0,"","","","","","","","","","","","","","","","","","","","","","","",""]
[null,null,10,null,null,null,null,null,null,null,null,null,null,null,null,null,null,null,null,null,null,null,null,null,null,null,null,null,null,null,null,null,null,null,null,null,0,null,null,"J",null,null,null,null,null,null,null,3,4,5,6,7,8,9,10,11,12,13,null,{"$f":"IF($B$2=\"Spelling\",IF($F12=\"\",\"\",IF($A$4=\"On\",C12&\". \",\"\")&'Cloze Gift Spelling Part'!H491),IF(E12=\"\",\"\",IF($A$4=\"On\",C12&\". \",\"\")&IF($B$2=\"Drop Down (In-Line Replacement)\",SUBSTITUTE(E12,F12,VLOOKUP(BI12,BI12:BM12,VLOOKUP($B$2,$AT:$AU,2,0),0)),E12&\" \"&SUBSTITUTE(F12,F12,VLOOKUP(BI12,BI12:BM12,VLOOKUP($B$2,$AT:$AU,2,0),0)))))","v":""},0,"","","","","","","","","","","","","","","","","","","","","","","",""]
[null,null,11,null,null,null,null,null,null,null,null,null,null,null,null,null,null,null,null,null,null,null,null,null,null,null,null,null,null,null,null,null,null,null,{"$f":"BH8","v":""},null,null,null,null,null,null,null,null,null,null,null,null,null,null,null,null,null,null,null,null,null,null,null,null,{"$f":"IF($B$2=\"Spelling\",IF($F13=\"\",\"\",IF($A$4=\"On\",C13&\". \",\"\")&'Cloze Gift Spelling Part'!H492),IF(E13=\"\",\"\",IF($A$4=\"On\",C13&\". \",\"\")&IF($B$2=\"Drop Down (In-Line Replacement)\",SUBSTITUTE(E13,F13,VLOOKUP(BI13,BI13:BM13,VLOOKUP($B$2,$AT:$AU,2,0),0)),E13&\" \"&SUBSTITUTE(F13,F13,VLOOKUP(BI13,BI13:BM13,VLOOKUP($B$2,$AT:$AU,2,0),0)))))","v":""},0,"","","","","","","","","","","","","","","","","","","","","","","",""]
[null,null,12,null,null,null,null,null,null,null,null,null,null,null,null,null,null,null,null,null,null,null,null,null,null,null,null,null,null,null,null,null,null,null,null,null,null,null,null,null,null,null,null,null,null,null,null,null,null,null,null,null,null,null,null,null,null,null,null,{"$f":"IF($B$2=\"Spelling\",IF($F14=\"\",\"\",IF($A$4=\"On\",C14&\". \",\"\")&'Cloze Gift Spelling Part'!H493),IF(E14=\"\",\"\",IF($A$4=\"On\",C14&\". \",\"\")&IF($B$2=\"Drop Down (In-Line Replacement)\",SUBSTITUTE(E14,F14,VLOOKUP(BI14,BI14:BM14,VLOOKUP($B$2,$AT:$AU,2,0),0)),E14&\" \"&SUBSTITUTE(F14,F14,VLOOKUP(BI14,BI14:BM14,VLOOKUP($B$2,$AT:$AU,2,0),0)))))","v":""},0,"","","","","","","","","","","","","","","","","","","","","","","",""]
[null,null,13,null,null,null,null,null,null,null,null,null,null,null,null,null,null,null,null,null,null,null,null,null,null,null,null,null,null,null,null,null,null,null,{"$f":"BH9","v":""},null,null,null,null,null,null,null,null,null,null,null,null,null,null,null,null,null,null,null,null,null,null,null,null,{"$f":"IF($B$2=\"Spelling\",IF($F15=\"\",\"\",IF($A$4=\"On\",C15&\". \",\"\")&'Cloze Gift Spelling Part'!H494),IF(E15=\"\",\"\",IF($A$4=\"On\",C15&\". \",\"\")&IF($B$2=\"Drop Down (In-Line Replacement)\",SUBSTITUTE(E15,F15,VLOOKUP(BI15,BI15:BM15,VLOOKUP($B$2,$AT:$AU,2,0),0)),E15&\" \"&SUBSTITUTE(F15,F15,VLOOKUP(BI15,BI15:BM15,VLOOKUP($B$2,$AT:$AU,2,0),0)))))","v":""},0,"","","","","","","","","","","","","","","","","","","","","","","",""]
[null,null,14,null,null,null,null,null,null,null,null,null,null,null,null,null,null,null,null,null,null,null,null,null,null,null,null,null,null,null,null,null,null,null,null,null,null,null,null,null,null,null,null,null,null,null,null,null,null,null,null,null,null,null,null,null,null,null,null,{"$f":"IF($B$2=\"Spelling\",IF($F16=\"\",\"\",IF($A$4=\"On\",C16&\". \",\"\")&'Cloze Gift Spelling Part'!H495),IF(E16=\"\",\"\",IF($A$4=\"On\",C16&\". \",\"\")&IF($B$2=\"Drop Down (In-Line Replacement)\",SUBSTITUTE(E16,F16,VLOOKUP(BI16,BI16:BM16,VLOOKUP($B$2,$AT:$AU,2,0),0)),E16&\" \"&SUBSTITUTE(F16,F16,VLOOKUP(BI16,BI16:BM16,VLOOKUP($B$2,$AT:$AU,2,0),0)))))","v":""},0,"","","","","","","","","","","","","","","","","","","","","","","",""]
[null,null,15,null,null,null,null,null,null,null,null,null,null,null,null,null,null,null,null,null,null,null,null,null,null,null,null,null,null,null,null,null,null,null,{"$f":"BH10","v":""},null,null,null,null,null,null,null,null,null,null,null,null,null,null,null,null,null,null,null,null,null,null,null,null,{"$f":"IF($B$2=\"Spelling\",IF($F17=\"\",\"\",IF($A$4=\"On\",C17&\". \",\"\")&'Cloze Gift Spelling Part'!H496),IF(E17=\"\",\"\",IF($A$4=\"On\",C17&\". \",\"\")&IF($B$2=\"Drop Down (In-Line Replacement)\",SUBSTITUTE(E17,F17,VLOOKUP(BI17,BI17:BM17,VLOOKUP($B$2,$AT:$AU,2,0),0)),E17&\" \"&SUBSTITUTE(F17,F17,VLOOKUP(BI17,BI17:BM17,VLOOKUP($B$2,$AT:$AU,2,0),0)))))","v":""},0,"","","","","","","","","","","","","","","","","","","","","","","",""]
[null,null,16,null,null,null,null,null,null,null,null,null,null,null,null,null,null,null,null,null,null,null,null,null,null,null,null,null,null,null,null,null,null,null,null,null,null,null,null,null,null,null,null,null,null,null,null,null,null,null,null,null,null,null,null,null,null,null,null,{"$f":"IF($B$2=\"Spelling\",IF($F18=\"\",\"\",IF($A$4=\"On\",C18&\". \",\"\")&'Cloze Gift Spelling Part'!H497),IF(E18=\"\",\"\",IF($A$4=\"On\",C18&\". \",\"\")&IF($B$2=\"Drop Down (In-Line Replacement)\",SUBSTITUTE(E18,F18,VLOOKUP(BI18,BI18:BM18,VLOOKUP($B$2,$AT:$AU,2,0),0)),E18&\" \"&SUBSTITUTE(F18,F18,VLOOKUP(BI18,BI18:BM18,VLOOKUP($B$2,$AT:$AU,2,0),0)))))","v":""},0,"","","","","","","","","","","","","","","","","","","","","","","",""]
[null,null,17,null,null,null,null,null,null,null,null,null,null,null,null,null,null,null,null,null,null,null,null,null,null,null,null,null,null,null,null,null,null,null,{"$f":"BH11","v":""},null,null,null,null,null,null,null,null,null,null,null,null,null,null,null,null,null,null,null,null,null,null,null,null,{"$f":"IF($B$2=\"Spelling\",IF($F19=\"\",\"\",IF($A$4=\"On\",C19&\". \",\"\")&'Cloze Gift Spelling Part'!H498),IF(E19=\"\",\"\",IF($A$4=\"On\",C19&\". \",\"\")&IF($B$2=\"Drop Down (In-Line Replacement)\",SUBSTITUTE(E19,F19,VLOOKUP(BI19,BI19:BM19,VLOOKUP($B$2,$AT:$AU,2,0),0)),E19&\" \"&SUBSTITUTE(F19,F19,VLOOKUP(BI19,BI19:BM19,VLOOKUP($B$2,$AT:$AU,2,0),0)))))","v":""},0,"","","","","","","","","","","","","","","","","","","","","","","",""]
[null,null,18,null,null,null,null,null,null,null,null,null,null,null,null,null,null,null,null,null,null,null,null,null,null,null,null,null,null,null,null,null,null,null,null,null,null,null,null,null,null,null,null,null,null,null,null,null,null,null,null,null,null,null,null,null,null,null,null,{"$f":"IF($B$2=\"Spelling\",IF($F20=\"\",\"\",IF($A$4=\"On\",C20&\". \",\"\")&'Cloze Gift Spelling Part'!H499),IF(E20=\"\",\"\",IF($A$4=\"On\",C20&\". \",\"\")&IF($B$2=\"Drop Down (In-Line Replacement)\",SUBSTITUTE(E20,F20,VLOOKUP(BI20,BI20:BM20,VLOOKUP($B$2,$AT:$AU,2,0),0)),E20&\" \"&SUBSTITUTE(F20,F20,VLOOKUP(BI20,BI20:BM20,VLOOKUP($B$2,$AT:$AU,2,0),0)))))","v":""},0,"","","","","","","","","","","","","","","","","","","","","","","",""]
[null,null,19,null,null,null,null,null,null,null,null,null,null,null,null,null,null,null,null,null,null,null,null,null,null,null,null,null,null,null,null,null,null,null,{"$f":"BH12","v":""},null,null,null,null,null,null,null,null,null,null,null,null,null,null,null,null,null,null,null,null,null,null,null,null,{"$f":"IF($B$2=\"Spelling\",IF($F21=\"\",\"\",IF($A$4=\"On\",C21&\". \",\"\")&'Cloze Gift Spelling Part'!H500),IF(E21=\"\",\"\",IF($A$4=\"On\",C21&\". \",\"\")&IF($B$2=\"Drop Down (In-Line Replacement)\",SUBSTITUTE(E21,F21,VLOOKUP(BI21,BI21:BM21,VLOOKUP($B$2,$AT:$AU,2,0),0)),E21&\" \"&SUBSTITUTE(F21,F21,VLOOKUP(BI21,BI21:BM21,VLOOKUP($B$2,$AT:$AU,2,0),0)))))","v":""},0,"","","","","","","","","","","","","","","","","","","","","","","",""]
[null,null,20,null,null,null,null,null,null,null,null,null,null,null,null,null,null,null,null,null,null,null,null,null,null,null,null,null,null,null,null,null,null,null,null,null,null,null,null,null,null,null,null,null,null,null,null,null,null,null,null,null,null,null,null,null,null,null,null,{"$f":"IF($B$2=\"Spelling\",IF($F22=\"\",\"\",IF($A$4=\"On\",C22&\". \",\"\")&'Cloze Gift Spelling Part'!H501),IF(E22=\"\",\"\",IF($A$4=\"On\",C22&\". \",\"\")&IF($B$2=\"Drop Down (In-Line Replacement)\",SUBSTITUTE(E22,F22,VLOOKUP(BI22,BI22:BM22,VLOOKUP($B$2,$AT:$AU,2,0),0)),E22&\" \"&SUBSTITUTE(F22,F22,VLOOKUP(BI22,BI22:BM22,VLOOKUP($B$2,$AT:$AU,2,0),0)))))","v":""},0,"","","","","","","","","","","","","","","","","","","","","","","",""]
[null,null,21,null,null,null,null,null,null,null,null,null,null,null,null,null,null,null,null,null,null,null,null,null,null,null,null,null,null,null,null,null,null,null,{"$f":"BH13","v":""},null,null,null,null,null,null,null,null,null,null,null,null,null,null,null,null,null,null,null,null,null,null,null,null,{"$f":"IF($B$2=\"Spelling\",IF($F23=\"\",\"\",IF($A$4=\"On\",C23&\". \",\"\")&'Cloze Gift Spelling Part'!H502),IF(E23=\"\",\"\",IF($A$4=\"On\",C23&\". \",\"\")&IF($B$2=\"Drop Down (In-Line Replacement)\",SUBSTITUTE(E23,F23,VLOOKUP(BI23,BI23:BM23,VLOOKUP($B$2,$AT:$AU,2,0),0)),E23&\" \"&SUBSTITUTE(F23,F23,VLOOKUP(BI23,BI23:BM23,VLOOKUP($B$2,$AT:$AU,2,0),0)))))","v":""},{"$f":"F23","v":0},{"$f":"IF(BN23=\"\",\"\",\"{\"&IF(D23=\"\",1,D23)&\":MCS:\"&BN23&BO23&IF(BP23=\"\",\"\",\"~\"&BP23&BT23)&IF(BQ23=\"\",\"\",\"~\"&BQ23&BU23)&IF(BR23=\"\",\"\",\"~\"&BR23&BV23)&IF(BS23=\"\",\"\",\"~\"&BS23&BW23)&IF(BX23=\"\",\"\",\"~\"&BX23&CC23)&IF(BY23=\"\",\"\",\"~\"&BY23&CD23)&IF(BZ23=\"\",\"\",\"~\"&BZ23&CE23)&IF(CA23=\"\",\"\",\"~\"&CA23&CF23)&IF(CB23=\"\",\"\",\"~\"&CB23&CG23)&\"}\")","v":""},"",{"$f":"IF(BN23=\"\",\"\",\"{\"&IF(D23=\"\",1,D23)&\":MCVS:\"&BN23&BO23&IF(BP23=\"\",\"\",\"~\"&BP23&BT23)&IF(BQ23=\"\",\"\",\"~\"&BQ23&BU23)&IF(BR23=\"\",\"\",\"~\"&BR23&BV23)&IF(BS23=\"\",\"\",\"~\"&BS23&BW23)&IF(BX23=\"\",\"\",\"~\"&BX23&CC23)&IF(BY23=\"\",\"\",\"~\"&BY23&CD23)&IF(BZ23=\"\",\"\",\"~\"&BZ23&CE23)&IF(CA23=\"\",\"\",\"~\"&CA23&CF23)&IF(CB23=\"\",\"\",\"~\"&CB23&CG23)&\"}\")","v":""},{"$f":"IF(BN23=\"\",\"\",\"{\"&IF(D23=\"\",1,D23)&\":MCHS:\"&BN23&BO23&IF(BP23=\"\",\"\",\"~\"&BP23&BT23)&IF(BQ23=\"\",\"\",\"~\"&BQ23&BU23)&IF(BR23=\"\",\"\",\"~\"&BR23&BV23)&IF(BS23=\"\",\"\",\"~\"&BS23&BW23)&IF(BX23=\"\",\"\",\"~\"&BX23&CC23)&IF(BY23=\"\",\"\",\"~\"&BY23&CD23)&IF(BZ23=\"\",\"\",\"~\"&BZ23&CE23)&IF(CA23=\"\",\"\",\"~\"&CA23&CF23)&IF(CB23=\"\",\"\",\"~\"&CB23&CG23)&\"}\")","v":""},{"$f":"IF(F23=\"\",\"\",\"=\"&F23)","v":""},"","","","","","","","","","","","","","","","","","",""]
[null,null,22,null,null,null,null,null,null,null,null,null,null,null,null,null,null,null,null,null,null,null,null,null,null,null,null,null,null,null,null,null,null,null,null,null,null,null,null,null,null,null,null,null,null,null,null,null,null,null,null,null,null,null,null,null,null,null,null,{"$f":"IF($B$2=\"Spelling\",IF($F24=\"\",\"\",IF($A$4=\"On\",C24&\". \",\"\")&'Cloze Gift Spelling Part'!H503),IF(E24=\"\",\"\",IF($A$4=\"On\",C24&\". \",\"\")&IF($B$2=\"Drop Down (In-Line Replacement)\",SUBSTITUTE(E24,F24,VLOOKUP(BI24,BI24:BM24,VLOOKUP($B$2,$AT:$AU,2,0),0)),E24&\" \"&SUBSTITUTE(F24,F24,VLOOKUP(BI24,BI24:BM24,VLOOKUP($B$2,$AT:$AU,2,0),0)))))","v":""},0,"","","","","","","","","","","","","","","","","","","","","","","",""]
[null,null,23,null,null,null,null,null,null,null,null,null,null,null,null,null,null,null,null,null,null,null,null,null,null,null,null,null,null,null,null,null,null,null,{"$f":"BH14","v":""},null,null,null,null,null,null,null,null,null,null,null,null,null,null,null,null,null,null,null,null,null,null,null,null,{"$f":"IF($B$2=\"Spelling\",IF($F25=\"\",\"\",IF($A$4=\"On\",C25&\". \",\"\")&'Cloze Gift Spelling Part'!H504),IF(E25=\"\",\"\",IF($A$4=\"On\",C25&\". \",\"\")&IF($B$2=\"Drop Down (In-Line Replacement)\",SUBSTITUTE(E25,F25,VLOOKUP(BI25,BI25:BM25,VLOOKUP($B$2,$AT:$AU,2,0),0)),E25&\" \"&SUBSTITUTE(F25,F25,VLOOKUP(BI25,BI25:BM25,VLOOKUP($B$2,$AT:$AU,2,0),0)))))","v":""},0,"","","","","","","","","","","","","","","","","","","","","","","",""]
[null,null,24,null,null,null,null,null,null,null,null,null,null,null,null,null,null,null,null,null,null,null,null,null,null,null,null,null,null,null,null,null,null,null,null,null,null,null,null,null,null,null,null,null,null,null,null,null,null,null,null,null,null,null,null,null,null,null,null,{"$f":"IF($B$2=\"Spelling\",IF($F26=\"\",\"\",IF($A$4=\"On\",C26&\". \",\"\")&'Cloze Gift Spelling Part'!H505),IF(E26=\"\",\"\",IF($A$4=\"On\",C26&\". \",\"\")&IF($B$2=\"Drop Down (In-Line Replacement)\",SUBSTITUTE(E26,F26,VLOOKUP(BI26,BI26:BM26,VLOOKUP($B$2,$AT:$AU,2,0),0)),E26&\" \"&SUBSTITUTE(F26,F26,VLOOKUP(BI26,BI26:BM26,VLOOKUP($B$2,$AT:$AU,2,0),0)))))","v":""},0,"","","","","","","","","","","","","","","","","","","","","","","",""]
[null,null,25,null,null,null,null,null,null,null,null,null,null,null,null,null,null,null,null,null,null,null,null,null,null,null,null,null,null,null,null,null,null,null,{"$f":"BH15","v":""},null,null,null,null,null,null,null,null,null,null,null,null,null,null,null,null,null,null,null,null,null,null,null,null,{"$f":"IF($B$2=\"Spelling\",IF($F27=\"\",\"\",IF($A$4=\"On\",C27&\". \",\"\")&'Cloze Gift Spelling Part'!H506),IF(E27=\"\",\"\",IF($A$4=\"On\",C27&\". \",\"\")&IF($B$2=\"Drop Down (In-Line Replacement)\",SUBSTITUTE(E27,F27,VLOOKUP(BI27,BI27:BM27,VLOOKUP($B$2,$AT:$AU,2,0),0)),E27&\" \"&SUBSTITUTE(F27,F27,VLOOKUP(BI27,BI27:BM27,VLOOKUP($B$2,$AT:$AU,2,0),0)))))","v":""},0,"","","","","","","","","","","","","","","","","","","","","","","",""]
[null,null,26,null,null,null,null,null,null,null,null,null,null,null,null,null,null,null,null,null,null,null,null,null,null,null,null,null,null,null,null,null,null,null,null,null,null,null,null,null,null,null,null,null,null,null,null,null,null,null,null,null,null,null,null,null,null,null,null,{"$f":"IF($B$2=\"Spelling\",IF($F28=\"\",\"\",IF($A$4=\"On\",C28&\". \",\"\")&'Cloze Gift Spelling Part'!H507),IF(E28=\"\",\"\",IF($A$4=\"On\",C28&\". \",\"\")&IF($B$2=\"Drop Down (In-Line Replacement)\",SUBSTITUTE(E28,F28,VLOOKUP(BI28,BI28:BM28,VLOOKUP($B$2,$AT:$AU,2,0),0)),E28&\" \"&SUBSTITUTE(F28,F28,VLOOKUP(BI28,BI28:BM28,VLOOKUP($B$2,$AT:$AU,2,0),0)))))","v":""},0,"","","","","","","","","","","","","","","","","","","","","","","",""]
[null,null,27,null,null,null,null,null,null,null,null,null,null,null,null,null,null,null,null,null,null,null,null,null,null,null,null,null,null,null,null,null,null,null,{"$f":"BH16","v":""},null,null,null,null,null,null,null,null,null,null,null,null,null,null,null,null,null,null,null,null,null,null,null,null,{"$f":"IF($B$2=\"Spelling\",IF($F29=\"\",\"\",IF($A$4=\"On\",C29&\". \",\"\")&'Cloze Gift Spelling Part'!H508),IF(E29=\"\",\"\",IF($A$4=\"On\",C29&\". \",\"\")&IF($B$2=\"Drop Down (In-Line Replacement)\",SUBSTITUTE(E29,F29,VLOOKUP(BI29,BI29:BM29,VLOOKUP($B$2,$AT:$AU,2,0),0)),E29&\" \"&SUBSTITUTE(F29,F29,VLOOKUP(BI29,BI29:BM29,VLOOKUP($B$2,$AT:$AU,2,0),0)))))","v":""},0,"","","","","","","","","","","","","","","","","","","","","","","",""]
[null,null,28,null,null,null,null,null,null,null,null,null,null,null,null,null,null,null,null,null,null,null,null,null,null,null,null,null,null,null,null,null,null,null,null,null,null,null,null,null,null,null,null,null,null,null,null,null,null,null,null,null,null,null,null,null,null,null,null,{"$f":"IF($B$2=\"Spelling\",IF($F30=\"\",\"\",IF($A$4=\"On\",C30&\". \",\"\")&'Cloze Gift Spelling Part'!H509),IF(E30=\"\",\"\",IF($A$4=\"On\",C30&\". \",\"\")&IF($B$2=\"Drop Down (In-Line Replacement)\",SUBSTITUTE(E30,F30,VLOOKUP(BI30,BI30:BM30,VLOOKUP($B$2,$AT:$AU,2,0),0)),E30&\" \"&SUBSTITUTE(F30,F30,VLOOKUP(BI30,BI30:BM30,VLOOKUP($B$2,$AT:$AU,2,0),0)))))","v":""},0,"","","","","","","","","","","","","","","","","","","","","","","",""]
[null,null,29,null,null,null,null,null,null,null,null,null,null,null,null,null,null,null,null,null,null,null,null,null,null,null,null,null,null,null,null,null,null,null,{"$f":"BH17","v":""},null,null,null,null,null,null,null,null,null,null,null,null,null,null,null,null,null,null,null,null,null,null,null,null,{"$f":"IF($B$2=\"Spelling\",IF($F31=\"\",\"\",IF($A$4=\"On\",C31&\". \",\"\")&'Cloze Gift Spelling Part'!H510),IF(E31=\"\",\"\",IF($A$4=\"On\",C31&\". \",\"\")&IF($B$2=\"Drop Down (In-Line Replacement)\",SUBSTITUTE(E31,F31,VLOOKUP(BI31,BI31:BM31,VLOOKUP($B$2,$AT:$AU,2,0),0)),E31&\" \"&SUBSTITUTE(F31,F31,VLOOKUP(BI31,BI31:BM31,VLOOKUP($B$2,$AT:$AU,2,0),0)))))","v":""},0,"","","","","","","","","","","","","","","","","","","","","","","",""]
[null,null,30,null,null,null,null,null,null,null,null,null,null,null,null,null,null,null,null,null,null,null,null,null,null,null,null,null,null,null,null,null,null,null,null,null,null,null,null,null,null,null,null,null,null,null,null,null,null,null,null,null,null,null,null,null,null,null,null,{"$f":"IF($B$2=\"Spelling\",IF($F32=\"\",\"\",IF($A$4=\"On\",C32&\". \",\"\")&'Cloze Gift Spelling Part'!H511),IF(E32=\"\",\"\",IF($A$4=\"On\",C32&\". \",\"\")&IF($B$2=\"Drop Down (In-Line Replacement)\",SUBSTITUTE(E32,F32,VLOOKUP(BI32,BI32:BM32,VLOOKUP($B$2,$AT:$AU,2,0),0)),E32&\" \"&SUBSTITUTE(F32,F32,VLOOKUP(BI32,BI32:BM32,VLOOKUP($B$2,$AT:$AU,2,0),0)))))","v":""},0,"","","","","","","","","","","","","","","","","","","","","","","",""]
[null,null,31,null,null,null,null,null,null,null,null,null,null,null,null,null,null,null,null,null,null,null,null,null,null,null,null,null,null,null,null,null,null,null,{"$f":"BH18","v":""},null,null,null,null,null,null,null,null,null,null,null,null,null,null,null,null,null,null,null,null,null,null,null,null,{"$f":"IF($B$2=\"Spelling\",IF($F33=\"\",\"\",IF($A$4=\"On\",C33&\". \",\"\")&'Cloze Gift Spelling Part'!H512),IF(E33=\"\",\"\",IF($A$4=\"On\",C33&\". \",\"\")&IF($B$2=\"Drop Down (In-Line Replacement)\",SUBSTITUTE(E33,F33,VLOOKUP(BI33,BI33:BM33,VLOOKUP($B$2,$AT:$AU,2,0),0)),E33&\" \"&SUBSTITUTE(F33,F33,VLOOKUP(BI33,BI33:BM33,VLOOKUP($B$2,$AT:$AU,2,0),0)))))","v":""},0,"","","","","","","","","","","","","","","","","","","","","","","",""]
[null,null,32,null,null,null,null,null,null,null,null,null,null,null,null,null,null,null,null,null,null,null,null,null,null,null,null,null,null,null,null,null,null,null,null,null,null,null,null,null,null,null,null,null,null,null,null,null,null,null,null,null,null,null,null,null,null,null,null,{"$f":"IF($B$2=\"Spelling\",IF($F34=\"\",\"\",IF($A$4=\"On\",C34&\". \",\"\")&'Cloze Gift Spelling Part'!H513),IF(E34=\"\",\"\",IF($A$4=\"On\",C34&\". \",\"\")&IF($B$2=\"Drop Down (In-Line Replacement)\",SUBSTITUTE(E34,F34,VLOOKUP(BI34,BI34:BM34,VLOOKUP($B$2,$AT:$AU,2,0),0)),E34&\" \"&SUBSTITUTE(F34,F34,VLOOKUP(BI34,BI34:BM34,VLOOKUP($B$2,$AT:$AU,2,0),0)))))","v":""},0,"","","","","","","","","","","","","","","","","","","","","","","",""]
[null,null,33,null,null,null,null,null,null,null,null,null,null,null,null,null,null,null,null,null,null,null,null,null,null,null,null,null,null,null,null,null,null,null,{"$f":"BH19","v":""},null,null,null,null,null,null,null,null,null,null,null,null,null,null,null,null,null,null,null,null,null,null,null,null,{"$f":"IF($B$2=\"Spelling\",IF($F35=\"\",\"\",IF($A$4=\"On\",C35&\". \",\"\")&'Cloze Gift Spelling Part'!H514),IF(E35=\"\",\"\",IF($A$4=\"On\",C35&\". \",\"\")&IF($B$2=\"Drop Down (In-Line Replacement)\",SUBSTITUTE(E35,F35,VLOOKUP(BI35,BI35:BM35,VLOOKUP($B$2,$AT:$AU,2,0),0)),E35&\" \"&SUBSTITUTE(F35,F35,VLOOKUP(BI35,BI35:BM35,VLOOKUP($B$2,$AT:$AU,2,0),0)))))","v":""},0,"",{"$f":"IF(E35=\"\",\"\",\"{\"&IF(D35=\"\",1,D35)&\":SA:=\"&F35&BO35&IF(I35=\"\",\"\",\" ~%\"&IF(M35=\"\",100,M35)&\"%\"&I35&BU35)&IF(J35=\"\",\"\",\" ~%\"&IF(N35=\"\",100,N35)&\"%\"&J35&BV35)&IF(K35=\"\",\"\",\" ~%\"&IF(O35=\"\",100,O35)&\"%\"&K35&BW35)&IF(T35=\"\",\"\",\" ~%\"&IF(Y35=\"\",100,Y35)&\"%\"&T35&CC35)&IF(U35=\"\",\"\",\" ~%\"&IF(Z35=\"\",100,Z35)&\"%\"&U35&CD35)&IF(V35=\"\",\"\",\" ~%\"&IF(AA35=\"\",100,AA35)&\"%\"&V35&CE35)&IF(W35=\"\",\"\",\" ~%\"&IF(AB35=\"\",100,AB35)&\"%\"&W35&CF35)&IF(X35=\"\",\"\",\" ~%\"&IF(AC35=\"\",100,AC35)&\"%\"&X35&CG35)&IF(P35=\"\",\"\",\"~*#\"&IFERROR(VLOOKUP(P35,AK:AL,2,0),P35))&\"}\")","v":""},"","","",{"$f":"IF(G35=\"\",\"\",\"#\"&IFERROR(VLOOKUP(G35,$AK:$AL,2,0),G35))","v":""},"","","","",{"$f":"IF(H35=\"\",\"\",IFERROR(\"#\"&VLOOKUP($P35,$AN:$AO,2,0),IF(P35=\"\",\"\",\"#\"&IFERROR(VLOOKUP(P35,$AK:$AL,2,0),P35))))","v":""},{"$f":"IF(I35=\"\",\"\",IFERROR(\"#\"&VLOOKUP($P35,$AN:$AO,2,0),IF(Q35=\"\",\"\",\"#\"&IFERROR(VLOOKUP(Q35,$AK:$AL,2,0),Q35))))","v":""},{"$f":"IF(J35=\"\",\"\",IFERROR(\"#\"&VLOOKUP($P35,$AN:$AO,2,0),IF(R35=\"\",\"\",\"#\"&IFERROR(VLOOKUP(R35,$AK:$AL,2,0),R35))))","v":""},{"$f":"IF(K35=\"\",\"\",IFERROR(\"#\"&VLOOKUP($P35,$AN:$AO,2,0),IF(S35=\"\",\"\",\"#\"&IFERROR(VLOOKUP(S35,$AK:$AL,2,0),S35))))","v":""},"","","","","",{"$f":"IF(T35=\"\",\"\",IFERROR(\"#\"&VLOOKUP($P35,$AN:$AO,2,0),IF(AD35=\"\",\"\",\"#\"&IFERROR(VLOOKUP(AD35,$AK:$AL,2,0),AD35))))","v":""},{"$f":"IF(U35=\"\",\"\",IFERROR(\"#\"&VLOOKUP($P35,$AN:$AO,2,0),IF(AE35=\"\",\"\",\"#\"&IFERROR(VLOOKUP(AE35,$AK:$AL,2,0),AE35))))","v":""},{"$f":"IF(V35=\"\",\"\",IFERROR(\"#\"&VLOOKUP($P35,$AN:$AO,2,0),IF(AF35=\"\",\"\",\"#\"&IFERROR(VLOOKUP(AF35,$AK:$AL,2,0),AF35))))","v":""},{"$f":"IF(W35=\"\",\"\",IFERROR(\"#\"&VLOOKUP($P35,$AN:$AO,2,0),IF(AG35=\"\",\"\",\"#\"&IFERROR(VLOOKUP(AG35,$AK:$AL,2,0),AG35))))","v":""},{"$f":"IF(X35=\"\",\"\",IFERROR(\"#\"&VLOOKUP($P35,$AN:$AO,2,0),IF(AH35=\"\",\"\",\"#\"&IFERROR(VLOOKUP(AH35,$AK:$AL,2,0),AH35))))","v":""}]
[null,null,34,null,null,null,null,null,null,null,null,null,null,null,null,null,null,null,null,null,null,null,null,null,null,null,null,null,null,null,null,null,null,null,null,null,null,null,null,null,null,null,null,null,null,null,null,null,null,null,null,null,null,null,null,null,null,null,null,{"$f":"IF($B$2=\"Spelling\",IF($F36=\"\",\"\",IF($A$4=\"On\",C36&\". \",\"\")&'Cloze Gift Spelling Part'!H515),IF(E36=\"\",\"\",IF($A$4=\"On\",C36&\". \",\"\")&IF($B$2=\"Drop Down (In-Line Replacement)\",SUBSTITUTE(E36,F36,VLOOKUP(BI36,BI36:BM36,VLOOKUP($B$2,$AT:$AU,2,0),0)),E36&\" \"&SUBSTITUTE(F36,F36,VLOOKUP(BI36,BI36:BM36,VLOOKUP($B$2,$AT:$AU,2,0),0)))))","v":""},0,"","","","","","","","","","","","","","","","","","","","","","","",""]
[null,null,35,null,null,null,null,null,null,null,null,null,null,null,null,null,null,null,null,null,null,null,null,null,null,null,null,null,null,null,null,null,null,null,{"$f":"BH20","v":""},null,null,null,null,null,null,null,null,null,null,null,null,null,null,null,null,null,null,null,null,null,null,null,null,{"$f":"IF($B$2=\"Spelling\",IF($F37=\"\",\"\",IF($A$4=\"On\",C37&\". \",\"\")&'Cloze Gift Spelling Part'!H516),IF(E37=\"\",\"\",IF($A$4=\"On\",C37&\". \",\"\")&IF($B$2=\"Drop Down (In-Line Replacement)\",SUBSTITUTE(E37,F37,VLOOKUP(BI37,BI37:BM37,VLOOKUP($B$2,$AT:$AU,2,0),0)),E37&\" \"&SUBSTITUTE(F37,F37,VLOOKUP(BI37,BI37:BM37,VLOOKUP($B$2,$AT:$AU,2,0),0)))))","v":""},0,"","","","","","","","","","","","","","","","","","","","","","","",""]
[null,null,36,null,null,null,null,null,null,null,null,null,null,null,null,null,null,null,null,null,null,null,null,null,null,null,null,null,null,null,null,null,null,null,null,null,null,null,null,null,null,null,null,null,null,null,null,null,null,null,null,null,null,null,null,null,null,null,null,{"$f":"IF($B$2=\"Spelling\",IF($F38=\"\",\"\",IF($A$4=\"On\",C38&\". \",\"\")&'Cloze Gift Spelling Part'!H517),IF(E38=\"\",\"\",IF($A$4=\"On\",C38&\". \",\"\")&IF($B$2=\"Drop Down (In-Line Replacement)\",SUBSTITUTE(E38,F38,VLOOKUP(BI38,BI38:BM38,VLOOKUP($B$2,$AT:$AU,2,0),0)),E38&\" \"&SUBSTITUTE(F38,F38,VLOOKUP(BI38,BI38:BM38,VLOOKUP($B$2,$AT:$AU,2,0),0)))))","v":""},0,"","","","","","","","","","","","","","","","","","","","","","","",""]
[null,null,37,null,null,null,null,null,null,null,null,null,null,null,null,null,null,null,null,null,null,null,null,null,null,null,null,null,null,null,null,null,null,null,{"$f":"BH21","v":""},null,null,null,null,null,null,null,null,null,null,null,null,null,null,null,null,null,null,null,null,null,null,null,null,{"$f":"IF($B$2=\"Spelling\",IF($F39=\"\",\"\",IF($A$4=\"On\",C39&\". \",\"\")&'Cloze Gift Spelling Part'!H518),IF(E39=\"\",\"\",IF($A$4=\"On\",C39&\". \",\"\")&IF($B$2=\"Drop Down (In-Line Replacement)\",SUBSTITUTE(E39,F39,VLOOKUP(BI39,BI39:BM39,VLOOKUP($B$2,$AT:$AU,2,0),0)),E39&\" \"&SUBSTITUTE(F39,F39,VLOOKUP(BI39,BI39:BM39,VLOOKUP($B$2,$AT:$AU,2,0),0)))))","v":""},0,"","","","","","","","","","","","","","","","","","","","","","","",""]
[null,null,38,null,null,null,null,null,null,null,null,null,null,null,null,null,null,null,null,null,null,null,null,null,null,null,null,null,null,null,null,null,null,null,null,null,null,null,null,null,null,null,null,null,null,null,null,null,null,null,null,null,null,null,null,null,null,null,null,{"$f":"IF($B$2=\"Spelling\",IF($F40=\"\",\"\",IF($A$4=\"On\",C40&\". \",\"\")&'Cloze Gift Spelling Part'!H519),IF(E40=\"\",\"\",IF($A$4=\"On\",C40&\". \",\"\")&IF($B$2=\"Drop Down (In-Line Replacement)\",SUBSTITUTE(E40,F40,VLOOKUP(BI40,BI40:BM40,VLOOKUP($B$2,$AT:$AU,2,0),0)),E40&\" \"&SUBSTITUTE(F40,F40,VLOOKUP(BI40,BI40:BM40,VLOOKUP($B$2,$AT:$AU,2,0),0)))))","v":""},0,"","","","","","","","","","","","","","","","","","","","","","","",""]
[null,null,39,null,null,null,null,null,null,null,null,null,null,null,null,null,null,null,null,null,null,null,null,null,null,null,null,null,null,null,null,null,null,null,{"$f":"BH22","v":""},null,null,null,null,null,null,null,null,null,null,null,null,null,null,null,null,null,null,null,null,null,null,null,null,{"$f":"IF($B$2=\"Spelling\",IF($F41=\"\",\"\",IF($A$4=\"On\",C41&\". \",\"\")&'Cloze Gift Spelling Part'!H520),IF(E41=\"\",\"\",IF($A$4=\"On\",C41&\". \",\"\")&IF($B$2=\"Drop Down (In-Line Replacement)\",SUBSTITUTE(E41,F41,VLOOKUP(BI41,BI41:BM41,VLOOKUP($B$2,$AT:$AU,2,0),0)),E41&\" \"&SUBSTITUTE(F41,F41,VLOOKUP(BI41,BI41:BM41,VLOOKUP($B$2,$AT:$AU,2,0),0)))))","v":""},0,"","","","","","","","","","","","","","","","","","","","","","","",""]
[null,null,40,null,null,null,null,null,null,null,null,null,null,null,null,null,null,null,null,null,null,null,null,null,null,null,null,null,null,null,null,null,null,null,null,null,null,null,null,null,null,null,null,null,null,null,null,null,null,null,null,null,null,null,null,null,null,null,null,{"$f":"IF($B$2=\"Spelling\",IF($F42=\"\",\"\",IF($A$4=\"On\",C42&\". \",\"\")&'Cloze Gift Spelling Part'!H521),IF(E42=\"\",\"\",IF($A$4=\"On\",C42&\". \",\"\")&IF($B$2=\"Drop Down (In-Line Replacement)\",SUBSTITUTE(E42,F42,VLOOKUP(BI42,BI42:BM42,VLOOKUP($B$2,$AT:$AU,2,0),0)),E42&\" \"&SUBSTITUTE(F42,F42,VLOOKUP(BI42,BI42:BM42,VLOOKUP($B$2,$AT:$AU,2,0),0)))))","v":""},0,"","","","","","","","","","","","","","","","","","","","","","","",""]
[null,null,41,null,null,null,null,null,null,null,null,null,null,null,null,null,null,null,null,null,null,null,null,null,null,null,null,null,null,null,null,null,null,null,{"$f":"BH23","v":""},null,null,null,null,null,null,null,null,null,null,null,null,null,null,null,null,null,null,null,null,null,null,null,null,{"$f":"IF($B$2=\"Spelling\",IF($F43=\"\",\"\",IF($A$4=\"On\",C43&\". \",\"\")&'Cloze Gift Spelling Part'!H522),IF(E43=\"\",\"\",IF($A$4=\"On\",C43&\". \",\"\")&IF($B$2=\"Drop Down (In-Line Replacement)\",SUBSTITUTE(E43,F43,VLOOKUP(BI43,BI43:BM43,VLOOKUP($B$2,$AT:$AU,2,0),0)),E43&\" \"&SUBSTITUTE(F43,F43,VLOOKUP(BI43,BI43:BM43,VLOOKUP($B$2,$AT:$AU,2,0),0)))))","v":""},0,"","","","","","","","","","","","","","","","","","","","","","","",""]
[null,null,42,null,null,null,null,null,null,null,null,null,null,null,null,null,null,null,null,null,null,null,null,null,null,null,null,null,null,null,null,null,null,null,null,null,null,null,null,null,null,null,null,null,null,null,null,null,null,null,null,null,null,null,null,null,null,null,null,{"$f":"IF($B$2=\"Spelling\",IF($F44=\"\",\"\",IF($A$4=\"On\",C44&\". \",\"\")&'Cloze Gift Spelling Part'!H523),IF(E44=\"\",\"\",IF($A$4=\"On\",C44&\". \",\"\")&IF($B$2=\"Drop Down (In-Line Replacement)\",SUBSTITUTE(E44,F44,VLOOKUP(BI44,BI44:BM44,VLOOKUP($B$2,$AT:$AU,2,0),0)),E44&\" \"&SUBSTITUTE(F44,F44,VLOOKUP(BI44,BI44:BM44,VLOOKUP($B$2,$AT:$AU,2,0),0)))))","v":""},0,"","","","","","","","","","","","","","","","","","","","","","","",""]
[null,null,43,null,null,null,null,null,null,null,null,null,null,null,null,null,null,null,null,null,null,null,null,null,null,null,null,null,null,null,null,null,null,null,{"$f":"BH24","v":""},null,null,null,null,null,null,null,null,null,null,null,null,null,null,null,null,null,null,null,null,null,null,null,null,{"$f":"IF($B$2=\"Spelling\",IF($F45=\"\",\"\",IF($A$4=\"On\",C45&\". \",\"\")&'Cloze Gift Spelling Part'!H524),IF(E45=\"\",\"\",IF($A$4=\"On\",C45&\". \",\"\")&IF($B$2=\"Drop Down (In-Line Replacement)\",SUBSTITUTE(E45,F45,VLOOKUP(BI45,BI45:BM45,VLOOKUP($B$2,$AT:$AU,2,0),0)),E45&\" \"&SUBSTITUTE(F45,F45,VLOOKUP(BI45,BI45:BM45,VLOOKUP($B$2,$AT:$AU,2,0),0)))))","v":""},0,"","","","","","","","","","","","","","","","","","","","","","","",""]
[null,null,44,null,null,null,null,null,null,null,null,null,null,null,null,null,null,null,null,null,null,null,null,null,null,null,null,null,null,null,null,null,null,null,null,null,null,null,null,null,null,null,null,null,null,null,null,null,null,null,null,null,null,null,null,null,null,null,null,{"$f":"IF($B$2=\"Spelling\",IF($F46=\"\",\"\",IF($A$4=\"On\",C46&\". \",\"\")&'Cloze Gift Spelling Part'!H525),IF(E46=\"\",\"\",IF($A$4=\"On\",C46&\". \",\"\")&IF($B$2=\"Drop Down (In-Line Replacement)\",SUBSTITUTE(E46,F46,VLOOKUP(BI46,BI46:BM46,VLOOKUP($B$2,$AT:$AU,2,0),0)),E46&\" \"&SUBSTITUTE(F46,F46,VLOOKUP(BI46,BI46:BM46,VLOOKUP($B$2,$AT:$AU,2,0),0)))))","v":""},0,"","","","","","","","","","","","","","","","","","","","","","","",""]
[null,null,45,null,null,null,null,null,null,null,null,null,null,null,null,null,null,null,null,null,null,null,null,null,null,null,null,null,null,null,null,null,null,null,{"$f":"BH25","v":""},null,null,null,null,null,null,null,null,null,null,null,null,null,null,null,null,null,null,null,null,null,null,null,null,{"$f":"IF($B$2=\"Spelling\",IF($F47=\"\",\"\",IF($A$4=\"On\",C47&\". \",\"\")&'Cloze Gift Spelling Part'!H526),IF(E47=\"\",\"\",IF($A$4=\"On\",C47&\". \",\"\")&IF($B$2=\"Drop Down (In-Line Replacement)\",SUBSTITUTE(E47,F47,VLOOKUP(BI47,BI47:BM47,VLOOKUP($B$2,$AT:$AU,2,0),0)),E47&\" \"&SUBSTITUTE(F47,F47,VLOOKUP(BI47,BI47:BM47,VLOOKUP($B$2,$AT:$AU,2,0),0)))))","v":""},0,"","","","","","","","","","","","","","","","","","","","","","","",""]
[null,null,46,null,null,null,null,null,null,null,null,null,null,null,null,null,null,null,null,null,null,null,null,null,null,null,null,null,null,null,null,null,null,null,null,null,null,null,null,null,null,null,null,null,null,null,null,null,null,null,null,null,null,null,null,null,null,null,null,{"$f":"IF($B$2=\"Spelling\",IF($F48=\"\",\"\",IF($A$4=\"On\",C48&\". \",\"\")&'Cloze Gift Spelling Part'!H527),IF(E48=\"\",\"\",IF($A$4=\"On\",C48&\". \",\"\")&IF($B$2=\"Drop Down (In-Line Replacement)\",SUBSTITUTE(E48,F48,VLOOKUP(BI48,BI48:BM48,VLOOKUP($B$2,$AT:$AU,2,0),0)),E48&\" \"&SUBSTITUTE(F48,F48,VLOOKUP(BI48,BI48:BM48,VLOOKUP($B$2,$AT:$AU,2,0),0)))))","v":""},0,"","","","","","","","","","","","","","","","","","","","","","","",""]
[null,null,47,null,null,null,null,null,null,null,null,null,null,null,null,null,null,null,null,null,null,null,null,null,null,null,null,null,null,null,null,null,null,null,{"$f":"BH26","v":""},null,null,null,null,null,null,null,null,null,null,null,null,null,null,null,null,null,null,null,null,null,null,null,null,{"$f":"IF($B$2=\"Spelling\",IF($F49=\"\",\"\",IF($A$4=\"On\",C49&\". \",\"\")&'Cloze Gift Spelling Part'!H528),IF(E49=\"\",\"\",IF($A$4=\"On\",C49&\". \",\"\")&IF($B$2=\"Drop Down (In-Line Replacement)\",SUBSTITUTE(E49,F49,VLOOKUP(BI49,BI49:BM49,VLOOKUP($B$2,$AT:$AU,2,0),0)),E49&\" \"&SUBSTITUTE(F49,F49,VLOOKUP(BI49,BI49:BM49,VLOOKUP($B$2,$AT:$AU,2,0),0)))))","v":""},0,"","","","","","","","","","","","","","","","","","","","","","","",""]
[null,null,48,null,null,null,null,null,null,null,null,null,null,null,null,null,null,null,null,null,null,null,null,null,null,null,null,null,null,null,null,null,null,null,null,null,null,null,null,null,null,null,null,null,null,null,null,null,null,null,null,null,null,null,null,null,null,null,null,{"$f":"IF($B$2=\"Spelling\",IF($F50=\"\",\"\",IF($A$4=\"On\",C50&\". \",\"\")&'Cloze Gift Spelling Part'!H529),IF(E50=\"\",\"\",IF($A$4=\"On\",C50&\". \",\"\")&IF($B$2=\"Drop Down (In-Line Replacement)\",SUBSTITUTE(E50,F50,VLOOKUP(BI50,BI50:BM50,VLOOKUP($B$2,$AT:$AU,2,0),0)),E50&\" \"&SUBSTITUTE(F50,F50,VLOOKUP(BI50,BI50:BM50,VLOOKUP($B$2,$AT:$AU,2,0),0)))))","v":""},0,"","","","","","","","","","","","","","","","","","","","","","","",""]
[null,null,49,null,null,null,null,null,null,null,null,null,null,null,null,null,null,null,null,null,null,null,null,null,null,null,null,null,null,null,null,null,null,null,{"$f":"BH27","v":""},null,null,null,null,null,null,null,null,null,null,null,null,null,null,null,null,null,null,null,null,null,null,null,null,{"$f":"IF($B$2=\"Spelling\",IF($F51=\"\",\"\",IF($A$4=\"On\",C51&\". \",\"\")&'Cloze Gift Spelling Part'!H530),IF(E51=\"\",\"\",IF($A$4=\"On\",C51&\". \",\"\")&IF($B$2=\"Drop Down (In-Line Replacement)\",SUBSTITUTE(E51,F51,VLOOKUP(BI51,BI51:BM51,VLOOKUP($B$2,$AT:$AU,2,0),0)),E51&\" \"&SUBSTITUTE(F51,F51,VLOOKUP(BI51,BI51:BM51,VLOOKUP($B$2,$AT:$AU,2,0),0)))))","v":""},0,"","","","","","","","","","","","","","","","","","","","","","","",""]
[null,null,50,null,null,null,null,null,null,null,null,null,null,null,null,null,null,null,null,null,null,null,null,null,null,null,null,null,null,null,null,null,null,null,null,null,null,null,null,null,null,null,null,null,null,null,null,null,null,null,null,null,null,null,null,null,null,null,null,{"$f":"IF($B$2=\"Spelling\",IF($F52=\"\",\"\",IF($A$4=\"On\",C52&\". \",\"\")&'Cloze Gift Spelling Part'!H531),IF(E52=\"\",\"\",IF($A$4=\"On\",C52&\". \",\"\")&IF($B$2=\"Drop Down (In-Line Replacement)\",SUBSTITUTE(E52,F52,VLOOKUP(BI52,BI52:BM52,VLOOKUP($B$2,$AT:$AU,2,0),0)),E52&\" \"&SUBSTITUTE(F52,F52,VLOOKUP(BI52,BI52:BM52,VLOOKUP($B$2,$AT:$AU,2,0),0)))))","v":""},0,"","","","","","","","","","","","","","","","","","","","","","","",""]
[null,null,51,null,null,null,null,null,null,null,null,null,null,null,null,null,null,null,null,null,null,null,null,null,null,null,null,null,null,null,null,null,null,null,{"$f":"BH28","v":""},null,null,null,null,null,null,null,null,null,null,null,null,null,null,null,null,null,null,null,null,null,null,null,null,{"$f":"IF($B$2=\"Spelling\",IF($F53=\"\",\"\",IF($A$4=\"On\",C53&\". \",\"\")&'Cloze Gift Spelling Part'!H532),IF(E53=\"\",\"\",IF($A$4=\"On\",C53&\". \",\"\")&IF($B$2=\"Drop Down (In-Line Replacement)\",SUBSTITUTE(E53,F53,VLOOKUP(BI53,BI53:BM53,VLOOKUP($B$2,$AT:$AU,2,0),0)),E53&\" \"&SUBSTITUTE(F53,F53,VLOOKUP(BI53,BI53:BM53,VLOOKUP($B$2,$AT:$AU,2,0),0)))))","v":""},{"$f":"F53","v":0},{"$f":"IF(BN53=\"\",\"\",\"{\"&IF(D53=\"\",1,D53)&\":MCS:\"&BN53&BO53&IF(BP53=\"\",\"\",\"~\"&BP53&BT53)&IF(BQ53=\"\",\"\",\"~\"&BQ53&BU53)&IF(BR53=\"\",\"\",\"~\"&BR53&BV53)&IF(BS53=\"\",\"\",\"~\"&BS53&BW53)&IF(BX53=\"\",\"\",\"~\"&BX53&CC53)&IF(BY53=\"\",\"\",\"~\"&BY53&CD53)&IF(BZ53=\"\",\"\",\"~\"&BZ53&CE53)&IF(CA53=\"\",\"\",\"~\"&CA53&CF53)&IF(CB53=\"\",\"\",\"~\"&CB53&CG53)&\"}\")","v":""},"",{"$f":"IF(BN53=\"\",\"\",\"{\"&IF(D53=\"\",1,D53)&\":MCVS:\"&BN53&BO53&IF(BP53=\"\",\"\",\"~\"&BP53&BT53)&IF(BQ53=\"\",\"\",\"~\"&BQ53&BU53)&IF(BR53=\"\",\"\",\"~\"&BR53&BV53)&IF(BS53=\"\",\"\",\"~\"&BS53&BW53)&IF(BX53=\"\",\"\",\"~\"&BX53&CC53)&IF(BY53=\"\",\"\",\"~\"&BY53&CD53)&IF(BZ53=\"\",\"\",\"~\"&BZ53&CE53)&IF(CA53=\"\",\"\",\"~\"&CA53&CF53)&IF(CB53=\"\",\"\",\"~\"&CB53&CG53)&\"}\")","v":""},{"$f":"IF(BN53=\"\",\"\",\"{\"&IF(D53=\"\",1,D53)&\":MCHS:\"&BN53&BO53&IF(BP53=\"\",\"\",\"~\"&BP53&BT53)&IF(BQ53=\"\",\"\",\"~\"&BQ53&BU53)&IF(BR53=\"\",\"\",\"~\"&BR53&BV53)&IF(BS53=\"\",\"\",\"~\"&BS53&BW53)&IF(BX53=\"\",\"\",\"~\"&BX53&CC53)&IF(BY53=\"\",\"\",\"~\"&BY53&CD53)&IF(BZ53=\"\",\"\",\"~\"&BZ53&CE53)&IF(CA53=\"\",\"\",\"~\"&CA53&CF53)&IF(CB53=\"\",\"\",\"~\"&CB53&CG53)&\"}\")","v":""},{"$f":"IF(F53=\"\",\"\",\"=\"&F53)","v":""},"",{"$f":"IF(H53=\"\",\"\",\"%\"&IF(L53=\"\",0,L53)&\"%\"&H53)","v":""},{"$f":"IF(I53=\"\",\"\",\"%\"&IF(M53=\"\",0,M53)&\"%\"&I53)","v":""},{"$f":"IF(J53=\"\",\"\",\"%\"&IF(N53=\"\",0,N53)&\"%\"&J53)","v":""},{"$f":"IF(K53=\"\",\"\",\"%\"&IF(O53=\"\",0,O53)&\"%\"&K53)","v":""},"","","","",{"$f":"IF(T53=\"\",\"\",\"%\"&IF(Y53=\"\",0,Y53)&\"%\"&T53)","v":""},{"$f":"IF(U53=\"\",\"\",\"%\"&IF(Z53=\"\",0,Z53)&\"%\"&U53)","v":""},{"$f":"IF(V53=\"\",\"\",\"%\"&IF(AA53=\"\",0,AA53)&\"%\"&V53)","v":""},{"$f":"IF(W53=\"\",\"\",\"%\"&IF(AB53=\"\",0,AB53)&\"%\"&W53)","v":""},{"$f":"IF(X53=\"\",\"\",\"%\"&IF(AC53=\"\",0,AC53)&\"%\"&X53)","v":""},"","","","",""]
[null,null,52,null,null,null,null,null,null,null,null,null,null,null,null,null,null,null,null,null,null,null,null,null,null,null,null,null,null,null,null,null,null,null,null,null,null,null,null,null,null,null,null,null,null,null,null,null,null,null,null,null,null,null,null,null,null,null,null,{"$f":"IF($B$2=\"Spelling\",IF($F54=\"\",\"\",IF($A$4=\"On\",C54&\". \",\"\")&'Cloze Gift Spelling Part'!H533),IF(E54=\"\",\"\",IF($A$4=\"On\",C54&\". \",\"\")&IF($B$2=\"Drop Down (In-Line Replacement)\",SUBSTITUTE(E54,F54,VLOOKUP(BI54,BI54:BM54,VLOOKUP($B$2,$AT:$AU,2,0),0)),E54&\" \"&SUBSTITUTE(F54,F54,VLOOKUP(BI54,BI54:BM54,VLOOKUP($B$2,$AT:$AU,2,0),0)))))","v":""},0,"","","","","","","","","","","","","","","","","","","","","","","",""]
[null,null,53,null,null,null,null,null,null,null,null,null,null,null,null,null,null,null,null,null,null,null,null,null,null,null,null,null,null,null,null,null,null,null,{"$f":"BH29","v":""},null,null,null,null,null,null,null,null,null,null,null,null,null,null,null,null,null,null,null,null,null,null,null,null,{"$f":"IF($B$2=\"Spelling\",IF($F55=\"\",\"\",IF($A$4=\"On\",C55&\". \",\"\")&'Cloze Gift Spelling Part'!H534),IF(E55=\"\",\"\",IF($A$4=\"On\",C55&\". \",\"\")&IF($B$2=\"Drop Down (In-Line Replacement)\",SUBSTITUTE(E55,F55,VLOOKUP(BI55,BI55:BM55,VLOOKUP($B$2,$AT:$AU,2,0),0)),E55&\" \"&SUBSTITUTE(F55,F55,VLOOKUP(BI55,BI55:BM55,VLOOKUP($B$2,$AT:$AU,2,0),0)))))","v":""},0,"","","","","","","","","","","","","","","","","","","","","","","",""]
[null,null,54,null,null,null,null,null,null,null,null,null,null,null,null,null,null,null,null,null,null,null,null,null,null,null,null,null,null,null,null,null,null,null,null,null,null,null,null,null,null,null,null,null,null,null,null,null,null,null,null,null,null,null,null,null,null,null,null,{"$f":"IF($B$2=\"Spelling\",IF($F56=\"\",\"\",IF($A$4=\"On\",C56&\". \",\"\")&'Cloze Gift Spelling Part'!H535),IF(E56=\"\",\"\",IF($A$4=\"On\",C56&\". \",\"\")&IF($B$2=\"Drop Down (In-Line Replacement)\",SUBSTITUTE(E56,F56,VLOOKUP(BI56,BI56:BM56,VLOOKUP($B$2,$AT:$AU,2,0),0)),E56&\" \"&SUBSTITUTE(F56,F56,VLOOKUP(BI56,BI56:BM56,VLOOKUP($B$2,$AT:$AU,2,0),0)))))","v":""},0,"","","","","","","","","","","","","","","","","","","","","","","",""]
[null,null,55,null,null,null,null,null,null,null,null,null,null,null,null,null,null,null,null,null,null,null,null,null,null,null,null,null,null,null,null,null,null,null,{"$f":"BH30","v":""},null,null,null,null,null,null,null,null,null,null,null,null,null,null,null,null,null,null,null,null,null,null,null,null,{"$f":"IF($B$2=\"Spelling\",IF($F57=\"\",\"\",IF($A$4=\"On\",C57&\". \",\"\")&'Cloze Gift Spelling Part'!H536),IF(E57=\"\",\"\",IF($A$4=\"On\",C57&\". \",\"\")&IF($B$2=\"Drop Down (In-Line Replacement)\",SUBSTITUTE(E57,F57,VLOOKUP(BI57,BI57:BM57,VLOOKUP($B$2,$AT:$AU,2,0),0)),E57&\" \"&SUBSTITUTE(F57,F57,VLOOKUP(BI57,BI57:BM57,VLOOKUP($B$2,$AT:$AU,2,0),0)))))","v":""},0,"","","","","","","","","","","","","","","","","","","","","","","",""]
[null,null,56,null,null,null,null,null,null,null,null,null,null,null,null,null,null,null,null,null,null,null,null,null,null,null,null,null,null,null,null,null,null,null,null,null,null,null,null,null,null,null,null,null,null,null,null,null,null,null,null,null,null,null,null,null,null,null,null,{"$f":"IF($B$2=\"Spelling\",IF($F58=\"\",\"\",IF($A$4=\"On\",C58&\". \",\"\")&'Cloze Gift Spelling Part'!H537),IF(E58=\"\",\"\",IF($A$4=\"On\",C58&\". \",\"\")&IF($B$2=\"Drop Down (In-Line Replacement)\",SUBSTITUTE(E58,F58,VLOOKUP(BI58,BI58:BM58,VLOOKUP($B$2,$AT:$AU,2,0),0)),E58&\" \"&SUBSTITUTE(F58,F58,VLOOKUP(BI58,BI58:BM58,VLOOKUP($B$2,$AT:$AU,2,0),0)))))","v":""},0,"","","","","","","","","","","","","","","","","","","","","","","",""]
[null,null,57,null,null,null,null,null,null,null,null,null,null,null,null,null,null,null,null,null,null,null,null,null,null,null,null,null,null,null,null,null,null,null,{"$f":"BH31","v":""},null,null,null,null,null,null,null,null,null,null,null,null,null,null,null,null,null,null,null,null,null,null,null,null,{"$f":"IF($B$2=\"Spelling\",IF($F59=\"\",\"\",IF($A$4=\"On\",C59&\". \",\"\")&'Cloze Gift Spelling Part'!H538),IF(E59=\"\",\"\",IF($A$4=\"On\",C59&\". \",\"\")&IF($B$2=\"Drop Down (In-Line Replacement)\",SUBSTITUTE(E59,F59,VLOOKUP(BI59,BI59:BM59,VLOOKUP($B$2,$AT:$AU,2,0),0)),E59&\" \"&SUBSTITUTE(F59,F59,VLOOKUP(BI59,BI59:BM59,VLOOKUP($B$2,$AT:$AU,2,0),0)))))","v":""},0,"","","","","","","","","","","","","","","","","","","","","","","",""]
[null,null,58,null,null,null,null,null,null,null,null,null,null,null,null,null,null,null,null,null,null,null,null,null,null,null,null,null,null,null,null,null,null,null,null,null,null,null,null,null,null,null,null,null,null,null,null,null,null,null,null,null,null,null,null,null,null,null,null,{"$f":"IF($B$2=\"Spelling\",IF($F60=\"\",\"\",IF($A$4=\"On\",C60&\". \",\"\")&'Cloze Gift Spelling Part'!H539),IF(E60=\"\",\"\",IF($A$4=\"On\",C60&\". \",\"\")&IF($B$2=\"Drop Down (In-Line Replacement)\",SUBSTITUTE(E60,F60,VLOOKUP(BI60,BI60:BM60,VLOOKUP($B$2,$AT:$AU,2,0),0)),E60&\" \"&SUBSTITUTE(F60,F60,VLOOKUP(BI60,BI60:BM60,VLOOKUP($B$2,$AT:$AU,2,0),0)))))","v":""},0,"","","","","","","","","","","","","","","","","","","","","","","",""]
[null,null,59,null,null,null,null,null,null,null,null,null,null,null,null,null,null,null,null,null,null,null,null,null,null,null,null,null,null,null,null,null,null,null,{"$f":"BH32","v":""},null,null,null,null,null,null,null,null,null,null,null,null,null,null,null,null,null,null,null,null,null,null,null,null,{"$f":"IF($B$2=\"Spelling\",IF($F61=\"\",\"\",IF($A$4=\"On\",C61&\". \",\"\")&'Cloze Gift Spelling Part'!H540),IF(E61=\"\",\"\",IF($A$4=\"On\",C61&\". \",\"\")&IF($B$2=\"Drop Down (In-Line Replacement)\",SUBSTITUTE(E61,F61,VLOOKUP(BI61,BI61:BM61,VLOOKUP($B$2,$AT:$AU,2,0),0)),E61&\" \"&SUBSTITUTE(F61,F61,VLOOKUP(BI61,BI61:BM61,VLOOKUP($B$2,$AT:$AU,2,0),0)))))","v":""},0,"","","","","","","","","","","","","","","","","","","","","","","",""]
[null,null,60,null,null,null,null,null,null,null,null,null,null,null,null,null,null,null,null,null,null,null,null,null,null,null,null,null,null,null,null,null,null,null,null,null,null,null,null,null,null,null,null,null,null,null,null,null,null,null,null,null,null,null,null,null,null,null,null,{"$f":"IF($B$2=\"Spelling\",IF($F62=\"\",\"\",IF($A$4=\"On\",C62&\". \",\"\")&'Cloze Gift Spelling Part'!H541),IF(E62=\"\",\"\",IF($A$4=\"On\",C62&\". \",\"\")&IF($B$2=\"Drop Down (In-Line Replacement)\",SUBSTITUTE(E62,F62,VLOOKUP(BI62,BI62:BM62,VLOOKUP($B$2,$AT:$AU,2,0),0)),E62&\" \"&SUBSTITUTE(F62,F62,VLOOKUP(BI62,BI62:BM62,VLOOKUP($B$2,$AT:$AU,2,0),0)))))","v":""},0,"","","","","","","","","","","","","","","","","","","","","","","",""]
[null,null,61,null,null,null,null,null,null,null,null,null,null,null,null,null,null,null,null,null,null,null,null,null,null,null,null,null,null,null,null,null,null,null,{"$f":"BH33","v":""},null,null,null,null,null,null,null,null,null,null,null,null,null,null,null,null,null,null,null,null,null,null,null,null,{"$f":"IF($B$2=\"Spelling\",IF($F63=\"\",\"\",IF($A$4=\"On\",C63&\". \",\"\")&'Cloze Gift Spelling Part'!H542),IF(E63=\"\",\"\",IF($A$4=\"On\",C63&\". \",\"\")&IF($B$2=\"Drop Down (In-Line Replacement)\",SUBSTITUTE(E63,F63,VLOOKUP(BI63,BI63:BM63,VLOOKUP($B$2,$AT:$AU,2,0),0)),E63&\" \"&SUBSTITUTE(F63,F63,VLOOKUP(BI63,BI63:BM63,VLOOKUP($B$2,$AT:$AU,2,0),0)))))","v":""},0,"","","","","","","","","","","","","","","","","","","","","","","",""]
[null,null,62,null,null,null,null,null,null,null,null,null,null,null,null,null,null,null,null,null,null,null,null,null,null,null,null,null,null,null,null,null,null,null,null,null,null,null,null,null,null,null,null,null,null,null,null,null,null,null,null,null,null,null,null,null,null,null,null,{"$f":"IF($B$2=\"Spelling\",IF($F64=\"\",\"\",IF($A$4=\"On\",C64&\". \",\"\")&'Cloze Gift Spelling Part'!H543),IF(E64=\"\",\"\",IF($A$4=\"On\",C64&\". \",\"\")&IF($B$2=\"Drop Down (In-Line Replacement)\",SUBSTITUTE(E64,F64,VLOOKUP(BI64,BI64:BM64,VLOOKUP($B$2,$AT:$AU,2,0),0)),E64&\" \"&SUBSTITUTE(F64,F64,VLOOKUP(BI64,BI64:BM64,VLOOKUP($B$2,$AT:$AU,2,0),0)))))","v":""},0,"","","","","","","","","","","","","","","","","","","","","","","",""]
[null,null,63,null,null,null,null,null,null,null,null,null,null,null,null,null,null,null,null,null,null,null,null,null,null,null,null,null,null,null,null,null,null,null,{"$f":"BH34","v":""},null,null,null,null,null,null,null,null,null,null,null,null,null,null,null,null,null,null,null,null,null,null,null,null,{"$f":"IF($B$2=\"Spelling\",IF($F65=\"\",\"\",IF($A$4=\"On\",C65&\". \",\"\")&'Cloze Gift Spelling Part'!H544),IF(E65=\"\",\"\",IF($A$4=\"On\",C65&\". \",\"\")&IF($B$2=\"Drop Down (In-Line Replacement)\",SUBSTITUTE(E65,F65,VLOOKUP(BI65,BI65:BM65,VLOOKUP($B$2,$AT:$AU,2,0),0)),E65&\" \"&SUBSTITUTE(F65,F65,VLOOKUP(BI65,BI65:BM65,VLOOKUP($B$2,$AT:$AU,2,0),0)))))","v":""},0,"","","","","","","","","","","","","","","","","","","","","","","",""]
[null,null,64,null,null,null,null,null,null,null,null,null,null,null,null,null,null,null,null,null,null,null,null,null,null,null,null,null,null,null,null,null,null,null,null,null,null,null,null,null,null,null,null,null,null,null,null,null,null,null,null,null,null,null,null,null,null,null,null,{"$f":"IF($B$2=\"Spelling\",IF($F66=\"\",\"\",IF($A$4=\"On\",C66&\". \",\"\")&'Cloze Gift Spelling Part'!H545),IF(E66=\"\",\"\",IF($A$4=\"On\",C66&\". \",\"\")&IF($B$2=\"Drop Down (In-Line Replacement)\",SUBSTITUTE(E66,F66,VLOOKUP(BI66,BI66:BM66,VLOOKUP($B$2,$AT:$AU,2,0),0)),E66&\" \"&SUBSTITUTE(F66,F66,VLOOKUP(BI66,BI66:BM66,VLOOKUP($B$2,$AT:$AU,2,0),0)))))","v":""},0,"","","","","","","","","","","","","","","","","","","","","","","",""]
[null,null,65,null,null,null,null,null,null,null,null,null,null,null,null,null,null,null,null,null,null,null,null,null,null,null,null,null,null,null,null,null,null,null,{"$f":"BH35","v":""},null,null,null,null,null,null,null,null,null,null,null,null,null,null,null,null,null,null,null,null,null,null,null,null,{"$f":"IF($B$2=\"Spelling\",IF($F67=\"\",\"\",IF($A$4=\"On\",C67&\". \",\"\")&'Cloze Gift Spelling Part'!H546),IF(E67=\"\",\"\",IF($A$4=\"On\",C67&\". \",\"\")&IF($B$2=\"Drop Down (In-Line Replacement)\",SUBSTITUTE(E67,F67,VLOOKUP(BI67,BI67:BM67,VLOOKUP($B$2,$AT:$AU,2,0),0)),E67&\" \"&SUBSTITUTE(F67,F67,VLOOKUP(BI67,BI67:BM67,VLOOKUP($B$2,$AT:$AU,2,0),0)))))","v":""},0,"",{"$f":"IF(E67=\"\",\"\",\"{\"&IF(D67=\"\",1,D67)&\":SA:=\"&F67&BO67&IF(I67=\"\",\"\",\" ~%\"&IF(M67=\"\",100,M67)&\"%\"&I67&BU67)&IF(J67=\"\",\"\",\" ~%\"&IF(N67=\"\",100,N67)&\"%\"&J67&BV67)&IF(K67=\"\",\"\",\" ~%\"&IF(O67=\"\",100,O67)&\"%\"&K67&BW67)&IF(T67=\"\",\"\",\" ~%\"&IF(Y67=\"\",100,Y67)&\"%\"&T67&CC67)&IF(U67=\"\",\"\",\" ~%\"&IF(Z67=\"\",100,Z67)&\"%\"&U67&CD67)&IF(V67=\"\",\"\",\" ~%\"&IF(AA67=\"\",100,AA67)&\"%\"&V67&CE67)&IF(W67=\"\",\"\",\" ~%\"&IF(AB67=\"\",100,AB67)&\"%\"&W67&CF67)&IF(X67=\"\",\"\",\" ~%\"&IF(AC67=\"\",100,AC67)&\"%\"&X67&CG67)&IF(P67=\"\",\"\",\"~*#\"&IFERROR(VLOOKUP(P67,AK:AL,2,0),P67))&\"}\")","v":""},"","","",{"$f":"IF(G67=\"\",\"\",\"#\"&IFERROR(VLOOKUP(G67,$AK:$AL,2,0),G67))","v":""},"","","","",{"$f":"IF(H67=\"\",\"\",IFERROR(\"#\"&VLOOKUP($P67,$AN:$AO,2,0),IF(P67=\"\",\"\",\"#\"&IFERROR(VLOOKUP(P67,$AK:$AL,2,0),P67))))","v":""},{"$f":"IF(I67=\"\",\"\",IFERROR(\"#\"&VLOOKUP($P67,$AN:$AO,2,0),IF(Q67=\"\",\"\",\"#\"&IFERROR(VLOOKUP(Q67,$AK:$AL,2,0),Q67))))","v":""},{"$f":"IF(J67=\"\",\"\",IFERROR(\"#\"&VLOOKUP($P67,$AN:$AO,2,0),IF(R67=\"\",\"\",\"#\"&IFERROR(VLOOKUP(R67,$AK:$AL,2,0),R67))))","v":""},{"$f":"IF(K67=\"\",\"\",IFERROR(\"#\"&VLOOKUP($P67,$AN:$AO,2,0),IF(S67=\"\",\"\",\"#\"&IFERROR(VLOOKUP(S67,$AK:$AL,2,0),S67))))","v":""},"","","","","",{"$f":"IF(T67=\"\",\"\",IFERROR(\"#\"&VLOOKUP($P67,$AN:$AO,2,0),IF(AD67=\"\",\"\",\"#\"&IFERROR(VLOOKUP(AD67,$AK:$AL,2,0),AD67))))","v":""},{"$f":"IF(U67=\"\",\"\",IFERROR(\"#\"&VLOOKUP($P67,$AN:$AO,2,0),IF(AE67=\"\",\"\",\"#\"&IFERROR(VLOOKUP(AE67,$AK:$AL,2,0),AE67))))","v":""},{"$f":"IF(V67=\"\",\"\",IFERROR(\"#\"&VLOOKUP($P67,$AN:$AO,2,0),IF(AF67=\"\",\"\",\"#\"&IFERROR(VLOOKUP(AF67,$AK:$AL,2,0),AF67))))","v":""},{"$f":"IF(W67=\"\",\"\",IFERROR(\"#\"&VLOOKUP($P67,$AN:$AO,2,0),IF(AG67=\"\",\"\",\"#\"&IFERROR(VLOOKUP(AG67,$AK:$AL,2,0),AG67))))","v":""},{"$f":"IF(X67=\"\",\"\",IFERROR(\"#\"&VLOOKUP($P67,$AN:$AO,2,0),IF(AH67=\"\",\"\",\"#\"&IFERROR(VLOOKUP(AH67,$AK:$AL,2,0),AH67))))","v":""}]
[null,null,66,null,null,null,null,null,null,null,null,null,null,null,null,null,null,null,null,null,null,null,null,null,null,null,null,null,null,null,null,null,null,null,null,null,null,null,null,null,null,null,null,null,null,null,null,null,null,null,null,null,null,null,null,null,null,null,null,{"$f":"IF($B$2=\"Spelling\",IF($F68=\"\",\"\",IF($A$4=\"On\",C68&\". \",\"\")&'Cloze Gift Spelling Part'!H547),IF(E68=\"\",\"\",IF($A$4=\"On\",C68&\". \",\"\")&IF($B$2=\"Drop Down (In-Line Replacement)\",SUBSTITUTE(E68,F68,VLOOKUP(BI68,BI68:BM68,VLOOKUP($B$2,$AT:$AU,2,0),0)),E68&\" \"&SUBSTITUTE(F68,F68,VLOOKUP(BI68,BI68:BM68,VLOOKUP($B$2,$AT:$AU,2,0),0)))))","v":""},0,"","","","","","","","","","","","","","","","","","","","","","","",""]
[null,null,67,null,null,null,null,null,null,null,null,null,null,null,null,null,null,null,null,null,null,null,null,null,null,null,null,null,null,null,null,null,null,null,{"$f":"BH36","v":""},null,null,null,null,null,null,null,null,null,null,null,null,null,null,null,null,null,null,null,null,null,null,null,null,{"$f":"IF($B$2=\"Spelling\",IF($F69=\"\",\"\",IF($A$4=\"On\",C69&\". \",\"\")&'Cloze Gift Spelling Part'!H548),IF(E69=\"\",\"\",IF($A$4=\"On\",C69&\". \",\"\")&IF($B$2=\"Drop Down (In-Line Replacement)\",SUBSTITUTE(E69,F69,VLOOKUP(BI69,BI69:BM69,VLOOKUP($B$2,$AT:$AU,2,0),0)),E69&\" \"&SUBSTITUTE(F69,F69,VLOOKUP(BI69,BI69:BM69,VLOOKUP($B$2,$AT:$AU,2,0),0)))))","v":""},0,"","","","","","","","","","","","","","","","","","","","","","","",""]
[null,null,68,null,null,null,null,null,null,null,null,null,null,null,null,null,null,null,null,null,null,null,null,null,null,null,null,null,null,null,null,null,null,null,null,null,null,null,null,null,null,null,null,null,null,null,null,null,null,null,null,null,null,null,null,null,null,null,null,{"$f":"IF($B$2=\"Spelling\",IF($F70=\"\",\"\",IF($A$4=\"On\",C70&\". \",\"\")&'Cloze Gift Spelling Part'!H549),IF(E70=\"\",\"\",IF($A$4=\"On\",C70&\". \",\"\")&IF($B$2=\"Drop Down (In-Line Replacement)\",SUBSTITUTE(E70,F70,VLOOKUP(BI70,BI70:BM70,VLOOKUP($B$2,$AT:$AU,2,0),0)),E70&\" \"&SUBSTITUTE(F70,F70,VLOOKUP(BI70,BI70:BM70,VLOOKUP($B$2,$AT:$AU,2,0),0)))))","v":""},0,"","","","","","","","","","","","","","","","","","","","","","","",""]
[null,null,69,null,null,null,null,null,null,null,null,null,null,null,null,null,null,null,null,null,null,null,null,null,null,null,null,null,null,null,null,null,null,null,{"$f":"BH37","v":""},null,null,null,null,null,null,null,null,null,null,null,null,null,null,null,null,null,null,null,null,null,null,null,null,{"$f":"IF($B$2=\"Spelling\",IF($F71=\"\",\"\",IF($A$4=\"On\",C71&\". \",\"\")&'Cloze Gift Spelling Part'!H550),IF(E71=\"\",\"\",IF($A$4=\"On\",C71&\". \",\"\")&IF($B$2=\"Drop Down (In-Line Replacement)\",SUBSTITUTE(E71,F71,VLOOKUP(BI71,BI71:BM71,VLOOKUP($B$2,$AT:$AU,2,0),0)),E71&\" \"&SUBSTITUTE(F71,F71,VLOOKUP(BI71,BI71:BM71,VLOOKUP($B$2,$AT:$AU,2,0),0)))))","v":""},0,"","","","","","","","","","","","","","","","","","","","","","","",""]
[null,null,70,null,null,null,null,null,null,null,null,null,null,null,null,null,null,null,null,null,null,null,null,null,null,null,null,null,null,null,null,null,null,null,null,null,null,null,null,null,null,null,null,null,null,null,null,null,null,null,null,null,null,null,null,null,null,null,null,{"$f":"IF($B$2=\"Spelling\",IF($F72=\"\",\"\",IF($A$4=\"On\",C72&\". \",\"\")&'Cloze Gift Spelling Part'!H551),IF(E72=\"\",\"\",IF($A$4=\"On\",C72&\". \",\"\")&IF($B$2=\"Drop Down (In-Line Replacement)\",SUBSTITUTE(E72,F72,VLOOKUP(BI72,BI72:BM72,VLOOKUP($B$2,$AT:$AU,2,0),0)),E72&\" \"&SUBSTITUTE(F72,F72,VLOOKUP(BI72,BI72:BM72,VLOOKUP($B$2,$AT:$AU,2,0),0)))))","v":""},0,"","","","","","","","","","","","","","","","","","","","","","","",""]
[null,null,71,null,null,null,null,null,null,null,null,null,null,null,null,null,null,null,null,null,null,null,null,null,null,null,null,null,null,null,null,null,null,null,{"$f":"BH38","v":""},null,null,null,null,null,null,null,null,null,null,null,null,null,null,null,null,null,null,null,null,null,null,null,null,{"$f":"IF($B$2=\"Spelling\",IF($F73=\"\",\"\",IF($A$4=\"On\",C73&\". \",\"\")&'Cloze Gift Spelling Part'!H552),IF(E73=\"\",\"\",IF($A$4=\"On\",C73&\". \",\"\")&IF($B$2=\"Drop Down (In-Line Replacement)\",SUBSTITUTE(E73,F73,VLOOKUP(BI73,BI73:BM73,VLOOKUP($B$2,$AT:$AU,2,0),0)),E73&\" \"&SUBSTITUTE(F73,F73,VLOOKUP(BI73,BI73:BM73,VLOOKUP($B$2,$AT:$AU,2,0),0)))))","v":""},0,"","","","","","","","","","","","","","","","","","","","","","","",""]
[null,null,72,null,null,null,null,null,null,null,null,null,null,null,null,null,null,null,null,null,null,null,null,null,null,null,null,null,null,null,null,null,null,null,null,null,null,null,null,null,null,null,null,null,null,null,null,null,null,null,null,null,null,null,null,null,null,null,null,{"$f":"IF($B$2=\"Spelling\",IF($F74=\"\",\"\",IF($A$4=\"On\",C74&\". \",\"\")&'Cloze Gift Spelling Part'!H553),IF(E74=\"\",\"\",IF($A$4=\"On\",C74&\". \",\"\")&IF($B$2=\"Drop Down (In-Line Replacement)\",SUBSTITUTE(E74,F74,VLOOKUP(BI74,BI74:BM74,VLOOKUP($B$2,$AT:$AU,2,0),0)),E74&\" \"&SUBSTITUTE(F74,F74,VLOOKUP(BI74,BI74:BM74,VLOOKUP($B$2,$AT:$AU,2,0),0)))))","v":""},0,"","","","","","","","","","","","","","","","","","","","","","","",""]
[null,null,73,null,null,null,null,null,null,null,null,null,null,null,null,null,null,null,null,null,null,null,null,null,null,null,null,null,null,null,null,null,null,null,{"$f":"BH39","v":""},null,null,null,null,null,null,null,null,null,null,null,null,null,null,null,null,null,null,null,null,null,null,null,null,{"$f":"IF($B$2=\"Spelling\",IF($F75=\"\",\"\",IF($A$4=\"On\",C75&\". \",\"\")&'Cloze Gift Spelling Part'!H554),IF(E75=\"\",\"\",IF($A$4=\"On\",C75&\". \",\"\")&IF($B$2=\"Drop Down (In-Line Replacement)\",SUBSTITUTE(E75,F75,VLOOKUP(BI75,BI75:BM75,VLOOKUP($B$2,$AT:$AU,2,0),0)),E75&\" \"&SUBSTITUTE(F75,F75,VLOOKUP(BI75,BI75:BM75,VLOOKUP($B$2,$AT:$AU,2,0),0)))))","v":""},0,"","","","","","","","","","","","","","","","","","","","","","","",""]
[null,null,74,null,null,null,null,null,null,null,null,null,null,null,null,null,null,null,null,null,null,null,null,null,null,null,null,null,null,null,null,null,null,null,null,null,null,null,null,null,null,null,null,null,null,null,null,null,null,null,null,null,null,null,null,null,null,null,null,{"$f":"IF($B$2=\"Spelling\",IF($F76=\"\",\"\",IF($A$4=\"On\",C76&\". \",\"\")&'Cloze Gift Spelling Part'!H555),IF(E76=\"\",\"\",IF($A$4=\"On\",C76&\". \",\"\")&IF($B$2=\"Drop Down (In-Line Replacement)\",SUBSTITUTE(E76,F76,VLOOKUP(BI76,BI76:BM76,VLOOKUP($B$2,$AT:$AU,2,0),0)),E76&\" \"&SUBSTITUTE(F76,F76,VLOOKUP(BI76,BI76:BM76,VLOOKUP($B$2,$AT:$AU,2,0),0)))))","v":""},0,"","","","","","","","","","","","","","","","","","","","","","","",""]
[null,null,75,null,null,null,null,null,null,null,null,null,null,null,null,null,null,null,null,null,null,null,null,null,null,null,null,null,null,null,null,null,null,null,{"$f":"BH40","v":""},null,null,null,null,null,null,null,null,null,null,null,null,null,null,null,null,null,null,null,null,null,null,null,null,{"$f":"IF($B$2=\"Spelling\",IF($F77=\"\",\"\",IF($A$4=\"On\",C77&\". \",\"\")&'Cloze Gift Spelling Part'!H556),IF(E77=\"\",\"\",IF($A$4=\"On\",C77&\". \",\"\")&IF($B$2=\"Drop Down (In-Line Replacement)\",SUBSTITUTE(E77,F77,VLOOKUP(BI77,BI77:BM77,VLOOKUP($B$2,$AT:$AU,2,0),0)),E77&\" \"&SUBSTITUTE(F77,F77,VLOOKUP(BI77,BI77:BM77,VLOOKUP($B$2,$AT:$AU,2,0),0)))))","v":""},0,"","","","","","","","","","","","","","","","","","","","","","","",""]
[null,null,76,null,null,null,null,null,null,null,null,null,null,null,null,null,null,null,null,null,null,null,null,null,null,null,null,null,null,null,null,null,null,null,null,null,null,null,null,null,null,null,null,null,null,null,null,null,null,null,null,null,null,null,null,null,null,null,null,{"$f":"IF($B$2=\"Spelling\",IF($F78=\"\",\"\",IF($A$4=\"On\",C78&\". \",\"\")&'Cloze Gift Spelling Part'!H557),IF(E78=\"\",\"\",IF($A$4=\"On\",C78&\". \",\"\")&IF($B$2=\"Drop Down (In-Line Replacement)\",SUBSTITUTE(E78,F78,VLOOKUP(BI78,BI78:BM78,VLOOKUP($B$2,$AT:$AU,2,0),0)),E78&\" \"&SUBSTITUTE(F78,F78,VLOOKUP(BI78,BI78:BM78,VLOOKUP($B$2,$AT:$AU,2,0),0)))))","v":""},0,"","","","","","","","","","","","","","","","","","","","","","","",""]
[null,null,77,null,null,null,null,null,null,null,null,null,null,null,null,null,null,null,null,null,null,null,null,null,null,null,null,null,null,null,null,null,null,null,{"$f":"BH41","v":""},null,null,null,null,null,null,null,null,null,null,null,null,null,null,null,null,null,null,null,null,null,null,null,null,{"$f":"IF($B$2=\"Spelling\",IF($F79=\"\",\"\",IF($A$4=\"On\",C79&\". \",\"\")&'Cloze Gift Spelling Part'!H558),IF(E79=\"\",\"\",IF($A$4=\"On\",C79&\". \",\"\")&IF($B$2=\"Drop Down (In-Line Replacement)\",SUBSTITUTE(E79,F79,VLOOKUP(BI79,BI79:BM79,VLOOKUP($B$2,$AT:$AU,2,0),0)),E79&\" \"&SUBSTITUTE(F79,F79,VLOOKUP(BI79,BI79:BM79,VLOOKUP($B$2,$AT:$AU,2,0),0)))))","v":""},0,"","","","","","","","","","","","","","","","","","","","","","","",""]
[null,null,78,null,null,null,null,null,null,null,null,null,null,null,null,null,null,null,null,null,null,null,null,null,null,null,null,null,null,null,null,null,null,null,null,null,null,null,null,null,null,null,null,null,null,null,null,null,null,null,null,null,null,null,null,null,null,null,null,{"$f":"IF($B$2=\"Spelling\",IF($F80=\"\",\"\",IF($A$4=\"On\",C80&\". \",\"\")&'Cloze Gift Spelling Part'!H559),IF(E80=\"\",\"\",IF($A$4=\"On\",C80&\". \",\"\")&IF($B$2=\"Drop Down (In-Line Replacement)\",SUBSTITUTE(E80,F80,VLOOKUP(BI80,BI80:BM80,VLOOKUP($B$2,$AT:$AU,2,0),0)),E80&\" \"&SUBSTITUTE(F80,F80,VLOOKUP(BI80,BI80:BM80,VLOOKUP($B$2,$AT:$AU,2,0),0)))))","v":""},0,"","","","","","","","","","","","","","","","","","","","","","","",""]
[null,null,79,null,null,null,null,null,null,null,null,null,null,null,null,null,null,null,null,null,null,null,null,null,null,null,null,null,null,null,null,null,null,null,{"$f":"BH42","v":""},null,null,null,null,null,null,null,null,null,null,null,null,null,null,null,null,null,null,null,null,null,null,null,null,{"$f":"IF($B$2=\"Spelling\",IF($F81=\"\",\"\",IF($A$4=\"On\",C81&\". \",\"\")&'Cloze Gift Spelling Part'!H560),IF(E81=\"\",\"\",IF($A$4=\"On\",C81&\". \",\"\")&IF($B$2=\"Drop Down (In-Line Replacement)\",SUBSTITUTE(E81,F81,VLOOKUP(BI81,BI81:BM81,VLOOKUP($B$2,$AT:$AU,2,0),0)),E81&\" \"&SUBSTITUTE(F81,F81,VLOOKUP(BI81,BI81:BM81,VLOOKUP($B$2,$AT:$AU,2,0),0)))))","v":""},0,"","","","","","","","","","","","","","","","","","","","","","","",""]
[null,null,80,null,null,null,null,null,null,null,null,null,null,null,null,null,null,null,null,null,null,null,null,null,null,null,null,null,null,null,null,null,null,null,null,null,null,null,null,null,null,null,null,null,null,null,null,null,null,null,null,null,null,null,null,null,null,null,null,{"$f":"IF($B$2=\"Spelling\",IF($F82=\"\",\"\",IF($A$4=\"On\",C82&\". \",\"\")&'Cloze Gift Spelling Part'!H561),IF(E82=\"\",\"\",IF($A$4=\"On\",C82&\". \",\"\")&IF($B$2=\"Drop Down (In-Line Replacement)\",SUBSTITUTE(E82,F82,VLOOKUP(BI82,BI82:BM82,VLOOKUP($B$2,$AT:$AU,2,0),0)),E82&\" \"&SUBSTITUTE(F82,F82,VLOOKUP(BI82,BI82:BM82,VLOOKUP($B$2,$AT:$AU,2,0),0)))))","v":""},0,"","","","","","","","","","","","","","","","","","","","","","","",""]
[null,null,81,null,null,null,null,null,null,null,null,null,null,null,null,null,null,null,null,null,null,null,null,null,null,null,null,null,null,null,null,null,null,null,{"$f":"BH43","v":""},null,null,null,null,null,null,null,null,null,null,null,null,null,null,null,null,null,null,null,null,null,null,null,null,{"$f":"IF($B$2=\"Spelling\",IF($F83=\"\",\"\",IF($A$4=\"On\",C83&\". \",\"\")&'Cloze Gift Spelling Part'!H562),IF(E83=\"\",\"\",IF($A$4=\"On\",C83&\". \",\"\")&IF($B$2=\"Drop Down (In-Line Replacement)\",SUBSTITUTE(E83,F83,VLOOKUP(BI83,BI83:BM83,VLOOKUP($B$2,$AT:$AU,2,0),0)),E83&\" \"&SUBSTITUTE(F83,F83,VLOOKUP(BI83,BI83:BM83,VLOOKUP($B$2,$AT:$AU,2,0),0)))))","v":""},0,"","","","","","","","","","","","","","","","","","","","","","","",""]
[null,null,82,null,null,null,null,null,null,null,null,null,null,null,null,null,null,null,null,null,null,null,null,null,null,null,null,null,null,null,null,null,null,null,null,null,null,null,null,null,null,null,null,null,null,null,null,null,null,null,null,null,null,null,null,null,null,null,null,{"$f":"IF($B$2=\"Spelling\",IF($F84=\"\",\"\",IF($A$4=\"On\",C84&\". \",\"\")&'Cloze Gift Spelling Part'!H563),IF(E84=\"\",\"\",IF($A$4=\"On\",C84&\". \",\"\")&IF($B$2=\"Drop Down (In-Line Replacement)\",SUBSTITUTE(E84,F84,VLOOKUP(BI84,BI84:BM84,VLOOKUP($B$2,$AT:$AU,2,0),0)),E84&\" \"&SUBSTITUTE(F84,F84,VLOOKUP(BI84,BI84:BM84,VLOOKUP($B$2,$AT:$AU,2,0),0)))))","v":""},0,"","","","","","","","","","","","","","","","","","","","","","","",""]
[null,null,83,null,null,null,null,null,null,null,null,null,null,null,null,null,null,null,null,null,null,null,null,null,null,null,null,null,null,null,null,null,null,null,{"$f":"BH44","v":""},null,null,null,null,null,null,null,null,null,null,null,null,null,null,null,null,null,null,null,null,null,null,null,null,{"$f":"IF($B$2=\"Spelling\",IF($F85=\"\",\"\",IF($A$4=\"On\",C85&\". \",\"\")&'Cloze Gift Spelling Part'!H564),IF(E85=\"\",\"\",IF($A$4=\"On\",C85&\". \",\"\")&IF($B$2=\"Drop Down (In-Line Replacement)\",SUBSTITUTE(E85,F85,VLOOKUP(BI85,BI85:BM85,VLOOKUP($B$2,$AT:$AU,2,0),0)),E85&\" \"&SUBSTITUTE(F85,F85,VLOOKUP(BI85,BI85:BM85,VLOOKUP($B$2,$AT:$AU,2,0),0)))))","v":""},0,"","","","","","","","","","","","","","","","","","","","","","","",""]
[null,null,84,null,null,null,null,null,null,null,null,null,null,null,null,null,null,null,null,null,null,null,null,null,null,null,null,null,null,null,null,null,null,null,null,null,null,null,null,null,null,null,null,null,null,null,null,null,null,null,null,null,null,null,null,null,null,null,null,{"$f":"IF($B$2=\"Spelling\",IF($F86=\"\",\"\",IF($A$4=\"On\",C86&\". \",\"\")&'Cloze Gift Spelling Part'!H565),IF(E86=\"\",\"\",IF($A$4=\"On\",C86&\". \",\"\")&IF($B$2=\"Drop Down (In-Line Replacement)\",SUBSTITUTE(E86,F86,VLOOKUP(BI86,BI86:BM86,VLOOKUP($B$2,$AT:$AU,2,0),0)),E86&\" \"&SUBSTITUTE(F86,F86,VLOOKUP(BI86,BI86:BM86,VLOOKUP($B$2,$AT:$AU,2,0),0)))))","v":""},0,"","","","","","","","","","","","","","","","","","","","","","","",""]
[null,null,85,null,null,null,null,null,null,null,null,null,null,null,null,null,null,null,null,null,null,null,null,null,null,null,null,null,null,null,null,null,null,null,{"$f":"BH45","v":""},null,null,null,null,null,null,null,null,null,null,null,null,null,null,null,null,null,null,null,null,null,null,null,null,{"$f":"IF($B$2=\"Spelling\",IF($F87=\"\",\"\",IF($A$4=\"On\",C87&\". \",\"\")&'Cloze Gift Spelling Part'!H566),IF(E87=\"\",\"\",IF($A$4=\"On\",C87&\". \",\"\")&IF($B$2=\"Drop Down (In-Line Replacement)\",SUBSTITUTE(E87,F87,VLOOKUP(BI87,BI87:BM87,VLOOKUP($B$2,$AT:$AU,2,0),0)),E87&\" \"&SUBSTITUTE(F87,F87,VLOOKUP(BI87,BI87:BM87,VLOOKUP($B$2,$AT:$AU,2,0),0)))))","v":""},0,"","","","","","","","","","","","","","","","","","","","","","","",""]
[null,null,86,null,null,null,null,null,null,null,null,null,null,null,null,null,null,null,null,null,null,null,null,null,null,null,null,null,null,null,null,null,null,null,null,null,null,null,null,null,null,null,null,null,null,null,null,null,null,null,null,null,null,null,null,null,null,null,null,{"$f":"IF($B$2=\"Spelling\",IF($F88=\"\",\"\",IF($A$4=\"On\",C88&\". \",\"\")&'Cloze Gift Spelling Part'!H567),IF(E88=\"\",\"\",IF($A$4=\"On\",C88&\". \",\"\")&IF($B$2=\"Drop Down (In-Line Replacement)\",SUBSTITUTE(E88,F88,VLOOKUP(BI88,BI88:BM88,VLOOKUP($B$2,$AT:$AU,2,0),0)),E88&\" \"&SUBSTITUTE(F88,F88,VLOOKUP(BI88,BI88:BM88,VLOOKUP($B$2,$AT:$AU,2,0),0)))))","v":""},0,"","","","","","","","","","","","","","","","","","","","","","","",""]
[null,null,87,null,null,null,null,null,null,null,null,null,null,null,null,null,null,null,null,null,null,null,null,null,null,null,null,null,null,null,null,null,null,null,{"$f":"BH46","v":""},null,null,null,null,null,null,null,null,null,null,null,null,null,null,null,null,null,null,null,null,null,null,null,null,{"$f":"IF($B$2=\"Spelling\",IF($F89=\"\",\"\",IF($A$4=\"On\",C89&\". \",\"\")&'Cloze Gift Spelling Part'!H568),IF(E89=\"\",\"\",IF($A$4=\"On\",C89&\". \",\"\")&IF($B$2=\"Drop Down (In-Line Replacement)\",SUBSTITUTE(E89,F89,VLOOKUP(BI89,BI89:BM89,VLOOKUP($B$2,$AT:$AU,2,0),0)),E89&\" \"&SUBSTITUTE(F89,F89,VLOOKUP(BI89,BI89:BM89,VLOOKUP($B$2,$AT:$AU,2,0),0)))))","v":""},0,"","","","","","","","","","","","","","","","","","","","","","","",""]
[null,null,88,null,null,null,null,null,null,null,null,null,null,null,null,null,null,null,null,null,null,null,null,null,null,null,null,null,null,null,null,null,null,null,null,null,null,null,null,null,null,null,null,null,null,null,null,null,null,null,null,null,null,null,null,null,null,null,null,{"$f":"IF($B$2=\"Spelling\",IF($F90=\"\",\"\",IF($A$4=\"On\",C90&\". \",\"\")&'Cloze Gift Spelling Part'!H569),IF(E90=\"\",\"\",IF($A$4=\"On\",C90&\". \",\"\")&IF($B$2=\"Drop Down (In-Line Replacement)\",SUBSTITUTE(E90,F90,VLOOKUP(BI90,BI90:BM90,VLOOKUP($B$2,$AT:$AU,2,0),0)),E90&\" \"&SUBSTITUTE(F90,F90,VLOOKUP(BI90,BI90:BM90,VLOOKUP($B$2,$AT:$AU,2,0),0)))))","v":""},0,"","","","","","","","","","","","","","","","","","","","","","","",""]
[null,null,89,null,null,null,null,null,null,null,null,null,null,null,null,null,null,null,null,null,null,null,null,null,null,null,null,null,null,null,null,null,null,null,{"$f":"BH47","v":""},null,null,null,null,null,null,null,null,null,null,null,null,null,null,null,null,null,null,null,null,null,null,null,null,{"$f":"IF($B$2=\"Spelling\",IF($F91=\"\",\"\",IF($A$4=\"On\",C91&\". \",\"\")&'Cloze Gift Spelling Part'!H570),IF(E91=\"\",\"\",IF($A$4=\"On\",C91&\". \",\"\")&IF($B$2=\"Drop Down (In-Line Replacement)\",SUBSTITUTE(E91,F91,VLOOKUP(BI91,BI91:BM91,VLOOKUP($B$2,$AT:$AU,2,0),0)),E91&\" \"&SUBSTITUTE(F91,F91,VLOOKUP(BI91,BI91:BM91,VLOOKUP($B$2,$AT:$AU,2,0),0)))))","v":""},0,"","","","","","","","","","","","","","","","","","","","","","","",""]
[null,null,90,null,null,null,null,null,null,null,null,null,null,null,null,null,null,null,null,null,null,null,null,null,null,null,null,null,null,null,null,null,null,null,null,null,null,null,null,null,null,null,null,null,null,null,null,null,null,null,null,null,null,null,null,null,null,null,null,{"$f":"IF($B$2=\"Spelling\",IF($F92=\"\",\"\",IF($A$4=\"On\",C92&\". \",\"\")&'Cloze Gift Spelling Part'!H571),IF(E92=\"\",\"\",IF($A$4=\"On\",C92&\". \",\"\")&IF($B$2=\"Drop Down (In-Line Replacement)\",SUBSTITUTE(E92,F92,VLOOKUP(BI92,BI92:BM92,VLOOKUP($B$2,$AT:$AU,2,0),0)),E92&\" \"&SUBSTITUTE(F92,F92,VLOOKUP(BI92,BI92:BM92,VLOOKUP($B$2,$AT:$AU,2,0),0)))))","v":""},0,"","","","","","","","","","","","","","","","","","","","","","","",""]
[null,null,91,null,null,null,null,null,null,null,null,null,null,null,null,null,null,null,null,null,null,null,null,null,null,null,null,null,null,null,null,null,null,null,{"$f":"BH48","v":""},null,null,null,null,null,null,null,null,null,null,null,null,null,null,null,null,null,null,null,null,null,null,null,null,{"$f":"IF($B$2=\"Spelling\",IF($F93=\"\",\"\",IF($A$4=\"On\",C93&\". \",\"\")&'Cloze Gift Spelling Part'!H572),IF(E93=\"\",\"\",IF($A$4=\"On\",C93&\". \",\"\")&IF($B$2=\"Drop Down (In-Line Replacement)\",SUBSTITUTE(E93,F93,VLOOKUP(BI93,BI93:BM93,VLOOKUP($B$2,$AT:$AU,2,0),0)),E93&\" \"&SUBSTITUTE(F93,F93,VLOOKUP(BI93,BI93:BM93,VLOOKUP($B$2,$AT:$AU,2,0),0)))))","v":""},0,"","","","","","","","","","","","","","","","","","","","","","","",""]
[null,null,92,null,null,null,null,null,null,null,null,null,null,null,null,null,null,null,null,null,null,null,null,null,null,null,null,null,null,null,null,null,null,null,null,null,null,null,null,null,null,null,null,null,null,null,null,null,null,null,null,null,null,null,null,null,null,null,null,{"$f":"IF($B$2=\"Spelling\",IF($F94=\"\",\"\",IF($A$4=\"On\",C94&\". \",\"\")&'Cloze Gift Spelling Part'!H573),IF(E94=\"\",\"\",IF($A$4=\"On\",C94&\". \",\"\")&IF($B$2=\"Drop Down (In-Line Replacement)\",SUBSTITUTE(E94,F94,VLOOKUP(BI94,BI94:BM94,VLOOKUP($B$2,$AT:$AU,2,0),0)),E94&\" \"&SUBSTITUTE(F94,F94,VLOOKUP(BI94,BI94:BM94,VLOOKUP($B$2,$AT:$AU,2,0),0)))))","v":""},0,"","","","","","","","","","","","","","","","","","","","","","","",""]
[null,null,93,null,null,null,null,null,null,null,null,null,null,null,null,null,null,null,null,null,null,null,null,null,null,null,null,null,null,null,null,null,null,null,{"$f":"BH49","v":""},null,null,null,null,null,null,null,null,null,null,null,null,null,null,null,null,null,null,null,null,null,null,null,null,{"$f":"IF($B$2=\"Spelling\",IF($F95=\"\",\"\",IF($A$4=\"On\",C95&\". \",\"\")&'Cloze Gift Spelling Part'!H574),IF(E95=\"\",\"\",IF($A$4=\"On\",C95&\". \",\"\")&IF($B$2=\"Drop Down (In-Line Replacement)\",SUBSTITUTE(E95,F95,VLOOKUP(BI95,BI95:BM95,VLOOKUP($B$2,$AT:$AU,2,0),0)),E95&\" \"&SUBSTITUTE(F95,F95,VLOOKUP(BI95,BI95:BM95,VLOOKUP($B$2,$AT:$AU,2,0),0)))))","v":""},0,"","","","","","","","","","","","","","","","","","","","","","","",""]
[null,null,94,null,null,null,null,null,null,null,null,null,null,null,null,null,null,null,null,null,null,null,null,null,null,null,null,null,null,null,null,null,null,null,null,null,null,null,null,null,null,null,null,null,null,null,null,null,null,null,null,null,null,null,null,null,null,null,null,{"$f":"IF($B$2=\"Spelling\",IF($F96=\"\",\"\",IF($A$4=\"On\",C96&\". \",\"\")&'Cloze Gift Spelling Part'!H575),IF(E96=\"\",\"\",IF($A$4=\"On\",C96&\". \",\"\")&IF($B$2=\"Drop Down (In-Line Replacement)\",SUBSTITUTE(E96,F96,VLOOKUP(BI96,BI96:BM96,VLOOKUP($B$2,$AT:$AU,2,0),0)),E96&\" \"&SUBSTITUTE(F96,F96,VLOOKUP(BI96,BI96:BM96,VLOOKUP($B$2,$AT:$AU,2,0),0)))))","v":""},0,"","","","","","","","","","","","","","","","","","","","","","","",""]
[null,null,95,null,null,null,null,null,null,null,null,null,null,null,null,null,null,null,null,null,null,null,null,null,null,null,null,null,null,null,null,null,null,null,{"$f":"BH50","v":""},null,null,null,null,null,null,null,null,null,null,null,null,null,null,null,null,null,null,null,null,null,null,null,null,{"$f":"IF($B$2=\"Spelling\",IF($F97=\"\",\"\",IF($A$4=\"On\",C97&\". \",\"\")&'Cloze Gift Spelling Part'!H576),IF(E97=\"\",\"\",IF($A$4=\"On\",C97&\". \",\"\")&IF($B$2=\"Drop Down (In-Line Replacement)\",SUBSTITUTE(E97,F97,VLOOKUP(BI97,BI97:BM97,VLOOKUP($B$2,$AT:$AU,2,0),0)),E97&\" \"&SUBSTITUTE(F97,F97,VLOOKUP(BI97,BI97:BM97,VLOOKUP($B$2,$AT:$AU,2,0),0)))))","v":""},0,"","","","","","","","","","","","","","","","","","","","","","","",""]
[null,null,96,null,null,null,null,null,null,null,null,null,null,null,null,null,null,null,null,null,null,null,null,null,null,null,null,null,null,null,null,null,null,null,null,null,null,null,null,null,null,null,null,null,null,null,null,null,null,null,null,null,null,null,null,null,null,null,null,{"$f":"IF($B$2=\"Spelling\",IF($F98=\"\",\"\",IF($A$4=\"On\",C98&\". \",\"\")&'Cloze Gift Spelling Part'!H577),IF(E98=\"\",\"\",IF($A$4=\"On\",C98&\". \",\"\")&IF($B$2=\"Drop Down (In-Line Replacement)\",SUBSTITUTE(E98,F98,VLOOKUP(BI98,BI98:BM98,VLOOKUP($B$2,$AT:$AU,2,0),0)),E98&\" \"&SUBSTITUTE(F98,F98,VLOOKUP(BI98,BI98:BM98,VLOOKUP($B$2,$AT:$AU,2,0),0)))))","v":""},0,"","","","","","","","","","","","","","","","","","","","","","","",""]
[null,null,97,null,null,null,null,null,null,null,null,null,null,null,null,null,null,null,null,null,null,null,null,null,null,null,null,null,null,null,null,null,null,null,{"$f":"BH51","v":""},null,null,null,null,null,null,null,null,null,null,null,null,null,null,null,null,null,null,null,null,null,null,null,null,{"$f":"IF($B$2=\"Spelling\",IF($F99=\"\",\"\",IF($A$4=\"On\",C99&\". \",\"\")&'Cloze Gift Spelling Part'!H578),IF(E99=\"\",\"\",IF($A$4=\"On\",C99&\". \",\"\")&IF($B$2=\"Drop Down (In-Line Replacement)\",SUBSTITUTE(E99,F99,VLOOKUP(BI99,BI99:BM99,VLOOKUP($B$2,$AT:$AU,2,0),0)),E99&\" \"&SUBSTITUTE(F99,F99,VLOOKUP(BI99,BI99:BM99,VLOOKUP($B$2,$AT:$AU,2,0),0)))))","v":""},0,"","","","","","","","","","","","","","","","","","","","","","","",""]
[null,null,98,null,null,null,null,null,null,null,null,null,null,null,null,null,null,null,null,null,null,null,null,null,null,null,null,null,null,null,null,null,null,null,null,null,null,null,null,null,null,null,null,null,null,null,null,null,null,null,null,null,null,null,null,null,null,null,null,{"$f":"IF($B$2=\"Spelling\",IF($F100=\"\",\"\",IF($A$4=\"On\",C100&\". \",\"\")&'Cloze Gift Spelling Part'!H579),IF(E100=\"\",\"\",IF($A$4=\"On\",C100&\". \",\"\")&IF($B$2=\"Drop Down (In-Line Replacement)\",SUBSTITUTE(E100,F100,VLOOKUP(BI100,BI100:BM100,VLOOKUP($B$2,$AT:$AU,2,0),0)),E100&\" \"&SUBSTITUTE(F100,F100,VLOOKUP(BI100,BI100:BM100,VLOOKUP($B$2,$AT:$AU,2,0),0)))))","v":""},0,"","","","","","","","","","","","","","","","","","","","","","","",""]
[null,null,99,null,null,null,null,null,null,null,null,null,null,null,null,null,null,null,null,null,null,null,null,null,null,null,null,null,null,null,null,null,null,null,{"$f":"BH52","v":""},null,null,null,null,null,null,null,null,null,null,null,null,null,null,null,null,null,null,null,null,null,null,null,null,{"$f":"IF($B$2=\"Spelling\",IF($F101=\"\",\"\",IF($A$4=\"On\",C101&\". \",\"\")&'Cloze Gift Spelling Part'!H580),IF(E101=\"\",\"\",IF($A$4=\"On\",C101&\". \",\"\")&IF($B$2=\"Drop Down (In-Line Replacement)\",SUBSTITUTE(E101,F101,VLOOKUP(BI101,BI101:BM101,VLOOKUP($B$2,$AT:$AU,2,0),0)),E101&\" \"&SUBSTITUTE(F101,F101,VLOOKUP(BI101,BI101:BM101,VLOOKUP($B$2,$AT:$AU,2,0),0)))))","v":""},0,"","","","","","","","","","","","","","","","","","","","","","","",""]
[null,null,100,null,null,null,null,null,null,null,null,null,null,null,null,null,null,null,null,null,null,null,null,null,null,null,null,null,null,null,null,null,null,null,null,null,null,null,null,null,null,null,null,null,null,null,null,null,null,null,null,null,null,null,null,null,null,null,null,{"$f":"IF($B$2=\"Spelling\",IF($F102=\"\",\"\",IF($A$4=\"On\",C102&\". \",\"\")&'Cloze Gift Spelling Part'!H581),IF(E102=\"\",\"\",IF($A$4=\"On\",C102&\". \",\"\")&IF($B$2=\"Drop Down (In-Line Replacement)\",SUBSTITUTE(E102,F102,VLOOKUP(BI102,BI102:BM102,VLOOKUP($B$2,$AT:$AU,2,0),0)),E102&\" \"&SUBSTITUTE(F102,F102,VLOOKUP(BI102,BI102:BM102,VLOOKUP($B$2,$AT:$AU,2,0),0)))))","v":""},0,"","","","","","","","","","","","","","","","","","","","","","","",""]
[null,null,null,null,null,null,null,null,null,null,null,null,null,null,null,null,null,null,null,null,null,null,null,null,null,null,null,null,null,null,null,null,null,null,{"$f":"BH53","v":""}]
[]
[null,null,null,null,null,null,null,null,null,null,null,null,null,null,null,null,null,null,null,null,null,null,null,null,null,null,null,null,null,null,null,null,null,null,{"$f":"BH54","v":""}]
[]
[null,null,null,null,null,null,null,null,null,null,null,null,null,null,null,null,null,null,null,null,null,null,null,null,null,null,null,null,null,null,null,null,null,null,{"$f":"BH55","v":""}]
[]
[null,null,null,null,null,null,null,null,null,null,null,null,null,null,null,null,null,null,null,null,null,null,null,null,null,null,null,null,null,null,null,null,null,null,{"$f":"BH56","v":""}]
[]
[null,null,null,null,null,null,null,null,null,null,null,null,null,null,null,null,null,null,null,null,null,null,null,null,null,null,null,null,null,null,null,null,null,null,{"$f":"BH57","v":""}]
[]
[null,null,null,null,null,null,null,null,null,null,null,null,null,null,null,null,null,null,null,null,null,null,null,null,null,null,null,null,null,null,null,null,null,null,{"$f":"BH58","v":""}]
[]
[null,null,null,null,null,null,null,null,null,null,null,null,null,null,null,null,null,null,null,null,null,null,null,null,null,null,null,null,null,null,null,null,null,null,{"$f":"BH59","v":""}]
[]
[null,null,null,null,null,null,null,null,null,null,null,null,null,null,null,null,null,null,null,null,null,null,null,null,null,null,null,null,null,null,null,null,null,null,{"$f":"BH60","v":""}]
[]
[null,null,null,null,null,null,null,null,null,null,null,null,null,null,null,null,null,null,null,null,null,null,null,null,null,null,null,null,null,null,null,null,null,null,{"$f":"BH61","v":""}]
[]
[null,null,null,null,null,null,null,null,null,null,null,null,null,null,null,null,null,null,null,null,null,null,null,null,null,null,null,null,null,null,null,null,null,null,{"$f":"BH62","v":""}]
[]
[null,null,null,null,null,null,null,null,null,null,null,null,null,null,null,null,null,null,null,null,null,null,null,null,null,null,null,null,null,null,null,null,null,null,{"$f":"BH63","v":""}]
[]
[null,null,null,null,null,null,null,null,null,null,null,null,null,null,null,null,null,null,null,null,null,null,null,null,null,null,null,null,null,null,null,null,null,null,{"$f":"BH64","v":""}]
[]
[null,null,null,null,null,null,null,null,null,null,null,null,null,null,null,null,null,null,null,null,null,null,null,null,null,null,null,null,null,null,null,null,null,null,{"$f":"BH65","v":""}]
[]
[null,null,null,null,null,null,null,null,null,null,null,null,null,null,null,null,null,null,null,null,null,null,null,null,null,null,null,null,null,null,null,null,null,null,{"$f":"BH66","v":""}]
[]
[null,null,null,null,null,null,null,null,null,null,null,null,null,null,null,null,null,null,null,null,null,null,null,null,null,null,null,null,null,null,null,null,null,null,{"$f":"BH67","v":""}]
[]
[null,null,null,null,null,null,null,null,null,null,null,null,null,null,null,null,null,null,null,null,null,null,null,null,null,null,null,null,null,null,null,null,null,null,{"$f":"BH68","v":""}]
[]
[null,null,null,null,null,null,null,null,null,null,null,null,null,null,null,null,null,null,null,null,null,null,null,null,null,null,null,null,null,null,null,null,null,null,{"$f":"BH69","v":""}]
[]
[null,null,null,null,null,null,null,null,null,null,null,null,null,null,null,null,null,null,null,null,null,null,null,null,null,null,null,null,null,null,null,null,null,null,{"$f":"BH70","v":""}]
[]
[null,null,null,null,null,null,null,null,null,null,null,null,null,null,null,null,null,null,null,null,null,null,null,null,null,null,null,null,null,null,null,null,null,null,{"$f":"BH71","v":""}]
[]
[null,null,null,null,null,null,null,null,null,null,null,null,null,null,null,null,null,null,null,null,null,null,null,null,null,null,null,null,null,null,null,null,null,null,{"$f":"BH72","v":""}]
[]
[null,null,null,null,null,null,null,null,null,null,null,null,null,null,null,null,null,null,null,null,null,null,null,null,null,null,null,null,null,null,null,null,null,null,{"$f":"BH73","v":""}]
[]
[null,null,null,null,null,null,null,null,null,null,null,null,null,null,null,null,null,null,null,null,null,null,null,null,null,null,null,null,null,null,null,null,null,null,{"$f":"BH74","v":""}]
[]
[null,null,null,null,null,null,null,null,null,null,null,null,null,null,null,null,null,null,null,null,null,null,null,null,null,null,null,null,null,null,null,null,null,null,{"$f":"BH75","v":""}]
[]
[null,null,null,null,null,null,null,null,null,null,null,null,null,null,null,null,null,null,null,null,null,null,null,null,null,null,null,null,null,null,null,null,null,null,{"$f":"BH76","v":""}]
[]
[null,null,null,null,null,null,null,null,null,null,null,null,null,null,null,null,null,null,null,null,null,null,null,null,null,null,null,null,null,null,null,null,null,null,{"$f":"BH77","v":""}]
[]
[null,null,null,null,null,null,null,null,null,null,null,null,null,null,null,null,null,null,null,null,null,null,null,null,null,null,null,null,null,null,null,null,null,null,{"$f":"BH78","v":""}]
[]
[null,null,null,null,null,null,null,null,null,null,null,null,null,null,null,null,null,null,null,null,null,null,null,null,null,null,null,null,null,null,null,null,null,null,{"$f":"BH79","v":""}]
[]
[null,null,null,null,null,null,null,null,null,null,null,null,null,null,null,null,null,null,null,null,null,null,null,null,null,null,null,null,null,null,null,null,null,null,{"$f":"BH80","v":""}]
[]
[null,null,null,null,null,null,null,null,null,null,null,null,null,null,null,null,null,null,null,null,null,null,null,null,null,null,null,null,null,null,null,null,null,null,{"$f":"BH81","v":""}]
[]
[null,null,null,null,null,null,null,null,null,null,null,null,null,null,null,null,null,null,null,null,null,null,null,null,null,null,null,null,null,null,null,null,null,null,{"$f":"BH82","v":""}]
[]
[null,null,null,null,null,null,null,null,null,null,null,null,null,null,null,null,null,null,null,null,null,null,null,null,null,null,null,null,null,null,null,null,null,null,{"$f":"BH83","v":""}]
[]
[null,null,null,null,null,null,null,null,null,null,null,null,null,null,null,null,null,null,null,null,null,null,null,null,null,null,null,null,null,null,null,null,null,null,{"$f":"BH84","v":""}]
[]
[null,null,null,null,null,null,null,null,null,null,null,null,null,null,null,null,null,null,null,null,null,null,null,null,null,null,null,null,null,null,null,null,null,null,{"$f":"BH85","v":""}]
[]
[null,null,null,null,null,null,null,null,null,null,null,null,null,null,null,null,null,null,null,null,null,null,null,null,null,null,null,null,null,null,null,null,null,null,{"$f":"BH86","v":""}]
[]
[null,null,null,null,null,null,null,null,null,null,null,null,null,null,null,null,null,null,null,null,null,null,null,null,null,null,null,null,null,null,null,null,null,null,{"$f":"BH87","v":""}]
[]
[null,null,null,null,null,null,null,null,null,null,null,null,null,null,null,null,null,null,null,null,null,null,null,null,null,null,null,null,null,null,null,null,null,null,{"$f":"BH88","v":""}]
[]
[null,null,null,null,null,null,null,null,null,null,null,null,null,null,null,null,null,null,null,null,null,null,null,null,null,null,null,null,null,null,null,null,null,null,{"$f":"BH89","v":""}]
[]
[null,null,null,null,null,null,null,null,null,null,null,null,null,null,null,null,null,null,null,null,null,null,null,null,null,null,null,null,null,null,null,null,null,null,{"$f":"BH90","v":""}]
[]
[null,null,null,null,null,null,null,null,null,null,null,null,null,null,null,null,null,null,null,null,null,null,null,null,null,null,null,null,null,null,null,null,null,null,{"$f":"BH91","v":""}]
[]
[null,null,null,null,null,null,null,null,null,null,null,null,null,null,null,null,null,null,null,null,null,null,null,null,null,null,null,null,null,null,null,null,null,null,{"$f":"BH92","v":""}]
[]
[null,null,null,null,null,null,null,null,null,null,null,null,null,null,null,null,null,null,null,null,null,null,null,null,null,null,null,null,null,null,null,null,null,null,{"$f":"BH93","v":""}]
[]
[null,null,null,null,null,null,null,null,null,null,null,null,null,null,null,null,null,null,null,null,null,null,null,null,null,null,null,null,null,null,null,null,null,null,{"$f":"BH94","v":""}]
[]
[null,null,null,null,null,null,null,null,null,null,null,null,null,null,null,null,null,null,null,null,null,null,null,null,null,null,null,null,null,null,null,null,null,null,{"$f":"BH95","v":""}]
[]
[null,null,null,null,null,null,null,null,null,null,null,null,null,null,null,null,null,null,null,null,null,null,null,null,null,null,null,null,null,null,null,null,null,null,{"$f":"BH96","v":""}]
[]
[null,null,null,null,null,null,null,null,null,null,null,null,null,null,null,null,null,null,null,null,null,null,null,null,null,null,null,null,null,null,null,null,null,null,{"$f":"BH97","v":""}]
[]
[null,null,null,null,null,null,null,null,null,null,null,null,null,null,null,null,null,null,null,null,null,null,null,null,null,null,null,null,null,null,null,null,null,null,{"$f":"BH98","v":""}]
[]
[null,null,null,null,null,null,null,null,null,null,null,null,null,null,null,null,null,null,null,null,null,null,null,null,null,null,null,null,null,null,null,null,null,null,{"$f":"BH99","v":""}]
[]
[]
[]
[null,null,null,null,null,null,null,null,null,null,null,null,null,null,null,null,null,null,null,null,null,null,null,null,null,null,null,null,null,null,null,null,null,null,{"$f":"BH101","v":""}]
[]
[null,null,null,null,null,null,null,null,null,null,null,null,null,null,null,null,null,null,null,null,null,null,null,null,null,null,null,null,null,null,null,null,null,null,{"$f":"BH102","v":""}]

{"sheet":"GIFT Import Strings","index":3,"n_rows":602,"n_cols":111,"rows_kept":602,"cut":false,"hidden":false,"merged":[[0,62,0,63],[0,8,0,9],[0,56,0,60],[1,56,1,57],[1,59,1,60],[0,10,0,37]]}
["Off","Control Panel",null,null,null,null,null,null,null,null,null,null,null,null,null,null,null,null,null,null,null,null,null,null,null,null,null,null,null,null,null,null,null,null,null,null,null,null,null,null,null,null,null,null,null,null,null,null,null,null,null,null,null,null,null,null,"Feedback Shortcuts",null,null,null,null,null,"Question Instructions"]
["Off","Multiple Choice","Question Number",{"$f":"IF($B$2=\"Variable\",\"Question Type\",\"Column Not Used\")","v":"Column Not Used"},"Specific Question Title \n(leave blank to duplicate question text as question title)","Subcategory \n(leave blank to use only main category)","Specific Question Instructions \n(leave blank to use default instructions in Column BL)",{"$f":"IF(B2=\"Missing Word\",\"Question Text (type with answer included in-line, generator will remove it automatically)\",\"Question Text\")","v":"Question Text"},{"$f":"IFERROR(IF(VLOOKUP($B$2,$BK:$BQ,3,0)=0,\"\",VLOOKUP($B$2,$BK:$BQ,3,0)),\"\")","v":"Correct Answer"},{"$f":"IF(B2=\"Essay\",\"Column Not Used with Question\",\"Feedback on Correct Answer\")","v":"Feedback on Correct Answer"},{"$f":"IFERROR(IF(VLOOKUP($B$2,$BK:$BV,BN9,0)=0,\"\",VLOOKUP($B$2,$BK:$BV,BN9,0)),\"\")","v":"Wrong Answer 1"},{"$f":"IFERROR(IF(VLOOKUP($B$2,$BK:$BV,BO9,0)=0,\"\",VLOOKUP($B$2,$BK:$BV,BO9,0)),\"\")","v":"Wrong Answer 2"},{"$f":"IFERROR(IF(VLOOKUP($B$2,$BK:$BV,BP9,0)=0,\"\",VLOOKUP($B$2,$BK:$BV,BP9,0)),\"\")","v":"Wrong Answer 3"},{"$f":"IFERROR(IF(VLOOKUP($B$2,$BK:$BV,BQ9,0)=0,\"\",VLOOKUP($B$2,$BK:$BV,BQ9,0)),\"\")","v":"Wrong Answer 4"},{"$f":"IF(K2=\"Column Not Used with Question\",\"Column Not Used with Question\",\"Partial Credit on \"&K2)","v":"Partial Credit on Wrong Answer 1"},{"$f":"IF(L2=\"Column Not Used with Question\",\"Column Not Used with Question\",\"Partial Credit on \"&L2)","v":"Partial Credit on Wrong Answer 2"},"Partial Credit on Wrong Answer 3","Partial Credit on Wrong Answer 4",{"$f":"IF(B2=\"Essay\",\"Column Not Used with Question\",IF(B2=\"True False\",\"Incorrect Answer Feedback\",IF(K2=\"Column Not Used with Question\",\"\",\"Feedback on \"&K2)))","v":"Feedback on Wrong Answer 1"},{"$f":"IF(L2=\"Column Not Used with Question\",\"Column Not Used with Question\",\"Feedback on \"&L2)","v":"Feedback on Wrong Answer 2"},{"$f":"IF(M2=\"Column Not Used with Question\",\"Column Not Used with Question\",\"Feedback on \"&M2)","v":"Feedback on Wrong Answer 3"},{"$f":"IF(N2=\"Column Not Used with Question\",\"Column Not Used with Question\",\"Feedback on \"&N2)","v":"Feedback on Wrong Answer 4"},{"$f":"IFERROR(IF(VLOOKUP($B$2,$BK:$BV,BR9,0)=0,\"\",VLOOKUP($B$2,$BK:$BV,BR9,0)),\"\")","v":"Wrong Answer 5"},{"$f":"IFERROR(IF(VLOOKUP($B$2,$BK:$BV,BS9,0)=0,\"\",VLOOKUP($B$2,$BK:$BV,BS9,0)),\"\")","v":"Wrong Answer 6"},{"$f":"IFERROR(IF(VLOOKUP($B$2,$BK:$BV,BT9,0)=0,\"\",VLOOKUP($B$2,$BK:$BV,BT9,0)),\"\")","v":"Wrong Answer 7"},{"$f":"IFERROR(IF(VLOOKUP($B$2,$BK:$BV,BU9,0)=0,\"\",VLOOKUP($B$2,$BK:$BV,BU9,0)),\"\")","v":"Wrong Answer 8"},{"$f":"IFERROR(IF(VLOOKUP($B$2,$BK:$BV,BV9,0)=0,\"\",VLOOKUP($B$2,$BK:$BV,BV9,0)),\"\")","v":"Wrong Answer 9"},{"$f":"IF(W2=\"Column Not Used with Question\",\"Column Not Used with Question\",\"Partial Credit on \"&W2)","v":"Partial Credit on Wrong Answer 5"},{"$f":"IF(X2=\"Column Not Used with Question\",\"Column Not Used with Question\",\"Partial Credit on \"&X2)","v":"Partial Credit on Wrong Answer 6"},"Partial Credit on Wrong Answer 7","Partial Credit on Wrong Answer 8","Partial Credit on Wrong Answer 9",{"$f":"IF(W2=\"Column Not Used with Question\",\"Column Not Used with Question\",\"Feedback on \"&W2)","v":"Feedback on Wrong Answer 5"},{"$f":"IF(X2=\"Column Not Used with Question\",\"Column Not Used with Question\",\"Feedback on \"&X2)","v":"Feedback on Wrong Answer 6"},{"$f":"IF(Y2=\"Column Not Used with Question\",\"Column Not Used with Question\",\"Feedback on \"&Y2)","v":"Feedback on Wrong Answer 7"},{"$f":"IF(Z2=\"Column Not Used with Question\",\"Column Not Used with Question\",\"Feedback on \"&Z2)","v":"Feedback on Wrong Answer 8"},{"$f":"IF(AA2=\"Column Not Used with Question\",\"Column Not Used with Question\",\"Feedback on \"&AA2)","v":"Feedback on Wrong Answer 9"},"GIFT Question String",null,"Instructions, \nNo Categories","Categories, \nNo Instructions","Categories \nand Instructions","Neither Categories \nnor Instructions",null,null,null,"Row","Q","Row","Q","Row","Q","Row","Q",null,null,"Individual Answer Automated Feedback:\n1. Enter comments for each number.\n2. Enter number in appropriate feedback column(s).",null,null,"Group Incorrect Answer Automated Feedback:\n1. Enter group feedback comments for each letter.\n2. Enter letter in \"Feedback on Wrong Answer 1\" to apply that feedback to all wrong answers for that question. \n3. Leave other incorrect answer feedback columns blank.",null,null,"Formats Supported","Default Instructions \n(may be changed)",null,null,null,null,null,null,null,null,null,null,null,null,null,null,null,null,null,"Question String","VQT Master","Correct Answer Copy","Drop Down Code","Short Answer Code","True False Code","Missing Word Code","Ccode","Fcorrect","Wcode1","Wcode2","Wcode3","Wcode4","FWrong1","FWrong2","FWrong3","FWrong4","Wcode5","Wcode6","Wcode7","Wcode8","Wcode9","FWrong5","FWrong6","FWrong7","FWrong8","FWrong9","Essay Code"]
["Off",null,1,null,null,null,null,null,null,null,null,null,null,null,null,null,null,null,null,null,null,null,null,null,null,null,null,null,null,null,null,null,null,null,null,null,null,{"$f":"IF(VLOOKUP($AM3,$AM:$AQ,$A$6,0)=\"\",\"\",VLOOKUP($AM3,$AM:$AQ,$A$6,0))","v":""},1,{"$f":"IF($I3=\"\",\"\",\"::\"&IF($B$16=\"\",\"\",$B$16&\"  \")&IF($E3=\"\",$H3,$E3)&\"::\")","v":""},{"$f":"IF($I3=\"\",\"\",IF($B$18=\"\",\"INPUT MAIN CATEGORY (CELL B18) OR TURN CATEGORIES OFF\",\"$CATEGORY: \"&$B$18&IF($F3=\"\",\"\",\"/\"&$F3)))","v":""},{"$f":"IF($I3=\"\",\"\",IF($B$18=\"\",\"INPUT MAIN CATEGORY (CELL B18) OR TURN CATEGORIES OFF\",\"$CATEGORY: \"&$B$18&IF($F3=\"\",\"\",\"/\"&$F3)))","v":""},{"$f":"IF($I3=\"\",\"\",\"::\"&IF($B$16=\"\",\"\",$B$16&\"  \")&IF($E3=\"\",$H3,$E3)&\"::\")","v":""},null,null,null,{"$f":"IF(AV3+2=2,\"\",AV3+2)","v":3},{"$f":"(ROW()+1)/4","v":1},{"$f":"IF(AX3+2=2,\"\",AX3+2)","v":3},{"$f":"(ROW()+1)/4","v":1},{"$f":"IF(AZ3+2=2,\"\",AZ3+2)","v":3},{"$f":"(ROW()+2)/5","v":1},{"$f":"IF(BB3+2=2,\"\",BB3+2)","v":3},{"$f":"ROW()/3","v":1},null,null,1,"You got it!",null,"A","Not quite. Please review the lesson contents.",null,"Multiple Choice","Choose the best answer.","Correct Answer","Wrong Answer 1","Wrong Answer 2","Wrong Answer 3","Wrong Answer 4","Wrong Answer 5","Wrong Answer 6","Wrong Answer 7","Wrong Answer 8","Wrong Answer 9","MC","Multiple Choice","MC",2,{"$f":"BL3","v":"Choose the best answer."},2,null,{"$f":"IF(H3=\"\",\"\",IF(CE3=\"ES\",DE3,IF(CE3=\"MW\",SUBSTITUTE(H3,I3,VLOOKUP(CF3,CF3:CJ3,VLOOKUP($CE3,$BY:$BZ,2,0),0)),H3&\" \"&SUBSTITUTE(I3,I3,VLOOKUP(CF3,CF3:CJ3,VLOOKUP($CE3,$BY:$BZ,2,0),0)))))","v":""},{"$f":"IFERROR(VLOOKUP($B$2,$BX:$BY,2,0),IF($D3=\"\",0,VLOOKUP($D3,$BX:$BY,2,0)))","v":"MC"},{"$f":"I3","v":0},{"$f":"IF(CK3=\"\",\"\",\"{\"&CK3&CL3&IF(CM3=\"\",\"\",\" ~\"&CM3&CQ3)&IF(CN3=\"\",\"\",\" ~\"&CN3&CR3)&IF(CO3=\"\",\"\",\" ~\"&CO3&CS3)&IF(CP3=\"\",\"\",\" ~\"&CP3&CT3)&IF(CU3=\"\",\"\",\" ~\"&CU3&CZ3)&IF(CV3=\"\",\"\",\" ~\"&CV3&DA3)&IF(CW3=\"\",\"\",\" ~\"&CW3&DB3)&IF(CX3=\"\",\"\",\" ~\"&CX3&DC3)&IF(CY3=\"\",\"\",\" ~\"&CY3&DD3)&\"}\")","v":""},{"$f":"IF(H3=\"\",\"\",\"{=\"&I3&CL3&IF(CM3=\"\",\"\",\" =\"&CM3&CQ3)&IF(CN3=\"\",\"\",\" =\"&CN3&CR3)&IF(CO3=\"\",\"\",\" =\"&CO3&CS3)&IF(CP3=\"\",\"\",\" =\"&CP3&CT3)&IF(CU3=\"\",\"\",\" =\"&CU3&CZ3)&IF(CV3=\"\",\"\",\" =\"&CV3&DA3)&IF(CW3=\"\",\"\",\" =\"&CW3&DB3)&IF(CX3=\"\",\"\",\" =\"&CX3&DC3)&IF(CY3=\"\",\"\",\" =\"&CY3&DD3)&\"}\")","v":""},{"$f":"IF(I3=\"\",\"\",\"{\"&IFERROR(I3&CQ3&CL3&\"}\",\"\"))","v":""},{"$f":"IF(CK3=\"\",\"\",\"{\"&CK3&CL3&IF(CM3=\"\",\"\",\" ~\"&CM3&CQ3)&IF(CN3=\"\",\"\",\" ~\"&CN3&CR3)&IF(CO3=\"\",\"\",\" ~\"&CO3&CS3)&IF(CP3=\"\",\"\",\" ~\"&CP3&CT3)&IF(CU3=\"\",\"\",\" ~\"&CU3&CZ3)&IF(CV3=\"\",\"\",\" ~\"&CV3&DA3)&IF(CW3=\"\",\"\",\" ~\"&CW3&DB3)&IF(CX3=\"\",\"\",\" ~\"&CX3&DC3)&IF(CY3=\"\",\"\",\" ~\"&CY3&DD3)&\"}\")","v":""},{"$f":"IF(I3=\"\",\"\",\"=\"&I3)","v":""},{"$f":"IF(J3=\"\",\"\",\"#\"&IFERROR(VLOOKUP(J3,$BE:$BF,2,0),J3))","v":""},{"$f":"IF(K3=\"\",\"\",IF($B$2=\"Short Answer\",IF(O3=\"\",K3,\"%\"&O3&\"%\"&K3),IF($D3=\"Short Answer\",IF(O3=\"\",K3,\"%\"&O3&\"%\"&K3),\"%\"&IF(O3=\"\",0,O3)&\"%\"&K3)))","v":""},{"$f":"IF(L3=\"\",\"\",IF($B$2=\"Short Answer\",IF(P3=\"\",L3,\"%\"&P3&\"%\"&L3),IF($D3=\"Short Answer\",IF(P3=\"\",L3,\"%\"&P3&\"%\"&L3),\"%\"&IF(P3=\"\",0,P3)&\"%\"&L3)))","v":""},"","",{"$f":"IF($B$2=\"True False\",IF(S3=\"\",\"\",IFERROR(\"#\"&VLOOKUP($S3,$BH:$BI,2,0),IF(S3=\"\",\"\",\"#\"&IFERROR(VLOOKUP(S3,$BE:$BF,2,0),S3)))),IF($B$2=\"Variable\",IF(D3=\"True False\",IF(S3=\"\",\"\",IFERROR(\"#\"&VLOOKUP($S3,$BH:$BI,2,0),IF(S3=\"\",\"\",\"#\"&IFERROR(VLOOKUP(S3,$BE:$BF,2,0),S3)))),IF(K3=\"\",\"\",IFERROR(\"#\"&VLOOKUP($S3,$BH:$BI,2,0),IF(S3=\"\",\"\",\"#\"&IFERROR(VLOOKUP(S3,$BE:$BF,2,0),S3))))),IF(K3=\"\",\"\",IFERROR(\"#\"&VLOOKUP($S3,$BH:$BI,2,0),IF(S3=\"\",\"\",\"#\"&IFERROR(VLOOKUP(S3,$BE:$BF,2,0),S3))))))","v":""},{"$f":"IF(L3=\"\",\"\",IFERROR(\"#\"&VLOOKUP($S3,$BH:$BI,2,0),IF(T3=\"\",\"\",\"#\"&IFERROR(VLOOKUP(T3,$BE:$BF,2,0),T3))))","v":""},{"$f":"IF(M3=\"\",\"\",IFERROR(\"#\"&VLOOKUP($S3,$BH:$BI,2,0),IF(U3=\"\",\"\",\"#\"&IFERROR(VLOOKUP(U3,$BE:$BF,2,0),U3))))","v":""},{"$f":"IF(N3=\"\",\"\",IFERROR(\"#\"&VLOOKUP($S3,$BH:$BI,2,0),IF(V3=\"\",\"\",\"#\"&IFERROR(VLOOKUP(V3,$BE:$BF,2,0),V3))))","v":""},{"$f":"IF(S3=\"\",\"\",IF($B$2=\"Short Answer\",IF(W3=\"\",S3,\"%\"&W3&\"%\"&S3),IF($D3=\"Short Answer\",IF(W3=\"\",S3,\"%\"&W3&\"%\"&S3),\"%\"&IF(W3=\"\",0,W3)&\"%\"&S3)))","v":""},{"$f":"IF(T3=\"\",\"\",IF($B$2=\"Short Answer\",IF(X3=\"\",T3,\"%\"&X3&\"%\"&T3),IF($D3=\"Short Answer\",IF(X3=\"\",T3,\"%\"&X3&\"%\"&T3),\"%\"&IF(X3=\"\",0,X3)&\"%\"&T3)))","v":""},{"$f":"IF(U3=\"\",\"\",IF($B$2=\"Short Answer\",IF(Y3=\"\",U3,\"%\"&Y3&\"%\"&U3),IF($D3=\"Short Answer\",IF(Y3=\"\",U3,\"%\"&Y3&\"%\"&U3),\"%\"&IF(Y3=\"\",0,Y3)&\"%\"&U3)))","v":""},{"$f":"IF(V3=\"\",\"\",IF($B$2=\"Short Answer\",IF(Z3=\"\",V3,\"%\"&Z3&\"%\"&V3),IF($D3=\"Short Answer\",IF(Z3=\"\",V3,\"%\"&Z3&\"%\"&V3),\"%\"&IF(Z3=\"\",0,Z3)&\"%\"&V3)))","v":""},{"$f":"IF(W3=\"\",\"\",IF($B$2=\"Short Answer\",IF(AA3=\"\",W3,\"%\"&AA3&\"%\"&W3),IF($D3=\"Short Answer\",IF(AA3=\"\",W3,\"%\"&AA3&\"%\"&W3),\"%\"&IF(AA3=\"\",0,AA3)&\"%\"&W3)))","v":""},{"$f":"IF(W3=\"\",\"\",IFERROR(\"#\"&VLOOKUP($S3,$BH:$BI,2,0),IF(AG3=\"\",\"\",\"#\"&IFERROR(VLOOKUP(AG3,$BE:$BF,2,0),AG3))))","v":""},{"$f":"IF(X3=\"\",\"\",IFERROR(\"#\"&VLOOKUP($S3,$BH:$BI,2,0),IF(AH3=\"\",\"\",\"#\"&IFERROR(VLOOKUP(AH3,$BE:$BF,2,0),AH3))))","v":""},{"$f":"IF(Y3=\"\",\"\",IFERROR(\"#\"&VLOOKUP($S3,$BH:$BI,2,0),IF(AI3=\"\",\"\",\"#\"&IFERROR(VLOOKUP(AI3,$BE:$BF,2,0),AI3))))","v":""},{"$f":"IF(Z3=\"\",\"\",IFERROR(\"#\"&VLOOKUP($S3,$BH:$BI,2,0),IF(AJ3=\"\",\"\",\"#\"&IFERROR(VLOOKUP(AJ3,$BE:$BF,2,0),AJ3))))","v":""},{"$f":"IF(AA3=\"\",\"\",IFERROR(\"#\"&VLOOKUP($S3,$BH:$BI,2,0),IF(AK3=\"\",\"\",\"#\"&IFERROR(VLOOKUP(AK3,$BE:$BF,2,0),AK3))))","v":""},{"$f":"IF(H3=\"\",\"\",H3&\" {}\")","v":""},"OffOff",5]
["Off",null,2,null,null,null,null,null,null,null,null,null,null,null,null,null,null,null,null,null,null,null,null,null,null,null,null,null,null,null,null,null,null,null,null,null,null,{"$f":"IF(VLOOKUP($AM4,$AM:$AQ,$A$6,0)=\"\",\"\",VLOOKUP($AM4,$AM:$AQ,$A$6,0))","v":""},2,{"$f":"IF($I3=\"\",\"\",IF($CE3=0,\"Enter question type or turn off variable question type\",IF($G3=\"\",VLOOKUP($CE3,$BY:$CA,3,0),$G3)))","v":""},null,null,{"$f":"IF($I3=\"\",\"\",IF($CE3=0,\"Enter question type or turn off variable question type\",$CD3))","v":""},null,{"$f":"ROW()-1","v":3},null,{"$f":"IF(AV4+2=2,\"\",AV4+2)","v":""},null,"",null,{"$f":"IF(AZ4+2=2,\"\",AZ4+2)","v":""},null,{"$f":"IF(BB4+2=2,\"\",BB4+2)","v":""},null,null,null,2,"Excellent! That was a hard one.",null,"B","This was a difficult one.",null,"Missing Word","Choose the best word to fit in the blank.","Correct Answer","Wrong Answer 1","Wrong Answer 2","Wrong Answer 3","Wrong Answer 4","Wrong Answer 5","Wrong Answer 6","Wrong Answer 7","Wrong Answer 8","Wrong Answer 9","MW","Missing Word","MW",5,{"$f":"BL4","v":"Choose the best word to fit in the blank."},5,null,{"$f":"IF(H4=\"\",\"\",IF(CE4=\"ES\",DE4,IF(CE4=\"MW\",SUBSTITUTE(H4,I4,VLOOKUP(CF4,CF4:CJ4,VLOOKUP($CE4,$BY:$BZ,2,0),0)),H4&\" \"&SUBSTITUTE(I4,I4,VLOOKUP(CF4,CF4:CJ4,VLOOKUP($CE4,$BY:$BZ,2,0),0)))))","v":""},"MC",0,{"$f":"IF(CK4=\"\",\"\",\"{\"&CK4&CL4&IF(CM4=\"\",\"\",\" ~\"&CM4&CQ4)&IF(CN4=\"\",\"\",\" ~\"&CN4&CR4)&IF(CO4=\"\",\"\",\" ~\"&CO4&CS4)&IF(CP4=\"\",\"\",\" ~\"&CP4&CT4)&IF(CU4=\"\",\"\",\" ~\"&CU4&CZ4)&IF(CV4=\"\",\"\",\" ~\"&CV4&DA4)&IF(CW4=\"\",\"\",\" ~\"&CW4&DB4)&IF(CX4=\"\",\"\",\" ~\"&CX4&DC4)&IF(CY4=\"\",\"\",\" ~\"&CY4&DD4)&\"}\")","v":""},"",{"$f":"IF(I4=\"\",\"\",\"{\"&IFERROR(I4&CQ4&CL4&\"}\",\"\"))","v":""},{"$f":"IF(CK4=\"\",\"\",\"{\"&CK4&CL4&IF(CM4=\"\",\"\",\" ~\"&CM4&CQ4)&IF(CN4=\"\",\"\",\" ~\"&CN4&CR4)&IF(CO4=\"\",\"\",\" ~\"&CO4&CS4)&IF(CP4=\"\",\"\",\" ~\"&CP4&CT4)&IF(CU4=\"\",\"\",\" ~\"&CU4&CZ4)&IF(CV4=\"\",\"\",\" ~\"&CV4&DA4)&IF(CW4=\"\",\"\",\" ~\"&CW4&DB4)&IF(CX4=\"\",\"\",\" ~\"&CX4&DC4)&IF(CY4=\"\",\"\",\" ~\"&CY4&DD4)&\"}\")","v":""},"","",{"$f":"IF(K4=\"\",\"\",IF($B$2=\"Short Answer\",IF(O4=\"\",K4,\"%\"&O4&\"%\"&K4),IF($D4=\"Short Answer\",IF(O4=\"\",K4,\"%\"&O4&\"%\"&K4),\"%\"&IF(O4=\"\",0,O4)&\"%\"&K4)))","v":""},{"$f":"IF(L4=\"\",\"\",IF($B$2=\"Short Answer\",IF(P4=\"\",L4,\"%\"&P4&\"%\"&L4),IF($D4=\"Short Answer\",IF(P4=\"\",L4,\"%\"&P4&\"%\"&L4),\"%\"&IF(P4=\"\",0,P4)&\"%\"&L4)))","v":""},{"$f":"IF(M4=\"\",\"\",IF($B$2=\"Short Answer\",IF(Q4=\"\",M4,\"%\"&Q4&\"%\"&M4),IF($D4=\"Short Answer\",IF(Q4=\"\",M4,\"%\"&Q4&\"%\"&M4),\"%\"&IF(Q4=\"\",0,Q4)&\"%\"&M4)))","v":""},{"$f":"IF(N4=\"\",\"\",IF($B$2=\"Short Answer\",IF(R4=\"\",N4,\"%\"&R4&\"%\"&N4),IF($D4=\"Short Answer\",IF(R4=\"\",N4,\"%\"&R4&\"%\"&N4),\"%\"&IF(R4=\"\",0,R4)&\"%\"&N4)))","v":""},{"$f":"IF($B$2=\"True False\",IF(S4=\"\",\"\",IFERROR(\"#\"&VLOOKUP($S4,$BH:$BI,2,0),IF(S4=\"\",\"\",\"#\"&IFERROR(VLOOKUP(S4,$BE:$BF,2,0),S4)))),IF($B$2=\"Variable\",IF(D4=\"True False\",IF(S4=\"\",\"\",IFERROR(\"#\"&VLOOKUP($S4,$BH:$BI,2,0),IF(S4=\"\",\"\",\"#\"&IFERROR(VLOOKUP(S4,$BE:$BF,2,0),S4)))),IF(K4=\"\",\"\",IFERROR(\"#\"&VLOOKUP($S4,$BH:$BI,2,0),IF(S4=\"\",\"\",\"#\"&IFERROR(VLOOKUP(S4,$BE:$BF,2,0),S4))))),IF(K4=\"\",\"\",IFERROR(\"#\"&VLOOKUP($S4,$BH:$BI,2,0),IF(S4=\"\",\"\",\"#\"&IFERROR(VLOOKUP(S4,$BE:$BF,2,0),S4))))))","v":""},"","","",{"$f":"IF(S4=\"\",\"\",IF($B$2=\"Short Answer\",IF(W4=\"\",S4,\"%\"&W4&\"%\"&S4),IF($D4=\"Short Answer\",IF(W4=\"\",S4,\"%\"&W4&\"%\"&S4),\"%\"&IF(W4=\"\",0,W4)&\"%\"&S4)))","v":""},{"$f":"IF(T4=\"\",\"\",IF($B$2=\"Short Answer\",IF(X4=\"\",T4,\"%\"&X4&\"%\"&T4),IF($D4=\"Short Answer\",IF(X4=\"\",T4,\"%\"&X4&\"%\"&T4),\"%\"&IF(X4=\"\",0,X4)&\"%\"&T4)))","v":""},{"$f":"IF(U4=\"\",\"\",IF($B$2=\"Short Answer\",IF(Y4=\"\",U4,\"%\"&Y4&\"%\"&U4),IF($D4=\"Short Answer\",IF(Y4=\"\",U4,\"%\"&Y4&\"%\"&U4),\"%\"&IF(Y4=\"\",0,Y4)&\"%\"&U4)))","v":""},{"$f":"IF(V4=\"\",\"\",IF($B$2=\"Short Answer\",IF(Z4=\"\",V4,\"%\"&Z4&\"%\"&V4),IF($D4=\"Short Answer\",IF(Z4=\"\",V4,\"%\"&Z4&\"%\"&V4),\"%\"&IF(Z4=\"\",0,Z4)&\"%\"&V4)))","v":""},{"$f":"IF(W4=\"\",\"\",IF($B$2=\"Short Answer\",IF(AA4=\"\",W4,\"%\"&AA4&\"%\"&W4),IF($D4=\"Short Answer\",IF(AA4=\"\",W4,\"%\"&AA4&\"%\"&W4),\"%\"&IF(AA4=\"\",0,AA4)&\"%\"&W4)))","v":""},"","","","","",{"$f":"IF(H4=\"\",\"\",H4&\" {}\")","v":""},"OffOn",3]
["Off",null,3,null,null,null,null,null,null,null,null,null,null,null,null,null,null,null,null,null,null,null,null,null,null,null,null,null,null,null,null,null,null,null,null,null,null,{"$f":"IF(VLOOKUP($AM5,$AM:$AQ,$A$6,0)=\"\",\"\",VLOOKUP($AM5,$AM:$AQ,$A$6,0))","v":""},3,{"$f":"IF($I3=\"\",\"\",IF($CE3=0,\"Enter question type or turn off variable question type\",$CD3))","v":""},{"$f":"IF($I3=\"\",\"\",\"::\"&IF($B$16=\"\",\"\",$B$16&\"  \")&IF($E3=\"\",$H3,$E3)&\"::\")","v":""},{"$f":"IF($I3=\"\",\"\",\"::\"&IF($B$16=\"\",\"\",$B$16&\"  \")&IF($E3=\"\",$H3,$E3)&\"::\")","v":""},null,null,{"$f":"ROW()-2","v":3},null,"",null,"",null,"",null,"",null,null,null,3,"Good try, but that's not quite right.",null,"C",null,null,"True False","Answer True or False.","Enter T or F","Column Not Used with Question","Column Not Used with Question","Column Not Used with Question","Column Not Used with Question","Column Not Used with Question","Column Not Used with Question","Column Not Used with Question","Column Not Used with Question","Column Not Used with Question","TF","True False","TF",4,{"$f":"BL5","v":"Answer True or False."},4,null,"","MC",0,"","","","","","","","","","",{"$f":"IF($B$2=\"True False\",IF(S5=\"\",\"\",IFERROR(\"#\"&VLOOKUP($S5,$BH:$BI,2,0),IF(S5=\"\",\"\",\"#\"&IFERROR(VLOOKUP(S5,$BE:$BF,2,0),S5)))),IF($B$2=\"Variable\",IF(D5=\"True False\",IF(S5=\"\",\"\",IFERROR(\"#\"&VLOOKUP($S5,$BH:$BI,2,0),IF(S5=\"\",\"\",\"#\"&IFERROR(VLOOKUP(S5,$BE:$BF,2,0),S5)))),IF(K5=\"\",\"\",IFERROR(\"#\"&VLOOKUP($S5,$BH:$BI,2,0),IF(S5=\"\",\"\",\"#\"&IFERROR(VLOOKUP(S5,$BE:$BF,2,0),S5))))),IF(K5=\"\",\"\",IFERROR(\"#\"&VLOOKUP($S5,$BH:$BI,2,0),IF(S5=\"\",\"\",\"#\"&IFERROR(VLOOKUP(S5,$BE:$BF,2,0),S5))))))","v":""},"","","","","","","","","","","","","","","OnOff",2]
[{"$f":"VLOOKUP($A$4&$A$5,$DF$3:$DG$6,2,0)","v":5},null,4,null,null,null,null,null,null,null,null,null,null,null,null,null,null,null,null,null,null,null,null,null,null,null,null,null,null,null,null,null,null,null,null,null,null,{"$f":"IF(VLOOKUP($AM6,$AM:$AQ,$A$6,0)=\"\",\"\",VLOOKUP($AM6,$AM:$AQ,$A$6,0))","v":""},4,null,{"$f":"IF($I3=\"\",\"\",IF($CE3=0,\"Enter question type or turn off variable question type\",$CD3))","v":""},{"$f":"IF($I3=\"\",\"\",IF($CE3=0,\"Enter question type or turn off variable question type\",IF($G3=\"\",VLOOKUP($CE3,$BY:$CA,3,0),$G3)))","v":""},{"$f":"IF($I4=\"\",\"\",\"::\"&IF($B$16=\"\",\"\",$B$16&\"  \")&IF($E4=\"\",$H4,$E4)&\"::\")","v":""},null,null,null,"",null,"",null,"",null,4,{"$f":"ROW()/3","v":2},null,null,4,"No, that is incorrect. Please review the lesson contents.",null,"D",null,null,"Short Answer","Write the answer in the blank.","Correct Answer","Alternative Answer 1","Alternative Answer 2","Alternative Answer 3","Alternative Answer 4","Alternative Answer 5","Alternative Answer 6","Alternative Answer 7","Alternative Answer 8","Alternative Answer 9","SA","Short Answer","SA",3,{"$f":"BL6","v":"Write the answer in the blank."},3,null,"","MC",0,"","","","","","","","","","","","","","","","","","","","","","","","","","OnOn",4]
[null,null,5,null,null,null,null,null,null,null,null,null,null,null,null,null,null,null,null,null,null,null,null,null,null,null,null,null,null,null,null,null,null,null,null,null,null,"",5,{"$f":"IF($I4=\"\",\"\",\"::\"&IF($B$16=\"\",\"\",$B$16&\"  \")&IF($E4=\"\",$H4,$E4)&\"::\")","v":""},null,{"$f":"IF($I3=\"\",\"\",IF($CE3=0,\"Enter question type or turn off variable question type\",$CD3))","v":""},{"$f":"IF($I4=\"\",\"\",IF($CE4=0,\"Enter question type or turn off variable question type\",$CD4))","v":""},null,null,null,4,{"$f":"(ROW()+1)/4","v":2},4,{"$f":"(ROW()+1)/4","v":2},"",null,"",null,null,null,5,null,null,"E",null,null,"Essay","Respond to the prompt below.","Type \"X\"","Column Not Used with Question","Column Not Used with Question","Column Not Used with Question","Column Not Used with Question","Column Not Used with Question","Column Not Used with Question","Column Not Used with Question","Column Not Used with Question","Column Not Used with Question","ES","Essay","ES",null,{"$f":"BL7","v":"Respond to the prompt below."},null,null,"","MC",0,"","","","","","","","","","","","","","","","","","","","","","","","",""]
["On",null,6,null,null,null,null,null,null,null,null,null,null,null,null,null,null,null,null,null,null,null,null,null,null,null,null,null,null,null,null,null,null,null,null,null,null,"",6,{"$f":"IF($I4=\"\",\"\",IF($CE4=0,\"Enter question type or turn off variable question type\",IF($G4=\"\",VLOOKUP($CE4,$BY:$CA,3,0),$G4)))","v":""},{"$f":"IF($I4=\"\",\"\",IF($B$18=\"\",\"INPUT MAIN CATEGORY (CELL B18) OR TURN CATEGORIES OFF\",\"$CATEGORY: \"&$B$18&IF($F4=\"\",\"\",\"/\"&$F4)))","v":""},null,null,null,{"$f":"ROW()-1","v":7},4,"",null,"",null,4,{"$f":"(ROW()+2)/5","v":2},"",null,null,null,6,null,null,"F",null,null,"Variable","(Depends on type selected for each question)","Correct Answer (if essay, type X)","Other Answer 1","Other Answer 2","Other Answer 3","Other Answer 4","Other Answer 5","Other Answer 6","Other Answer 7","Other Answer 8","Other Answer 9",null,null,null,null,null,null,null,"","MC",0,"","","","","","","","","","","","","","","","","","","","","","","","",""]
[null,null,7,null,null,null,null,null,null,null,null,null,null,null,null,null,null,null,null,null,null,null,null,null,null,null,null,null,null,null,null,null,null,null,null,null,null,"",7,{"$f":"IF($I4=\"\",\"\",IF($CE4=0,\"Enter question type or turn off variable question type\",$CD4))","v":""},null,{"$f":"IF($I4=\"\",\"\",IF($B$18=\"\",\"INPUT MAIN CATEGORY (CELL B18) OR TURN CATEGORIES OFF\",\"$CATEGORY: \"&$B$18&IF($F4=\"\",\"\",\"/\"&$F4)))","v":""},{"$f":"IF($I5=\"\",\"\",\"::\"&IF($B$16=\"\",\"\",$B$16&\"  \")&IF($E5=\"\",$H5,$E5)&\"::\")","v":""},null,{"$f":"ROW()-2","v":7},4,"",null,"",null,"",null,5,{"$f":"ROW()/3","v":3},null,null,7,null,null,"G",null,null,"On",null,null,{"$f":"COLUMN()-(COLUMN()-BN10)","v":4},{"$f":"COLUMN()-(COLUMN()-BO10)","v":5},6,7,8,9,10,11,12,null,null,null,null,null,null,null,"","MC",0,"","","","","","","","","","","","","","","","","","","","","","","","",""]
[null,null,8,null,null,null,null,null,null,null,null,null,null,null,null,null,null,null,null,null,null,null,null,null,null,null,null,null,null,null,null,null,null,null,null,null,null,"",8,null,{"$f":"IF($I4=\"\",\"\",\"::\"&IF($B$16=\"\",\"\",$B$16&\"  \")&IF($E4=\"\",$H4,$E4)&\"::\")","v":""},null,{"$f":"IF($I5=\"\",\"\",IF($CE5=0,\"Enter question type or turn off variable question type\",$CD5))","v":""},null,null,null,"",null,"",null,"",null,"",null,null,null,8,null,null,"H",null,null,"Off",null,null,4,5,6,7,8,9,10,11,12,null,null,null,null,null,null,null,"","MC",0,"","","","","","","","","","","","","","","","","","","","","","","","",""]
[null,null,9,null,null,null,null,null,null,null,null,null,null,null,null,null,null,null,null,null,null,null,null,null,null,null,null,null,null,null,null,null,null,null,null,null,null,"",9,{"$f":"IF($I5=\"\",\"\",\"::\"&IF($B$16=\"\",\"\",$B$16&\"  \")&IF($E5=\"\",$H5,$E5)&\"::\")","v":""},{"$f":"IF($I4=\"\",\"\",IF($CE4=0,\"Enter question type or turn off variable question type\",$CD4))","v":""},{"$f":"IF($I4=\"\",\"\",\"::\"&IF($B$16=\"\",\"\",$B$16&\"  \")&IF($E4=\"\",$H4,$E4)&\"::\")","v":""},null,null,null,null,5,{"$f":"(ROW()+1)/4","v":3},5,{"$f":"(ROW()+1)/4","v":3},"",null,"",null,null,null,9,null,null,"I",null,null,true,null,null,null,null,null,null,null,null,null,null,null,null,null,null,null,null,"T",null,"","MC",0,"","","","","","","","","","","","","","","","","","","","","","","","",""]
[null,null,10,null,null,null,null,null,null,null,null,null,null,null,null,null,null,null,null,null,null,null,null,null,null,null,null,null,null,null,null,null,null,null,null,null,null,"",10,{"$f":"IF($I5=\"\",\"\",IF($CE5=0,\"Enter question type or turn off variable question type\",IF($G5=\"\",VLOOKUP($CE5,$BY:$CA,3,0),$G5)))","v":""},null,{"$f":"IF($I4=\"\",\"\",IF($CE4=0,\"Enter question type or turn off variable question type\",IF($G4=\"\",VLOOKUP($CE4,$BY:$CA,3,0),$G4)))","v":""},{"$f":"IF($I6=\"\",\"\",\"::\"&IF($B$16=\"\",\"\",$B$16&\"  \")&IF($E6=\"\",$H6,$E6)&\"::\")","v":""},null,{"$f":"ROW()-1","v":11},5,"",null,"",null,"",null,6,{"$f":"ROW()/3","v":4},null,null,0,null,null,"J",null,null,false,null,null,null,null,null,null,null,null,null,null,null,null,null,null,null,null,"F",null,"","MC",0,"","","","","","","","","","","","","","","","","","","","","","","","",""]
[null,null,11,null,null,null,null,null,null,null,null,null,null,null,null,null,null,null,null,null,null,null,null,null,null,null,null,null,null,null,null,null,null,null,null,null,null,"",11,{"$f":"IF($I5=\"\",\"\",IF($CE5=0,\"Enter question type or turn off variable question type\",$CD5))","v":""},{"$f":"IF($I5=\"\",\"\",IF($B$18=\"\",\"INPUT MAIN CATEGORY (CELL B18) OR TURN CATEGORIES OFF\",\"$CATEGORY: \"&$B$18&IF($F5=\"\",\"\",\"/\"&$F5)))","v":""},{"$f":"IF($I4=\"\",\"\",IF($CE4=0,\"Enter question type or turn off variable question type\",$CD4))","v":""},{"$f":"IF($I6=\"\",\"\",IF($CE6=0,\"Enter question type or turn off variable question type\",$CD6))","v":""},null,{"$f":"ROW()-2","v":11},5,"",null,"",null,5,{"$f":"(ROW()+2)/5","v":3},"",null,null,null,null,null,null,null,null,null,"T",null,null,null,null,null,null,null,null,null,null,null,null,null,null,null,null,null,null,"","MC",0,"","","","","","","","","","","","","","","","","","","","","","","","",""]
[null,null,12,null,null,null,null,null,null,null,null,null,null,null,null,null,null,null,null,null,null,null,null,null,null,null,null,null,null,null,null,null,null,null,null,null,null,"",12,null,null,null,null,null,null,null,"",null,"",null,"",null,"",null,null,null,null,null,null,null,null,null,"F",null,null,null,null,null,null,null,null,null,null,null,null,null,null,null,null,null,null,"","MC",0,"","","","","","","","","","","","","","","","","","","","","","","","",""]
[null,"(Optional) Question Set Title:",13,null,null,null,null,null,null,null,null,null,null,null,null,null,null,null,null,null,null,null,null,null,null,null,null,null,null,null,null,null,null,null,null,null,null,"",13,{"$f":"IF($I6=\"\",\"\",\"::\"&IF($B$16=\"\",\"\",$B$16&\"  \")&IF($E6=\"\",$H6,$E6)&\"::\")","v":""},{"$f":"IF($I5=\"\",\"\",\"::\"&IF($B$16=\"\",\"\",$B$16&\"  \")&IF($E5=\"\",$H5,$E5)&\"::\")","v":""},{"$f":"IF($I5=\"\",\"\",IF($B$18=\"\",\"INPUT MAIN CATEGORY (CELL B18) OR TURN CATEGORIES OFF\",\"$CATEGORY: \"&$B$18&IF($F5=\"\",\"\",\"/\"&$F5)))","v":""},{"$f":"IF($I7=\"\",\"\",\"::\"&IF($B$16=\"\",\"\",$B$16&\"  \")&IF($E7=\"\",$H7,$E7)&\"::\")","v":""},null,null,null,6,{"$f":"(ROW()+1)/4","v":4},6,{"$f":"(ROW()+1)/4","v":4},"",null,7,{"$f":"ROW()/3","v":5},null,null,null,null,null,null,null,null,null,null,null,null,null,null,null,null,null,null,null,null,null,null,null,null,null,null,null,"","MC",0,"","","","","","","","","","","","","","","","","","","","","","","","",""]
[null,null,14,null,null,null,null,null,null,null,null,null,null,null,null,null,null,null,null,null,null,null,null,null,null,null,null,null,null,null,null,null,null,null,null,null,null,"",14,{"$f":"IF($I6=\"\",\"\",IF($CE6=0,\"Enter question type or turn off variable question type\",IF($G6=\"\",VLOOKUP($CE6,$BY:$CA,3,0),$G6)))","v":""},{"$f":"IF($I5=\"\",\"\",IF($CE5=0,\"Enter question type or turn off variable question type\",$CD5))","v":""},null,{"$f":"IF($I7=\"\",\"\",IF($CE7=0,\"Enter question type or turn off variable question type\",$CD7))","v":""},null,{"$f":"ROW()-1","v":15},6,"",null,"",null,"",null,"",null,null,null,null,null,null,null,null,null,null,null,null,null,null,null,null,null,null,null,null,null,null,null,null,null,null,null,null,"","MC",0,"","","","","","","","","","","","","","","","","","","","","","","","",""]
[null,"Enter Main Category:",15,null,null,null,null,null,null,null,null,null,null,null,null,null,null,null,null,null,null,null,null,null,null,null,null,null,null,null,null,null,null,null,null,null,null,"",15,{"$f":"IF($I6=\"\",\"\",IF($CE6=0,\"Enter question type or turn off variable question type\",$CD6))","v":""},null,{"$f":"IF($I5=\"\",\"\",\"::\"&IF($B$16=\"\",\"\",$B$16&\"  \")&IF($E5=\"\",$H5,$E5)&\"::\")","v":""},null,null,{"$f":"ROW()-2","v":15},6,"",null,"",null,"",null,"",null,null,null,null,null,null,null,null,null,null,null,null,null,null,null,null,null,null,null,null,null,null,null,null,null,null,null,null,"","MC",0,"","","","","","","","","","","","","","","","","","","","","","","","",""]
[null,null,16,null,null,null,null,null,null,null,null,null,null,null,null,null,null,null,null,null,null,null,null,null,null,null,null,null,null,null,null,null,null,null,null,null,null,"",16,null,{"$f":"IF($I6=\"\",\"\",IF($B$18=\"\",\"INPUT MAIN CATEGORY (CELL B18) OR TURN CATEGORIES OFF\",\"$CATEGORY: \"&$B$18&IF($F6=\"\",\"\",\"/\"&$F6)))","v":""},{"$f":"IF($I5=\"\",\"\",IF($CE5=0,\"Enter question type or turn off variable question type\",IF($G5=\"\",VLOOKUP($CE5,$BY:$CA,3,0),$G5)))","v":""},{"$f":"IF($I8=\"\",\"\",\"::\"&IF($B$16=\"\",\"\",$B$16&\"  \")&IF($E8=\"\",$H8,$E8)&\"::\")","v":""},null,null,null,"",null,"",null,6,{"$f":"(ROW()+2)/5","v":4},8,{"$f":"ROW()/3","v":6},null,null,null,null,null,null,null,null,null,null,null,null,null,null,null,null,null,null,null,null,null,null,null,null,null,null,null,"","MC",0,"","","","","","","","","","","","","","","","","","","","","","","","",""]
[null,null,17,null,null,null,null,null,null,null,null,null,null,null,null,null,null,null,null,null,null,null,null,null,null,null,null,null,null,null,null,null,null,null,null,null,null,"",17,{"$f":"IF($I7=\"\",\"\",\"::\"&IF($B$16=\"\",\"\",$B$16&\"  \")&IF($E7=\"\",$H7,$E7)&\"::\")","v":""},null,{"$f":"IF($I5=\"\",\"\",IF($CE5=0,\"Enter question type or turn off variable question type\",$CD5))","v":""},{"$f":"IF($I8=\"\",\"\",IF($CE8=0,\"Enter question type or turn off variable question type\",$CD8))","v":""},null,null,null,7,{"$f":"(ROW()+1)/4","v":5},7,{"$f":"(ROW()+1)/4","v":5},"",null,"",null,null,null,null,null,null,null,null,null,null,null,null,null,null,null,null,null,null,null,null,null,null,null,null,null,null,null,null,"","MC",0,"","","","","","","","","","","","","","","","","","","","","","","","",""]
[null,null,18,null,null,null,null,null,null,null,null,null,null,null,null,null,null,null,null,null,null,null,null,null,null,null,null,null,null,null,null,null,null,null,null,null,null,"",18,{"$f":"IF($I7=\"\",\"\",IF($CE7=0,\"Enter question type or turn off variable question type\",IF($G7=\"\",VLOOKUP($CE7,$BY:$CA,3,0),$G7)))","v":""},{"$f":"IF($I6=\"\",\"\",\"::\"&IF($B$16=\"\",\"\",$B$16&\"  \")&IF($E6=\"\",$H6,$E6)&\"::\")","v":""},null,null,null,{"$f":"ROW()-1","v":19},7,"",null,"",null,"",null,"",null,null,null,null,null,null,null,null,null,null,null,null,null,null,null,null,null,null,null,null,null,null,null,null,null,null,null,null,"","MC",0,"","","","","","","","","","","","","","","","","","","","","","","","",""]
[null,null,19,null,null,null,null,null,null,null,null,null,null,null,null,null,null,null,null,null,null,null,null,null,null,null,null,null,null,null,null,null,null,null,null,null,null,"",19,{"$f":"IF($I7=\"\",\"\",IF($CE7=0,\"Enter question type or turn off variable question type\",$CD7))","v":""},{"$f":"IF($I6=\"\",\"\",IF($CE6=0,\"Enter question type or turn off variable question type\",$CD6))","v":""},{"$f":"IF($I6=\"\",\"\",IF($B$18=\"\",\"INPUT MAIN CATEGORY (CELL B18) OR TURN CATEGORIES OFF\",\"$CATEGORY: \"&$B$18&IF($F6=\"\",\"\",\"/\"&$F6)))","v":""},{"$f":"IF($I9=\"\",\"\",\"::\"&IF($B$16=\"\",\"\",$B$16&\"  \")&IF($E9=\"\",$H9,$E9)&\"::\")","v":""},null,{"$f":"ROW()-2","v":19},7,"",null,"",null,"",null,9,{"$f":"ROW()/3","v":7},null,null,null,null,null,null,null,null,null,null,null,null,null,null,null,null,null,null,null,null,null,null,null,null,null,null,null,"","MC",0,"","","","","","","","","","","","","","","","","","","","","","","","",""]
[null,null,20,null,null,null,null,null,null,null,null,null,null,null,null,null,null,null,null,null,null,null,null,null,null,null,null,null,null,null,null,null,null,null,null,null,null,"",20,null,null,null,{"$f":"IF($I9=\"\",\"\",IF($CE9=0,\"Enter question type or turn off variable question type\",$CD9))","v":""},null,null,null,"",null,"",null,"",null,"",null,null,null,null,null,null,null,null,null,null,null,null,null,null,null,null,null,null,null,null,null,null,null,null,null,null,null,null,"","MC",0,{"$f":"IF(CK22=\"\",\"\",\"{\"&CK22&CL22&IF(CM22=\"\",\"\",\" ~\"&CM22&CQ22)&IF(CN22=\"\",\"\",\" ~\"&CN22&CR22)&IF(CO22=\"\",\"\",\" ~\"&CO22&CS22)&IF(CP22=\"\",\"\",\" ~\"&CP22&CT22)&IF(CU22=\"\",\"\",\" ~\"&CU22&CZ22)&IF(CV22=\"\",\"\",\" ~\"&CV22&DA22)&IF(CW22=\"\",\"\",\" ~\"&CW22&DB22)&IF(CX22=\"\",\"\",\" ~\"&CX22&DC22)&IF(CY22=\"\",\"\",\" ~\"&CY22&DD22)&\"}\")","v":""},"","",{"$f":"IF(CK22=\"\",\"\",\"{\"&CK22&CL22&IF(CM22=\"\",\"\",\" ~\"&CM22&CQ22)&IF(CN22=\"\",\"\",\" ~\"&CN22&CR22)&IF(CO22=\"\",\"\",\" ~\"&CO22&CS22)&IF(CP22=\"\",\"\",\" ~\"&CP22&CT22)&IF(CU22=\"\",\"\",\" ~\"&CU22&CZ22)&IF(CV22=\"\",\"\",\" ~\"&CV22&DA22)&IF(CW22=\"\",\"\",\" ~\"&CW22&DB22)&IF(CX22=\"\",\"\",\" ~\"&CX22&DC22)&IF(CY22=\"\",\"\",\" ~\"&CY22&DD22)&\"}\")","v":""},"","","","","","","","","","","","","","","","","","","","",""]
[null,null,21,null,null,null,null,null,null,null,null,null,null,null,null,null,null,null,null,null,null,null,null,null,null,null,null,null,null,null,null,null,null,null,null,null,null,"",21,{"$f":"IF($I8=\"\",\"\",\"::\"&IF($B$16=\"\",\"\",$B$16&\"  \")&IF($E8=\"\",$H8,$E8)&\"::\")","v":""},{"$f":"IF($I7=\"\",\"\",IF($B$18=\"\",\"INPUT MAIN CATEGORY (CELL B18) OR TURN CATEGORIES OFF\",\"$CATEGORY: \"&$B$18&IF($F7=\"\",\"\",\"/\"&$F7)))","v":""},{"$f":"IF($I6=\"\",\"\",\"::\"&IF($B$16=\"\",\"\",$B$16&\"  \")&IF($E6=\"\",$H6,$E6)&\"::\")","v":""},null,null,null,null,8,{"$f":"(ROW()+1)/4","v":6},8,{"$f":"(ROW()+1)/4","v":6},7,{"$f":"(ROW()+2)/5","v":5},"",null,null,null,null,null,null,null,null,null,null,null,null,null,null,null,null,null,null,null,null,null,null,null,null,null,null,null,null,"","MC",0,"","","","","","","","","","","","","","","","","","","","","","","","",""]
[null,null,22,null,null,null,null,null,null,null,null,null,null,null,null,null,null,null,null,null,null,null,null,null,null,null,null,null,null,null,null,null,null,null,null,null,null,"",22,{"$f":"IF($I8=\"\",\"\",IF($CE8=0,\"Enter question type or turn off variable question type\",IF($G8=\"\",VLOOKUP($CE8,$BY:$CA,3,0),$G8)))","v":""},null,{"$f":"IF($I6=\"\",\"\",IF($CE6=0,\"Enter question type or turn off variable question type\",IF($G6=\"\",VLOOKUP($CE6,$BY:$CA,3,0),$G6)))","v":""},{"$f":"IF($I10=\"\",\"\",\"::\"&IF($B$16=\"\",\"\",$B$16&\"  \")&IF($E10=\"\",$H10,$E10)&\"::\")","v":""},null,{"$f":"ROW()-1","v":23},8,"",null,"",null,"",null,10,{"$f":"ROW()/3","v":8},null,null,null,null,null,null,null,null,null,null,null,null,null,null,null,null,null,null,null,null,null,null,null,null,null,null,null,"","MC",0,"","","","","","","","","","","","","","","","","","","","","","","","",""]
[null,null,23,null,null,null,null,null,null,null,null,null,null,null,null,null,null,null,null,null,null,null,null,null,null,null,null,null,null,null,null,null,null,null,null,null,null,"",23,{"$f":"IF($I8=\"\",\"\",IF($CE8=0,\"Enter question type or turn off variable question type\",$CD8))","v":""},{"$f":"IF($I7=\"\",\"\",\"::\"&IF($B$16=\"\",\"\",$B$16&\"  \")&IF($E7=\"\",$H7,$E7)&\"::\")","v":""},{"$f":"IF($I6=\"\",\"\",IF($CE6=0,\"Enter question type or turn off variable question type\",$CD6))","v":""},{"$f":"IF($I10=\"\",\"\",IF($CE10=0,\"Enter question type or turn off variable question type\",$CD10))","v":""},null,{"$f":"ROW()-2","v":23},8,"",null,"",null,"",null,"",null,null,null,null,null,null,null,null,null,null,null,null,null,null,null,null,null,null,null,null,null,null,null,null,null,null,null,null,"","MC",0,"","","","","","","","","","","","","","","","","","","","","","","","",""]
[null,null,24,null,null,null,null,null,null,null,null,null,null,null,null,null,null,null,null,null,null,null,null,null,null,null,null,null,null,null,null,null,null,null,null,null,null,"",24,null,{"$f":"IF($I7=\"\",\"\",IF($CE7=0,\"Enter question type or turn off variable question type\",$CD7))","v":""},null,null,null,null,null,"",null,"",null,"",null,"",null,null,null,null,null,null,null,null,null,null,null,null,null,null,null,null,null,null,null,null,null,null,null,null,null,null,null,null,"","MC",0,"","","","","","","","","","","","","","","","","","","","","","","","",""]
[null,null,25,null,null,null,null,null,null,null,null,null,null,null,null,null,null,null,null,null,null,null,null,null,null,null,null,null,null,null,null,null,null,null,null,null,null,"",25,{"$f":"IF($I9=\"\",\"\",\"::\"&IF($B$16=\"\",\"\",$B$16&\"  \")&IF($E9=\"\",$H9,$E9)&\"::\")","v":""},null,{"$f":"IF($I7=\"\",\"\",IF($B$18=\"\",\"INPUT MAIN CATEGORY (CELL B18) OR TURN CATEGORIES OFF\",\"$CATEGORY: \"&$B$18&IF($F7=\"\",\"\",\"/\"&$F7)))","v":""},{"$f":"IF($I11=\"\",\"\",\"::\"&IF($B$16=\"\",\"\",$B$16&\"  \")&IF($E11=\"\",$H11,$E11)&\"::\")","v":""},null,null,null,9,{"$f":"(ROW()+1)/4","v":7},9,{"$f":"(ROW()+1)/4","v":7},"",null,11,{"$f":"ROW()/3","v":9},null,null,null,null,null,null,null,null,null,null,null,null,null,null,null,null,null,null,null,null,null,null,null,null,null,null,null,"","MC",0,"","","","","","","","","","","","","","","","","","","","","","","","",""]
[null,null,26,null,null,null,null,null,null,null,null,null,null,null,null,null,null,null,null,null,null,null,null,null,null,null,null,null,null,null,null,null,null,null,null,null,null,"",26,{"$f":"IF($I9=\"\",\"\",IF($CE9=0,\"Enter question type or turn off variable question type\",IF($G9=\"\",VLOOKUP($CE9,$BY:$CA,3,0),$G9)))","v":""},{"$f":"IF($I8=\"\",\"\",IF($B$18=\"\",\"INPUT MAIN CATEGORY (CELL B18) OR TURN CATEGORIES OFF\",\"$CATEGORY: \"&$B$18&IF($F8=\"\",\"\",\"/\"&$F8)))","v":""},null,{"$f":"IF($I11=\"\",\"\",IF($CE11=0,\"Enter question type or turn off variable question type\",$CD11))","v":""},null,{"$f":"ROW()-1","v":27},9,"",null,"",null,8,{"$f":"(ROW()+2)/5","v":6},"",null,null,null,null,null,null,null,null,null,null,null,null,null,null,null,null,null,null,null,null,null,null,null,null,null,null,null,null,"","MC",0,"","","","","","","","","","","","","","","","","","","","","","","","",""]
[null,null,27,null,null,null,null,null,null,null,null,null,null,null,null,null,null,null,null,null,null,null,null,null,null,null,null,null,null,null,null,null,null,null,null,null,null,"",27,{"$f":"IF($I9=\"\",\"\",IF($CE9=0,\"Enter question type or turn off variable question type\",$CD9))","v":""},null,{"$f":"IF($I7=\"\",\"\",\"::\"&IF($B$16=\"\",\"\",$B$16&\"  \")&IF($E7=\"\",$H7,$E7)&\"::\")","v":""},null,null,{"$f":"ROW()-2","v":27},9,"",null,"",null,"",null,"",null,null,null,null,null,null,null,null,null,null,null,null,null,null,null,null,null,null,null,null,null,null,null,null,null,null,null,null,"","MC",0,"","","","","","","","","","","","","","","","","","","","","","","","",""]
[null,null,28,null,null,null,null,null,null,null,null,null,null,null,null,null,null,null,null,null,null,null,null,null,null,null,null,null,null,null,null,null,null,null,null,null,null,"",28,null,{"$f":"IF($I8=\"\",\"\",\"::\"&IF($B$16=\"\",\"\",$B$16&\"  \")&IF($E8=\"\",$H8,$E8)&\"::\")","v":""},{"$f":"IF($I7=\"\",\"\",IF($CE7=0,\"Enter question type or turn off variable question type\",IF($G7=\"\",VLOOKUP($CE7,$BY:$CA,3,0),$G7)))","v":""},{"$f":"IF($I12=\"\",\"\",\"::\"&IF($B$16=\"\",\"\",$B$16&\"  \")&IF($E12=\"\",$H12,$E12)&\"::\")","v":""},null,null,null,"",null,"",null,"",null,12,{"$f":"ROW()/3","v":10},null,null,null,null,null,null,null,null,null,null,null,null,null,null,null,null,null,null,null,null,null,null,null,null,null,null,null,"","MC",0,"","","","","","","","","","","","","","","","","","","","","","","","",""]
[null,null,29,null,null,null,null,null,null,null,null,null,null,null,null,null,null,null,null,null,null,null,null,null,null,null,null,null,null,null,null,null,null,null,null,null,null,"",29,{"$f":"IF($I10=\"\",\"\",\"::\"&IF($B$16=\"\",\"\",$B$16&\"  \")&IF($E10=\"\",$H10,$E10)&\"::\")","v":""},{"$f":"IF($I8=\"\",\"\",IF($CE8=0,\"Enter question type or turn off variable question type\",$CD8))","v":""},{"$f":"IF($I7=\"\",\"\",IF($CE7=0,\"Enter question type or turn off variable question type\",$CD7))","v":""},{"$f":"IF($I12=\"\",\"\",IF($CE12=0,\"Enter question type or turn off variable question type\",$CD12))","v":""},null,null,null,10,{"$f":"(ROW()+1)/4","v":8},10,{"$f":"(ROW()+1)/4","v":8},"",null,"",null,null,null,null,null,null,null,null,null,null,null,null,null,null,null,null,null,null,null,null,null,null,null,null,null,null,null,null,"","MC",0,"","","","","","","","","","","","","","","","","","","","","","","","",""]
[null,null,30,null,null,null,null,null,null,null,null,null,null,null,null,null,null,null,null,null,null,null,null,null,null,null,null,null,null,null,null,null,null,null,null,null,null,"",30,{"$f":"IF($I10=\"\",\"\",IF($CE10=0,\"Enter question type or turn off variable question type\",IF($G10=\"\",VLOOKUP($CE10,$BY:$CA,3,0),$G10)))","v":""},null,null,null,null,{"$f":"ROW()-1","v":31},10,"",null,"",null,"",null,"",null,null,null,null,null,null,null,null,null,null,null,null,null,null,null,null,null,null,null,null,null,null,null,null,null,null,null,null,"","MC",0,"","","","","","","","","","","","","","","","","","","","","","","","",""]
[null,null,31,null,null,null,null,null,null,null,null,null,null,null,null,null,null,null,null,null,null,null,null,null,null,null,null,null,null,null,null,null,null,null,null,null,null,"",31,{"$f":"IF($I10=\"\",\"\",IF($CE10=0,\"Enter question type or turn off variable question type\",$CD10))","v":""},{"$f":"IF($I9=\"\",\"\",IF($B$18=\"\",\"INPUT MAIN CATEGORY (CELL B18) OR TURN CATEGORIES OFF\",\"$CATEGORY: \"&$B$18&IF($F9=\"\",\"\",\"/\"&$F9)))","v":""},{"$f":"IF($I8=\"\",\"\",IF($B$18=\"\",\"INPUT MAIN CATEGORY (CELL B18) OR TURN CATEGORIES OFF\",\"$CATEGORY: \"&$B$18&IF($F8=\"\",\"\",\"/\"&$F8)))","v":""},{"$f":"IF($I13=\"\",\"\",\"::\"&IF($B$16=\"\",\"\",$B$16&\"  \")&IF($E13=\"\",$H13,$E13)&\"::\")","v":""},null,{"$f":"ROW()-2","v":31},10,"",null,"",null,9,{"$f":"(ROW()+2)/5","v":7},13,{"$f":"ROW()/3","v":11},null,null,null,null,null,null,null,null,null,null,null,null,null,null,null,null,null,null,null,null,null,null,null,null,null,null,null,"","MC",0,"","","","","","","","","","","","","","","","","","","","","","","","",""]
[null,null,32,null,null,null,null,null,null,null,null,null,null,null,null,null,null,null,null,null,null,null,null,null,null,null,null,null,null,null,null,null,null,null,null,null,null,"",32,null,null,null,{"$f":"IF($I13=\"\",\"\",IF($CE13=0,\"Enter question type or turn off variable question type\",$CD13))","v":""},null,null,null,"",null,"",null,"",null,"",null,null,null,null,null,null,null,null,null,null,null,null,null,null,null,null,null,null,null,null,null,null,null,null,null,null,null,null,"","MC",0,"","","","","","","","","","","","","","","","","","","","","","","","",""]
[null,null,33,null,null,null,null,null,null,null,null,null,null,null,null,null,null,null,null,null,null,null,null,null,null,null,null,null,null,null,null,null,null,null,null,null,null,{"$f":"IF(VLOOKUP($AM35,$AM:$AQ,$A$6,0)=\"\",\"\",VLOOKUP($AM35,$AM:$AQ,$A$6,0))","v":""},33,{"$f":"IF($I11=\"\",\"\",\"::\"&IF($B$16=\"\",\"\",$B$16&\"  \")&IF($E11=\"\",$H11,$E11)&\"::\")","v":""},{"$f":"IF($I9=\"\",\"\",\"::\"&IF($B$16=\"\",\"\",$B$16&\"  \")&IF($E9=\"\",$H9,$E9)&\"::\")","v":""},{"$f":"IF($I8=\"\",\"\",\"::\"&IF($B$16=\"\",\"\",$B$16&\"  \")&IF($E8=\"\",$H8,$E8)&\"::\")","v":""},null,null,null,null,11,{"$f":"(ROW()+1)/4","v":9},11,{"$f":"(ROW()+1)/4","v":9},"",null,"",null,null,null,null,null,null,null,null,null,null,null,null,null,null,null,null,null,null,null,null,null,null,null,null,null,null,null,null,"",{"$f":"IFERROR(VLOOKUP($B$2,$BX:$BY,2,0),IF($D35=\"\",0,VLOOKUP($D35,$BX:$BY,2,0)))","v":"MC"},{"$f":"I35","v":0},"",{"$f":"IF(H35=\"\",\"\",\"{=\"&I35&CL35&IF(CM35=\"\",\"\",\" =\"&CM35&CQ35)&IF(CN35=\"\",\"\",\" =\"&CN35&CR35)&IF(CO35=\"\",\"\",\" =\"&CO35&CS35)&IF(CP35=\"\",\"\",\" =\"&CP35&CT35)&IF(CU35=\"\",\"\",\" =\"&CU35&CZ35)&IF(CV35=\"\",\"\",\" =\"&CV35&DA35)&IF(CW35=\"\",\"\",\" =\"&CW35&DB35)&IF(CX35=\"\",\"\",\" =\"&CX35&DC35)&IF(CY35=\"\",\"\",\" =\"&CY35&DD35)&\"}\")","v":""},"","",{"$f":"IF(I35=\"\",\"\",\"=\"&I35)","v":""},{"$f":"IF(J35=\"\",\"\",\"#\"&IFERROR(VLOOKUP(J35,$BE:$BF,2,0),J35))","v":""},"","","","","",{"$f":"IF(L35=\"\",\"\",IFERROR(\"#\"&VLOOKUP($S35,$BH:$BI,2,0),IF(T35=\"\",\"\",\"#\"&IFERROR(VLOOKUP(T35,$BE:$BF,2,0),T35))))","v":""},{"$f":"IF(M35=\"\",\"\",IFERROR(\"#\"&VLOOKUP($S35,$BH:$BI,2,0),IF(U35=\"\",\"\",\"#\"&IFERROR(VLOOKUP(U35,$BE:$BF,2,0),U35))))","v":""},{"$f":"IF(N35=\"\",\"\",IFERROR(\"#\"&VLOOKUP($S35,$BH:$BI,2,0),IF(V35=\"\",\"\",\"#\"&IFERROR(VLOOKUP(V35,$BE:$BF,2,0),V35))))","v":""},"","","","","",{"$f":"IF(W35=\"\",\"\",IFERROR(\"#\"&VLOOKUP($S35,$BH:$BI,2,0),IF(AG35=\"\",\"\",\"#\"&IFERROR(VLOOKUP(AG35,$BE:$BF,2,0),AG35))))","v":""},{"$f":"IF(X35=\"\",\"\",IFERROR(\"#\"&VLOOKUP($S35,$BH:$BI,2,0),IF(AH35=\"\",\"\",\"#\"&IFERROR(VLOOKUP(AH35,$BE:$BF,2,0),AH35))))","v":""},{"$f":"IF(Y35=\"\",\"\",IFERROR(\"#\"&VLOOKUP($S35,$BH:$BI,2,0),IF(AI35=\"\",\"\",\"#\"&IFERROR(VLOOKUP(AI35,$BE:$BF,2,0),AI35))))","v":""},{"$f":"IF(Z35=\"\",\"\",IFERROR(\"#\"&VLOOKUP($S35,$BH:$BI,2,0),IF(AJ35=\"\",\"\",\"#\"&IFERROR(VLOOKUP(AJ35,$BE:$BF,2,0),AJ35))))","v":""},{"$f":"IF(AA35=\"\",\"\",IFERROR(\"#\"&VLOOKUP($S35,$BH:$BI,2,0),IF(AK35=\"\",\"\",\"#\"&IFERROR(VLOOKUP(AK35,$BE:$BF,2,0),AK35))))","v":""},""]
[null,null,34,null,null,null,null,null,null,null,null,null,null,null,null,null,null,null,null,null,null,null,null,null,null,null,null,null,null,null,null,null,null,null,null,null,null,"",34,{"$f":"IF($I11=\"\",\"\",IF($CE11=0,\"Enter question type or turn off variable question type\",IF($G11=\"\",VLOOKUP($CE11,$BY:$CA,3,0),$G11)))","v":""},{"$f":"IF($I9=\"\",\"\",IF($CE9=0,\"Enter question type or turn off variable question type\",$CD9))","v":""},{"$f":"IF($I8=\"\",\"\",IF($CE8=0,\"Enter question type or turn off variable question type\",IF($G8=\"\",VLOOKUP($CE8,$BY:$CA,3,0),$G8)))","v":""},{"$f":"IF($I14=\"\",\"\",\"::\"&IF($B$16=\"\",\"\",$B$16&\"  \")&IF($E14=\"\",$H14,$E14)&\"::\")","v":""},null,{"$f":"ROW()-1","v":35},11,"",null,"",null,"",null,14,{"$f":"ROW()/3","v":12},null,null,null,null,null,null,null,null,null,null,null,null,null,null,null,null,null,null,null,null,null,null,null,null,null,null,null,"","MC",0,"","","","","","","","","","","","","","","","","","","","","","","","",""]
[null,null,35,null,null,null,null,null,null,null,null,null,null,null,null,null,null,null,null,null,null,null,null,null,null,null,null,null,null,null,null,null,null,null,null,null,null,"",35,{"$f":"IF($I11=\"\",\"\",IF($CE11=0,\"Enter question type or turn off variable question type\",$CD11))","v":""},null,{"$f":"IF($I8=\"\",\"\",IF($CE8=0,\"Enter question type or turn off variable question type\",$CD8))","v":""},{"$f":"IF($I14=\"\",\"\",IF($CE14=0,\"Enter question type or turn off variable question type\",$CD14))","v":""},null,{"$f":"ROW()-2","v":35},11,"",null,"",null,"",null,"",null,null,null,null,null,null,null,null,null,null,null,null,null,null,null,null,null,null,null,null,null,null,null,null,null,null,null,null,"","MC",0,"","","","","","","","","","","","","","","","","","","","","","","","",""]
[null,null,36,null,null,null,null,null,null,null,null,null,null,null,null,null,null,null,null,null,null,null,null,null,null,null,null,null,null,null,null,null,null,null,null,null,null,"",36,null,{"$f":"IF($I10=\"\",\"\",IF($B$18=\"\",\"INPUT MAIN CATEGORY (CELL B18) OR TURN CATEGORIES OFF\",\"$CATEGORY: \"&$B$18&IF($F10=\"\",\"\",\"/\"&$F10)))","v":""},null,null,null,null,null,"",null,"",null,10,{"$f":"(ROW()+2)/5","v":8},"",null,null,null,null,null,null,null,null,null,null,null,null,null,null,null,null,null,null,null,null,null,null,null,null,null,null,null,null,"","MC",0,"","","","","","","","","","","","","","","","","","","","","","","","",""]
[null,null,37,null,null,null,null,null,null,null,null,null,null,null,null,null,null,null,null,null,null,null,null,null,null,null,null,null,null,null,null,null,null,null,null,null,null,{"$f":"IF(VLOOKUP($AM39,$AM:$AQ,$A$6,0)=\"\",\"\",VLOOKUP($AM39,$AM:$AQ,$A$6,0))","v":""},37,{"$f":"IF($I12=\"\",\"\",\"::\"&IF($B$16=\"\",\"\",$B$16&\"  \")&IF($E12=\"\",$H12,$E12)&\"::\")","v":""},null,{"$f":"IF($I9=\"\",\"\",IF($B$18=\"\",\"INPUT MAIN CATEGORY (CELL B18) OR TURN CATEGORIES OFF\",\"$CATEGORY: \"&$B$18&IF($F9=\"\",\"\",\"/\"&$F9)))","v":""},{"$f":"IF($I15=\"\",\"\",\"::\"&IF($B$16=\"\",\"\",$B$16&\"  \")&IF($E15=\"\",$H15,$E15)&\"::\")","v":""},null,null,null,12,{"$f":"(ROW()+1)/4","v":10},12,{"$f":"(ROW()+1)/4","v":10},"",null,15,{"$f":"ROW()/3","v":13},null,null,null,null,null,null,null,null,null,null,null,null,null,null,null,null,null,null,null,null,null,null,null,null,null,null,null,"","MC",0,"","","","","","","","","","","","","","","","","","","","","","","","",""]
[null,null,38,null,null,null,null,null,null,null,null,null,null,null,null,null,null,null,null,null,null,null,null,null,null,null,null,null,null,null,null,null,null,null,null,null,null,"",38,{"$f":"IF($I12=\"\",\"\",IF($CE12=0,\"Enter question type or turn off variable question type\",IF($G12=\"\",VLOOKUP($CE12,$BY:$CA,3,0),$G12)))","v":""},{"$f":"IF($I10=\"\",\"\",\"::\"&IF($B$16=\"\",\"\",$B$16&\"  \")&IF($E10=\"\",$H10,$E10)&\"::\")","v":""},null,{"$f":"IF($I15=\"\",\"\",IF($CE15=0,\"Enter question type or turn off variable question type\",$CD15))","v":""},null,{"$f":"ROW()-1","v":39},12,"",null,"",null,"",null,"",null,null,null,null,null,null,null,null,null,null,null,null,null,null,null,null,null,null,null,null,null,null,null,null,null,null,null,null,"","MC",0,"","","","","","","","","","","","","","","","","","","","","","","","",""]
[null,null,39,null,null,null,null,null,null,null,null,null,null,null,null,null,null,null,null,null,null,null,null,null,null,null,null,null,null,null,null,null,null,null,null,null,null,"",39,{"$f":"IF($I12=\"\",\"\",IF($CE12=0,\"Enter question type or turn off variable question type\",$CD12))","v":""},{"$f":"IF($I10=\"\",\"\",IF($CE10=0,\"Enter question type or turn off variable question type\",$CD10))","v":""},{"$f":"IF($I9=\"\",\"\",\"::\"&IF($B$16=\"\",\"\",$B$16&\"  \")&IF($E9=\"\",$H9,$E9)&\"::\")","v":""},null,null,{"$f":"ROW()-2","v":39},12,"",null,"",null,"",null,"",null,null,null,null,null,null,null,null,null,null,null,null,null,null,null,null,null,null,null,null,null,null,null,null,null,null,null,null,"","MC",0,"","","","","","","","","","","","","","","","","","","","","","","","",""]
[null,null,40,null,null,null,null,null,null,null,null,null,null,null,null,null,null,null,null,null,null,null,null,null,null,null,null,null,null,null,null,null,null,null,null,null,null,"",40,null,null,{"$f":"IF($I9=\"\",\"\",IF($CE9=0,\"Enter question type or turn off variable question type\",IF($G9=\"\",VLOOKUP($CE9,$BY:$CA,3,0),$G9)))","v":""},{"$f":"IF($I16=\"\",\"\",\"::\"&IF($B$16=\"\",\"\",$B$16&\"  \")&IF($E16=\"\",$H16,$E16)&\"::\")","v":""},null,null,null,"",null,"",null,"",null,16,{"$f":"ROW()/3","v":14},null,null,null,null,null,null,null,null,null,null,null,null,null,null,null,null,null,null,null,null,null,null,null,null,null,null,null,"","MC",0,"","","","","","","","","","","","","","","","","","","","","","","","",""]
[null,null,41,null,null,null,null,null,null,null,null,null,null,null,null,null,null,null,null,null,null,null,null,null,null,null,null,null,null,null,null,null,null,null,null,null,null,"",41,{"$f":"IF($I13=\"\",\"\",\"::\"&IF($B$16=\"\",\"\",$B$16&\"  \")&IF($E13=\"\",$H13,$E13)&\"::\")","v":""},{"$f":"IF($I11=\"\",\"\",IF($B$18=\"\",\"INPUT MAIN CATEGORY (CELL B18) OR TURN CATEGORIES OFF\",\"$CATEGORY: \"&$B$18&IF($F11=\"\",\"\",\"/\"&$F11)))","v":""},{"$f":"IF($I9=\"\",\"\",IF($CE9=0,\"Enter question type or turn off variable question type\",$CD9))","v":""},{"$f":"IF($I16=\"\",\"\",IF($CE16=0,\"Enter question type or turn off variable question type\",$CD16))","v":""},null,null,null,13,{"$f":"(ROW()+1)/4","v":11},13,{"$f":"(ROW()+1)/4","v":11},11,{"$f":"(ROW()+2)/5","v":9},"",null,null,null,null,null,null,null,null,null,null,null,null,null,null,null,null,null,null,null,null,null,null,null,null,null,null,null,null,"","MC",0,"","","","","","","","","","","","","","","","","","","","","","","","",""]
[null,null,42,null,null,null,null,null,null,null,null,null,null,null,null,null,null,null,null,null,null,null,null,null,null,null,null,null,null,null,null,null,null,null,null,null,null,"",42,{"$f":"IF($I13=\"\",\"\",IF($CE13=0,\"Enter question type or turn off variable question type\",IF($G13=\"\",VLOOKUP($CE13,$BY:$CA,3,0),$G13)))","v":""},null,null,null,null,{"$f":"ROW()-1","v":43},13,"",null,"",null,"",null,"",null,null,null,null,null,null,null,null,null,null,null,null,null,null,null,null,null,null,null,null,null,null,null,null,null,null,null,null,"","MC",0,"","","","","","","","","","","","","","","","","","","","","","","","",""]
[null,null,43,null,null,null,null,null,null,null,null,null,null,null,null,null,null,null,null,null,null,null,null,null,null,null,null,null,null,null,null,null,null,null,null,null,null,"",43,{"$f":"IF($I13=\"\",\"\",IF($CE13=0,\"Enter question type or turn off variable question type\",$CD13))","v":""},{"$f":"IF($I11=\"\",\"\",\"::\"&IF($B$16=\"\",\"\",$B$16&\"  \")&IF($E11=\"\",$H11,$E11)&\"::\")","v":""},{"$f":"IF($I10=\"\",\"\",IF($B$18=\"\",\"INPUT MAIN CATEGORY (CELL B18) OR TURN CATEGORIES OFF\",\"$CATEGORY: \"&$B$18&IF($F10=\"\",\"\",\"/\"&$F10)))","v":""},{"$f":"IF($I17=\"\",\"\",\"::\"&IF($B$16=\"\",\"\",$B$16&\"  \")&IF($E17=\"\",$H17,$E17)&\"::\")","v":""},null,{"$f":"ROW()-2","v":43},13,"",null,"",null,"",null,17,{"$f":"ROW()/3","v":15},null,null,null,null,null,null,null,null,null,null,null,null,null,null,null,null,null,null,null,null,null,null,null,null,null,null,null,"","MC",0,"","","","","","","","","","","","","","","","","","","","","","","","",""]
[null,null,44,null,null,null,null,null,null,null,null,null,null,null,null,null,null,null,null,null,null,null,null,null,null,null,null,null,null,null,null,null,null,null,null,null,null,"",44,null,{"$f":"IF($I11=\"\",\"\",IF($CE11=0,\"Enter question type or turn off variable question type\",$CD11))","v":""},null,{"$f":"IF($I17=\"\",\"\",IF($CE17=0,\"Enter question type or turn off variable question type\",$CD17))","v":""},null,null,null,"",null,"",null,"",null,"",null,null,null,null,null,null,null,null,null,null,null,null,null,null,null,null,null,null,null,null,null,null,null,null,null,null,null,null,"","MC",0,"","","","","","","","","","","","","","","","","","","","","","","","",""]
[null,null,45,null,null,null,null,null,null,null,null,null,null,null,null,null,null,null,null,null,null,null,null,null,null,null,null,null,null,null,null,null,null,null,null,null,null,"",45,{"$f":"IF($I14=\"\",\"\",\"::\"&IF($B$16=\"\",\"\",$B$16&\"  \")&IF($E14=\"\",$H14,$E14)&\"::\")","v":""},null,{"$f":"IF($I10=\"\",\"\",\"::\"&IF($B$16=\"\",\"\",$B$16&\"  \")&IF($E10=\"\",$H10,$E10)&\"::\")","v":""},null,null,null,null,14,{"$f":"(ROW()+1)/4","v":12},14,{"$f":"(ROW()+1)/4","v":12},"",null,"",null,null,null,null,null,null,null,null,null,null,null,null,null,null,null,null,null,null,null,null,null,null,null,null,null,null,null,null,"","MC",0,"","","","","","","","","","","","","","","","","","","","","","","","",""]
[null,null,46,null,null,null,null,null,null,null,null,null,null,null,null,null,null,null,null,null,null,null,null,null,null,null,null,null,null,null,null,null,null,null,null,null,null,"",46,{"$f":"IF($I14=\"\",\"\",IF($CE14=0,\"Enter question type or turn off variable question type\",IF($G14=\"\",VLOOKUP($CE14,$BY:$CA,3,0),$G14)))","v":""},{"$f":"IF($I12=\"\",\"\",IF($B$18=\"\",\"INPUT MAIN CATEGORY (CELL B18) OR TURN CATEGORIES OFF\",\"$CATEGORY: \"&$B$18&IF($F12=\"\",\"\",\"/\"&$F12)))","v":""},{"$f":"IF($I10=\"\",\"\",IF($CE10=0,\"Enter question type or turn off variable question type\",IF($G10=\"\",VLOOKUP($CE10,$BY:$CA,3,0),$G10)))","v":""},{"$f":"IF($I18=\"\",\"\",\"::\"&IF($B$16=\"\",\"\",$B$16&\"  \")&IF($E18=\"\",$H18,$E18)&\"::\")","v":""},null,{"$f":"ROW()-1","v":47},14,"",null,"",null,12,{"$f":"(ROW()+2)/5","v":10},18,{"$f":"ROW()/3","v":16},null,null,null,null,null,null,null,null,null,null,null,null,null,null,null,null,null,null,null,null,null,null,null,null,null,null,null,"","MC",0,"","","","","","","","","","","","","","","","","","","","","","","","",""]
[null,null,47,null,null,null,null,null,null,null,null,null,null,null,null,null,null,null,null,null,null,null,null,null,null,null,null,null,null,null,null,null,null,null,null,null,null,"",47,{"$f":"IF($I14=\"\",\"\",IF($CE14=0,\"Enter question type or turn off variable question type\",$CD14))","v":""},null,{"$f":"IF($I10=\"\",\"\",IF($CE10=0,\"Enter question type or turn off variable question type\",$CD10))","v":""},{"$f":"IF($I18=\"\",\"\",IF($CE18=0,\"Enter question type or turn off variable question type\",$CD18))","v":""},null,{"$f":"ROW()-2","v":47},14,"",null,"",null,"",null,"",null,null,null,null,null,null,null,null,null,null,null,null,null,null,null,null,null,null,null,null,null,null,null,null,null,null,null,null,"","MC",0,"","","","","","","","","","","","","","","","","","","","","","","","",""]
[null,null,48,null,null,null,null,null,null,null,null,null,null,null,null,null,null,null,null,null,null,null,null,null,null,null,null,null,null,null,null,null,null,null,null,null,null,"",48,null,{"$f":"IF($I12=\"\",\"\",\"::\"&IF($B$16=\"\",\"\",$B$16&\"  \")&IF($E12=\"\",$H12,$E12)&\"::\")","v":""},null,null,null,null,null,"",null,"",null,"",null,"",null,null,null,null,null,null,null,null,null,null,null,null,null,null,null,null,null,null,null,null,null,null,null,null,null,null,null,null,"","MC",0,"","","","","","","","","","","","","","","","","","","","","","","","",""]
[null,null,49,null,null,null,null,null,null,null,null,null,null,null,null,null,null,null,null,null,null,null,null,null,null,null,null,null,null,null,null,null,null,null,null,null,null,"",49,{"$f":"IF($I15=\"\",\"\",\"::\"&IF($B$16=\"\",\"\",$B$16&\"  \")&IF($E15=\"\",$H15,$E15)&\"::\")","v":""},{"$f":"IF($I12=\"\",\"\",IF($CE12=0,\"Enter question type or turn off variable question type\",$CD12))","v":""},{"$f":"IF($I11=\"\",\"\",IF($B$18=\"\",\"INPUT MAIN CATEGORY (CELL B18) OR TURN CATEGORIES OFF\",\"$CATEGORY: \"&$B$18&IF($F11=\"\",\"\",\"/\"&$F11)))","v":""},{"$f":"IF($I19=\"\",\"\",\"::\"&IF($B$16=\"\",\"\",$B$16&\"  \")&IF($E19=\"\",$H19,$E19)&\"::\")","v":""},null,null,null,15,{"$f":"(ROW()+1)/4","v":13},15,{"$f":"(ROW()+1)/4","v":13},"",null,19,{"$f":"ROW()/3","v":17},null,null,null,null,null,null,null,null,null,null,null,null,null,null,null,null,null,null,null,null,null,null,null,null,null,null,null,"","MC",0,"","","","","","","","","","","","","","","","","","","","","","","","",""]
[null,null,50,null,null,null,null,null,null,null,null,null,null,null,null,null,null,null,null,null,null,null,null,null,null,null,null,null,null,null,null,null,null,null,null,null,null,"",50,{"$f":"IF($I15=\"\",\"\",IF($CE15=0,\"Enter question type or turn off variable question type\",IF($G15=\"\",VLOOKUP($CE15,$BY:$CA,3,0),$G15)))","v":""},null,null,{"$f":"IF($I19=\"\",\"\",IF($CE19=0,\"Enter question type or turn off variable question type\",$CD19))","v":""},null,{"$f":"ROW()-1","v":51},15,"",null,"",null,"",null,"",null,null,null,null,null,null,null,null,null,null,null,null,null,null,null,null,null,null,null,null,null,null,null,null,null,null,null,null,"","MC",0,{"$f":"IF(CK52=\"\",\"\",\"{\"&CK52&CL52&IF(CM52=\"\",\"\",\" ~\"&CM52&CQ52)&IF(CN52=\"\",\"\",\" ~\"&CN52&CR52)&IF(CO52=\"\",\"\",\" ~\"&CO52&CS52)&IF(CP52=\"\",\"\",\" ~\"&CP52&CT52)&IF(CU52=\"\",\"\",\" ~\"&CU52&CZ52)&IF(CV52=\"\",\"\",\" ~\"&CV52&DA52)&IF(CW52=\"\",\"\",\" ~\"&CW52&DB52)&IF(CX52=\"\",\"\",\" ~\"&CX52&DC52)&IF(CY52=\"\",\"\",\" ~\"&CY52&DD52)&\"}\")","v":""},"","",{"$f":"IF(CK52=\"\",\"\",\"{\"&CK52&CL52&IF(CM52=\"\",\"\",\" ~\"&CM52&CQ52)&IF(CN52=\"\",\"\",\" ~\"&CN52&CR52)&IF(CO52=\"\",\"\",\" ~\"&CO52&CS52)&IF(CP52=\"\",\"\",\" ~\"&CP52&CT52)&IF(CU52=\"\",\"\",\" ~\"&CU52&CZ52)&IF(CV52=\"\",\"\",\" ~\"&CV52&DA52)&IF(CW52=\"\",\"\",\" ~\"&CW52&DB52)&IF(CX52=\"\",\"\",\" ~\"&CX52&DC52)&IF(CY52=\"\",\"\",\" ~\"&CY52&DD52)&\"}\")","v":""},"","","","","","","","","","","","","","","","","","","","",""]
[null,null,51,null,null,null,null,null,null,null,null,null,null,null,null,null,null,null,null,null,null,null,null,null,null,null,null,null,null,null,null,null,null,null,null,null,null,"",51,{"$f":"IF($I15=\"\",\"\",IF($CE15=0,\"Enter question type or turn off variable question type\",$CD15))","v":""},{"$f":"IF($I13=\"\",\"\",IF($B$18=\"\",\"INPUT MAIN CATEGORY (CELL B18) OR TURN CATEGORIES OFF\",\"$CATEGORY: \"&$B$18&IF($F13=\"\",\"\",\"/\"&$F13)))","v":""},{"$f":"IF($I11=\"\",\"\",\"::\"&IF($B$16=\"\",\"\",$B$16&\"  \")&IF($E11=\"\",$H11,$E11)&\"::\")","v":""},null,null,{"$f":"ROW()-2","v":51},15,"",null,"",null,13,{"$f":"(ROW()+2)/5","v":11},"",null,null,null,null,null,null,null,null,null,null,null,null,null,null,null,null,null,null,null,null,null,null,null,null,null,null,null,null,"","MC",{"$f":"I53","v":0},{"$f":"IF(CK53=\"\",\"\",\"{\"&CK53&CL53&IF(CM53=\"\",\"\",\" ~\"&CM53&CQ53)&IF(CN53=\"\",\"\",\" ~\"&CN53&CR53)&IF(CO53=\"\",\"\",\" ~\"&CO53&CS53)&IF(CP53=\"\",\"\",\" ~\"&CP53&CT53)&IF(CU53=\"\",\"\",\" ~\"&CU53&CZ53)&IF(CV53=\"\",\"\",\" ~\"&CV53&DA53)&IF(CW53=\"\",\"\",\" ~\"&CW53&DB53)&IF(CX53=\"\",\"\",\" ~\"&CX53&DC53)&IF(CY53=\"\",\"\",\" ~\"&CY53&DD53)&\"}\")","v":""},{"$f":"IF(H53=\"\",\"\",\"{=\"&I53&CL53&IF(CM53=\"\",\"\",\" =\"&CM53&CQ53)&IF(CN53=\"\",\"\",\" =\"&CN53&CR53)&IF(CO53=\"\",\"\",\" =\"&CO53&CS53)&IF(CP53=\"\",\"\",\" =\"&CP53&CT53)&IF(CU53=\"\",\"\",\" =\"&CU53&CZ53)&IF(CV53=\"\",\"\",\" =\"&CV53&DA53)&IF(CW53=\"\",\"\",\" =\"&CW53&DB53)&IF(CX53=\"\",\"\",\" =\"&CX53&DC53)&IF(CY53=\"\",\"\",\" =\"&CY53&DD53)&\"}\")","v":""},{"$f":"IF(I53=\"\",\"\",\"{\"&IFERROR(I53&CQ53&CL53&\"}\",\"\"))","v":""},{"$f":"IF(CK53=\"\",\"\",\"{\"&CK53&CL53&IF(CM53=\"\",\"\",\" ~\"&CM53&CQ53)&IF(CN53=\"\",\"\",\" ~\"&CN53&CR53)&IF(CO53=\"\",\"\",\" ~\"&CO53&CS53)&IF(CP53=\"\",\"\",\" ~\"&CP53&CT53)&IF(CU53=\"\",\"\",\" ~\"&CU53&CZ53)&IF(CV53=\"\",\"\",\" ~\"&CV53&DA53)&IF(CW53=\"\",\"\",\" ~\"&CW53&DB53)&IF(CX53=\"\",\"\",\" ~\"&CX53&DC53)&IF(CY53=\"\",\"\",\" ~\"&CY53&DD53)&\"}\")","v":""},{"$f":"IF(I53=\"\",\"\",\"=\"&I53)","v":""},{"$f":"IF(J53=\"\",\"\",\"#\"&IFERROR(VLOOKUP(J53,$BE:$BF,2,0),J53))","v":""},"","","","",{"$f":"IF($B$2=\"True False\",IF(S53=\"\",\"\",IFERROR(\"#\"&VLOOKUP($S53,$BH:$BI,2,0),IF(S53=\"\",\"\",\"#\"&IFERROR(VLOOKUP(S53,$BE:$BF,2,0),S53)))),IF($B$2=\"Variable\",IF(D53=\"True False\",IF(S53=\"\",\"\",IFERROR(\"#\"&VLOOKUP($S53,$BH:$BI,2,0),IF(S53=\"\",\"\",\"#\"&IFERROR(VLOOKUP(S53,$BE:$BF,2,0),S53)))),IF(K53=\"\",\"\",IFERROR(\"#\"&VLOOKUP($S53,$BH:$BI,2,0),IF(S53=\"\",\"\",\"#\"&IFERROR(VLOOKUP(S53,$BE:$BF,2,0),S53))))),IF(K53=\"\",\"\",IFERROR(\"#\"&VLOOKUP($S53,$BH:$BI,2,0),IF(S53=\"\",\"\",\"#\"&IFERROR(VLOOKUP(S53,$BE:$BF,2,0),S53))))))","v":""},{"$f":"IF(L53=\"\",\"\",IFERROR(\"#\"&VLOOKUP($S53,$BH:$BI,2,0),IF(T53=\"\",\"\",\"#\"&IFERROR(VLOOKUP(T53,$BE:$BF,2,0),T53))))","v":""},{"$f":"IF(M53=\"\",\"\",IFERROR(\"#\"&VLOOKUP($S53,$BH:$BI,2,0),IF(U53=\"\",\"\",\"#\"&IFERROR(VLOOKUP(U53,$BE:$BF,2,0),U53))))","v":""},{"$f":"IF(N53=\"\",\"\",IFERROR(\"#\"&VLOOKUP($S53,$BH:$BI,2,0),IF(V53=\"\",\"\",\"#\"&IFERROR(VLOOKUP(V53,$BE:$BF,2,0),V53))))","v":""},"","","","","",{"$f":"IF(W53=\"\",\"\",IFERROR(\"#\"&VLOOKUP($S53,$BH:$BI,2,0),IF(AG53=\"\",\"\",\"#\"&IFERROR(VLOOKUP(AG53,$BE:$BF,2,0),AG53))))","v":""},{"$f":"IF(X53=\"\",\"\",IFERROR(\"#\"&VLOOKUP($S53,$BH:$BI,2,0),IF(AH53=\"\",\"\",\"#\"&IFERROR(VLOOKUP(AH53,$BE:$BF,2,0),AH53))))","v":""},{"$f":"IF(Y53=\"\",\"\",IFERROR(\"#\"&VLOOKUP($S53,$BH:$BI,2,0),IF(AI53=\"\",\"\",\"#\"&IFERROR(VLOOKUP(AI53,$BE:$BF,2,0),AI53))))","v":""},{"$f":"IF(Z53=\"\",\"\",IFERROR(\"#\"&VLOOKUP($S53,$BH:$BI,2,0),IF(AJ53=\"\",\"\",\"#\"&IFERROR(VLOOKUP(AJ53,$BE:$BF,2,0),AJ53))))","v":""},{"$f":"IF(AA53=\"\",\"\",IFERROR(\"#\"&VLOOKUP($S53,$BH:$BI,2,0),IF(AK53=\"\",\"\",\"#\"&IFERROR(VLOOKUP(AK53,$BE:$BF,2,0),AK53))))","v":""},""]
[null,null,52,null,null,null,null,null,null,null,null,null,null,null,null,null,null,null,null,null,null,null,null,null,null,null,null,null,null,null,null,null,null,null,null,null,null,"",52,null,null,{"$f":"IF($I11=\"\",\"\",IF($CE11=0,\"Enter question type or turn off variable question type\",IF($G11=\"\",VLOOKUP($CE11,$BY:$CA,3,0),$G11)))","v":""},{"$f":"IF($I20=\"\",\"\",\"::\"&IF($B$16=\"\",\"\",$B$16&\"  \")&IF($E20=\"\",$H20,$E20)&\"::\")","v":""},null,null,null,"",null,"",null,"",null,20,{"$f":"ROW()/3","v":18},null,null,null,null,null,null,null,null,null,null,null,null,null,null,null,null,null,null,null,null,null,null,null,null,null,null,null,"","MC",0,"","","","","","","","","","","","","","","","","","","","","","","","",""]
[null,null,53,null,null,null,null,null,null,null,null,null,null,null,null,null,null,null,null,null,null,null,null,null,null,null,null,null,null,null,null,null,null,null,null,null,null,"",53,{"$f":"IF($I16=\"\",\"\",\"::\"&IF($B$16=\"\",\"\",$B$16&\"  \")&IF($E16=\"\",$H16,$E16)&\"::\")","v":""},{"$f":"IF($I13=\"\",\"\",\"::\"&IF($B$16=\"\",\"\",$B$16&\"  \")&IF($E13=\"\",$H13,$E13)&\"::\")","v":""},{"$f":"IF($I11=\"\",\"\",IF($CE11=0,\"Enter question type or turn off variable question type\",$CD11))","v":""},{"$f":"IF($I20=\"\",\"\",IF($CE20=0,\"Enter question type or turn off variable question type\",$CD20))","v":""},null,null,null,16,{"$f":"(ROW()+1)/4","v":14},16,{"$f":"(ROW()+1)/4","v":14},"",null,"",null,null,null,null,null,null,null,null,null,null,null,null,null,null,null,null,null,null,null,null,null,null,null,null,null,null,null,null,"","MC",0,"","","","","","","","","","","","","","","","","","","","","","","","",""]
[null,null,54,null,null,null,null,null,null,null,null,null,null,null,null,null,null,null,null,null,null,null,null,null,null,null,null,null,null,null,null,null,null,null,null,null,null,"",54,{"$f":"IF($I16=\"\",\"\",IF($CE16=0,\"Enter question type or turn off variable question type\",IF($G16=\"\",VLOOKUP($CE16,$BY:$CA,3,0),$G16)))","v":""},{"$f":"IF($I13=\"\",\"\",IF($CE13=0,\"Enter question type or turn off variable question type\",$CD13))","v":""},null,null,null,{"$f":"ROW()-1","v":55},16,"",null,"",null,"",null,"",null,null,null,null,null,null,null,null,null,null,null,null,null,null,null,null,null,null,null,null,null,null,null,null,null,null,null,null,"","MC",0,"","","","","","","","","","","","","","","","","","","","","","","","",""]
[null,null,55,null,null,null,null,null,null,null,null,null,null,null,null,null,null,null,null,null,null,null,null,null,null,null,null,null,null,null,null,null,null,null,null,null,null,"",55,{"$f":"IF($I16=\"\",\"\",IF($CE16=0,\"Enter question type or turn off variable question type\",$CD16))","v":""},null,{"$f":"IF($I12=\"\",\"\",IF($B$18=\"\",\"INPUT MAIN CATEGORY (CELL B18) OR TURN CATEGORIES OFF\",\"$CATEGORY: \"&$B$18&IF($F12=\"\",\"\",\"/\"&$F12)))","v":""},{"$f":"IF($I21=\"\",\"\",\"::\"&IF($B$16=\"\",\"\",$B$16&\"  \")&IF($E21=\"\",$H21,$E21)&\"::\")","v":""},null,{"$f":"ROW()-2","v":55},16,"",null,"",null,"",null,21,{"$f":"ROW()/3","v":19},null,null,null,null,null,null,null,null,null,null,null,null,null,null,null,null,null,null,null,null,null,null,null,null,null,null,null,"","MC",0,"","","","","","","","","","","","","","","","","","","","","","","","",""]
[null,null,56,null,null,null,null,null,null,null,null,null,null,null,null,null,null,null,null,null,null,null,null,null,null,null,null,null,null,null,null,null,null,null,null,null,null,"",56,null,{"$f":"IF($I14=\"\",\"\",IF($B$18=\"\",\"INPUT MAIN CATEGORY (CELL B18) OR TURN CATEGORIES OFF\",\"$CATEGORY: \"&$B$18&IF($F14=\"\",\"\",\"/\"&$F14)))","v":""},null,{"$f":"IF($I21=\"\",\"\",IF($CE21=0,\"Enter question type or turn off variable question type\",$CD21))","v":""},null,null,null,"",null,"",null,14,{"$f":"(ROW()+2)/5","v":12},"",null,null,null,null,null,null,null,null,null,null,null,null,null,null,null,null,null,null,null,null,null,null,null,null,null,null,null,null,"","MC",0,"","","","","","","","","","","","","","","","","","","","","","","","",""]
[null,null,57,null,null,null,null,null,null,null,null,null,null,null,null,null,null,null,null,null,null,null,null,null,null,null,null,null,null,null,null,null,null,null,null,null,null,"",57,{"$f":"IF($I17=\"\",\"\",\"::\"&IF($B$16=\"\",\"\",$B$16&\"  \")&IF($E17=\"\",$H17,$E17)&\"::\")","v":""},null,{"$f":"IF($I12=\"\",\"\",\"::\"&IF($B$16=\"\",\"\",$B$16&\"  \")&IF($E12=\"\",$H12,$E12)&\"::\")","v":""},null,null,null,null,17,{"$f":"(ROW()+1)/4","v":15},17,{"$f":"(ROW()+1)/4","v":15},"",null,"",null,null,null,null,null,null,null,null,null,null,null,null,null,null,null,null,null,null,null,null,null,null,null,null,null,null,null,null,"","MC",0,"","","","","","","","","","","","","","","","","","","","","","","","",""]
[null,null,58,null,null,null,null,null,null,null,null,null,null,null,null,null,null,null,null,null,null,null,null,null,null,null,null,null,null,null,null,null,null,null,null,null,null,"",58,{"$f":"IF($I17=\"\",\"\",IF($CE17=0,\"Enter question type or turn off variable question type\",IF($G17=\"\",VLOOKUP($CE17,$BY:$CA,3,0),$G17)))","v":""},{"$f":"IF($I14=\"\",\"\",\"::\"&IF($B$16=\"\",\"\",$B$16&\"  \")&IF($E14=\"\",$H14,$E14)&\"::\")","v":""},{"$f":"IF($I12=\"\",\"\",IF($CE12=0,\"Enter question type or turn off variable question type\",IF($G12=\"\",VLOOKUP($CE12,$BY:$CA,3,0),$G12)))","v":""},{"$f":"IF($I22=\"\",\"\",\"::\"&IF($B$16=\"\",\"\",$B$16&\"  \")&IF($E22=\"\",$H22,$E22)&\"::\")","v":""},null,{"$f":"ROW()-1","v":59},17,"",null,"",null,"",null,22,{"$f":"ROW()/3","v":20},null,null,null,null,null,null,null,null,null,null,null,null,null,null,null,null,null,null,null,null,null,null,null,null,null,null,null,"","MC",0,"","","","","","","","","","","","","","","","","","","","","","","","",""]
[null,null,59,null,null,null,null,null,null,null,null,null,null,null,null,null,null,null,null,null,null,null,null,null,null,null,null,null,null,null,null,null,null,null,null,null,null,"",59,{"$f":"IF($I17=\"\",\"\",IF($CE17=0,\"Enter question type or turn off variable question type\",$CD17))","v":""},{"$f":"IF($I14=\"\",\"\",IF($CE14=0,\"Enter question type or turn off variable question type\",$CD14))","v":""},{"$f":"IF($I12=\"\",\"\",IF($CE12=0,\"Enter question type or turn off variable question type\",$CD12))","v":""},{"$f":"IF($I22=\"\",\"\",IF($CE22=0,\"Enter question type or turn off variable question type\",$CD22))","v":""},null,{"$f":"ROW()-2","v":59},17,"",null,"",null,"",null,"",null,null,null,null,null,null,null,null,null,null,null,null,null,null,null,null,null,null,null,null,null,null,null,null,null,null,null,null,"","MC",0,"","","","","","","","","","","","","","","","","","","","","","","","",""]
[null,null,60,null,null,null,null,null,null,null,null,null,null,null,null,null,null,null,null,null,null,null,null,null,null,null,null,null,null,null,null,null,null,null,null,null,null,{"$f":"IF(VLOOKUP($AM62,$AM:$AQ,$A$6,0)=\"\",\"\",VLOOKUP($AM62,$AM:$AQ,$A$6,0))","v":""},60,null,null,null,null,null,null,null,"",null,"",null,"",null,"",null,null,null,null,null,null,null,null,null,null,null,null,null,null,null,null,null,null,null,null,null,null,null,null,null,null,null,null,"","MC",0,"","","","","","","","","","","","","","","","","","","","","","","","",""]
[null,null,61,null,null,null,null,null,null,null,null,null,null,null,null,null,null,null,null,null,null,null,null,null,null,null,null,null,null,null,null,null,null,null,null,null,null,"",61,{"$f":"IF($I18=\"\",\"\",\"::\"&IF($B$16=\"\",\"\",$B$16&\"  \")&IF($E18=\"\",$H18,$E18)&\"::\")","v":""},{"$f":"IF($I15=\"\",\"\",IF($B$18=\"\",\"INPUT MAIN CATEGORY (CELL B18) OR TURN CATEGORIES OFF\",\"$CATEGORY: \"&$B$18&IF($F15=\"\",\"\",\"/\"&$F15)))","v":""},{"$f":"IF($I13=\"\",\"\",IF($B$18=\"\",\"INPUT MAIN CATEGORY (CELL B18) OR TURN CATEGORIES OFF\",\"$CATEGORY: \"&$B$18&IF($F13=\"\",\"\",\"/\"&$F13)))","v":""},{"$f":"IF($I23=\"\",\"\",\"::\"&IF($B$16=\"\",\"\",$B$16&\"  \")&IF($E23=\"\",$H23,$E23)&\"::\")","v":""},null,null,null,18,{"$f":"(ROW()+1)/4","v":16},18,{"$f":"(ROW()+1)/4","v":16},15,{"$f":"(ROW()+2)/5","v":13},23,{"$f":"ROW()/3","v":21},null,null,null,null,null,null,null,null,null,null,null,null,null,null,null,null,null,null,null,null,null,null,null,null,null,null,null,"","MC",0,"","","","","","","","","","","","","","","","","","","","","","","","",""]
[null,null,62,null,null,null,null,null,null,null,null,null,null,null,null,null,null,null,null,null,null,null,null,null,null,null,null,null,null,null,null,null,null,null,null,null,null,"",62,{"$f":"IF($I18=\"\",\"\",IF($CE18=0,\"Enter question type or turn off variable question type\",IF($G18=\"\",VLOOKUP($CE18,$BY:$CA,3,0),$G18)))","v":""},null,null,{"$f":"IF($I23=\"\",\"\",IF($CE23=0,\"Enter question type or turn off variable question type\",$CD23))","v":""},null,{"$f":"ROW()-1","v":63},18,"",null,"",null,"",null,"",null,null,null,null,null,null,null,null,null,null,null,null,null,null,null,null,null,null,null,null,null,null,null,null,null,null,null,null,"","MC",0,"","","","","","","","","","","","","","","","","","","","","","","","",""]
[null,null,63,null,null,null,null,null,null,null,null,null,null,null,null,null,null,null,null,null,null,null,null,null,null,null,null,null,null,null,null,null,null,null,null,null,null,"",63,{"$f":"IF($I18=\"\",\"\",IF($CE18=0,\"Enter question type or turn off variable question type\",$CD18))","v":""},{"$f":"IF($I15=\"\",\"\",\"::\"&IF($B$16=\"\",\"\",$B$16&\"  \")&IF($E15=\"\",$H15,$E15)&\"::\")","v":""},{"$f":"IF($I13=\"\",\"\",\"::\"&IF($B$16=\"\",\"\",$B$16&\"  \")&IF($E13=\"\",$H13,$E13)&\"::\")","v":""},null,null,{"$f":"ROW()-2","v":63},18,"",null,"",null,"",null,"",null,null,null,null,null,null,null,null,null,null,null,null,null,null,null,null,null,null,null,null,null,null,null,null,null,null,null,null,"","MC",0,"","","","","","","","","","","","","","","","","","","","","","","","",""]
[null,null,64,null,null,null,null,null,null,null,null,null,null,null,null,null,null,null,null,null,null,null,null,null,null,null,null,null,null,null,null,null,null,null,null,null,null,"",64,null,{"$f":"IF($I15=\"\",\"\",IF($CE15=0,\"Enter question type or turn off variable question type\",$CD15))","v":""},{"$f":"IF($I13=\"\",\"\",IF($CE13=0,\"Enter question type or turn off variable question type\",IF($G13=\"\",VLOOKUP($CE13,$BY:$CA,3,0),$G13)))","v":""},{"$f":"IF($I24=\"\",\"\",\"::\"&IF($B$16=\"\",\"\",$B$16&\"  \")&IF($E24=\"\",$H24,$E24)&\"::\")","v":""},null,null,null,"",null,"",null,"",null,24,{"$f":"ROW()/3","v":22},null,null,null,null,null,null,null,null,null,null,null,null,null,null,null,null,null,null,null,null,null,null,null,null,null,null,null,"","MC",0,"","","","","","","","","","","","","","","","","","","","","","","","",""]
[null,null,65,null,null,null,null,null,null,null,null,null,null,null,null,null,null,null,null,null,null,null,null,null,null,null,null,null,null,null,null,null,null,null,null,null,null,"",65,{"$f":"IF($I19=\"\",\"\",\"::\"&IF($B$16=\"\",\"\",$B$16&\"  \")&IF($E19=\"\",$H19,$E19)&\"::\")","v":""},null,{"$f":"IF($I13=\"\",\"\",IF($CE13=0,\"Enter question type or turn off variable question type\",$CD13))","v":""},{"$f":"IF($I24=\"\",\"\",IF($CE24=0,\"Enter question type or turn off variable question type\",$CD24))","v":""},null,null,null,19,{"$f":"(ROW()+1)/4","v":17},19,{"$f":"(ROW()+1)/4","v":17},"",null,"",null,null,null,null,null,null,null,null,null,null,null,null,null,null,null,null,null,null,null,null,null,null,null,null,null,null,null,null,"","MC",0,"","","","","","","","","","","","","","","","","","","","","","","","",""]
[null,null,66,null,null,null,null,null,null,null,null,null,null,null,null,null,null,null,null,null,null,null,null,null,null,null,null,null,null,null,null,null,null,null,null,null,null,"",66,{"$f":"IF($I19=\"\",\"\",IF($CE19=0,\"Enter question type or turn off variable question type\",IF($G19=\"\",VLOOKUP($CE19,$BY:$CA,3,0),$G19)))","v":""},{"$f":"IF($I16=\"\",\"\",IF($B$18=\"\",\"INPUT MAIN CATEGORY (CELL B18) OR TURN CATEGORIES OFF\",\"$CATEGORY: \"&$B$18&IF($F16=\"\",\"\",\"/\"&$F16)))","v":""},null,null,null,{"$f":"ROW()-1","v":67},19,{"$f":"IF(AV68+2=2,\"\",AV68+2)","v":""},null,"",null,{"$f":"IF(AZ68+2=2,\"\",AZ68+2)","v":16},{"$f":"(ROW()+2)/5","v":14},{"$f":"IF(BB68+2=2,\"\",BB68+2)","v":""},null,null,null,null,null,null,null,null,null,null,null,null,null,null,null,null,null,null,null,null,null,null,null,null,null,null,null,null,{"$f":"IF(H68=\"\",\"\",IF(CE68=\"ES\",DE68,IF(CE68=\"MW\",SUBSTITUTE(H68,I68,VLOOKUP(CF68,CF68:CJ68,VLOOKUP($CE68,$BY:$BZ,2,0),0)),H68&\" \"&SUBSTITUTE(I68,I68,VLOOKUP(CF68,CF68:CJ68,VLOOKUP($CE68,$BY:$BZ,2,0),0)))))","v":""},"MC",0,"","","","","","",{"$f":"IF(K68=\"\",\"\",IF($B$2=\"Short Answer\",IF(O68=\"\",K68,\"%\"&O68&\"%\"&K68),IF($D68=\"Short Answer\",IF(O68=\"\",K68,\"%\"&O68&\"%\"&K68),\"%\"&IF(O68=\"\",0,O68)&\"%\"&K68)))","v":""},{"$f":"IF(L68=\"\",\"\",IF($B$2=\"Short Answer\",IF(P68=\"\",L68,\"%\"&P68&\"%\"&L68),IF($D68=\"Short Answer\",IF(P68=\"\",L68,\"%\"&P68&\"%\"&L68),\"%\"&IF(P68=\"\",0,P68)&\"%\"&L68)))","v":""},{"$f":"IF(M68=\"\",\"\",IF($B$2=\"Short Answer\",IF(Q68=\"\",M68,\"%\"&Q68&\"%\"&M68),IF($D68=\"Short Answer\",IF(Q68=\"\",M68,\"%\"&Q68&\"%\"&M68),\"%\"&IF(Q68=\"\",0,Q68)&\"%\"&M68)))","v":""},{"$f":"IF(N68=\"\",\"\",IF($B$2=\"Short Answer\",IF(R68=\"\",N68,\"%\"&R68&\"%\"&N68),IF($D68=\"Short Answer\",IF(R68=\"\",N68,\"%\"&R68&\"%\"&N68),\"%\"&IF(R68=\"\",0,R68)&\"%\"&N68)))","v":""},"","","","",{"$f":"IF(S68=\"\",\"\",IF($B$2=\"Short Answer\",IF(W68=\"\",S68,\"%\"&W68&\"%\"&S68),IF($D68=\"Short Answer\",IF(W68=\"\",S68,\"%\"&W68&\"%\"&S68),\"%\"&IF(W68=\"\",0,W68)&\"%\"&S68)))","v":""},{"$f":"IF(T68=\"\",\"\",IF($B$2=\"Short Answer\",IF(X68=\"\",T68,\"%\"&X68&\"%\"&T68),IF($D68=\"Short Answer\",IF(X68=\"\",T68,\"%\"&X68&\"%\"&T68),\"%\"&IF(X68=\"\",0,X68)&\"%\"&T68)))","v":""},{"$f":"IF(U68=\"\",\"\",IF($B$2=\"Short Answer\",IF(Y68=\"\",U68,\"%\"&Y68&\"%\"&U68),IF($D68=\"Short Answer\",IF(Y68=\"\",U68,\"%\"&Y68&\"%\"&U68),\"%\"&IF(Y68=\"\",0,Y68)&\"%\"&U68)))","v":""},{"$f":"IF(V68=\"\",\"\",IF($B$2=\"Short Answer\",IF(Z68=\"\",V68,\"%\"&Z68&\"%\"&V68),IF($D68=\"Short Answer\",IF(Z68=\"\",V68,\"%\"&Z68&\"%\"&V68),\"%\"&IF(Z68=\"\",0,Z68)&\"%\"&V68)))","v":""},{"$f":"IF(W68=\"\",\"\",IF($B$2=\"Short Answer\",IF(AA68=\"\",W68,\"%\"&AA68&\"%\"&W68),IF($D68=\"Short Answer\",IF(AA68=\"\",W68,\"%\"&AA68&\"%\"&W68),\"%\"&IF(AA68=\"\",0,AA68)&\"%\"&W68)))","v":""},"","","","","",{"$f":"IF(H68=\"\",\"\",H68&\" {}\")","v":""}]
[null,null,67,null,null,null,null,null,null,null,null,null,null,null,null,null,null,null,null,null,null,null,null,null,null,null,null,null,null,null,null,null,null,null,null,null,null,"",67,{"$f":"IF($I19=\"\",\"\",IF($CE19=0,\"Enter question type or turn off variable question type\",$CD19))","v":""},null,{"$f":"IF($I14=\"\",\"\",IF($B$18=\"\",\"INPUT MAIN CATEGORY (CELL B18) OR TURN CATEGORIES OFF\",\"$CATEGORY: \"&$B$18&IF($F14=\"\",\"\",\"/\"&$F14)))","v":""},{"$f":"IF($I25=\"\",\"\",\"::\"&IF($B$16=\"\",\"\",$B$16&\"  \")&IF($E25=\"\",$H25,$E25)&\"::\")","v":""},null,{"$f":"ROW()-2","v":67},19,"",null,"",null,"",null,25,{"$f":"ROW()/3","v":23},null,null,null,null,null,null,null,null,null,null,null,null,null,null,null,null,null,null,null,null,null,null,null,null,null,null,null,"","MC",0,"","","","","","","","","","","","","","","","","","","","","","","","",""]
[null,null,68,null,null,null,null,null,null,null,null,null,null,null,null,null,null,null,null,null,null,null,null,null,null,null,null,null,null,null,null,null,null,null,null,null,null,"",68,null,{"$f":"IF($I16=\"\",\"\",\"::\"&IF($B$16=\"\",\"\",$B$16&\"  \")&IF($E16=\"\",$H16,$E16)&\"::\")","v":""},null,{"$f":"IF($I25=\"\",\"\",IF($CE25=0,\"Enter question type or turn off variable question type\",$CD25))","v":""},null,null,null,"",null,"",null,"",null,"",null,null,null,null,null,null,null,null,null,null,null,null,null,null,null,null,null,null,null,null,null,null,null,null,null,null,null,null,"","MC",0,"","","","","","","","","","","","","","","","","","","","","","","","",""]
[null,null,69,null,null,null,null,null,null,null,null,null,null,null,null,null,null,null,null,null,null,null,null,null,null,null,null,null,null,null,null,null,null,null,null,null,null,"",69,{"$f":"IF($I20=\"\",\"\",\"::\"&IF($B$16=\"\",\"\",$B$16&\"  \")&IF($E20=\"\",$H20,$E20)&\"::\")","v":""},{"$f":"IF($I16=\"\",\"\",IF($CE16=0,\"Enter question type or turn off variable question type\",$CD16))","v":""},{"$f":"IF($I14=\"\",\"\",\"::\"&IF($B$16=\"\",\"\",$B$16&\"  \")&IF($E14=\"\",$H14,$E14)&\"::\")","v":""},null,null,null,null,20,{"$f":"(ROW()+1)/4","v":18},20,{"$f":"(ROW()+1)/4","v":18},"",null,"",null,null,null,null,null,null,null,null,null,null,null,null,null,null,null,null,null,null,null,null,null,null,null,null,null,null,null,null,"","MC",0,"","","","","","","","","","","","","","","","","","","","","","","","",""]
[null,null,70,null,null,null,null,null,null,null,null,null,null,null,null,null,null,null,null,null,null,null,null,null,null,null,null,null,null,null,null,null,null,null,null,null,null,"",70,{"$f":"IF($I20=\"\",\"\",IF($CE20=0,\"Enter question type or turn off variable question type\",IF($G20=\"\",VLOOKUP($CE20,$BY:$CA,3,0),$G20)))","v":""},null,{"$f":"IF($I14=\"\",\"\",IF($CE14=0,\"Enter question type or turn off variable question type\",IF($G14=\"\",VLOOKUP($CE14,$BY:$CA,3,0),$G14)))","v":""},{"$f":"IF($I26=\"\",\"\",\"::\"&IF($B$16=\"\",\"\",$B$16&\"  \")&IF($E26=\"\",$H26,$E26)&\"::\")","v":""},null,{"$f":"ROW()-1","v":71},20,"",null,"",null,"",null,26,{"$f":"ROW()/3","v":24},null,null,null,null,null,null,null,null,null,null,null,null,null,null,null,null,null,null,null,null,null,null,null,null,null,null,null,"","MC",0,"","","","","","","","","","","","","","","","","","","","","","","","",""]
[null,null,71,null,null,null,null,null,null,null,null,null,null,null,null,null,null,null,null,null,null,null,null,null,null,null,null,null,null,null,null,null,null,null,null,null,null,"",71,{"$f":"IF($I20=\"\",\"\",IF($CE20=0,\"Enter question type or turn off variable question type\",$CD20))","v":""},{"$f":"IF($I17=\"\",\"\",IF($B$18=\"\",\"INPUT MAIN CATEGORY (CELL B18) OR TURN CATEGORIES OFF\",\"$CATEGORY: \"&$B$18&IF($F17=\"\",\"\",\"/\"&$F17)))","v":""},{"$f":"IF($I14=\"\",\"\",IF($CE14=0,\"Enter question type or turn off variable question type\",$CD14))","v":""},{"$f":"IF($I26=\"\",\"\",IF($CE26=0,\"Enter question type or turn off variable question type\",$CD26))","v":""},null,{"$f":"ROW()-2","v":71},20,"",null,"",null,17,{"$f":"(ROW()+2)/5","v":15},"",null,null,null,null,null,null,null,null,null,null,null,null,null,null,null,null,null,null,null,null,null,null,null,null,null,null,null,null,"","MC",0,"","","","","","","","","","","","","","","","","","","","","","","","",""]
[null,null,72,null,null,null,null,null,null,null,null,null,null,null,null,null,null,null,null,null,null,null,null,null,null,null,null,null,null,null,null,null,null,null,null,null,null,"",72,null,null,null,null,null,null,null,"",null,"",null,"",null,"",null,null,null,null,null,null,null,null,null,null,null,null,null,null,null,null,null,null,null,null,null,null,null,null,null,null,null,null,"","MC",0,"","","","","","","","","","","","","","","","","","","","","","","","",""]
[null,null,73,null,null,null,null,null,null,null,null,null,null,null,null,null,null,null,null,null,null,null,null,null,null,null,null,null,null,null,null,null,null,null,null,null,null,"",73,{"$f":"IF($I21=\"\",\"\",\"::\"&IF($B$16=\"\",\"\",$B$16&\"  \")&IF($E21=\"\",$H21,$E21)&\"::\")","v":""},{"$f":"IF($I17=\"\",\"\",\"::\"&IF($B$16=\"\",\"\",$B$16&\"  \")&IF($E17=\"\",$H17,$E17)&\"::\")","v":""},{"$f":"IF($I15=\"\",\"\",IF($B$18=\"\",\"INPUT MAIN CATEGORY (CELL B18) OR TURN CATEGORIES OFF\",\"$CATEGORY: \"&$B$18&IF($F15=\"\",\"\",\"/\"&$F15)))","v":""},{"$f":"IF($I27=\"\",\"\",\"::\"&IF($B$16=\"\",\"\",$B$16&\"  \")&IF($E27=\"\",$H27,$E27)&\"::\")","v":""},null,null,null,21,{"$f":"(ROW()+1)/4","v":19},21,{"$f":"(ROW()+1)/4","v":19},"",null,27,{"$f":"ROW()/3","v":25},null,null,null,null,null,null,null,null,null,null,null,null,null,null,null,null,null,null,null,null,null,null,null,null,null,null,null,"","MC",0,"","","","","","","","","","","","","","","","","","","","","","","","",""]
[null,null,74,null,null,null,null,null,null,null,null,null,null,null,null,null,null,null,null,null,null,null,null,null,null,null,null,null,null,null,null,null,null,null,null,null,null,"",74,{"$f":"IF($I21=\"\",\"\",IF($CE21=0,\"Enter question type or turn off variable question type\",IF($G21=\"\",VLOOKUP($CE21,$BY:$CA,3,0),$G21)))","v":""},{"$f":"IF($I17=\"\",\"\",IF($CE17=0,\"Enter question type or turn off variable question type\",$CD17))","v":""},null,{"$f":"IF($I27=\"\",\"\",IF($CE27=0,\"Enter question type or turn off variable question type\",$CD27))","v":""},null,{"$f":"ROW()-1","v":75},21,"",null,"",null,"",null,"",null,null,null,null,null,null,null,null,null,null,null,null,null,null,null,null,null,null,null,null,null,null,null,null,null,null,null,null,"","MC",0,"","","","","","","","","","","","","","","","","","","","","","","","",""]
[null,null,75,null,null,null,null,null,null,null,null,null,null,null,null,null,null,null,null,null,null,null,null,null,null,null,null,null,null,null,null,null,null,null,null,null,null,"",75,{"$f":"IF($I21=\"\",\"\",IF($CE21=0,\"Enter question type or turn off variable question type\",$CD21))","v":""},null,{"$f":"IF($I15=\"\",\"\",\"::\"&IF($B$16=\"\",\"\",$B$16&\"  \")&IF($E15=\"\",$H15,$E15)&\"::\")","v":""},null,null,{"$f":"ROW()-2","v":75},21,"",null,"",null,"",null,"",null,null,null,null,null,null,null,null,null,null,null,null,null,null,null,null,null,null,null,null,null,null,null,null,null,null,null,null,"","MC",0,"","","","","","","","","","","","","","","","","","","","","","","","",""]
[null,null,76,null,null,null,null,null,null,null,null,null,null,null,null,null,null,null,null,null,null,null,null,null,null,null,null,null,null,null,null,null,null,null,null,null,null,"",76,null,{"$f":"IF($I18=\"\",\"\",IF($B$18=\"\",\"INPUT MAIN CATEGORY (CELL B18) OR TURN CATEGORIES OFF\",\"$CATEGORY: \"&$B$18&IF($F18=\"\",\"\",\"/\"&$F18)))","v":""},{"$f":"IF($I15=\"\",\"\",IF($CE15=0,\"Enter question type or turn off variable question type\",IF($G15=\"\",VLOOKUP($CE15,$BY:$CA,3,0),$G15)))","v":""},{"$f":"IF($I28=\"\",\"\",\"::\"&IF($B$16=\"\",\"\",$B$16&\"  \")&IF($E28=\"\",$H28,$E28)&\"::\")","v":""},null,null,null,"",null,"",null,18,{"$f":"(ROW()+2)/5","v":16},28,{"$f":"ROW()/3","v":26},null,null,null,null,null,null,null,null,null,null,null,null,null,null,null,null,null,null,null,null,null,null,null,null,null,null,null,"","MC",0,"","","","","","","","","","","","","","","","","","","","","","","","",""]
[null,null,77,null,null,null,null,null,null,null,null,null,null,null,null,null,null,null,null,null,null,null,null,null,null,null,null,null,null,null,null,null,null,null,null,null,null,"",77,{"$f":"IF($I22=\"\",\"\",\"::\"&IF($B$16=\"\",\"\",$B$16&\"  \")&IF($E22=\"\",$H22,$E22)&\"::\")","v":""},null,{"$f":"IF($I15=\"\",\"\",IF($CE15=0,\"Enter question type or turn off variable question type\",$CD15))","v":""},{"$f":"IF($I28=\"\",\"\",IF($CE28=0,\"Enter question type or turn off variable question type\",$CD28))","v":""},null,null,null,22,{"$f":"(ROW()+1)/4","v":20},22,{"$f":"(ROW()+1)/4","v":20},"",null,"",null,null,null,null,null,null,null,null,null,null,null,null,null,null,null,null,null,null,null,null,null,null,null,null,null,null,null,null,"","MC",0,"","","","","","","","","","","","","","","","","","","","","","","","",""]
[null,null,78,null,null,null,null,null,null,null,null,null,null,null,null,null,null,null,null,null,null,null,null,null,null,null,null,null,null,null,null,null,null,null,null,null,null,"",78,{"$f":"IF($I22=\"\",\"\",IF($CE22=0,\"Enter question type or turn off variable question type\",IF($G22=\"\",VLOOKUP($CE22,$BY:$CA,3,0),$G22)))","v":""},{"$f":"IF($I18=\"\",\"\",\"::\"&IF($B$16=\"\",\"\",$B$16&\"  \")&IF($E18=\"\",$H18,$E18)&\"::\")","v":""},null,null,null,{"$f":"ROW()-1","v":79},22,"",null,"",null,"",null,"",null,null,null,null,null,null,null,null,null,null,null,null,null,null,null,null,null,null,null,null,null,null,null,null,null,null,null,null,"","MC",0,"","","","","","","","","","","","","","","","","","","","","","","","",""]
[null,null,79,null,null,null,null,null,null,null,null,null,null,null,null,null,null,null,null,null,null,null,null,null,null,null,null,null,null,null,null,null,null,null,null,null,null,"",79,{"$f":"IF($I22=\"\",\"\",IF($CE22=0,\"Enter question type or turn off variable question type\",$CD22))","v":""},{"$f":"IF($I18=\"\",\"\",IF($CE18=0,\"Enter question type or turn off variable question type\",$CD18))","v":""},{"$f":"IF($I16=\"\",\"\",IF($B$18=\"\",\"INPUT MAIN CATEGORY (CELL B18) OR TURN CATEGORIES OFF\",\"$CATEGORY: \"&$B$18&IF($F16=\"\",\"\",\"/\"&$F16)))","v":""},{"$f":"IF($I29=\"\",\"\",\"::\"&IF($B$16=\"\",\"\",$B$16&\"  \")&IF($E29=\"\",$H29,$E29)&\"::\")","v":""},null,{"$f":"ROW()-2","v":79},22,"",null,"",null,"",null,29,{"$f":"ROW()/3","v":27},null,null,null,null,null,null,null,null,null,null,null,null,null,null,null,null,null,null,null,null,null,null,null,null,null,null,null,"","MC",0,"","","","","","","","","","","","","","","","","","","","","","","","",""]
[null,null,80,null,null,null,null,null,null,null,null,null,null,null,null,null,null,null,null,null,null,null,null,null,null,null,null,null,null,null,null,null,null,null,null,null,null,"",80,null,null,null,{"$f":"IF($I29=\"\",\"\",IF($CE29=0,\"Enter question type or turn off variable question type\",$CD29))","v":""},null,null,null,"",null,"",null,"",null,"",null,null,null,null,null,null,null,null,null,null,null,null,null,null,null,null,null,null,null,null,null,null,null,null,null,null,null,null,"","MC",0,"","","","","","","","","","","","","","","","","","","","","","","","",""]
[null,null,81,null,null,null,null,null,null,null,null,null,null,null,null,null,null,null,null,null,null,null,null,null,null,null,null,null,null,null,null,null,null,null,null,null,null,"",81,{"$f":"IF($I23=\"\",\"\",\"::\"&IF($B$16=\"\",\"\",$B$16&\"  \")&IF($E23=\"\",$H23,$E23)&\"::\")","v":""},{"$f":"IF($I19=\"\",\"\",IF($B$18=\"\",\"INPUT MAIN CATEGORY (CELL B18) OR TURN CATEGORIES OFF\",\"$CATEGORY: \"&$B$18&IF($F19=\"\",\"\",\"/\"&$F19)))","v":""},{"$f":"IF($I16=\"\",\"\",\"::\"&IF($B$16=\"\",\"\",$B$16&\"  \")&IF($E16=\"\",$H16,$E16)&\"::\")","v":""},null,null,null,null,23,{"$f":"(ROW()+1)/4","v":21},23,{"$f":"(ROW()+1)/4","v":21},19,{"$f":"(ROW()+2)/5","v":17},"",null,null,null,null,null,null,null,null,null,null,null,null,null,null,null,null,null,null,null,null,null,null,null,null,null,null,null,null,"","MC",0,"","","","","","","","","","","","","","","","","","","","","","","","",""]
[null,null,82,null,null,null,null,null,null,null,null,null,null,null,null,null,null,null,null,null,null,null,null,null,null,null,null,null,null,null,null,null,null,null,null,null,null,"",82,{"$f":"IF($I23=\"\",\"\",IF($CE23=0,\"Enter question type or turn off variable question type\",IF($G23=\"\",VLOOKUP($CE23,$BY:$CA,3,0),$G23)))","v":""},null,{"$f":"IF($I16=\"\",\"\",IF($CE16=0,\"Enter question type or turn off variable question type\",IF($G16=\"\",VLOOKUP($CE16,$BY:$CA,3,0),$G16)))","v":""},{"$f":"IF($I30=\"\",\"\",\"::\"&IF($B$16=\"\",\"\",$B$16&\"  \")&IF($E30=\"\",$H30,$E30)&\"::\")","v":""},null,{"$f":"ROW()-1","v":83},{"$f":"AT80+1","v":23},"",null,"",null,"",null,30,{"$f":"ROW()/3","v":28},null,null,null,null,null,null,null,null,null,null,null,null,null,null,null,null,null,null,null,null,null,null,null,null,null,null,null,"","MC",0,"","","","","","","","","","","","","","","","","","","","","","","","",""]
[null,null,83,null,null,null,null,null,null,null,null,null,null,null,null,null,null,null,null,null,null,null,null,null,null,null,null,null,null,null,null,null,null,null,null,null,null,"",83,{"$f":"IF($I23=\"\",\"\",IF($CE23=0,\"Enter question type or turn off variable question type\",$CD23))","v":""},{"$f":"IF($I19=\"\",\"\",\"::\"&IF($B$16=\"\",\"\",$B$16&\"  \")&IF($E19=\"\",$H19,$E19)&\"::\")","v":""},{"$f":"IF($I16=\"\",\"\",IF($CE16=0,\"Enter question type or turn off variable question type\",$CD16))","v":""},{"$f":"IF($I30=\"\",\"\",IF($CE30=0,\"Enter question type or turn off variable question type\",$CD30))","v":""},null,{"$f":"ROW()-2","v":83},{"$f":"AT81+1","v":23},"",null,"",null,"",null,"",null,null,null,null,null,null,null,null,null,null,null,null,null,null,null,null,null,null,null,null,null,null,null,null,null,null,null,null,"","MC",0,"","","","","","","","","","","","","","","","","","","","","","","","",""]
[null,null,84,null,null,null,null,null,null,null,null,null,null,null,null,null,null,null,null,null,null,null,null,null,null,null,null,null,null,null,null,null,null,null,null,null,null,"",84,null,{"$f":"IF($I19=\"\",\"\",IF($CE19=0,\"Enter question type or turn off variable question type\",$CD19))","v":""},null,null,null,null,null,"",null,"",null,"",null,"",null,null,null,null,null,null,null,null,null,null,null,null,null,null,null,null,null,null,null,null,null,null,null,null,null,null,null,null,"","MC",0,"","","","","","","","","","","","","","","","","","","","","","","","",""]
[null,null,85,null,null,null,null,null,null,null,null,null,null,null,null,null,null,null,null,null,null,null,null,null,null,null,null,null,null,null,null,null,null,null,null,null,null,"",85,{"$f":"IF($I24=\"\",\"\",\"::\"&IF($B$16=\"\",\"\",$B$16&\"  \")&IF($E24=\"\",$H24,$E24)&\"::\")","v":""},null,{"$f":"IF($I17=\"\",\"\",IF($B$18=\"\",\"INPUT MAIN CATEGORY (CELL B18) OR TURN CATEGORIES OFF\",\"$CATEGORY: \"&$B$18&IF($F17=\"\",\"\",\"/\"&$F17)))","v":""},{"$f":"IF($I31=\"\",\"\",\"::\"&IF($B$16=\"\",\"\",$B$16&\"  \")&IF($E31=\"\",$H31,$E31)&\"::\")","v":""},null,null,null,24,{"$f":"(ROW()+1)/4","v":22},24,{"$f":"(ROW()+1)/4","v":22},"",null,31,{"$f":"ROW()/3","v":29},null,null,null,null,null,null,null,null,null,null,null,null,null,null,null,null,null,null,null,null,null,null,null,null,null,null,null,"","MC",0,"","","","","","","","","","","","","","","","","","","","","","","","",""]
[null,null,86,null,null,null,null,null,null,null,null,null,null,null,null,null,null,null,null,null,null,null,null,null,null,null,null,null,null,null,null,null,null,null,null,null,null,"",86,{"$f":"IF($I24=\"\",\"\",IF($CE24=0,\"Enter question type or turn off variable question type\",IF($G24=\"\",VLOOKUP($CE24,$BY:$CA,3,0),$G24)))","v":""},{"$f":"IF($I20=\"\",\"\",IF($B$18=\"\",\"INPUT MAIN CATEGORY (CELL B18) OR TURN CATEGORIES OFF\",\"$CATEGORY: \"&$B$18&IF($F20=\"\",\"\",\"/\"&$F20)))","v":""},null,{"$f":"IF($I31=\"\",\"\",IF($CE31=0,\"Enter question type or turn off variable question type\",$CD31))","v":""},null,{"$f":"ROW()-1","v":87},{"$f":"AT84+1","v":24},"",null,"",null,20,{"$f":"(ROW()+2)/5","v":18},"",null,null,null,null,null,null,null,null,null,null,null,null,null,null,null,null,null,null,null,null,null,null,null,null,null,null,null,null,"","MC",0,"","","","","","","","","","","","","","","","","","","","","","","","",""]
[null,null,87,null,null,null,null,null,null,null,null,null,null,null,null,null,null,null,null,null,null,null,null,null,null,null,null,null,null,null,null,null,null,null,null,null,null,"",87,{"$f":"IF($I24=\"\",\"\",IF($CE24=0,\"Enter question type or turn off variable question type\",$CD24))","v":""},null,{"$f":"IF($I17=\"\",\"\",\"::\"&IF($B$16=\"\",\"\",$B$16&\"  \")&IF($E17=\"\",$H17,$E17)&\"::\")","v":""},null,null,{"$f":"ROW()-2","v":87},{"$f":"AT85+1","v":24},"",null,"",null,"",null,"",null,null,null,null,null,null,null,null,null,null,null,null,null,null,null,null,null,null,null,null,null,null,null,null,null,null,null,null,"","MC",0,"","","","","","","","","","","","","","","","","","","","","","","","",""]
[null,null,88,null,null,null,null,null,null,null,null,null,null,null,null,null,null,null,null,null,null,null,null,null,null,null,null,null,null,null,null,null,null,null,null,null,null,"",88,null,{"$f":"IF($I20=\"\",\"\",\"::\"&IF($B$16=\"\",\"\",$B$16&\"  \")&IF($E20=\"\",$H20,$E20)&\"::\")","v":""},{"$f":"IF($I17=\"\",\"\",IF($CE17=0,\"Enter question type or turn off variable question type\",IF($G17=\"\",VLOOKUP($CE17,$BY:$CA,3,0),$G17)))","v":""},{"$f":"IF($I32=\"\",\"\",\"::\"&IF($B$16=\"\",\"\",$B$16&\"  \")&IF($E32=\"\",$H32,$E32)&\"::\")","v":""},null,null,null,"",null,"",null,"",null,32,{"$f":"ROW()/3","v":30},null,null,null,null,null,null,null,null,null,null,null,null,null,null,null,null,null,null,null,null,null,null,null,null,null,null,null,"","MC",0,"","","","","","","","","","","","","","","","","","","","","","","","",""]
[null,null,89,null,null,null,null,null,null,null,null,null,null,null,null,null,null,null,null,null,null,null,null,null,null,null,null,null,null,null,null,null,null,null,null,null,null,"",89,{"$f":"IF($I25=\"\",\"\",\"::\"&IF($B$16=\"\",\"\",$B$16&\"  \")&IF($E25=\"\",$H25,$E25)&\"::\")","v":""},{"$f":"IF($I20=\"\",\"\",IF($CE20=0,\"Enter question type or turn off variable question type\",$CD20))","v":""},{"$f":"IF($I17=\"\",\"\",IF($CE17=0,\"Enter question type or turn off variable question type\",$CD17))","v":""},{"$f":"IF($I32=\"\",\"\",IF($CE32=0,\"Enter question type or turn off variable question type\",$CD32))","v":""},null,null,null,25,{"$f":"(ROW()+1)/4","v":23},25,{"$f":"(ROW()+1)/4","v":23},"",null,"",null,null,null,null,null,null,null,null,null,null,null,null,null,null,null,null,null,null,null,null,null,null,null,null,null,null,null,null,"","MC",0,"","","","","","","","","","","","","","","","","","","","","","","","",""]
[null,null,90,null,null,null,null,null,null,null,null,null,null,null,null,null,null,null,null,null,null,null,null,null,null,null,null,null,null,null,null,null,null,null,null,null,null,"",90,{"$f":"IF($I25=\"\",\"\",IF($CE25=0,\"Enter question type or turn off variable question type\",IF($G25=\"\",VLOOKUP($CE25,$BY:$CA,3,0),$G25)))","v":""},null,null,null,null,{"$f":"ROW()-1","v":91},{"$f":"AT88+1","v":25},"",null,"",null,"",null,"",null,null,null,null,null,null,null,null,null,null,null,null,null,null,null,null,null,null,null,null,null,null,null,null,null,null,null,null,"","MC",0,"","","","","","","","","","","","","","","","","","","","","","","","",""]
[null,null,91,null,null,null,null,null,null,null,null,null,null,null,null,null,null,null,null,null,null,null,null,null,null,null,null,null,null,null,null,null,null,null,null,null,null,"",91,{"$f":"IF($I25=\"\",\"\",IF($CE25=0,\"Enter question type or turn off variable question type\",$CD25))","v":""},{"$f":"IF($I21=\"\",\"\",IF($B$18=\"\",\"INPUT MAIN CATEGORY (CELL B18) OR TURN CATEGORIES OFF\",\"$CATEGORY: \"&$B$18&IF($F21=\"\",\"\",\"/\"&$F21)))","v":""},{"$f":"IF($I18=\"\",\"\",IF($B$18=\"\",\"INPUT MAIN CATEGORY (CELL B18) OR TURN CATEGORIES OFF\",\"$CATEGORY: \"&$B$18&IF($F18=\"\",\"\",\"/\"&$F18)))","v":""},{"$f":"IF($I33=\"\",\"\",\"::\"&IF($B$16=\"\",\"\",$B$16&\"  \")&IF($E33=\"\",$H33,$E33)&\"::\")","v":""},null,{"$f":"ROW()-2","v":91},{"$f":"AT89+1","v":25},"",null,"",null,21,{"$f":"(ROW()+2)/5","v":19},33,{"$f":"ROW()/3","v":31},null,null,null,null,null,null,null,null,null,null,null,null,null,null,null,null,null,null,null,null,null,null,null,null,null,null,null,"","MC",{"$f":"I93","v":0},{"$f":"IF(CK93=\"\",\"\",\"{\"&CK93&CL93&IF(CM93=\"\",\"\",\" ~\"&CM93&CQ93)&IF(CN93=\"\",\"\",\" ~\"&CN93&CR93)&IF(CO93=\"\",\"\",\" ~\"&CO93&CS93)&IF(CP93=\"\",\"\",\" ~\"&CP93&CT93)&IF(CU93=\"\",\"\",\" ~\"&CU93&CZ93)&IF(CV93=\"\",\"\",\" ~\"&CV93&DA93)&IF(CW93=\"\",\"\",\" ~\"&CW93&DB93)&IF(CX93=\"\",\"\",\" ~\"&CX93&DC93)&IF(CY93=\"\",\"\",\" ~\"&CY93&DD93)&\"}\")","v":""},{"$f":"IF(H93=\"\",\"\",\"{=\"&I93&CL93&IF(CM93=\"\",\"\",\" =\"&CM93&CQ93)&IF(CN93=\"\",\"\",\" =\"&CN93&CR93)&IF(CO93=\"\",\"\",\" =\"&CO93&CS93)&IF(CP93=\"\",\"\",\" =\"&CP93&CT93)&IF(CU93=\"\",\"\",\" =\"&CU93&CZ93)&IF(CV93=\"\",\"\",\" =\"&CV93&DA93)&IF(CW93=\"\",\"\",\" =\"&CW93&DB93)&IF(CX93=\"\",\"\",\" =\"&CX93&DC93)&IF(CY93=\"\",\"\",\" =\"&CY93&DD93)&\"}\")","v":""},{"$f":"IF(I93=\"\",\"\",\"{\"&IFERROR(I93&CQ93&CL93&\"}\",\"\"))","v":""},{"$f":"IF(CK93=\"\",\"\",\"{\"&CK93&CL93&IF(CM93=\"\",\"\",\" ~\"&CM93&CQ93)&IF(CN93=\"\",\"\",\" ~\"&CN93&CR93)&IF(CO93=\"\",\"\",\" ~\"&CO93&CS93)&IF(CP93=\"\",\"\",\" ~\"&CP93&CT93)&IF(CU93=\"\",\"\",\" ~\"&CU93&CZ93)&IF(CV93=\"\",\"\",\" ~\"&CV93&DA93)&IF(CW93=\"\",\"\",\" ~\"&CW93&DB93)&IF(CX93=\"\",\"\",\" ~\"&CX93&DC93)&IF(CY93=\"\",\"\",\" ~\"&CY93&DD93)&\"}\")","v":""},{"$f":"IF(I93=\"\",\"\",\"=\"&I93)","v":""},{"$f":"IF(J93=\"\",\"\",\"#\"&IFERROR(VLOOKUP(J93,$BE:$BF,2,0),J93))","v":""},"","","","",{"$f":"IF($B$2=\"True False\",IF(S93=\"\",\"\",IFERROR(\"#\"&VLOOKUP($S93,$BH:$BI,2,0),IF(S93=\"\",\"\",\"#\"&IFERROR(VLOOKUP(S93,$BE:$BF,2,0),S93)))),IF($B$2=\"Variable\",IF(D93=\"True False\",IF(S93=\"\",\"\",IFERROR(\"#\"&VLOOKUP($S93,$BH:$BI,2,0),IF(S93=\"\",\"\",\"#\"&IFERROR(VLOOKUP(S93,$BE:$BF,2,0),S93)))),IF(K93=\"\",\"\",IFERROR(\"#\"&VLOOKUP($S93,$BH:$BI,2,0),IF(S93=\"\",\"\",\"#\"&IFERROR(VLOOKUP(S93,$BE:$BF,2,0),S93))))),IF(K93=\"\",\"\",IFERROR(\"#\"&VLOOKUP($S93,$BH:$BI,2,0),IF(S93=\"\",\"\",\"#\"&IFERROR(VLOOKUP(S93,$BE:$BF,2,0),S93))))))","v":""},{"$f":"IF(L93=\"\",\"\",IFERROR(\"#\"&VLOOKUP($S93,$BH:$BI,2,0),IF(T93=\"\",\"\",\"#\"&IFERROR(VLOOKUP(T93,$BE:$BF,2,0),T93))))","v":""},{"$f":"IF(M93=\"\",\"\",IFERROR(\"#\"&VLOOKUP($S93,$BH:$BI,2,0),IF(U93=\"\",\"\",\"#\"&IFERROR(VLOOKUP(U93,$BE:$BF,2,0),U93))))","v":""},{"$f":"IF(N93=\"\",\"\",IFERROR(\"#\"&VLOOKUP($S93,$BH:$BI,2,0),IF(V93=\"\",\"\",\"#\"&IFERROR(VLOOKUP(V93,$BE:$BF,2,0),V93))))","v":""},"","","","","",{"$f":"IF(W93=\"\",\"\",IFERROR(\"#\"&VLOOKUP($S93,$BH:$BI,2,0),IF(AG93=\"\",\"\",\"#\"&IFERROR(VLOOKUP(AG93,$BE:$BF,2,0),AG93))))","v":""},{"$f":"IF(X93=\"\",\"\",IFERROR(\"#\"&VLOOKUP($S93,$BH:$BI,2,0),IF(AH93=\"\",\"\",\"#\"&IFERROR(VLOOKUP(AH93,$BE:$BF,2,0),AH93))))","v":""},{"$f":"IF(Y93=\"\",\"\",IFERROR(\"#\"&VLOOKUP($S93,$BH:$BI,2,0),IF(AI93=\"\",\"\",\"#\"&IFERROR(VLOOKUP(AI93,$BE:$BF,2,0),AI93))))","v":""},{"$f":"IF(Z93=\"\",\"\",IFERROR(\"#\"&VLOOKUP($S93,$BH:$BI,2,0),IF(AJ93=\"\",\"\",\"#\"&IFERROR(VLOOKUP(AJ93,$BE:$BF,2,0),AJ93))))","v":""},{"$f":"IF(AA93=\"\",\"\",IFERROR(\"#\"&VLOOKUP($S93,$BH:$BI,2,0),IF(AK93=\"\",\"\",\"#\"&IFERROR(VLOOKUP(AK93,$BE:$BF,2,0),AK93))))","v":""},""]
[null,null,92,null,null,null,null,null,null,null,null,null,null,null,null,null,null,null,null,null,null,null,null,null,null,null,null,null,null,null,null,null,null,null,null,null,null,"",92,null,null,null,{"$f":"IF($I33=\"\",\"\",IF($CE33=0,\"Enter question type or turn off variable question type\",$CD33))","v":""},null,null,null,"",null,"",null,"",null,"",null,null,null,null,null,null,null,null,null,null,null,null,null,null,null,null,null,null,null,null,null,null,null,null,null,null,null,null,"","MC",0,"","","","","","","","","","","","","","","","","","","","","","","","",""]
[null,null,93,null,null,null,null,null,null,null,null,null,null,null,null,null,null,null,null,null,null,null,null,null,null,null,null,null,null,null,null,null,null,null,null,null,null,"",93,{"$f":"IF($I26=\"\",\"\",\"::\"&IF($B$16=\"\",\"\",$B$16&\"  \")&IF($E26=\"\",$H26,$E26)&\"::\")","v":""},{"$f":"IF($I21=\"\",\"\",\"::\"&IF($B$16=\"\",\"\",$B$16&\"  \")&IF($E21=\"\",$H21,$E21)&\"::\")","v":""},{"$f":"IF($I18=\"\",\"\",\"::\"&IF($B$16=\"\",\"\",$B$16&\"  \")&IF($E18=\"\",$H18,$E18)&\"::\")","v":""},null,null,null,null,26,{"$f":"(ROW()+1)/4","v":24},26,{"$f":"(ROW()+1)/4","v":24},"",null,"",null,null,null,null,null,null,null,null,null,null,null,null,null,null,null,null,null,null,null,null,null,null,null,null,null,null,null,null,"","MC",0,"","","","","","","","","","","","","","","","","","","","","","","","",""]
[null,null,94,null,null,null,null,null,null,null,null,null,null,null,null,null,null,null,null,null,null,null,null,null,null,null,null,null,null,null,null,null,null,null,null,null,null,"",94,{"$f":"IF($I26=\"\",\"\",IF($CE26=0,\"Enter question type or turn off variable question type\",IF($G26=\"\",VLOOKUP($CE26,$BY:$CA,3,0),$G26)))","v":""},{"$f":"IF($I21=\"\",\"\",IF($CE21=0,\"Enter question type or turn off variable question type\",$CD21))","v":""},{"$f":"IF($I18=\"\",\"\",IF($CE18=0,\"Enter question type or turn off variable question type\",IF($G18=\"\",VLOOKUP($CE18,$BY:$CA,3,0),$G18)))","v":""},{"$f":"IF($I34=\"\",\"\",\"::\"&IF($B$16=\"\",\"\",$B$16&\"  \")&IF($E34=\"\",$H34,$E34)&\"::\")","v":""},null,{"$f":"ROW()-1","v":95},{"$f":"AT92+1","v":26},"",null,"",null,"",null,34,{"$f":"ROW()/3","v":32},null,null,null,null,null,null,null,null,null,null,null,null,null,null,null,null,null,null,null,null,null,null,null,null,null,null,null,"","MC",0,"","","","","","","","","","","","","","","","","","","","","","","","",""]
[null,null,95,null,null,null,null,null,null,null,null,null,null,null,null,null,null,null,null,null,null,null,null,null,null,null,null,null,null,null,null,null,null,null,null,null,null,"",95,{"$f":"IF($I26=\"\",\"\",IF($CE26=0,\"Enter question type or turn off variable question type\",$CD26))","v":""},null,{"$f":"IF($I18=\"\",\"\",IF($CE18=0,\"Enter question type or turn off variable question type\",$CD18))","v":""},{"$f":"IF($I34=\"\",\"\",IF($CE34=0,\"Enter question type or turn off variable question type\",$CD34))","v":""},null,{"$f":"ROW()-2","v":95},{"$f":"AT93+1","v":26},"",null,"",null,"",null,"",null,null,null,null,null,null,null,null,null,null,null,null,null,null,null,null,null,null,null,null,null,null,null,null,null,null,null,null,"","MC",0,"","","","","","","","","","","","","","","","","","","","","","","","",""]
[null,null,96,null,null,null,null,null,null,null,null,null,null,null,null,null,null,null,null,null,null,null,null,null,null,null,null,null,null,null,null,null,null,null,null,null,null,"",96,null,{"$f":"IF($I22=\"\",\"\",IF($B$18=\"\",\"INPUT MAIN CATEGORY (CELL B18) OR TURN CATEGORIES OFF\",\"$CATEGORY: \"&$B$18&IF($F22=\"\",\"\",\"/\"&$F22)))","v":""},null,null,null,null,null,"",null,"",null,22,{"$f":"(ROW()+2)/5","v":20},"",null,null,null,null,null,null,null,null,null,null,null,null,null,null,null,null,null,null,null,null,null,null,null,null,null,null,null,null,"","MC",0,"","","","","","","","","","","","","","","","","","","","","","","","",""]
[null,null,97,null,null,null,null,null,null,null,null,null,null,null,null,null,null,null,null,null,null,null,null,null,null,null,null,null,null,null,null,null,null,null,null,null,null,"",97,{"$f":"IF($I27=\"\",\"\",\"::\"&IF($B$16=\"\",\"\",$B$16&\"  \")&IF($E27=\"\",$H27,$E27)&\"::\")","v":""},null,{"$f":"IF($I19=\"\",\"\",IF($B$18=\"\",\"INPUT MAIN CATEGORY (CELL B18) OR TURN CATEGORIES OFF\",\"$CATEGORY: \"&$B$18&IF($F19=\"\",\"\",\"/\"&$F19)))","v":""},{"$f":"IF($I35=\"\",\"\",\"::\"&IF($B$16=\"\",\"\",$B$16&\"  \")&IF($E35=\"\",$H35,$E35)&\"::\")","v":""},null,null,null,27,{"$f":"(ROW()+1)/4","v":25},27,{"$f":"(ROW()+1)/4","v":25},"",null,35,{"$f":"ROW()/3","v":33},null,null,null,null,null,null,null,null,null,null,null,null,null,null,null,null,null,null,null,null,null,null,null,null,null,null,null,"",{"$f":"IFERROR(VLOOKUP($B$2,$BX:$BY,2,0),IF($D99=\"\",0,VLOOKUP($D99,$BX:$BY,2,0)))","v":"MC"},0,"","","","","","","","","","","","","","","","","","","","","","","","",""]
[null,null,98,null,null,null,null,null,null,null,null,null,null,null,null,null,null,null,null,null,null,null,null,null,null,null,null,null,null,null,null,null,null,null,null,null,null,"",98,{"$f":"IF($I27=\"\",\"\",IF($CE27=0,\"Enter question type or turn off variable question type\",IF($G27=\"\",VLOOKUP($CE27,$BY:$CA,3,0),$G27)))","v":""},{"$f":"IF($I22=\"\",\"\",\"::\"&IF($B$16=\"\",\"\",$B$16&\"  \")&IF($E22=\"\",$H22,$E22)&\"::\")","v":""},null,{"$f":"IF($I35=\"\",\"\",IF($CE35=0,\"Enter question type or turn off variable question type\",$CD35))","v":""},null,{"$f":"ROW()-1","v":99},{"$f":"AT96+1","v":27},"",null,"",null,"",null,"",null,null,null,null,null,null,null,null,null,null,null,null,null,null,null,null,null,null,null,null,null,null,null,null,null,null,null,null,"","MC",0,"","","","","","","","","","","","","","","","","","","","","","","","",""]
[null,null,99,null,null,null,null,null,null,null,null,null,null,null,null,null,null,null,null,null,null,null,null,null,null,null,null,null,null,null,null,null,null,null,null,null,null,"",99,{"$f":"IF($I27=\"\",\"\",IF($CE27=0,\"Enter question type or turn off variable question type\",$CD27))","v":""},{"$f":"IF($I22=\"\",\"\",IF($CE22=0,\"Enter question type or turn off variable question type\",$CD22))","v":""},{"$f":"IF($I19=\"\",\"\",\"::\"&IF($B$16=\"\",\"\",$B$16&\"  \")&IF($E19=\"\",$H19,$E19)&\"::\")","v":""},null,null,{"$f":"ROW()-2","v":99},{"$f":"AT97+1","v":27},"",null,"",null,"",null,"",null,null,null,null,null,null,null,null,null,null,null,null,null,null,null,null,null,null,null,null,null,null,null,null,null,null,null,null,"","MC",0,"","","","","","","","","","","","","","","","","","","","","","","","",""]
[null,null,100,null,null,null,null,null,null,null,null,null,null,null,null,null,null,null,null,null,null,null,null,null,null,null,null,null,null,null,null,null,null,null,null,null,null,"",100,null,null,{"$f":"IF($I19=\"\",\"\",IF($CE19=0,\"Enter question type or turn off variable question type\",IF($G19=\"\",VLOOKUP($CE19,$BY:$CA,3,0),$G19)))","v":""},{"$f":"IF($I36=\"\",\"\",\"::\"&IF($B$16=\"\",\"\",$B$16&\"  \")&IF($E36=\"\",$H36,$E36)&\"::\")","v":""},null,null,null,"",null,"",null,"",null,36,{"$f":"ROW()/3","v":34},null,null,null,null,null,null,null,null,null,null,null,null,null,null,null,null,null,null,null,null,null,null,null,null,null,null,null,"","MC",0,"","","","","","","","","","","","","","","","","","","","","","","","",""]
[null,null,null,null,null,null,null,null,null,null,null,null,null,null,null,null,null,null,null,null,null,null,null,null,null,null,null,null,null,null,null,null,null,null,null,null,null,"",101,{"$f":"IF($I28=\"\",\"\",\"::\"&IF($B$16=\"\",\"\",$B$16&\"  \")&IF($E28=\"\",$H28,$E28)&\"::\")","v":""},{"$f":"IF($I23=\"\",\"\",IF($B$18=\"\",\"INPUT MAIN CATEGORY (CELL B18) OR TURN CATEGORIES OFF\",\"$CATEGORY: \"&$B$18&IF($F23=\"\",\"\",\"/\"&$F23)))","v":""},{"$f":"IF($I19=\"\",\"\",IF($CE19=0,\"Enter question type or turn off variable question type\",$CD19))","v":""},{"$f":"IF($I36=\"\",\"\",IF($CE36=0,\"Enter question type or turn off variable question type\",$CD36))","v":""},null,null,null,28,{"$f":"(ROW()+1)/4","v":26},28,{"$f":"(ROW()+1)/4","v":26},23,{"$f":"(ROW()+2)/5","v":21},""]
[null,null,null,null,null,null,null,null,null,null,null,null,null,null,null,null,null,null,null,null,null,null,null,null,null,null,null,null,null,null,null,null,null,null,null,null,null,"",102,{"$f":"IF($I28=\"\",\"\",IF($CE28=0,\"Enter question type or turn off variable question type\",IF($G28=\"\",VLOOKUP($CE28,$BY:$CA,3,0),$G28)))","v":""},null,null,null,null,{"$f":"ROW()-1","v":103},{"$f":"AT100+1","v":28},"",null,"",null,"",null,""]
[null,null,null,null,null,null,null,null,null,null,null,null,null,null,null,null,null,null,null,null,null,null,null,null,null,null,null,null,null,null,null,null,null,null,null,null,null,"",103,{"$f":"IF($I28=\"\",\"\",IF($CE28=0,\"Enter question type or turn off variable question type\",$CD28))","v":""},{"$f":"IF($I23=\"\",\"\",\"::\"&IF($B$16=\"\",\"\",$B$16&\"  \")&IF($E23=\"\",$H23,$E23)&\"::\")","v":""},{"$f":"IF($I20=\"\",\"\",IF($B$18=\"\",\"INPUT MAIN CATEGORY (CELL B18) OR TURN CATEGORIES OFF\",\"$CATEGORY: \"&$B$18&IF($F20=\"\",\"\",\"/\"&$F20)))","v":""},{"$f":"IF($I37=\"\",\"\",\"::\"&IF($B$16=\"\",\"\",$B$16&\"  \")&IF($E37=\"\",$H37,$E37)&\"::\")","v":""},null,{"$f":"ROW()-2","v":103},{"$f":"AT101+1","v":28},"",null,"",null,"",null,37,{"$f":"ROW()/3","v":35}]
[null,null,null,null,null,null,null,null,null,null,null,null,null,null,null,null,null,null,null,null,null,null,null,null,null,null,null,null,null,null,null,null,null,null,null,null,null,"",104,null,{"$f":"IF($I23=\"\",\"\",IF($CE23=0,\"Enter question type or turn off variable question type\",$CD23))","v":""},null,{"$f":"IF($I37=\"\",\"\",IF($CE37=0,\"Enter question type or turn off variable question type\",$CD37))","v":""},null,null,null,"",null,"",null,"",null,""]
[null,null,null,null,null,null,null,null,null,null,null,null,null,null,null,null,null,null,null,null,null,null,null,null,null,null,null,null,null,null,null,null,null,null,null,null,null,"",105,{"$f":"IF($I29=\"\",\"\",\"::\"&IF($B$16=\"\",\"\",$B$16&\"  \")&IF($E29=\"\",$H29,$E29)&\"::\")","v":""},null,{"$f":"IF($I20=\"\",\"\",\"::\"&IF($B$16=\"\",\"\",$B$16&\"  \")&IF($E20=\"\",$H20,$E20)&\"::\")","v":""},null,null,null,null,29,{"$f":"(ROW()+1)/4","v":27},29,{"$f":"(ROW()+1)/4","v":27},"",null,""]
[null,null,null,null,null,null,null,null,null,null,null,null,null,null,null,null,null,null,null,null,null,null,null,null,null,null,null,null,null,null,null,null,null,null,null,null,null,"",106,{"$f":"IF($I29=\"\",\"\",IF($CE29=0,\"Enter question type or turn off variable question type\",IF($G29=\"\",VLOOKUP($CE29,$BY:$CA,3,0),$G29)))","v":""},{"$f":"IF($I24=\"\",\"\",IF($B$18=\"\",\"INPUT MAIN CATEGORY (CELL B18) OR TURN CATEGORIES OFF\",\"$CATEGORY: \"&$B$18&IF($F24=\"\",\"\",\"/\"&$F24)))","v":""},{"$f":"IF($I20=\"\",\"\",IF($CE20=0,\"Enter question type or turn off variable question type\",IF($G20=\"\",VLOOKUP($CE20,$BY:$CA,3,0),$G20)))","v":""},{"$f":"IF($I38=\"\",\"\",\"::\"&IF($B$16=\"\",\"\",$B$16&\"  \")&IF($E38=\"\",$H38,$E38)&\"::\")","v":""},null,{"$f":"ROW()-1","v":107},{"$f":"AT104+1","v":29},"",null,"",null,24,{"$f":"(ROW()+2)/5","v":22},38,{"$f":"ROW()/3","v":36}]
[null,null,null,null,null,null,null,null,null,null,null,null,null,null,null,null,null,null,null,null,null,null,null,null,null,null,null,null,null,null,null,null,null,null,null,null,null,"",107,{"$f":"IF($I29=\"\",\"\",IF($CE29=0,\"Enter question type or turn off variable question type\",$CD29))","v":""},null,{"$f":"IF($I20=\"\",\"\",IF($CE20=0,\"Enter question type or turn off variable question type\",$CD20))","v":""},{"$f":"IF($I38=\"\",\"\",IF($CE38=0,\"Enter question type or turn off variable question type\",$CD38))","v":""},null,{"$f":"ROW()-2","v":107},{"$f":"AT105+1","v":29},"",null,"",null,"",null,""]
[null,null,null,null,null,null,null,null,null,null,null,null,null,null,null,null,null,null,null,null,null,null,null,null,null,null,null,null,null,null,null,null,null,null,null,null,null,"",108,null,{"$f":"IF($I24=\"\",\"\",\"::\"&IF($B$16=\"\",\"\",$B$16&\"  \")&IF($E24=\"\",$H24,$E24)&\"::\")","v":""},null,null,null,null,null,"",null,"",null,"",null,""]
[null,null,null,null,null,null,null,null,null,null,null,null,null,null,null,null,null,null,null,null,null,null,null,null,null,null,null,null,null,null,null,null,null,null,null,null,null,"",109,{"$f":"IF($I30=\"\",\"\",\"::\"&IF($B$16=\"\",\"\",$B$16&\"  \")&IF($E30=\"\",$H30,$E30)&\"::\")","v":""},{"$f":"IF($I24=\"\",\"\",IF($CE24=0,\"Enter question type or turn off variable question type\",$CD24))","v":""},{"$f":"IF($I21=\"\",\"\",IF($B$18=\"\",\"INPUT MAIN CATEGORY (CELL B18) OR TURN CATEGORIES OFF\",\"$CATEGORY: \"&$B$18&IF($F21=\"\",\"\",\"/\"&$F21)))","v":""},{"$f":"IF($I39=\"\",\"\",\"::\"&IF($B$16=\"\",\"\",$B$16&\"  \")&IF($E39=\"\",$H39,$E39)&\"::\")","v":""},null,null,null,30,{"$f":"(ROW()+1)/4","v":28},30,{"$f":"(ROW()+1)/4","v":28},"",null,39,{"$f":"ROW()/3","v":37}]
[null,null,null,null,null,null,null,null,null,null,null,null,null,null,null,null,null,null,null,null,null,null,null,null,null,null,null,null,null,null,null,null,null,null,null,null,null,"",110,{"$f":"IF($I30=\"\",\"\",IF($CE30=0,\"Enter question type or turn off variable question type\",IF($G30=\"\",VLOOKUP($CE30,$BY:$CA,3,0),$G30)))","v":""},null,null,{"$f":"IF($I39=\"\",\"\",IF($CE39=0,\"Enter question type or turn off variable question type\",$CD39))","v":""},null,{"$f":"ROW()-1","v":111},{"$f":"AT108+1","v":30},"",null,"",null,"",null,""]
[null,null,null,null,null,null,null,null,null,null,null,null,null,null,null,null,null,null,null,null,null,null,null,null,null,null,null,null,null,null,null,null,null,null,null,null,null,"",111,{"$f":"IF($I30=\"\",\"\",IF($CE30=0,\"Enter question type or turn off variable question type\",$CD30))","v":""},{"$f":"IF($I25=\"\",\"\",IF($B$18=\"\",\"INPUT MAIN CATEGORY (CELL B18) OR TURN CATEGORIES OFF\",\"$CATEGORY: \"&$B$18&IF($F25=\"\",\"\",\"/\"&$F25)))","v":""},{"$f":"IF($I21=\"\",\"\",\"::\"&IF($B$16=\"\",\"\",$B$16&\"  \")&IF($E21=\"\",$H21,$E21)&\"::\")","v":""},null,null,{"$f":"ROW()-2","v":111},{"$f":"AT109+1","v":30},"",null,"",null,25,{"$f":"(ROW()+2)/5","v":23},""]
[null,null,null,null,null,null,null,null,null,null,null,null,null,null,null,null,null,null,null,null,null,null,null,null,null,null,null,null,null,null,null,null,null,null,null,null,null,"",112,null,null,{"$f":"IF($I21=\"\",\"\",IF($CE21=0,\"Enter question type or turn off variable question type\",IF($G21=\"\",VLOOKUP($CE21,$BY:$CA,3,0),$G21)))","v":""},{"$f":"IF($I40=\"\",\"\",\"::\"&IF($B$16=\"\",\"\",$B$16&\"  \")&IF($E40=\"\",$H40,$E40)&\"::\")","v":""},null,null,null,"",null,"",null,"",null,40,{"$f":"ROW()/3","v":38}]
[null,null,null,null,null,null,null,null,null,null,null,null,null,null,null,null,null,null,null,null,null,null,null,null,null,null,null,null,null,null,null,null,null,null,null,null,null,"",113,{"$f":"IF($I31=\"\",\"\",\"::\"&IF($B$16=\"\",\"\",$B$16&\"  \")&IF($E31=\"\",$H31,$E31)&\"::\")","v":""},{"$f":"IF($I25=\"\",\"\",\"::\"&IF($B$16=\"\",\"\",$B$16&\"  \")&IF($E25=\"\",$H25,$E25)&\"::\")","v":""},{"$f":"IF($I21=\"\",\"\",IF($CE21=0,\"Enter question type or turn off variable question type\",$CD21))","v":""},{"$f":"IF($I40=\"\",\"\",IF($CE40=0,\"Enter question type or turn off variable question type\",$CD40))","v":""},null,null,null,31,{"$f":"(ROW()+1)/4","v":29},31,{"$f":"(ROW()+1)/4","v":29},"",null,""]
[null,null,null,null,null,null,null,null,null,null,null,null,null,null,null,null,null,null,null,null,null,null,null,null,null,null,null,null,null,null,null,null,null,null,null,null,null,"",114,{"$f":"IF($I31=\"\",\"\",IF($CE31=0,\"Enter question type or turn off variable question type\",IF($G31=\"\",VLOOKUP($CE31,$BY:$CA,3,0),$G31)))","v":""},{"$f":"IF($I25=\"\",\"\",IF($CE25=0,\"Enter question type or turn off variable question type\",$CD25))","v":""},null,null,null,{"$f":"ROW()-1","v":115},{"$f":"AT112+1","v":31},"",null,"",null,"",null,""]
[null,null,null,null,null,null,null,null,null,null,null,null,null,null,null,null,null,null,null,null,null,null,null,null,null,null,null,null,null,null,null,null,null,null,null,null,null,"",115,{"$f":"IF($I31=\"\",\"\",IF($CE31=0,\"Enter question type or turn off variable question type\",$CD31))","v":""},null,{"$f":"IF($I22=\"\",\"\",IF($B$18=\"\",\"INPUT MAIN CATEGORY (CELL B18) OR TURN CATEGORIES OFF\",\"$CATEGORY: \"&$B$18&IF($F22=\"\",\"\",\"/\"&$F22)))","v":""},{"$f":"IF($I41=\"\",\"\",\"::\"&IF($B$16=\"\",\"\",$B$16&\"  \")&IF($E41=\"\",$H41,$E41)&\"::\")","v":""},null,{"$f":"ROW()-2","v":115},{"$f":"AT113+1","v":31},"",null,"",null,"",null,41,{"$f":"ROW()/3","v":39}]
[null,null,null,null,null,null,null,null,null,null,null,null,null,null,null,null,null,null,null,null,null,null,null,null,null,null,null,null,null,null,null,null,null,null,null,null,null,"",116,null,{"$f":"IF($I26=\"\",\"\",IF($B$18=\"\",\"INPUT MAIN CATEGORY (CELL B18) OR TURN CATEGORIES OFF\",\"$CATEGORY: \"&$B$18&IF($F26=\"\",\"\",\"/\"&$F26)))","v":""},null,{"$f":"IF($I41=\"\",\"\",IF($CE41=0,\"Enter question type or turn off variable question type\",$CD41))","v":""},null,null,null,"",null,"",null,26,{"$f":"(ROW()+2)/5","v":24},""]
[null,null,null,null,null,null,null,null,null,null,null,null,null,null,null,null,null,null,null,null,null,null,null,null,null,null,null,null,null,null,null,null,null,null,null,null,null,"",117,{"$f":"IF($I32=\"\",\"\",\"::\"&IF($B$16=\"\",\"\",$B$16&\"  \")&IF($E32=\"\",$H32,$E32)&\"::\")","v":""},null,{"$f":"IF($I22=\"\",\"\",\"::\"&IF($B$16=\"\",\"\",$B$16&\"  \")&IF($E22=\"\",$H22,$E22)&\"::\")","v":""},null,null,null,null,32,{"$f":"(ROW()+1)/4","v":30},32,{"$f":"(ROW()+1)/4","v":30},"",null,""]
[null,null,null,null,null,null,null,null,null,null,null,null,null,null,null,null,null,null,null,null,null,null,null,null,null,null,null,null,null,null,null,null,null,null,null,null,null,"",118,{"$f":"IF($I32=\"\",\"\",IF($CE32=0,\"Enter question type or turn off variable question type\",IF($G32=\"\",VLOOKUP($CE32,$BY:$CA,3,0),$G32)))","v":""},{"$f":"IF($I26=\"\",\"\",\"::\"&IF($B$16=\"\",\"\",$B$16&\"  \")&IF($E26=\"\",$H26,$E26)&\"::\")","v":""},{"$f":"IF($I22=\"\",\"\",IF($CE22=0,\"Enter question type or turn off variable question type\",IF($G22=\"\",VLOOKUP($CE22,$BY:$CA,3,0),$G22)))","v":""},{"$f":"IF($I42=\"\",\"\",\"::\"&IF($B$16=\"\",\"\",$B$16&\"  \")&IF($E42=\"\",$H42,$E42)&\"::\")","v":""},null,{"$f":"ROW()-1","v":119},{"$f":"AT116+1","v":32},"",null,"",null,"",null,42,{"$f":"ROW()/3","v":40}]
[null,null,null,null,null,null,null,null,null,null,null,null,null,null,null,null,null,null,null,null,null,null,null,null,null,null,null,null,null,null,null,null,null,null,null,null,null,"",119,{"$f":"IF($I32=\"\",\"\",IF($CE32=0,\"Enter question type or turn off variable question type\",$CD32))","v":""},{"$f":"IF($I26=\"\",\"\",IF($CE26=0,\"Enter question type or turn off variable question type\",$CD26))","v":""},{"$f":"IF($I22=\"\",\"\",IF($CE22=0,\"Enter question type or turn off variable question type\",$CD22))","v":""},{"$f":"IF($I42=\"\",\"\",IF($CE42=0,\"Enter question type or turn off variable question type\",$CD42))","v":""},null,{"$f":"ROW()-2","v":119},{"$f":"AT117+1","v":32},"",null,"",null,"",null,""]
[null,null,null,null,null,null,null,null,null,null,null,null,null,null,null,null,null,null,null,null,null,null,null,null,null,null,null,null,null,null,null,null,null,null,null,null,null,"",120,null,null,null,null,null,null,null,"",null,"",null,"",null,""]
[null,null,null,null,null,null,null,null,null,null,null,null,null,null,null,null,null,null,null,null,null,null,null,null,null,null,null,null,null,null,null,null,null,null,null,null,null,"",121,{"$f":"IF($I33=\"\",\"\",\"::\"&IF($B$16=\"\",\"\",$B$16&\"  \")&IF($E33=\"\",$H33,$E33)&\"::\")","v":""},{"$f":"IF($I27=\"\",\"\",IF($B$18=\"\",\"INPUT MAIN CATEGORY (CELL B18) OR TURN CATEGORIES OFF\",\"$CATEGORY: \"&$B$18&IF($F27=\"\",\"\",\"/\"&$F27)))","v":""},{"$f":"IF($I23=\"\",\"\",IF($B$18=\"\",\"INPUT MAIN CATEGORY (CELL B18) OR TURN CATEGORIES OFF\",\"$CATEGORY: \"&$B$18&IF($F23=\"\",\"\",\"/\"&$F23)))","v":""},{"$f":"IF($I43=\"\",\"\",\"::\"&IF($B$16=\"\",\"\",$B$16&\"  \")&IF($E43=\"\",$H43,$E43)&\"::\")","v":""},null,null,null,33,{"$f":"(ROW()+1)/4","v":31},33,{"$f":"(ROW()+1)/4","v":31},27,{"$f":"(ROW()+2)/5","v":25},43,{"$f":"ROW()/3","v":41}]
[null,null,null,null,null,null,null,null,null,null,null,null,null,null,null,null,null,null,null,null,null,null,null,null,null,null,null,null,null,null,null,null,null,null,null,null,null,"",122,{"$f":"IF($I33=\"\",\"\",IF($CE33=0,\"Enter question type or turn off variable question type\",IF($G33=\"\",VLOOKUP($CE33,$BY:$CA,3,0),$G33)))","v":""},null,null,{"$f":"IF($I43=\"\",\"\",IF($CE43=0,\"Enter question type or turn off variable question type\",$CD43))","v":""},null,{"$f":"ROW()-1","v":123},{"$f":"AT120+1","v":33},"",null,"",null,"",null,""]
[null,null,null,null,null,null,null,null,null,null,null,null,null,null,null,null,null,null,null,null,null,null,null,null,null,null,null,null,null,null,null,null,null,null,null,null,null,"",123,{"$f":"IF($I33=\"\",\"\",IF($CE33=0,\"Enter question type or turn off variable question type\",$CD33))","v":""},{"$f":"IF($I27=\"\",\"\",\"::\"&IF($B$16=\"\",\"\",$B$16&\"  \")&IF($E27=\"\",$H27,$E27)&\"::\")","v":""},{"$f":"IF($I23=\"\",\"\",\"::\"&IF($B$16=\"\",\"\",$B$16&\"  \")&IF($E23=\"\",$H23,$E23)&\"::\")","v":""},null,null,{"$f":"ROW()-2","v":123},{"$f":"AT121+1","v":33},"",null,"",null,"",null,""]
[null,null,null,null,null,null,null,null,null,null,null,null,null,null,null,null,null,null,null,null,null,null,null,null,null,null,null,null,null,null,null,null,null,null,null,null,null,{"$f":"IF(VLOOKUP($AM126,$AM:$AQ,$A$6,0)=\"\",\"\",VLOOKUP($AM126,$AM:$AQ,$A$6,0))","v":""},124,null,{"$f":"IF($I27=\"\",\"\",IF($CE27=0,\"Enter question type or turn off variable question type\",$CD27))","v":""},{"$f":"IF($I23=\"\",\"\",IF($CE23=0,\"Enter question type or turn off variable question type\",IF($G23=\"\",VLOOKUP($CE23,$BY:$CA,3,0),$G23)))","v":""},{"$f":"IF($I44=\"\",\"\",\"::\"&IF($B$16=\"\",\"\",$B$16&\"  \")&IF($E44=\"\",$H44,$E44)&\"::\")","v":""},null,null,null,"",null,"",null,"",null,44,{"$f":"ROW()/3","v":42}]
[null,null,null,null,null,null,null,null,null,null,null,null,null,null,null,null,null,null,null,null,null,null,null,null,null,null,null,null,null,null,null,null,null,null,null,null,null,"",125,{"$f":"IF($I34=\"\",\"\",\"::\"&IF($B$16=\"\",\"\",$B$16&\"  \")&IF($E34=\"\",$H34,$E34)&\"::\")","v":""},null,{"$f":"IF($I23=\"\",\"\",IF($CE23=0,\"Enter question type or turn off variable question type\",$CD23))","v":""},{"$f":"IF($I44=\"\",\"\",IF($CE44=0,\"Enter question type or turn off variable question type\",$CD44))","v":""},null,null,null,34,{"$f":"(ROW()+1)/4","v":32},34,{"$f":"(ROW()+1)/4","v":32},"",null,""]
[null,null,null,null,null,null,null,null,null,null,null,null,null,null,null,null,null,null,null,null,null,null,null,null,null,null,null,null,null,null,null,null,null,null,null,null,null,"",126,{"$f":"IF($I34=\"\",\"\",IF($CE34=0,\"Enter question type or turn off variable question type\",IF($G34=\"\",VLOOKUP($CE34,$BY:$CA,3,0),$G34)))","v":""},{"$f":"IF($I28=\"\",\"\",IF($B$18=\"\",\"INPUT MAIN CATEGORY (CELL B18) OR TURN CATEGORIES OFF\",\"$CATEGORY: \"&$B$18&IF($F28=\"\",\"\",\"/\"&$F28)))","v":""},null,null,null,{"$f":"ROW()-1","v":127},{"$f":"AT124+1","v":34},"",null,"",null,28,{"$f":"(ROW()+2)/5","v":26},""]
[null,null,null,null,null,null,null,null,null,null,null,null,null,null,null,null,null,null,null,null,null,null,null,null,null,null,null,null,null,null,null,null,null,null,null,null,null,"",127,{"$f":"IF($I34=\"\",\"\",IF($CE34=0,\"Enter question type or turn off variable question type\",$CD34))","v":""},null,{"$f":"IF($I24=\"\",\"\",IF($B$18=\"\",\"INPUT MAIN CATEGORY (CELL B18) OR TURN CATEGORIES OFF\",\"$CATEGORY: \"&$B$18&IF($F24=\"\",\"\",\"/\"&$F24)))","v":""},{"$f":"IF($I45=\"\",\"\",\"::\"&IF($B$16=\"\",\"\",$B$16&\"  \")&IF($E45=\"\",$H45,$E45)&\"::\")","v":""},null,{"$f":"ROW()-2","v":127},{"$f":"AT125+1","v":34},"",null,"",null,"",null,45,{"$f":"ROW()/3","v":43}]
[null,null,null,null,null,null,null,null,null,null,null,null,null,null,null,null,null,null,null,null,null,null,null,null,null,null,null,null,null,null,null,null,null,null,null,null,null,"",128,null,{"$f":"IF($I28=\"\",\"\",\"::\"&IF($B$16=\"\",\"\",$B$16&\"  \")&IF($E28=\"\",$H28,$E28)&\"::\")","v":""},null,{"$f":"IF($I45=\"\",\"\",IF($CE45=0,\"Enter question type or turn off variable question type\",$CD45))","v":""},null,null,null,"",null,"",null,"",null,""]
[null,null,null,null,null,null,null,null,null,null,null,null,null,null,null,null,null,null,null,null,null,null,null,null,null,null,null,null,null,null,null,null,null,null,null,null,null,"",129,{"$f":"IF($I35=\"\",\"\",\"::\"&IF($B$16=\"\",\"\",$B$16&\"  \")&IF($E35=\"\",$H35,$E35)&\"::\")","v":""},{"$f":"IF($I28=\"\",\"\",IF($CE28=0,\"Enter question type or turn off variable question type\",$CD28))","v":""},{"$f":"IF($I24=\"\",\"\",\"::\"&IF($B$16=\"\",\"\",$B$16&\"  \")&IF($E24=\"\",$H24,$E24)&\"::\")","v":""},null,null,null,null,35,{"$f":"(ROW()+1)/4","v":33},35,{"$f":"(ROW()+1)/4","v":33},"",null,""]
[null,null,null,null,null,null,null,null,null,null,null,null,null,null,null,null,null,null,null,null,null,null,null,null,null,null,null,null,null,null,null,null,null,null,null,null,null,"",130,{"$f":"IF($I35=\"\",\"\",IF($CE35=0,\"Enter question type or turn off variable question type\",IF($G35=\"\",VLOOKUP($CE35,$BY:$CA,3,0),$G35)))","v":""},null,{"$f":"IF($I24=\"\",\"\",IF($CE24=0,\"Enter question type or turn off variable question type\",IF($G24=\"\",VLOOKUP($CE24,$BY:$CA,3,0),$G24)))","v":""},{"$f":"IF($I46=\"\",\"\",\"::\"&IF($B$16=\"\",\"\",$B$16&\"  \")&IF($E46=\"\",$H46,$E46)&\"::\")","v":""},null,{"$f":"ROW()-1","v":131},{"$f":"AT128+1","v":35},{"$f":"IF(AV132+2=2,\"\",AV132+2)","v":""},null,"",null,{"$f":"IF(AZ132+2=2,\"\",AZ132+2)","v":""},null,{"$f":"IF(BB132+2=2,\"\",BB132+2)","v":46},{"$f":"ROW()/3","v":44}]
[null,null,null,null,null,null,null,null,null,null,null,null,null,null,null,null,null,null,null,null,null,null,null,null,null,null,null,null,null,null,null,null,null,null,null,null,null,"",131,{"$f":"IF($I35=\"\",\"\",IF($CE35=0,\"Enter question type or turn off variable question type\",$CD35))","v":""},{"$f":"IF($I29=\"\",\"\",IF($B$18=\"\",\"INPUT MAIN CATEGORY (CELL B18) OR TURN CATEGORIES OFF\",\"$CATEGORY: \"&$B$18&IF($F29=\"\",\"\",\"/\"&$F29)))","v":""},{"$f":"IF($I24=\"\",\"\",IF($CE24=0,\"Enter question type or turn off variable question type\",$CD24))","v":""},{"$f":"IF($I46=\"\",\"\",IF($CE46=0,\"Enter question type or turn off variable question type\",$CD46))","v":""},null,{"$f":"ROW()-2","v":131},{"$f":"AT129+1","v":35},"",null,"",null,29,{"$f":"(ROW()+2)/5","v":27},""]
[null,null,null,null,null,null,null,null,null,null,null,null,null,null,null,null,null,null,null,null,null,null,null,null,null,null,null,null,null,null,null,null,null,null,null,null,null,"",132,null,null,null,null,null,null,null,"",null,"",null,"",null,""]
[null,null,null,null,null,null,null,null,null,null,null,null,null,null,null,null,null,null,null,null,null,null,null,null,null,null,null,null,null,null,null,null,null,null,null,null,null,"",133,{"$f":"IF($I36=\"\",\"\",\"::\"&IF($B$16=\"\",\"\",$B$16&\"  \")&IF($E36=\"\",$H36,$E36)&\"::\")","v":""},{"$f":"IF($I29=\"\",\"\",\"::\"&IF($B$16=\"\",\"\",$B$16&\"  \")&IF($E29=\"\",$H29,$E29)&\"::\")","v":""},{"$f":"IF($I25=\"\",\"\",IF($B$18=\"\",\"INPUT MAIN CATEGORY (CELL B18) OR TURN CATEGORIES OFF\",\"$CATEGORY: \"&$B$18&IF($F25=\"\",\"\",\"/\"&$F25)))","v":""},{"$f":"IF($I47=\"\",\"\",\"::\"&IF($B$16=\"\",\"\",$B$16&\"  \")&IF($E47=\"\",$H47,$E47)&\"::\")","v":""},null,null,null,36,{"$f":"(ROW()+1)/4","v":34},36,{"$f":"(ROW()+1)/4","v":34},"",null,47,{"$f":"ROW()/3","v":45}]
[null,null,null,null,null,null,null,null,null,null,null,null,null,null,null,null,null,null,null,null,null,null,null,null,null,null,null,null,null,null,null,null,null,null,null,null,null,"",134,{"$f":"IF($I36=\"\",\"\",IF($CE36=0,\"Enter question type or turn off variable question type\",IF($G36=\"\",VLOOKUP($CE36,$BY:$CA,3,0),$G36)))","v":""},{"$f":"IF($I29=\"\",\"\",IF($CE29=0,\"Enter question type or turn off variable question type\",$CD29))","v":""},null,{"$f":"IF($I47=\"\",\"\",IF($CE47=0,\"Enter question type or turn off variable question type\",$CD47))","v":""},null,{"$f":"ROW()-1","v":135},{"$f":"AT132+1","v":36},"",null,"",null,"",null,""]
[null,null,null,null,null,null,null,null,null,null,null,null,null,null,null,null,null,null,null,null,null,null,null,null,null,null,null,null,null,null,null,null,null,null,null,null,null,"",135,{"$f":"IF($I36=\"\",\"\",IF($CE36=0,\"Enter question type or turn off variable question type\",$CD36))","v":""},null,{"$f":"IF($I25=\"\",\"\",\"::\"&IF($B$16=\"\",\"\",$B$16&\"  \")&IF($E25=\"\",$H25,$E25)&\"::\")","v":""},null,null,{"$f":"ROW()-2","v":135},{"$f":"AT133+1","v":36},"",null,"",null,"",null,""]
[null,null,null,null,null,null,null,null,null,null,null,null,null,null,null,null,null,null,null,null,null,null,null,null,null,null,null,null,null,null,null,null,null,null,null,null,null,"",136,null,{"$f":"IF($I30=\"\",\"\",IF($B$18=\"\",\"INPUT MAIN CATEGORY (CELL B18) OR TURN CATEGORIES OFF\",\"$CATEGORY: \"&$B$18&IF($F30=\"\",\"\",\"/\"&$F30)))","v":""},{"$f":"IF($I25=\"\",\"\",IF($CE25=0,\"Enter question type or turn off variable question type\",IF($G25=\"\",VLOOKUP($CE25,$BY:$CA,3,0),$G25)))","v":""},{"$f":"IF($I48=\"\",\"\",\"::\"&IF($B$16=\"\",\"\",$B$16&\"  \")&IF($E48=\"\",$H48,$E48)&\"::\")","v":""},null,null,null,"",null,"",null,30,{"$f":"(ROW()+2)/5","v":28},48,{"$f":"ROW()/3","v":46}]
[null,null,null,null,null,null,null,null,null,null,null,null,null,null,null,null,null,null,null,null,null,null,null,null,null,null,null,null,null,null,null,null,null,null,null,null,null,"",137,{"$f":"IF($I37=\"\",\"\",\"::\"&IF($B$16=\"\",\"\",$B$16&\"  \")&IF($E37=\"\",$H37,$E37)&\"::\")","v":""},null,{"$f":"IF($I25=\"\",\"\",IF($CE25=0,\"Enter question type or turn off variable question type\",$CD25))","v":""},{"$f":"IF($I48=\"\",\"\",IF($CE48=0,\"Enter question type or turn off variable question type\",$CD48))","v":""},null,null,null,37,{"$f":"(ROW()+1)/4","v":35},37,{"$f":"(ROW()+1)/4","v":35},"",null,""]
[null,null,null,null,null,null,null,null,null,null,null,null,null,null,null,null,null,null,null,null,null,null,null,null,null,null,null,null,null,null,null,null,null,null,null,null,null,"",138,{"$f":"IF($I37=\"\",\"\",IF($CE37=0,\"Enter question type or turn off variable question type\",IF($G37=\"\",VLOOKUP($CE37,$BY:$CA,3,0),$G37)))","v":""},{"$f":"IF($I30=\"\",\"\",\"::\"&IF($B$16=\"\",\"\",$B$16&\"  \")&IF($E30=\"\",$H30,$E30)&\"::\")","v":""},null,null,null,{"$f":"ROW()-1","v":139},{"$f":"AT136+1","v":37},"",null,"",null,"",null,""]
[null,null,null,null,null,null,null,null,null,null,null,null,null,null,null,null,null,null,null,null,null,null,null,null,null,null,null,null,null,null,null,null,null,null,null,null,null,"",139,{"$f":"IF($I37=\"\",\"\",IF($CE37=0,\"Enter question type or turn off variable question type\",$CD37))","v":""},{"$f":"IF($I30=\"\",\"\",IF($CE30=0,\"Enter question type or turn off variable question type\",$CD30))","v":""},{"$f":"IF($I26=\"\",\"\",IF($B$18=\"\",\"INPUT MAIN CATEGORY (CELL B18) OR TURN CATEGORIES OFF\",\"$CATEGORY: \"&$B$18&IF($F26=\"\",\"\",\"/\"&$F26)))","v":""},{"$f":"IF($I49=\"\",\"\",\"::\"&IF($B$16=\"\",\"\",$B$16&\"  \")&IF($E49=\"\",$H49,$E49)&\"::\")","v":""},null,{"$f":"ROW()-2","v":139},{"$f":"AT137+1","v":37},"",null,"",null,"",null,49,{"$f":"ROW()/3","v":47}]
[null,null,null,null,null,null,null,null,null,null,null,null,null,null,null,null,null,null,null,null,null,null,null,null,null,null,null,null,null,null,null,null,null,null,null,null,null,"",140,null,null,null,{"$f":"IF($I49=\"\",\"\",IF($CE49=0,\"Enter question type or turn off variable question type\",$CD49))","v":""},null,null,null,"",null,"",null,"",null,""]
[null,null,null,null,null,null,null,null,null,null,null,null,null,null,null,null,null,null,null,null,null,null,null,null,null,null,null,null,null,null,null,null,null,null,null,null,null,"",141,{"$f":"IF($I38=\"\",\"\",\"::\"&IF($B$16=\"\",\"\",$B$16&\"  \")&IF($E38=\"\",$H38,$E38)&\"::\")","v":""},{"$f":"IF($I31=\"\",\"\",IF($B$18=\"\",\"INPUT MAIN CATEGORY (CELL B18) OR TURN CATEGORIES OFF\",\"$CATEGORY: \"&$B$18&IF($F31=\"\",\"\",\"/\"&$F31)))","v":""},{"$f":"IF($I26=\"\",\"\",\"::\"&IF($B$16=\"\",\"\",$B$16&\"  \")&IF($E26=\"\",$H26,$E26)&\"::\")","v":""},null,null,null,null,38,{"$f":"(ROW()+1)/4","v":36},38,{"$f":"(ROW()+1)/4","v":36},31,{"$f":"(ROW()+2)/5","v":29},""]
[null,null,null,null,null,null,null,null,null,null,null,null,null,null,null,null,null,null,null,null,null,null,null,null,null,null,null,null,null,null,null,null,null,null,null,null,null,"",142,{"$f":"IF($I38=\"\",\"\",IF($CE38=0,\"Enter question type or turn off variable question type\",IF($G38=\"\",VLOOKUP($CE38,$BY:$CA,3,0),$G38)))","v":""},null,{"$f":"IF($I26=\"\",\"\",IF($CE26=0,\"Enter question type or turn off variable question type\",IF($G26=\"\",VLOOKUP($CE26,$BY:$CA,3,0),$G26)))","v":""},{"$f":"IF($I50=\"\",\"\",\"::\"&IF($B$16=\"\",\"\",$B$16&\"  \")&IF($E50=\"\",$H50,$E50)&\"::\")","v":""},null,{"$f":"ROW()-1","v":143},{"$f":"AT140+1","v":38},"",null,"",null,"",null,50,{"$f":"ROW()/3","v":48}]
[null,null,null,null,null,null,null,null,null,null,null,null,null,null,null,null,null,null,null,null,null,null,null,null,null,null,null,null,null,null,null,null,null,null,null,null,null,"",143,{"$f":"IF($I38=\"\",\"\",IF($CE38=0,\"Enter question type or turn off variable question type\",$CD38))","v":""},{"$f":"IF($I31=\"\",\"\",\"::\"&IF($B$16=\"\",\"\",$B$16&\"  \")&IF($E31=\"\",$H31,$E31)&\"::\")","v":""},{"$f":"IF($I26=\"\",\"\",IF($CE26=0,\"Enter question type or turn off variable question type\",$CD26))","v":""},{"$f":"IF($I50=\"\",\"\",IF($CE50=0,\"Enter question type or turn off variable question type\",$CD50))","v":""},null,{"$f":"ROW()-2","v":143},{"$f":"AT141+1","v":38},"",null,"",null,"",null,""]
[null,null,null,null,null,null,null,null,null,null,null,null,null,null,null,null,null,null,null,null,null,null,null,null,null,null,null,null,null,null,null,null,null,null,null,null,null,"",144,null,{"$f":"IF($I31=\"\",\"\",IF($CE31=0,\"Enter question type or turn off variable question type\",$CD31))","v":""},null,null,null,null,null,"",null,"",null,"",null,""]
[null,null,null,null,null,null,null,null,null,null,null,null,null,null,null,null,null,null,null,null,null,null,null,null,null,null,null,null,null,null,null,null,null,null,null,null,null,"",145,{"$f":"IF($I39=\"\",\"\",\"::\"&IF($B$16=\"\",\"\",$B$16&\"  \")&IF($E39=\"\",$H39,$E39)&\"::\")","v":""},null,{"$f":"IF($I27=\"\",\"\",IF($B$18=\"\",\"INPUT MAIN CATEGORY (CELL B18) OR TURN CATEGORIES OFF\",\"$CATEGORY: \"&$B$18&IF($F27=\"\",\"\",\"/\"&$F27)))","v":""},{"$f":"IF($I51=\"\",\"\",\"::\"&IF($B$16=\"\",\"\",$B$16&\"  \")&IF($E51=\"\",$H51,$E51)&\"::\")","v":""},null,null,null,39,{"$f":"(ROW()+1)/4","v":37},39,{"$f":"(ROW()+1)/4","v":37},"",null,51,{"$f":"ROW()/3","v":49}]
[null,null,null,null,null,null,null,null,null,null,null,null,null,null,null,null,null,null,null,null,null,null,null,null,null,null,null,null,null,null,null,null,null,null,null,null,null,"",146,{"$f":"IF($I39=\"\",\"\",IF($CE39=0,\"Enter question type or turn off variable question type\",IF($G39=\"\",VLOOKUP($CE39,$BY:$CA,3,0),$G39)))","v":""},{"$f":"IF($I32=\"\",\"\",IF($B$18=\"\",\"INPUT MAIN CATEGORY (CELL B18) OR TURN CATEGORIES OFF\",\"$CATEGORY: \"&$B$18&IF($F32=\"\",\"\",\"/\"&$F32)))","v":""},null,{"$f":"IF($I51=\"\",\"\",IF($CE51=0,\"Enter question type or turn off variable question type\",$CD51))","v":""},null,{"$f":"ROW()-1","v":147},{"$f":"AT144+1","v":39},"",null,"",null,32,{"$f":"(ROW()+2)/5","v":30},""]
[null,null,null,null,null,null,null,null,null,null,null,null,null,null,null,null,null,null,null,null,null,null,null,null,null,null,null,null,null,null,null,null,null,null,null,null,null,"",147,{"$f":"IF($I39=\"\",\"\",IF($CE39=0,\"Enter question type or turn off variable question type\",$CD39))","v":""},null,{"$f":"IF($I27=\"\",\"\",\"::\"&IF($B$16=\"\",\"\",$B$16&\"  \")&IF($E27=\"\",$H27,$E27)&\"::\")","v":""},null,null,{"$f":"ROW()-2","v":147},{"$f":"AT145+1","v":39},"",null,"",null,"",null,""]
[null,null,null,null,null,null,null,null,null,null,null,null,null,null,null,null,null,null,null,null,null,null,null,null,null,null,null,null,null,null,null,null,null,null,null,null,null,"",148,null,{"$f":"IF($I32=\"\",\"\",\"::\"&IF($B$16=\"\",\"\",$B$16&\"  \")&IF($E32=\"\",$H32,$E32)&\"::\")","v":""},{"$f":"IF($I27=\"\",\"\",IF($CE27=0,\"Enter question type or turn off variable question type\",IF($G27=\"\",VLOOKUP($CE27,$BY:$CA,3,0),$G27)))","v":""},{"$f":"IF($I53=\"\",\"\",\"::\"&IF($B$16=\"\",\"\",$B$16&\"  \")&IF($E53=\"\",$H53,$E53)&\"::\")","v":""},null,null,null,"",null,"",null,"",null,52,{"$f":"ROW()/3","v":50}]
[null,null,null,null,null,null,null,null,null,null,null,null,null,null,null,null,null,null,null,null,null,null,null,null,null,null,null,null,null,null,null,null,null,null,null,null,null,"",149,{"$f":"IF($I40=\"\",\"\",\"::\"&IF($B$16=\"\",\"\",$B$16&\"  \")&IF($E40=\"\",$H40,$E40)&\"::\")","v":""},{"$f":"IF($I32=\"\",\"\",IF($CE32=0,\"Enter question type or turn off variable question type\",$CD32))","v":""},{"$f":"IF($I27=\"\",\"\",IF($CE27=0,\"Enter question type or turn off variable question type\",$CD27))","v":""},{"$f":"IF($I53=\"\",\"\",IF($CE53=0,\"Enter question type or turn off variable question type\",$CD53))","v":""},null,null,null,40,{"$f":"(ROW()+1)/4","v":38},40,{"$f":"(ROW()+1)/4","v":38},"",null,""]
[null,null,null,null,null,null,null,null,null,null,null,null,null,null,null,null,null,null,null,null,null,null,null,null,null,null,null,null,null,null,null,null,null,null,null,null,null,"",150,{"$f":"IF($I40=\"\",\"\",IF($CE40=0,\"Enter question type or turn off variable question type\",IF($G40=\"\",VLOOKUP($CE40,$BY:$CA,3,0),$G40)))","v":""},null,null,null,null,{"$f":"ROW()-1","v":151},{"$f":"AT148+1","v":40},"",null,"",null,"",null,""]
[null,null,null,null,null,null,null,null,null,null,null,null,null,null,null,null,null,null,null,null,null,null,null,null,null,null,null,null,null,null,null,null,null,null,null,null,null,"",151,{"$f":"IF($I40=\"\",\"\",IF($CE40=0,\"Enter question type or turn off variable question type\",$CD40))","v":""},{"$f":"IF($I33=\"\",\"\",IF($B$18=\"\",\"INPUT MAIN CATEGORY (CELL B18) OR TURN CATEGORIES OFF\",\"$CATEGORY: \"&$B$18&IF($F33=\"\",\"\",\"/\"&$F33)))","v":""},{"$f":"IF($I28=\"\",\"\",IF($B$18=\"\",\"INPUT MAIN CATEGORY (CELL B18) OR TURN CATEGORIES OFF\",\"$CATEGORY: \"&$B$18&IF($F28=\"\",\"\",\"/\"&$F28)))","v":""},{"$f":"IF($I54=\"\",\"\",\"::\"&IF($B$16=\"\",\"\",$B$16&\"  \")&IF($E54=\"\",$H54,$E54)&\"::\")","v":""},null,{"$f":"ROW()-2","v":151},{"$f":"AT149+1","v":40},"",null,"",null,33,{"$f":"(ROW()+2)/5","v":31},{"$f":"IF(BB153+2=2,\"\",BB153+2)","v":53},{"$f":"ROW()/3","v":51}]
[null,null,null,null,null,null,null,null,null,null,null,null,null,null,null,null,null,null,null,null,null,null,null,null,null,null,null,null,null,null,null,null,null,null,null,null,null,"",152,null,null,null,{"$f":"IF($I54=\"\",\"\",IF($CE54=0,\"Enter question type or turn off variable question type\",$CD54))","v":""},null,null,null,"",null,"",null,"",null,""]
[null,null,null,null,null,null,null,null,null,null,null,null,null,null,null,null,null,null,null,null,null,null,null,null,null,null,null,null,null,null,null,null,null,null,null,null,null,"",153,{"$f":"IF($I41=\"\",\"\",\"::\"&IF($B$16=\"\",\"\",$B$16&\"  \")&IF($E41=\"\",$H41,$E41)&\"::\")","v":""},{"$f":"IF($I33=\"\",\"\",\"::\"&IF($B$16=\"\",\"\",$B$16&\"  \")&IF($E33=\"\",$H33,$E33)&\"::\")","v":""},{"$f":"IF($I28=\"\",\"\",\"::\"&IF($B$16=\"\",\"\",$B$16&\"  \")&IF($E28=\"\",$H28,$E28)&\"::\")","v":""},null,null,null,null,41,{"$f":"(ROW()+1)/4","v":39},41,{"$f":"(ROW()+1)/4","v":39},"",null,""]
[null,null,null,null,null,null,null,null,null,null,null,null,null,null,null,null,null,null,null,null,null,null,null,null,null,null,null,null,null,null,null,null,null,null,null,null,null,"",154,{"$f":"IF($I41=\"\",\"\",IF($CE41=0,\"Enter question type or turn off variable question type\",IF($G41=\"\",VLOOKUP($CE41,$BY:$CA,3,0),$G41)))","v":""},{"$f":"IF($I33=\"\",\"\",IF($CE33=0,\"Enter question type or turn off variable question type\",$CD33))","v":""},{"$f":"IF($I28=\"\",\"\",IF($CE28=0,\"Enter question type or turn off variable question type\",IF($G28=\"\",VLOOKUP($CE28,$BY:$CA,3,0),$G28)))","v":""},{"$f":"IF($I55=\"\",\"\",\"::\"&IF($B$16=\"\",\"\",$B$16&\"  \")&IF($E55=\"\",$H55,$E55)&\"::\")","v":""},null,{"$f":"ROW()-1","v":155},{"$f":"AT152+1","v":41},"",null,"",null,"",null,54,{"$f":"ROW()/3","v":52}]
[null,null,null,null,null,null,null,null,null,null,null,null,null,null,null,null,null,null,null,null,null,null,null,null,null,null,null,null,null,null,null,null,null,null,null,null,null,"",155,{"$f":"IF($I41=\"\",\"\",IF($CE41=0,\"Enter question type or turn off variable question type\",$CD41))","v":""},null,{"$f":"IF($I28=\"\",\"\",IF($CE28=0,\"Enter question type or turn off variable question type\",$CD28))","v":""},{"$f":"IF($I55=\"\",\"\",IF($CE55=0,\"Enter question type or turn off variable question type\",$CD55))","v":""},null,{"$f":"ROW()-2","v":155},{"$f":"AT153+1","v":41},"",null,"",null,"",null,""]
[null,null,null,null,null,null,null,null,null,null,null,null,null,null,null,null,null,null,null,null,null,null,null,null,null,null,null,null,null,null,null,null,null,null,null,null,null,"",156,null,{"$f":"IF($I34=\"\",\"\",IF($B$18=\"\",\"INPUT MAIN CATEGORY (CELL B18) OR TURN CATEGORIES OFF\",\"$CATEGORY: \"&$B$18&IF($F34=\"\",\"\",\"/\"&$F34)))","v":""},null,null,null,null,null,"",null,"",null,34,{"$f":"(ROW()+2)/5","v":32},""]
[null,null,null,null,null,null,null,null,null,null,null,null,null,null,null,null,null,null,null,null,null,null,null,null,null,null,null,null,null,null,null,null,null,null,null,null,null,"",157,{"$f":"IF($I42=\"\",\"\",\"::\"&IF($B$16=\"\",\"\",$B$16&\"  \")&IF($E42=\"\",$H42,$E42)&\"::\")","v":""},null,{"$f":"IF($I29=\"\",\"\",IF($B$18=\"\",\"INPUT MAIN CATEGORY (CELL B18) OR TURN CATEGORIES OFF\",\"$CATEGORY: \"&$B$18&IF($F29=\"\",\"\",\"/\"&$F29)))","v":""},{"$f":"IF($I56=\"\",\"\",\"::\"&IF($B$16=\"\",\"\",$B$16&\"  \")&IF($E56=\"\",$H56,$E56)&\"::\")","v":""},null,null,null,42,{"$f":"(ROW()+1)/4","v":40},42,{"$f":"(ROW()+1)/4","v":40},"",null,55,{"$f":"ROW()/3","v":53}]
[null,null,null,null,null,null,null,null,null,null,null,null,null,null,null,null,null,null,null,null,null,null,null,null,null,null,null,null,null,null,null,null,null,null,null,null,null,"",158,{"$f":"IF($I42=\"\",\"\",IF($CE42=0,\"Enter question type or turn off variable question type\",IF($G42=\"\",VLOOKUP($CE42,$BY:$CA,3,0),$G42)))","v":""},{"$f":"IF($I34=\"\",\"\",\"::\"&IF($B$16=\"\",\"\",$B$16&\"  \")&IF($E34=\"\",$H34,$E34)&\"::\")","v":""},null,{"$f":"IF($I56=\"\",\"\",IF($CE56=0,\"Enter question type or turn off variable question type\",$CD56))","v":""},null,{"$f":"ROW()-1","v":159},{"$f":"AT156+1","v":42},"",null,"",null,"",null,""]
[null,null,null,null,null,null,null,null,null,null,null,null,null,null,null,null,null,null,null,null,null,null,null,null,null,null,null,null,null,null,null,null,null,null,null,null,null,"",159,{"$f":"IF($I42=\"\",\"\",IF($CE42=0,\"Enter question type or turn off variable question type\",$CD42))","v":""},{"$f":"IF($I34=\"\",\"\",IF($CE34=0,\"Enter question type or turn off variable question type\",$CD34))","v":""},{"$f":"IF($I29=\"\",\"\",\"::\"&IF($B$16=\"\",\"\",$B$16&\"  \")&IF($E29=\"\",$H29,$E29)&\"::\")","v":""},null,null,{"$f":"ROW()-2","v":159},{"$f":"AT157+1","v":42},"",null,"",null,"",null,""]
[null,null,null,null,null,null,null,null,null,null,null,null,null,null,null,null,null,null,null,null,null,null,null,null,null,null,null,null,null,null,null,null,null,null,null,null,null,"",160,null,null,{"$f":"IF($I29=\"\",\"\",IF($CE29=0,\"Enter question type or turn off variable question type\",IF($G29=\"\",VLOOKUP($CE29,$BY:$CA,3,0),$G29)))","v":""},{"$f":"IF($I57=\"\",\"\",\"::\"&IF($B$16=\"\",\"\",$B$16&\"  \")&IF($E57=\"\",$H57,$E57)&\"::\")","v":""},null,null,null,"",null,"",null,"",null,56,{"$f":"ROW()/3","v":54}]
[null,null,null,null,null,null,null,null,null,null,null,null,null,null,null,null,null,null,null,null,null,null,null,null,null,null,null,null,null,null,null,null,null,null,null,null,null,"",161,{"$f":"IF($I43=\"\",\"\",\"::\"&IF($B$16=\"\",\"\",$B$16&\"  \")&IF($E43=\"\",$H43,$E43)&\"::\")","v":""},{"$f":"IF($I35=\"\",\"\",IF($B$18=\"\",\"INPUT MAIN CATEGORY (CELL B18) OR TURN CATEGORIES OFF\",\"$CATEGORY: \"&$B$18&IF($F35=\"\",\"\",\"/\"&$F35)))","v":""},{"$f":"IF($I29=\"\",\"\",IF($CE29=0,\"Enter question type or turn off variable question type\",$CD29))","v":""},{"$f":"IF($I57=\"\",\"\",IF($CE57=0,\"Enter question type or turn off variable question type\",$CD57))","v":""},null,null,null,43,{"$f":"(ROW()+1)/4","v":41},43,{"$f":"(ROW()+1)/4","v":41},35,{"$f":"(ROW()+2)/5","v":33},""]
[null,null,null,null,null,null,null,null,null,null,null,null,null,null,null,null,null,null,null,null,null,null,null,null,null,null,null,null,null,null,null,null,null,null,null,null,null,"",162,{"$f":"IF($I43=\"\",\"\",IF($CE43=0,\"Enter question type or turn off variable question type\",IF($G43=\"\",VLOOKUP($CE43,$BY:$CA,3,0),$G43)))","v":""},null,null,null,null,{"$f":"ROW()-1","v":163},{"$f":"AT160+1","v":43},"",null,"",null,"",null,""]
[null,null,null,null,null,null,null,null,null,null,null,null,null,null,null,null,null,null,null,null,null,null,null,null,null,null,null,null,null,null,null,null,null,null,null,null,null,"",163,{"$f":"IF($I43=\"\",\"\",IF($CE43=0,\"Enter question type or turn off variable question type\",$CD43))","v":""},{"$f":"IF($I35=\"\",\"\",\"::\"&IF($B$16=\"\",\"\",$B$16&\"  \")&IF($E35=\"\",$H35,$E35)&\"::\")","v":""},{"$f":"IF($I30=\"\",\"\",IF($B$18=\"\",\"INPUT MAIN CATEGORY (CELL B18) OR TURN CATEGORIES OFF\",\"$CATEGORY: \"&$B$18&IF($F30=\"\",\"\",\"/\"&$F30)))","v":""},{"$f":"IF($I58=\"\",\"\",\"::\"&IF($B$16=\"\",\"\",$B$16&\"  \")&IF($E58=\"\",$H58,$E58)&\"::\")","v":""},null,{"$f":"ROW()-2","v":163},{"$f":"AT161+1","v":43},"",null,"",null,"",null,57,{"$f":"ROW()/3","v":55}]
[null,null,null,null,null,null,null,null,null,null,null,null,null,null,null,null,null,null,null,null,null,null,null,null,null,null,null,null,null,null,null,null,null,null,null,null,null,"",164,null,{"$f":"IF($I35=\"\",\"\",IF($CE35=0,\"Enter question type or turn off variable question type\",$CD35))","v":""},null,{"$f":"IF($I58=\"\",\"\",IF($CE58=0,\"Enter question type or turn off variable question type\",$CD58))","v":""},null,null,null,"",null,"",null,"",null,""]
[null,null,null,null,null,null,null,null,null,null,null,null,null,null,null,null,null,null,null,null,null,null,null,null,null,null,null,null,null,null,null,null,null,null,null,null,null,"",165,{"$f":"IF($I44=\"\",\"\",\"::\"&IF($B$16=\"\",\"\",$B$16&\"  \")&IF($E44=\"\",$H44,$E44)&\"::\")","v":""},null,{"$f":"IF($I30=\"\",\"\",\"::\"&IF($B$16=\"\",\"\",$B$16&\"  \")&IF($E30=\"\",$H30,$E30)&\"::\")","v":""},null,null,null,null,44,{"$f":"(ROW()+1)/4","v":42},44,{"$f":"(ROW()+1)/4","v":42},"",null,""]
[null,null,null,null,null,null,null,null,null,null,null,null,null,null,null,null,null,null,null,null,null,null,null,null,null,null,null,null,null,null,null,null,null,null,null,null,null,"",166,{"$f":"IF($I44=\"\",\"\",IF($CE44=0,\"Enter question type or turn off variable question type\",IF($G44=\"\",VLOOKUP($CE44,$BY:$CA,3,0),$G44)))","v":""},{"$f":"IF($I36=\"\",\"\",IF($B$18=\"\",\"INPUT MAIN CATEGORY (CELL B18) OR TURN CATEGORIES OFF\",\"$CATEGORY: \"&$B$18&IF($F36=\"\",\"\",\"/\"&$F36)))","v":""},{"$f":"IF($I30=\"\",\"\",IF($CE30=0,\"Enter question type or turn off variable question type\",IF($G30=\"\",VLOOKUP($CE30,$BY:$CA,3,0),$G30)))","v":""},{"$f":"IF($I59=\"\",\"\",\"::\"&IF($B$16=\"\",\"\",$B$16&\"  \")&IF($E59=\"\",$H59,$E59)&\"::\")","v":""},null,{"$f":"ROW()-1","v":167},{"$f":"AT164+1","v":44},"",null,"",null,36,{"$f":"(ROW()+2)/5","v":34},58,{"$f":"ROW()/3","v":56}]
[null,null,null,null,null,null,null,null,null,null,null,null,null,null,null,null,null,null,null,null,null,null,null,null,null,null,null,null,null,null,null,null,null,null,null,null,null,"",167,{"$f":"IF($I44=\"\",\"\",IF($CE44=0,\"Enter question type or turn off variable question type\",$CD44))","v":""},null,{"$f":"IF($I30=\"\",\"\",IF($CE30=0,\"Enter question type or turn off variable question type\",$CD30))","v":""},{"$f":"IF($I59=\"\",\"\",IF($CE59=0,\"Enter question type or turn off variable question type\",$CD59))","v":""},null,{"$f":"ROW()-2","v":167},{"$f":"AT165+1","v":44},"",null,"",null,"",null,""]
[null,null,null,null,null,null,null,null,null,null,null,null,null,null,null,null,null,null,null,null,null,null,null,null,null,null,null,null,null,null,null,null,null,null,null,null,null,"",168,null,{"$f":"IF($I36=\"\",\"\",\"::\"&IF($B$16=\"\",\"\",$B$16&\"  \")&IF($E36=\"\",$H36,$E36)&\"::\")","v":""},null,null,null,null,null,"",null,"",null,"",null,""]
[null,null,null,null,null,null,null,null,null,null,null,null,null,null,null,null,null,null,null,null,null,null,null,null,null,null,null,null,null,null,null,null,null,null,null,null,null,"",169,{"$f":"IF($I45=\"\",\"\",\"::\"&IF($B$16=\"\",\"\",$B$16&\"  \")&IF($E45=\"\",$H45,$E45)&\"::\")","v":""},{"$f":"IF($I36=\"\",\"\",IF($CE36=0,\"Enter question type or turn off variable question type\",$CD36))","v":""},{"$f":"IF($I31=\"\",\"\",IF($B$18=\"\",\"INPUT MAIN CATEGORY (CELL B18) OR TURN CATEGORIES OFF\",\"$CATEGORY: \"&$B$18&IF($F31=\"\",\"\",\"/\"&$F31)))","v":""},{"$f":"IF($I60=\"\",\"\",\"::\"&IF($B$16=\"\",\"\",$B$16&\"  \")&IF($E60=\"\",$H60,$E60)&\"::\")","v":""},null,null,null,45,{"$f":"(ROW()+1)/4","v":43},45,{"$f":"(ROW()+1)/4","v":43},"",null,59,{"$f":"ROW()/3","v":57}]
[null,null,null,null,null,null,null,null,null,null,null,null,null,null,null,null,null,null,null,null,null,null,null,null,null,null,null,null,null,null,null,null,null,null,null,null,null,"",170,{"$f":"IF($I45=\"\",\"\",IF($CE45=0,\"Enter question type or turn off variable question type\",IF($G45=\"\",VLOOKUP($CE45,$BY:$CA,3,0),$G45)))","v":""},null,null,{"$f":"IF($I60=\"\",\"\",IF($CE60=0,\"Enter question type or turn off variable question type\",$CD60))","v":""},null,{"$f":"ROW()-1","v":171},{"$f":"AT168+1","v":45},"",null,"",null,"",null,""]
[null,null,null,null,null,null,null,null,null,null,null,null,null,null,null,null,null,null,null,null,null,null,null,null,null,null,null,null,null,null,null,null,null,null,null,null,null,"",171,{"$f":"IF($I45=\"\",\"\",IF($CE45=0,\"Enter question type or turn off variable question type\",$CD45))","v":""},{"$f":"IF($I37=\"\",\"\",IF($B$18=\"\",\"INPUT MAIN CATEGORY (CELL B18) OR TURN CATEGORIES OFF\",\"$CATEGORY: \"&$B$18&IF($F37=\"\",\"\",\"/\"&$F37)))","v":""},{"$f":"IF($I31=\"\",\"\",\"::\"&IF($B$16=\"\",\"\",$B$16&\"  \")&IF($E31=\"\",$H31,$E31)&\"::\")","v":""},null,null,{"$f":"ROW()-2","v":171},{"$f":"AT169+1","v":45},"",null,"",null,37,{"$f":"(ROW()+2)/5","v":35},""]
[null,null,null,null,null,null,null,null,null,null,null,null,null,null,null,null,null,null,null,null,null,null,null,null,null,null,null,null,null,null,null,null,null,null,null,null,null,"",172,null,null,{"$f":"IF($I31=\"\",\"\",IF($CE31=0,\"Enter question type or turn off variable question type\",IF($G31=\"\",VLOOKUP($CE31,$BY:$CA,3,0),$G31)))","v":""},{"$f":"IF($I61=\"\",\"\",\"::\"&IF($B$16=\"\",\"\",$B$16&\"  \")&IF($E61=\"\",$H61,$E61)&\"::\")","v":""},null,null,null,"",null,"",null,"",null,60,{"$f":"ROW()/3","v":58}]
[null,null,null,null,null,null,null,null,null,null,null,null,null,null,null,null,null,null,null,null,null,null,null,null,null,null,null,null,null,null,null,null,null,null,null,null,null,"",173,{"$f":"IF($I46=\"\",\"\",\"::\"&IF($B$16=\"\",\"\",$B$16&\"  \")&IF($E46=\"\",$H46,$E46)&\"::\")","v":""},{"$f":"IF($I37=\"\",\"\",\"::\"&IF($B$16=\"\",\"\",$B$16&\"  \")&IF($E37=\"\",$H37,$E37)&\"::\")","v":""},{"$f":"IF($I31=\"\",\"\",IF($CE31=0,\"Enter question type or turn off variable question type\",$CD31))","v":""},{"$f":"IF($I61=\"\",\"\",IF($CE61=0,\"Enter question type or turn off variable question type\",$CD61))","v":""},null,null,null,46,{"$f":"(ROW()+1)/4","v":44},46,{"$f":"(ROW()+1)/4","v":44},"",null,""]
[null,null,null,null,null,null,null,null,null,null,null,null,null,null,null,null,null,null,null,null,null,null,null,null,null,null,null,null,null,null,null,null,null,null,null,null,null,"",174,{"$f":"IF($I46=\"\",\"\",IF($CE46=0,\"Enter question type or turn off variable question type\",IF($G46=\"\",VLOOKUP($CE46,$BY:$CA,3,0),$G46)))","v":""},{"$f":"IF($I37=\"\",\"\",IF($CE37=0,\"Enter question type or turn off variable question type\",$CD37))","v":""},null,null,null,{"$f":"ROW()-1","v":175},{"$f":"AT172+1","v":46},"",null,"",null,"",null,""]
[null,null,null,null,null,null,null,null,null,null,null,null,null,null,null,null,null,null,null,null,null,null,null,null,null,null,null,null,null,null,null,null,null,null,null,null,null,"",175,{"$f":"IF($I46=\"\",\"\",IF($CE46=0,\"Enter question type or turn off variable question type\",$CD46))","v":""},null,{"$f":"IF($I32=\"\",\"\",IF($B$18=\"\",\"INPUT MAIN CATEGORY (CELL B18) OR TURN CATEGORIES OFF\",\"$CATEGORY: \"&$B$18&IF($F32=\"\",\"\",\"/\"&$F32)))","v":""},{"$f":"IF($I62=\"\",\"\",\"::\"&IF($B$16=\"\",\"\",$B$16&\"  \")&IF($E62=\"\",$H62,$E62)&\"::\")","v":""},null,{"$f":"ROW()-2","v":175},{"$f":"AT173+1","v":46},"",null,"",null,"",null,61,{"$f":"ROW()/3","v":59}]
[null,null,null,null,null,null,null,null,null,null,null,null,null,null,null,null,null,null,null,null,null,null,null,null,null,null,null,null,null,null,null,null,null,null,null,null,null,{"$f":"IF(VLOOKUP($AM178,$AM:$AQ,$A$6,0)=\"\",\"\",VLOOKUP($AM178,$AM:$AQ,$A$6,0))","v":""},176,null,{"$f":"IF($I38=\"\",\"\",IF($B$18=\"\",\"INPUT MAIN CATEGORY (CELL B18) OR TURN CATEGORIES OFF\",\"$CATEGORY: \"&$B$18&IF($F38=\"\",\"\",\"/\"&$F38)))","v":""},null,{"$f":"IF($I62=\"\",\"\",IF($CE62=0,\"Enter question type or turn off variable question type\",$CD62))","v":""},null,null,null,"",null,"",null,38,{"$f":"(ROW()+2)/5","v":36},""]
[null,null,null,null,null,null,null,null,null,null,null,null,null,null,null,null,null,null,null,null,null,null,null,null,null,null,null,null,null,null,null,null,null,null,null,null,null,"",177,{"$f":"IF($I47=\"\",\"\",\"::\"&IF($B$16=\"\",\"\",$B$16&\"  \")&IF($E47=\"\",$H47,$E47)&\"::\")","v":""},null,{"$f":"IF($I32=\"\",\"\",\"::\"&IF($B$16=\"\",\"\",$B$16&\"  \")&IF($E32=\"\",$H32,$E32)&\"::\")","v":""},null,null,null,null,47,{"$f":"(ROW()+1)/4","v":45},47,{"$f":"(ROW()+1)/4","v":45},"",null,""]
[null,null,null,null,null,null,null,null,null,null,null,null,null,null,null,null,null,null,null,null,null,null,null,null,null,null,null,null,null,null,null,null,null,null,null,null,null,"",178,{"$f":"IF($I47=\"\",\"\",IF($CE47=0,\"Enter question type or turn off variable question type\",IF($G47=\"\",VLOOKUP($CE47,$BY:$CA,3,0),$G47)))","v":""},{"$f":"IF($I38=\"\",\"\",\"::\"&IF($B$16=\"\",\"\",$B$16&\"  \")&IF($E38=\"\",$H38,$E38)&\"::\")","v":""},{"$f":"IF($I32=\"\",\"\",IF($CE32=0,\"Enter question type or turn off variable question type\",IF($G32=\"\",VLOOKUP($CE32,$BY:$CA,3,0),$G32)))","v":""},{"$f":"IF($I63=\"\",\"\",\"::\"&IF($B$16=\"\",\"\",$B$16&\"  \")&IF($E63=\"\",$H63,$E63)&\"::\")","v":""},null,{"$f":"ROW()-1","v":179},{"$f":"AT176+1","v":47},"",null,"",null,"",null,62,{"$f":"ROW()/3","v":60}]
[null,null,null,null,null,null,null,null,null,null,null,null,null,null,null,null,null,null,null,null,null,null,null,null,null,null,null,null,null,null,null,null,null,null,null,null,null,"",179,{"$f":"IF($I47=\"\",\"\",IF($CE47=0,\"Enter question type or turn off variable question type\",$CD47))","v":""},{"$f":"IF($I38=\"\",\"\",IF($CE38=0,\"Enter question type or turn off variable question type\",$CD38))","v":""},{"$f":"IF($I32=\"\",\"\",IF($CE32=0,\"Enter question type or turn off variable question type\",$CD32))","v":""},{"$f":"IF($I63=\"\",\"\",IF($CE63=0,\"Enter question type or turn off variable question type\",$CD63))","v":""},null,{"$f":"ROW()-2","v":179},{"$f":"AT177+1","v":47},"",null,"",null,"",null,""]
[null,null,null,null,null,null,null,null,null,null,null,null,null,null,null,null,null,null,null,null,null,null,null,null,null,null,null,null,null,null,null,null,null,null,null,null,null,"",180,null,null,null,null,null,null,null,"",null,"",null,"",null,""]
[null,null,null,null,null,null,null,null,null,null,null,null,null,null,null,null,null,null,null,null,null,null,null,null,null,null,null,null,null,null,null,null,null,null,null,null,null,"",181,{"$f":"IF($I48=\"\",\"\",\"::\"&IF($B$16=\"\",\"\",$B$16&\"  \")&IF($E48=\"\",$H48,$E48)&\"::\")","v":""},{"$f":"IF($I39=\"\",\"\",IF($B$18=\"\",\"INPUT MAIN CATEGORY (CELL B18) OR TURN CATEGORIES OFF\",\"$CATEGORY: \"&$B$18&IF($F39=\"\",\"\",\"/\"&$F39)))","v":""},{"$f":"IF($I33=\"\",\"\",IF($B$18=\"\",\"INPUT MAIN CATEGORY (CELL B18) OR TURN CATEGORIES OFF\",\"$CATEGORY: \"&$B$18&IF($F33=\"\",\"\",\"/\"&$F33)))","v":""},{"$f":"IF($I64=\"\",\"\",\"::\"&IF($B$16=\"\",\"\",$B$16&\"  \")&IF($E64=\"\",$H64,$E64)&\"::\")","v":""},null,null,null,48,{"$f":"(ROW()+1)/4","v":46},48,{"$f":"(ROW()+1)/4","v":46},39,{"$f":"(ROW()+2)/5","v":37},63,{"$f":"ROW()/3","v":61}]
[null,null,null,null,null,null,null,null,null,null,null,null,null,null,null,null,null,null,null,null,null,null,null,null,null,null,null,null,null,null,null,null,null,null,null,null,null,"",182,{"$f":"IF($I48=\"\",\"\",IF($CE48=0,\"Enter question type or turn off variable question type\",IF($G48=\"\",VLOOKUP($CE48,$BY:$CA,3,0),$G48)))","v":""},null,null,{"$f":"IF($I64=\"\",\"\",IF($CE64=0,\"Enter question type or turn off variable question type\",$CD64))","v":""},null,{"$f":"ROW()-1","v":183},{"$f":"AT180+1","v":48},"",null,"",null,"",null,""]
[null,null,null,null,null,null,null,null,null,null,null,null,null,null,null,null,null,null,null,null,null,null,null,null,null,null,null,null,null,null,null,null,null,null,null,null,null,"",183,{"$f":"IF($I48=\"\",\"\",IF($CE48=0,\"Enter question type or turn off variable question type\",$CD48))","v":""},{"$f":"IF($I39=\"\",\"\",\"::\"&IF($B$16=\"\",\"\",$B$16&\"  \")&IF($E39=\"\",$H39,$E39)&\"::\")","v":""},{"$f":"IF($I33=\"\",\"\",\"::\"&IF($B$16=\"\",\"\",$B$16&\"  \")&IF($E33=\"\",$H33,$E33)&\"::\")","v":""},null,null,{"$f":"ROW()-2","v":183},{"$f":"AT181+1","v":48},"",null,"",null,"",null,""]
[null,null,null,null,null,null,null,null,null,null,null,null,null,null,null,null,null,null,null,null,null,null,null,null,null,null,null,null,null,null,null,null,null,null,null,null,null,"",184,null,{"$f":"IF($I39=\"\",\"\",IF($CE39=0,\"Enter question type or turn off variable question type\",$CD39))","v":""},{"$f":"IF($I33=\"\",\"\",IF($CE33=0,\"Enter question type or turn off variable question type\",IF($G33=\"\",VLOOKUP($CE33,$BY:$CA,3,0),$G33)))","v":""},{"$f":"IF($I65=\"\",\"\",\"::\"&IF($B$16=\"\",\"\",$B$16&\"  \")&IF($E65=\"\",$H65,$E65)&\"::\")","v":""},null,null,null,"",null,"",null,"",null,64,{"$f":"ROW()/3","v":62}]
[null,null,null,null,null,null,null,null,null,null,null,null,null,null,null,null,null,null,null,null,null,null,null,null,null,null,null,null,null,null,null,null,null,null,null,null,null,"",185,{"$f":"IF($I49=\"\",\"\",\"::\"&IF($B$16=\"\",\"\",$B$16&\"  \")&IF($E49=\"\",$H49,$E49)&\"::\")","v":""},null,{"$f":"IF($I33=\"\",\"\",IF($CE33=0,\"Enter question type or turn off variable question type\",$CD33))","v":""},{"$f":"IF($I65=\"\",\"\",IF($CE65=0,\"Enter question type or turn off variable question type\",$CD65))","v":""},null,null,null,49,{"$f":"(ROW()+1)/4","v":47},49,{"$f":"(ROW()+1)/4","v":47},"",null,""]
[null,null,null,null,null,null,null,null,null,null,null,null,null,null,null,null,null,null,null,null,null,null,null,null,null,null,null,null,null,null,null,null,null,null,null,null,null,"",186,{"$f":"IF($I49=\"\",\"\",IF($CE49=0,\"Enter question type or turn off variable question type\",IF($G49=\"\",VLOOKUP($CE49,$BY:$CA,3,0),$G49)))","v":""},{"$f":"IF($I40=\"\",\"\",IF($B$18=\"\",\"INPUT MAIN CATEGORY (CELL B18) OR TURN CATEGORIES OFF\",\"$CATEGORY: \"&$B$18&IF($F40=\"\",\"\",\"/\"&$F40)))","v":""},null,null,null,{"$f":"ROW()-1","v":187},{"$f":"AT184+1","v":49},"",null,"",null,40,{"$f":"(ROW()+2)/5","v":38},""]
[null,null,null,null,null,null,null,null,null,null,null,null,null,null,null,null,null,null,null,null,null,null,null,null,null,null,null,null,null,null,null,null,null,null,null,null,null,"",187,{"$f":"IF($I49=\"\",\"\",IF($CE49=0,\"Enter question type or turn off variable question type\",$CD49))","v":""},null,{"$f":"IF($I34=\"\",\"\",IF($B$18=\"\",\"INPUT MAIN CATEGORY (CELL B18) OR TURN CATEGORIES OFF\",\"$CATEGORY: \"&$B$18&IF($F34=\"\",\"\",\"/\"&$F34)))","v":""},{"$f":"IF($I66=\"\",\"\",\"::\"&IF($B$16=\"\",\"\",$B$16&\"  \")&IF($E66=\"\",$H66,$E66)&\"::\")","v":""},null,{"$f":"ROW()-2","v":187},{"$f":"AT185+1","v":49},"",null,"",null,"",null,65,{"$f":"ROW()/3","v":63}]
[null,null,null,null,null,null,null,null,null,null,null,null,null,null,null,null,null,null,null,null,null,null,null,null,null,null,null,null,null,null,null,null,null,null,null,null,null,{"$f":"IF(VLOOKUP($AM190,$AM:$AQ,$A$6,0)=\"\",\"\",VLOOKUP($AM190,$AM:$AQ,$A$6,0))","v":""},188,null,{"$f":"IF($I40=\"\",\"\",\"::\"&IF($B$16=\"\",\"\",$B$16&\"  \")&IF($E40=\"\",$H40,$E40)&\"::\")","v":""},null,{"$f":"IF($I66=\"\",\"\",IF($CE66=0,\"Enter question type or turn off variable question type\",$CD66))","v":""},null,null,null,"",null,"",null,"",null,""]
[null,null,null,null,null,null,null,null,null,null,null,null,null,null,null,null,null,null,null,null,null,null,null,null,null,null,null,null,null,null,null,null,null,null,null,null,null,"",189,{"$f":"IF($I50=\"\",\"\",\"::\"&IF($B$16=\"\",\"\",$B$16&\"  \")&IF($E50=\"\",$H50,$E50)&\"::\")","v":""},{"$f":"IF($I40=\"\",\"\",IF($CE40=0,\"Enter question type or turn off variable question type\",$CD40))","v":""},{"$f":"IF($I34=\"\",\"\",\"::\"&IF($B$16=\"\",\"\",$B$16&\"  \")&IF($E34=\"\",$H34,$E34)&\"::\")","v":""},null,null,null,null,50,{"$f":"(ROW()+1)/4","v":48},50,{"$f":"(ROW()+1)/4","v":48},"",null,""]
[null,null,null,null,null,null,null,null,null,null,null,null,null,null,null,null,null,null,null,null,null,null,null,null,null,null,null,null,null,null,null,null,null,null,null,null,null,"",190,{"$f":"IF($I50=\"\",\"\",IF($CE50=0,\"Enter question type or turn off variable question type\",IF($G50=\"\",VLOOKUP($CE50,$BY:$CA,3,0),$G50)))","v":""},null,{"$f":"IF($I34=\"\",\"\",IF($CE34=0,\"Enter question type or turn off variable question type\",IF($G34=\"\",VLOOKUP($CE34,$BY:$CA,3,0),$G34)))","v":""},{"$f":"IF($I67=\"\",\"\",\"::\"&IF($B$16=\"\",\"\",$B$16&\"  \")&IF($E67=\"\",$H67,$E67)&\"::\")","v":""},null,{"$f":"ROW()-1","v":191},{"$f":"AT188+1","v":50},"",null,"",null,"",null,66,{"$f":"ROW()/3","v":64}]
[null,null,null,null,null,null,null,null,null,null,null,null,null,null,null,null,null,null,null,null,null,null,null,null,null,null,null,null,null,null,null,null,null,null,null,null,null,"",191,{"$f":"IF($I50=\"\",\"\",IF($CE50=0,\"Enter question type or turn off variable question type\",$CD50))","v":""},{"$f":"IF($I41=\"\",\"\",IF($B$18=\"\",\"INPUT MAIN CATEGORY (CELL B18) OR TURN CATEGORIES OFF\",\"$CATEGORY: \"&$B$18&IF($F41=\"\",\"\",\"/\"&$F41)))","v":""},{"$f":"IF($I34=\"\",\"\",IF($CE34=0,\"Enter question type or turn off variable question type\",$CD34))","v":""},{"$f":"IF($I67=\"\",\"\",IF($CE67=0,\"Enter question type or turn off variable question type\",$CD67))","v":""},null,{"$f":"ROW()-2","v":191},{"$f":"AT189+1","v":50},"",null,"",null,41,{"$f":"(ROW()+2)/5","v":39},""]
[null,null,null,null,null,null,null,null,null,null,null,null,null,null,null,null,null,null,null,null,null,null,null,null,null,null,null,null,null,null,null,null,null,null,null,null,null,"",192,null,null,null,null,null,null,null,"",null,"",null,"",null,""]
[null,null,null,null,null,null,null,null,null,null,null,null,null,null,null,null,null,null,null,null,null,null,null,null,null,null,null,null,null,null,null,null,null,null,null,null,null,"",193,{"$f":"IF($I51=\"\",\"\",\"::\"&IF($B$16=\"\",\"\",$B$16&\"  \")&IF($E51=\"\",$H51,$E51)&\"::\")","v":""},{"$f":"IF($I41=\"\",\"\",\"::\"&IF($B$16=\"\",\"\",$B$16&\"  \")&IF($E41=\"\",$H41,$E41)&\"::\")","v":""},{"$f":"IF($I35=\"\",\"\",IF($B$18=\"\",\"INPUT MAIN CATEGORY (CELL B18) OR TURN CATEGORIES OFF\",\"$CATEGORY: \"&$B$18&IF($F35=\"\",\"\",\"/\"&$F35)))","v":""},{"$f":"IF($I68=\"\",\"\",\"::\"&IF($B$16=\"\",\"\",$B$16&\"  \")&IF($E68=\"\",$H68,$E68)&\"::\")","v":""},null,null,null,51,{"$f":"(ROW()+1)/4","v":49},51,{"$f":"(ROW()+1)/4","v":49},"",null,67,{"$f":"ROW()/3","v":65}]
[null,null,null,null,null,null,null,null,null,null,null,null,null,null,null,null,null,null,null,null,null,null,null,null,null,null,null,null,null,null,null,null,null,null,null,null,null,"",194,{"$f":"IF($I51=\"\",\"\",IF($CE51=0,\"Enter question type or turn off variable question type\",IF($G51=\"\",VLOOKUP($CE51,$BY:$CA,3,0),$G51)))","v":""},{"$f":"IF($I41=\"\",\"\",IF($CE41=0,\"Enter question type or turn off variable question type\",$CD41))","v":""},null,{"$f":"IF($I68=\"\",\"\",IF($CE68=0,\"Enter question type or turn off variable question type\",$CD68))","v":""},null,{"$f":"ROW()-1","v":195},{"$f":"AT192+1","v":51},{"$f":"IF(AV196+2=2,\"\",AV196+2)","v":""},null,"",null,{"$f":"IF(AZ196+2=2,\"\",AZ196+2)","v":""},null,""]
[null,null,null,null,null,null,null,null,null,null,null,null,null,null,null,null,null,null,null,null,null,null,null,null,null,null,null,null,null,null,null,null,null,null,null,null,null,"",195,{"$f":"IF($I51=\"\",\"\",IF($CE51=0,\"Enter question type or turn off variable question type\",$CD51))","v":""},null,{"$f":"IF($I35=\"\",\"\",\"::\"&IF($B$16=\"\",\"\",$B$16&\"  \")&IF($E35=\"\",$H35,$E35)&\"::\")","v":""},null,null,{"$f":"ROW()-2","v":195},{"$f":"AT193+1","v":51},"",null,"",null,"",null,""]
[null,null,null,null,null,null,null,null,null,null,null,null,null,null,null,null,null,null,null,null,null,null,null,null,null,null,null,null,null,null,null,null,null,null,null,null,null,"",196,null,{"$f":"IF($I42=\"\",\"\",IF($B$18=\"\",\"INPUT MAIN CATEGORY (CELL B18) OR TURN CATEGORIES OFF\",\"$CATEGORY: \"&$B$18&IF($F42=\"\",\"\",\"/\"&$F42)))","v":""},{"$f":"IF($I35=\"\",\"\",IF($CE35=0,\"Enter question type or turn off variable question type\",IF($G35=\"\",VLOOKUP($CE35,$BY:$CA,3,0),$G35)))","v":""},{"$f":"IF($I69=\"\",\"\",\"::\"&IF($B$16=\"\",\"\",$B$16&\"  \")&IF($E69=\"\",$H69,$E69)&\"::\")","v":""},null,null,null,"",null,"",null,42,{"$f":"(ROW()+2)/5","v":40},68,{"$f":"ROW()/3","v":66}]
[null,null,null,null,null,null,null,null,null,null,null,null,null,null,null,null,null,null,null,null,null,null,null,null,null,null,null,null,null,null,null,null,null,null,null,null,null,"",197,{"$f":"IF($I52=\"\",\"\",\"::\"&IF($B$16=\"\",\"\",$B$16&\"  \")&IF($E52=\"\",$H52,$E52)&\"::\")","v":""},null,{"$f":"IF($I35=\"\",\"\",IF($CE35=0,\"Enter question type or turn off variable question type\",$CD35))","v":""},{"$f":"IF($I69=\"\",\"\",IF($CE69=0,\"Enter question type or turn off variable question type\",$CD69))","v":""},null,null,null,52,{"$f":"(ROW()+1)/4","v":50},52,{"$f":"(ROW()+1)/4","v":50},"",null,""]
[null,null,null,null,null,null,null,null,null,null,null,null,null,null,null,null,null,null,null,null,null,null,null,null,null,null,null,null,null,null,null,null,null,null,null,null,null,"",198,{"$f":"IF($I52=\"\",\"\",IF($CE52=0,\"Enter question type or turn off variable question type\",IF($G52=\"\",VLOOKUP($CE52,$BY:$CA,3,0),$G52)))","v":""},{"$f":"IF($I42=\"\",\"\",\"::\"&IF($B$16=\"\",\"\",$B$16&\"  \")&IF($E42=\"\",$H42,$E42)&\"::\")","v":""},null,null,null,{"$f":"ROW()-1","v":199},{"$f":"AT196+1","v":52},"",null,"",null,"",null,""]
[null,null,null,null,null,null,null,null,null,null,null,null,null,null,null,null,null,null,null,null,null,null,null,null,null,null,null,null,null,null,null,null,null,null,null,null,null,"",199,{"$f":"IF($I52=\"\",\"\",IF($CE52=0,\"Enter question type or turn off variable question type\",$CD52))","v":""},{"$f":"IF($I42=\"\",\"\",IF($CE42=0,\"Enter question type or turn off variable question type\",$CD42))","v":""},{"$f":"IF($I36=\"\",\"\",IF($B$18=\"\",\"INPUT MAIN CATEGORY (CELL B18) OR TURN CATEGORIES OFF\",\"$CATEGORY: \"&$B$18&IF($F36=\"\",\"\",\"/\"&$F36)))","v":""},{"$f":"IF($I70=\"\",\"\",\"::\"&IF($B$16=\"\",\"\",$B$16&\"  \")&IF($E70=\"\",$H70,$E70)&\"::\")","v":""},null,{"$f":"ROW()-2","v":199},{"$f":"AT197+1","v":52},"",null,"",null,"",null,69,{"$f":"ROW()/3","v":67}]
[null,null,null,null,null,null,null,null,null,null,null,null,null,null,null,null,null,null,null,null,null,null,null,null,null,null,null,null,null,null,null,null,null,null,null,null,null,"",200,null,null,null,{"$f":"IF($I70=\"\",\"\",IF($CE70=0,\"Enter question type or turn off variable question type\",$CD70))","v":""},null,null,null,null,null,null,null,"",null,""]
[null,null,null,null,null,null,null,null,null,null,null,null,null,null,null,null,null,null,null,null,null,null,null,null,null,null,null,null,null,null,null,null,null,null,null,null,null,"",201,{"$f":"IF($I53=\"\",\"\",\"::\"&IF($B$16=\"\",\"\",$B$16&\"  \")&IF($E53=\"\",$H53,$E53)&\"::\")","v":""},{"$f":"IF($I43=\"\",\"\",IF($B$18=\"\",\"INPUT MAIN CATEGORY (CELL B18) OR TURN CATEGORIES OFF\",\"$CATEGORY: \"&$B$18&IF($F43=\"\",\"\",\"/\"&$F43)))","v":""},{"$f":"IF($I36=\"\",\"\",\"::\"&IF($B$16=\"\",\"\",$B$16&\"  \")&IF($E36=\"\",$H36,$E36)&\"::\")","v":""},null,null,null,null,{"$f":"IF(AV203+2=2,\"\",AV203+2)","v":53},{"$f":"(ROW()+1)/4","v":51},{"$f":"IF(AX203+2=2,\"\",AX203+2)","v":53},{"$f":"(ROW()+1)/4","v":51},43,{"$f":"(ROW()+2)/5","v":41},""]
[null,null,null,null,null,null,null,null,null,null,null,null,null,null,null,null,null,null,null,null,null,null,null,null,null,null,null,null,null,null,null,null,null,null,null,null,null,"",202,{"$f":"IF($I53=\"\",\"\",IF($CE53=0,\"Enter question type or turn off variable question type\",IF($G53=\"\",VLOOKUP($CE53,$BY:$CA,3,0),$G53)))","v":""},null,{"$f":"IF($I36=\"\",\"\",IF($CE36=0,\"Enter question type or turn off variable question type\",IF($G36=\"\",VLOOKUP($CE36,$BY:$CA,3,0),$G36)))","v":""},{"$f":"IF($I71=\"\",\"\",\"::\"&IF($B$16=\"\",\"\",$B$16&\"  \")&IF($E71=\"\",$H71,$E71)&\"::\")","v":""},null,null,null,"",null,"",null,"",null,70,{"$f":"ROW()/3","v":68}]
[null,null,null,null,null,null,null,null,null,null,null,null,null,null,null,null,null,null,null,null,null,null,null,null,null,null,null,null,null,null,null,null,null,null,null,null,null,"",203,{"$f":"IF($I53=\"\",\"\",IF($CE53=0,\"Enter question type or turn off variable question type\",$CD53))","v":""},{"$f":"IF($I43=\"\",\"\",\"::\"&IF($B$16=\"\",\"\",$B$16&\"  \")&IF($E43=\"\",$H43,$E43)&\"::\")","v":""},{"$f":"IF($I36=\"\",\"\",IF($CE36=0,\"Enter question type or turn off variable question type\",$CD36))","v":""},{"$f":"IF($I71=\"\",\"\",IF($CE71=0,\"Enter question type or turn off variable question type\",$CD71))","v":""},null,null,null,"",null,"",null,"",null,""]
[null,null,null,null,null,null,null,null,null,null,null,null,null,null,null,null,null,null,null,null,null,null,null,null,null,null,null,null,null,null,null,null,null,null,null,null,null,"",204,null,{"$f":"IF($I43=\"\",\"\",IF($CE43=0,\"Enter question type or turn off variable question type\",$CD43))","v":""},null,null,null,null,null,null,null,null,null,"",null,""]
[null,null,null,null,null,null,null,null,null,null,null,null,null,null,null,null,null,null,null,null,null,null,null,null,null,null,null,null,null,null,null,null,null,null,null,null,null,"",205,{"$f":"IF($I54=\"\",\"\",\"::\"&IF($B$16=\"\",\"\",$B$16&\"  \")&IF($E54=\"\",$H54,$E54)&\"::\")","v":""},null,{"$f":"IF($I37=\"\",\"\",IF($B$18=\"\",\"INPUT MAIN CATEGORY (CELL B18) OR TURN CATEGORIES OFF\",\"$CATEGORY: \"&$B$18&IF($F37=\"\",\"\",\"/\"&$F37)))","v":""},{"$f":"IF($I72=\"\",\"\",\"::\"&IF($B$16=\"\",\"\",$B$16&\"  \")&IF($E72=\"\",$H72,$E72)&\"::\")","v":""},null,null,null,{"$f":"IF(AV207+2=2,\"\",AV207+2)","v":54},{"$f":"(ROW()+1)/4","v":52},{"$f":"IF(AX207+2=2,\"\",AX207+2)","v":54},{"$f":"(ROW()+1)/4","v":52},"",null,71,{"$f":"ROW()/3","v":69}]
[null,null,null,null,null,null,null,null,null,null,null,null,null,null,null,null,null,null,null,null,null,null,null,null,null,null,null,null,null,null,null,null,null,null,null,null,null,"",206,{"$f":"IF($I54=\"\",\"\",IF($CE54=0,\"Enter question type or turn off variable question type\",IF($G54=\"\",VLOOKUP($CE54,$BY:$CA,3,0),$G54)))","v":""},{"$f":"IF($I44=\"\",\"\",IF($B$18=\"\",\"INPUT MAIN CATEGORY (CELL B18) OR TURN CATEGORIES OFF\",\"$CATEGORY: \"&$B$18&IF($F44=\"\",\"\",\"/\"&$F44)))","v":""},null,{"$f":"IF($I72=\"\",\"\",IF($CE72=0,\"Enter question type or turn off variable question type\",$CD72))","v":""},null,null,null,"",null,"",null,44,{"$f":"(ROW()+2)/5","v":42},""]
[null,null,null,null,null,null,null,null,null,null,null,null,null,null,null,null,null,null,null,null,null,null,null,null,null,null,null,null,null,null,null,null,null,null,null,null,null,"",207,{"$f":"IF($I54=\"\",\"\",IF($CE54=0,\"Enter question type or turn off variable question type\",$CD54))","v":""},null,{"$f":"IF($I37=\"\",\"\",\"::\"&IF($B$16=\"\",\"\",$B$16&\"  \")&IF($E37=\"\",$H37,$E37)&\"::\")","v":""},null,null,null,null,"",null,"",null,"",null,""]
[null,null,null,null,null,null,null,null,null,null,null,null,null,null,null,null,null,null,null,null,null,null,null,null,null,null,null,null,null,null,null,null,null,null,null,null,null,"",208,null,{"$f":"IF($I44=\"\",\"\",\"::\"&IF($B$16=\"\",\"\",$B$16&\"  \")&IF($E44=\"\",$H44,$E44)&\"::\")","v":""},{"$f":"IF($I37=\"\",\"\",IF($CE37=0,\"Enter question type or turn off variable question type\",IF($G37=\"\",VLOOKUP($CE37,$BY:$CA,3,0),$G37)))","v":""},{"$f":"IF($I73=\"\",\"\",\"::\"&IF($B$16=\"\",\"\",$B$16&\"  \")&IF($E73=\"\",$H73,$E73)&\"::\")","v":""},null,null,null,null,null,null,null,"",null,72,{"$f":"ROW()/3","v":70}]
[null,null,null,null,null,null,null,null,null,null,null,null,null,null,null,null,null,null,null,null,null,null,null,null,null,null,null,null,null,null,null,null,null,null,null,null,null,"",209,{"$f":"IF($I55=\"\",\"\",\"::\"&IF($B$16=\"\",\"\",$B$16&\"  \")&IF($E55=\"\",$H55,$E55)&\"::\")","v":""},{"$f":"IF($I44=\"\",\"\",IF($CE44=0,\"Enter question type or turn off variable question type\",$CD44))","v":""},{"$f":"IF($I37=\"\",\"\",IF($CE37=0,\"Enter question type or turn off variable question type\",$CD37))","v":""},{"$f":"IF($I73=\"\",\"\",IF($CE73=0,\"Enter question type or turn off variable question type\",$CD73))","v":""},null,null,null,{"$f":"IF(AV211+2=2,\"\",AV211+2)","v":55},{"$f":"(ROW()+1)/4","v":53},{"$f":"IF(AX211+2=2,\"\",AX211+2)","v":55},{"$f":"(ROW()+1)/4","v":53},"",null,""]
[null,null,null,null,null,null,null,null,null,null,null,null,null,null,null,null,null,null,null,null,null,null,null,null,null,null,null,null,null,null,null,null,null,null,null,null,null,"",210,{"$f":"IF($I55=\"\",\"\",IF($CE55=0,\"Enter question type or turn off variable question type\",IF($G55=\"\",VLOOKUP($CE55,$BY:$CA,3,0),$G55)))","v":""},null,null,null,null,null,null,"",null,"",null,"",null,""]
[null,null,null,null,null,null,null,null,null,null,null,null,null,null,null,null,null,null,null,null,null,null,null,null,null,null,null,null,null,null,null,null,null,null,null,null,null,"",211,{"$f":"IF($I55=\"\",\"\",IF($CE55=0,\"Enter question type or turn off variable question type\",$CD55))","v":""},{"$f":"IF($I45=\"\",\"\",IF($B$18=\"\",\"INPUT MAIN CATEGORY (CELL B18) OR TURN CATEGORIES OFF\",\"$CATEGORY: \"&$B$18&IF($F45=\"\",\"\",\"/\"&$F45)))","v":""},{"$f":"IF($I38=\"\",\"\",IF($B$18=\"\",\"INPUT MAIN CATEGORY (CELL B18) OR TURN CATEGORIES OFF\",\"$CATEGORY: \"&$B$18&IF($F38=\"\",\"\",\"/\"&$F38)))","v":""},{"$f":"IF($I74=\"\",\"\",\"::\"&IF($B$16=\"\",\"\",$B$16&\"  \")&IF($E74=\"\",$H74,$E74)&\"::\")","v":""},null,null,null,"",null,"",null,45,{"$f":"(ROW()+2)/5","v":43},73,{"$f":"ROW()/3","v":71}]
[null,null,null,null,null,null,null,null,null,null,null,null,null,null,null,null,null,null,null,null,null,null,null,null,null,null,null,null,null,null,null,null,null,null,null,null,null,"",212,null,null,null,{"$f":"IF($I74=\"\",\"\",IF($CE74=0,\"Enter question type or turn off variable question type\",$CD74))","v":""},null,null,null,null,null,null,null,"",null,""]
[null,null,null,null,null,null,null,null,null,null,null,null,null,null,null,null,null,null,null,null,null,null,null,null,null,null,null,null,null,null,null,null,null,null,null,null,null,"",213,{"$f":"IF($I56=\"\",\"\",\"::\"&IF($B$16=\"\",\"\",$B$16&\"  \")&IF($E56=\"\",$H56,$E56)&\"::\")","v":""},{"$f":"IF($I45=\"\",\"\",\"::\"&IF($B$16=\"\",\"\",$B$16&\"  \")&IF($E45=\"\",$H45,$E45)&\"::\")","v":""},{"$f":"IF($I38=\"\",\"\",\"::\"&IF($B$16=\"\",\"\",$B$16&\"  \")&IF($E38=\"\",$H38,$E38)&\"::\")","v":""},null,null,null,null,{"$f":"IF(AV215+2=2,\"\",AV215+2)","v":56},{"$f":"(ROW()+1)/4","v":54},{"$f":"IF(AX215+2=2,\"\",AX215+2)","v":56},{"$f":"(ROW()+1)/4","v":54},"",null,""]
[null,null,null,null,null,null,null,null,null,null,null,null,null,null,null,null,null,null,null,null,null,null,null,null,null,null,null,null,null,null,null,null,null,null,null,null,null,"",214,{"$f":"IF($I56=\"\",\"\",IF($CE56=0,\"Enter question type or turn off variable question type\",IF($G56=\"\",VLOOKUP($CE56,$BY:$CA,3,0),$G56)))","v":""},{"$f":"IF($I45=\"\",\"\",IF($CE45=0,\"Enter question type or turn off variable question type\",$CD45))","v":""},{"$f":"IF($I38=\"\",\"\",IF($CE38=0,\"Enter question type or turn off variable question type\",IF($G38=\"\",VLOOKUP($CE38,$BY:$CA,3,0),$G38)))","v":""},{"$f":"IF($I75=\"\",\"\",\"::\"&IF($B$16=\"\",\"\",$B$16&\"  \")&IF($E75=\"\",$H75,$E75)&\"::\")","v":""},null,null,null,"",null,"",null,"",null,74,{"$f":"ROW()/3","v":72}]
[null,null,null,null,null,null,null,null,null,null,null,null,null,null,null,null,null,null,null,null,null,null,null,null,null,null,null,null,null,null,null,null,null,null,null,null,null,"",215,{"$f":"IF($I56=\"\",\"\",IF($CE56=0,\"Enter question type or turn off variable question type\",$CD56))","v":""},null,{"$f":"IF($I38=\"\",\"\",IF($CE38=0,\"Enter question type or turn off variable question type\",$CD38))","v":""},{"$f":"IF($I75=\"\",\"\",IF($CE75=0,\"Enter question type or turn off variable question type\",$CD75))","v":""},null,null,null,"",null,"",null,"",null,{"$f":"IF(BB217+2=2,\"\",BB217+2)","v":""}]
[null,null,null,null,null,null,null,null,null,null,null,null,null,null,null,null,null,null,null,null,null,null,null,null,null,null,null,null,null,null,null,null,null,null,null,null,null,"",216,null,{"$f":"IF($I46=\"\",\"\",IF($B$18=\"\",\"INPUT MAIN CATEGORY (CELL B18) OR TURN CATEGORIES OFF\",\"$CATEGORY: \"&$B$18&IF($F46=\"\",\"\",\"/\"&$F46)))","v":""},null,null,null,null,null,null,null,null,null,46,{"$f":"(ROW()+2)/5","v":44},""]
[null,null,null,null,null,null,null,null,null,null,null,null,null,null,null,null,null,null,null,null,null,null,null,null,null,null,null,null,null,null,null,null,null,null,null,null,null,"",217,{"$f":"IF($I57=\"\",\"\",\"::\"&IF($B$16=\"\",\"\",$B$16&\"  \")&IF($E57=\"\",$H57,$E57)&\"::\")","v":""},null,{"$f":"IF($I39=\"\",\"\",IF($B$18=\"\",\"INPUT MAIN CATEGORY (CELL B18) OR TURN CATEGORIES OFF\",\"$CATEGORY: \"&$B$18&IF($F39=\"\",\"\",\"/\"&$F39)))","v":""},{"$f":"IF($I76=\"\",\"\",\"::\"&IF($B$16=\"\",\"\",$B$16&\"  \")&IF($E76=\"\",$H76,$E76)&\"::\")","v":""},null,null,null,{"$f":"IF(AV219+2=2,\"\",AV219+2)","v":57},{"$f":"(ROW()+1)/4","v":55},{"$f":"IF(AX219+2=2,\"\",AX219+2)","v":57},{"$f":"(ROW()+1)/4","v":55},"",null,75,{"$f":"ROW()/3","v":73}]
[null,null,null,null,null,null,null,null,null,null,null,null,null,null,null,null,null,null,null,null,null,null,null,null,null,null,null,null,null,null,null,null,null,null,null,null,null,"",218,{"$f":"IF($I57=\"\",\"\",IF($CE57=0,\"Enter question type or turn off variable question type\",IF($G57=\"\",VLOOKUP($CE57,$BY:$CA,3,0),$G57)))","v":""},{"$f":"IF($I46=\"\",\"\",\"::\"&IF($B$16=\"\",\"\",$B$16&\"  \")&IF($E46=\"\",$H46,$E46)&\"::\")","v":""},null,{"$f":"IF($I76=\"\",\"\",IF($CE76=0,\"Enter question type or turn off variable question type\",$CD76))","v":""},null,null,null,"",null,"",null,"",null,""]
[null,null,null,null,null,null,null,null,null,null,null,null,null,null,null,null,null,null,null,null,null,null,null,null,null,null,null,null,null,null,null,null,null,null,null,null,null,"",219,{"$f":"IF($I57=\"\",\"\",IF($CE57=0,\"Enter question type or turn off variable question type\",$CD57))","v":""},{"$f":"IF($I46=\"\",\"\",IF($CE46=0,\"Enter question type or turn off variable question type\",$CD46))","v":""},{"$f":"IF($I39=\"\",\"\",\"::\"&IF($B$16=\"\",\"\",$B$16&\"  \")&IF($E39=\"\",$H39,$E39)&\"::\")","v":""},null,null,null,null,"",null,"",null,"",null,""]
[null,null,null,null,null,null,null,null,null,null,null,null,null,null,null,null,null,null,null,null,null,null,null,null,null,null,null,null,null,null,null,null,null,null,null,null,null,"",220,null,null,{"$f":"IF($I39=\"\",\"\",IF($CE39=0,\"Enter question type or turn off variable question type\",IF($G39=\"\",VLOOKUP($CE39,$BY:$CA,3,0),$G39)))","v":""},{"$f":"IF($I77=\"\",\"\",\"::\"&IF($B$16=\"\",\"\",$B$16&\"  \")&IF($E77=\"\",$H77,$E77)&\"::\")","v":""},null,null,null,null,null,null,null,"",null,76,{"$f":"ROW()/3","v":74}]
[null,null,null,null,null,null,null,null,null,null,null,null,null,null,null,null,null,null,null,null,null,null,null,null,null,null,null,null,null,null,null,null,null,null,null,null,null,"",221,{"$f":"IF($I58=\"\",\"\",\"::\"&IF($B$16=\"\",\"\",$B$16&\"  \")&IF($E58=\"\",$H58,$E58)&\"::\")","v":""},{"$f":"IF($I47=\"\",\"\",IF($B$18=\"\",\"INPUT MAIN CATEGORY (CELL B18) OR TURN CATEGORIES OFF\",\"$CATEGORY: \"&$B$18&IF($F47=\"\",\"\",\"/\"&$F47)))","v":""},{"$f":"IF($I39=\"\",\"\",IF($CE39=0,\"Enter question type or turn off variable question type\",$CD39))","v":""},{"$f":"IF($I77=\"\",\"\",IF($CE77=0,\"Enter question type or turn off variable question type\",$CD77))","v":""},null,null,null,{"$f":"IF(AV223+2=2,\"\",AV223+2)","v":58},{"$f":"(ROW()+1)/4","v":56},{"$f":"IF(AX223+2=2,\"\",AX223+2)","v":58},{"$f":"(ROW()+1)/4","v":56},47,{"$f":"(ROW()+2)/5","v":45},""]
[null,null,null,null,null,null,null,null,null,null,null,null,null,null,null,null,null,null,null,null,null,null,null,null,null,null,null,null,null,null,null,null,null,null,null,null,null,"",222,{"$f":"IF($I58=\"\",\"\",IF($CE58=0,\"Enter question type or turn off variable question type\",IF($G58=\"\",VLOOKUP($CE58,$BY:$CA,3,0),$G58)))","v":""},null,null,null,null,null,null,"",null,"",null,"",null,""]
[null,null,null,null,null,null,null,null,null,null,null,null,null,null,null,null,null,null,null,null,null,null,null,null,null,null,null,null,null,null,null,null,null,null,null,null,null,"",223,{"$f":"IF($I58=\"\",\"\",IF($CE58=0,\"Enter question type or turn off variable question type\",$CD58))","v":""},{"$f":"IF($I47=\"\",\"\",\"::\"&IF($B$16=\"\",\"\",$B$16&\"  \")&IF($E47=\"\",$H47,$E47)&\"::\")","v":""},{"$f":"IF($I40=\"\",\"\",IF($B$18=\"\",\"INPUT MAIN CATEGORY (CELL B18) OR TURN CATEGORIES OFF\",\"$CATEGORY: \"&$B$18&IF($F40=\"\",\"\",\"/\"&$F40)))","v":""},{"$f":"IF($I78=\"\",\"\",\"::\"&IF($B$16=\"\",\"\",$B$16&\"  \")&IF($E78=\"\",$H78,$E78)&\"::\")","v":""},null,null,null,"",null,"",null,"",null,77,{"$f":"ROW()/3","v":75}]
[null,null,null,null,null,null,null,null,null,null,null,null,null,null,null,null,null,null,null,null,null,null,null,null,null,null,null,null,null,null,null,null,null,null,null,null,null,"",224,null,{"$f":"IF($I47=\"\",\"\",IF($CE47=0,\"Enter question type or turn off variable question type\",$CD47))","v":""},null,{"$f":"IF($I78=\"\",\"\",IF($CE78=0,\"Enter question type or turn off variable question type\",$CD78))","v":""},null,null,null,null,null,null,null,"",null,""]
[null,null,null,null,null,null,null,null,null,null,null,null,null,null,null,null,null,null,null,null,null,null,null,null,null,null,null,null,null,null,null,null,null,null,null,null,null,"",225,{"$f":"IF($I59=\"\",\"\",\"::\"&IF($B$16=\"\",\"\",$B$16&\"  \")&IF($E59=\"\",$H59,$E59)&\"::\")","v":""},null,{"$f":"IF($I40=\"\",\"\",\"::\"&IF($B$16=\"\",\"\",$B$16&\"  \")&IF($E40=\"\",$H40,$E40)&\"::\")","v":""},null,null,null,null,{"$f":"IF(AV227+2=2,\"\",AV227+2)","v":59},{"$f":"(ROW()+1)/4","v":57},{"$f":"IF(AX227+2=2,\"\",AX227+2)","v":59},{"$f":"(ROW()+1)/4","v":57},"",null,""]
[null,null,null,null,null,null,null,null,null,null,null,null,null,null,null,null,null,null,null,null,null,null,null,null,null,null,null,null,null,null,null,null,null,null,null,null,null,"",226,{"$f":"IF($I59=\"\",\"\",IF($CE59=0,\"Enter question type or turn off variable question type\",IF($G59=\"\",VLOOKUP($CE59,$BY:$CA,3,0),$G59)))","v":""},{"$f":"IF($I48=\"\",\"\",IF($B$18=\"\",\"INPUT MAIN CATEGORY (CELL B18) OR TURN CATEGORIES OFF\",\"$CATEGORY: \"&$B$18&IF($F48=\"\",\"\",\"/\"&$F48)))","v":""},{"$f":"IF($I40=\"\",\"\",IF($CE40=0,\"Enter question type or turn off variable question type\",IF($G40=\"\",VLOOKUP($CE40,$BY:$CA,3,0),$G40)))","v":""},{"$f":"IF($I79=\"\",\"\",\"::\"&IF($B$16=\"\",\"\",$B$16&\"  \")&IF($E79=\"\",$H79,$E79)&\"::\")","v":""},null,null,null,"",null,"",null,48,{"$f":"(ROW()+2)/5","v":46},78,{"$f":"ROW()/3","v":76}]
[null,null,null,null,null,null,null,null,null,null,null,null,null,null,null,null,null,null,null,null,null,null,null,null,null,null,null,null,null,null,null,null,null,null,null,null,null,"",227,{"$f":"IF($I59=\"\",\"\",IF($CE59=0,\"Enter question type or turn off variable question type\",$CD59))","v":""},null,{"$f":"IF($I40=\"\",\"\",IF($CE40=0,\"Enter question type or turn off variable question type\",$CD40))","v":""},{"$f":"IF($I79=\"\",\"\",IF($CE79=0,\"Enter question type or turn off variable question type\",$CD79))","v":""},null,null,null,"",null,"",null,"",null,""]
[null,null,null,null,null,null,null,null,null,null,null,null,null,null,null,null,null,null,null,null,null,null,null,null,null,null,null,null,null,null,null,null,null,null,null,null,null,"",228,null,{"$f":"IF($I48=\"\",\"\",\"::\"&IF($B$16=\"\",\"\",$B$16&\"  \")&IF($E48=\"\",$H48,$E48)&\"::\")","v":""},null,null,null,null,null,null,null,null,null,"",null,""]
[null,null,null,null,null,null,null,null,null,null,null,null,null,null,null,null,null,null,null,null,null,null,null,null,null,null,null,null,null,null,null,null,null,null,null,null,null,"",229,{"$f":"IF($I60=\"\",\"\",\"::\"&IF($B$16=\"\",\"\",$B$16&\"  \")&IF($E60=\"\",$H60,$E60)&\"::\")","v":""},{"$f":"IF($I48=\"\",\"\",IF($CE48=0,\"Enter question type or turn off variable question type\",$CD48))","v":""},{"$f":"IF($I41=\"\",\"\",IF($B$18=\"\",\"INPUT MAIN CATEGORY (CELL B18) OR TURN CATEGORIES OFF\",\"$CATEGORY: \"&$B$18&IF($F41=\"\",\"\",\"/\"&$F41)))","v":""},{"$f":"IF($I80=\"\",\"\",\"::\"&IF($B$16=\"\",\"\",$B$16&\"  \")&IF($E80=\"\",$H80,$E80)&\"::\")","v":""},null,null,null,{"$f":"IF(AV231+2=2,\"\",AV231+2)","v":60},{"$f":"(ROW()+1)/4","v":58},{"$f":"IF(AX231+2=2,\"\",AX231+2)","v":60},{"$f":"(ROW()+1)/4","v":58},"",null,79,{"$f":"ROW()/3","v":77}]
[null,null,null,null,null,null,null,null,null,null,null,null,null,null,null,null,null,null,null,null,null,null,null,null,null,null,null,null,null,null,null,null,null,null,null,null,null,"",230,{"$f":"IF($I60=\"\",\"\",IF($CE60=0,\"Enter question type or turn off variable question type\",IF($G60=\"\",VLOOKUP($CE60,$BY:$CA,3,0),$G60)))","v":""},null,null,{"$f":"IF($I80=\"\",\"\",IF($CE80=0,\"Enter question type or turn off variable question type\",$CD80))","v":""},null,null,null,"",null,"",null,"",null,""]
[null,null,null,null,null,null,null,null,null,null,null,null,null,null,null,null,null,null,null,null,null,null,null,null,null,null,null,null,null,null,null,null,null,null,null,null,null,"",231,{"$f":"IF($I60=\"\",\"\",IF($CE60=0,\"Enter question type or turn off variable question type\",$CD60))","v":""},{"$f":"IF($I49=\"\",\"\",IF($B$18=\"\",\"INPUT MAIN CATEGORY (CELL B18) OR TURN CATEGORIES OFF\",\"$CATEGORY: \"&$B$18&IF($F49=\"\",\"\",\"/\"&$F49)))","v":""},{"$f":"IF($I41=\"\",\"\",\"::\"&IF($B$16=\"\",\"\",$B$16&\"  \")&IF($E41=\"\",$H41,$E41)&\"::\")","v":""},null,null,null,null,"",null,"",null,49,{"$f":"(ROW()+2)/5","v":47},""]
[null,null,null,null,null,null,null,null,null,null,null,null,null,null,null,null,null,null,null,null,null,null,null,null,null,null,null,null,null,null,null,null,null,null,null,null,null,"",232,null,null,{"$f":"IF($I41=\"\",\"\",IF($CE41=0,\"Enter question type or turn off variable question type\",IF($G41=\"\",VLOOKUP($CE41,$BY:$CA,3,0),$G41)))","v":""},{"$f":"IF($I81=\"\",\"\",\"::\"&IF($B$16=\"\",\"\",$B$16&\"  \")&IF($E81=\"\",$H81,$E81)&\"::\")","v":""},null,null,null,null,null,null,null,"",null,80,{"$f":"ROW()/3","v":78}]
[null,null,null,null,null,null,null,null,null,null,null,null,null,null,null,null,null,null,null,null,null,null,null,null,null,null,null,null,null,null,null,null,null,null,null,null,null,"",233,{"$f":"IF($I61=\"\",\"\",\"::\"&IF($B$16=\"\",\"\",$B$16&\"  \")&IF($E61=\"\",$H61,$E61)&\"::\")","v":""},{"$f":"IF($I49=\"\",\"\",\"::\"&IF($B$16=\"\",\"\",$B$16&\"  \")&IF($E49=\"\",$H49,$E49)&\"::\")","v":""},{"$f":"IF($I41=\"\",\"\",IF($CE41=0,\"Enter question type or turn off variable question type\",$CD41))","v":""},{"$f":"IF($I81=\"\",\"\",IF($CE81=0,\"Enter question type or turn off variable question type\",$CD81))","v":""},null,null,null,{"$f":"IF(AV235+2=2,\"\",AV235+2)","v":61},59,{"$f":"IF(AX235+2=2,\"\",AX235+2)","v":61},59,"",null,""]
[null,null,null,null,null,null,null,null,null,null,null,null,null,null,null,null,null,null,null,null,null,null,null,null,null,null,null,null,null,null,null,null,null,null,null,null,null,"",234,{"$f":"IF($I61=\"\",\"\",IF($CE61=0,\"Enter question type or turn off variable question type\",IF($G61=\"\",VLOOKUP($CE61,$BY:$CA,3,0),$G61)))","v":""},{"$f":"IF($I49=\"\",\"\",IF($CE49=0,\"Enter question type or turn off variable question type\",$CD49))","v":""},null,null,null,null,null,"",null,"",null,"",null,""]
[null,null,null,null,null,null,null,null,null,null,null,null,null,null,null,null,null,null,null,null,null,null,null,null,null,null,null,null,null,null,null,null,null,null,null,null,null,"",235,{"$f":"IF($I61=\"\",\"\",IF($CE61=0,\"Enter question type or turn off variable question type\",$CD61))","v":""},null,{"$f":"IF($I42=\"\",\"\",IF($B$18=\"\",\"INPUT MAIN CATEGORY (CELL B18) OR TURN CATEGORIES OFF\",\"$CATEGORY: \"&$B$18&IF($F42=\"\",\"\",\"/\"&$F42)))","v":""},{"$f":"IF($I82=\"\",\"\",\"::\"&IF($B$16=\"\",\"\",$B$16&\"  \")&IF($E82=\"\",$H82,$E82)&\"::\")","v":""},null,null,null,"",null,"",null,"",null,81,{"$f":"ROW()/3","v":79}]
[null,null,null,null,null,null,null,null,null,null,null,null,null,null,null,null,null,null,null,null,null,null,null,null,null,null,null,null,null,null,null,null,null,null,null,null,null,"",236,null,{"$f":"IF($I50=\"\",\"\",IF($B$18=\"\",\"INPUT MAIN CATEGORY (CELL B18) OR TURN CATEGORIES OFF\",\"$CATEGORY: \"&$B$18&IF($F50=\"\",\"\",\"/\"&$F50)))","v":""},null,{"$f":"IF($I82=\"\",\"\",IF($CE82=0,\"Enter question type or turn off variable question type\",$CD82))","v":""},null,null,null,null,null,null,null,50,{"$f":"(ROW()+2)/5","v":48},""]
[null,null,null,null,null,null,null,null,null,null,null,null,null,null,null,null,null,null,null,null,null,null,null,null,null,null,null,null,null,null,null,null,null,null,null,null,null,"",237,{"$f":"IF($I62=\"\",\"\",\"::\"&IF($B$16=\"\",\"\",$B$16&\"  \")&IF($E62=\"\",$H62,$E62)&\"::\")","v":""},null,{"$f":"IF($I42=\"\",\"\",\"::\"&IF($B$16=\"\",\"\",$B$16&\"  \")&IF($E42=\"\",$H42,$E42)&\"::\")","v":""},null,null,null,null,{"$f":"IF(AV239+2=2,\"\",AV239+2)","v":62},{"$f":"(ROW()+1)/4","v":60},{"$f":"IF(AX239+2=2,\"\",AX239+2)","v":62},{"$f":"(ROW()+1)/4","v":60},"",null,""]
[null,null,null,null,null,null,null,null,null,null,null,null,null,null,null,null,null,null,null,null,null,null,null,null,null,null,null,null,null,null,null,null,null,null,null,null,null,"",238,{"$f":"IF($I62=\"\",\"\",IF($CE62=0,\"Enter question type or turn off variable question type\",IF($G62=\"\",VLOOKUP($CE62,$BY:$CA,3,0),$G62)))","v":""},{"$f":"IF($I50=\"\",\"\",\"::\"&IF($B$16=\"\",\"\",$B$16&\"  \")&IF($E50=\"\",$H50,$E50)&\"::\")","v":""},{"$f":"IF($I42=\"\",\"\",IF($CE42=0,\"Enter question type or turn off variable question type\",IF($G42=\"\",VLOOKUP($CE42,$BY:$CA,3,0),$G42)))","v":""},{"$f":"IF($I83=\"\",\"\",\"::\"&IF($B$16=\"\",\"\",$B$16&\"  \")&IF($E83=\"\",$H83,$E83)&\"::\")","v":""},null,null,null,"",null,"",null,"",null,82,{"$f":"ROW()/3","v":80}]
[null,null,null,null,null,null,null,null,null,null,null,null,null,null,null,null,null,null,null,null,null,null,null,null,null,null,null,null,null,null,null,null,null,null,null,null,null,"",239,{"$f":"IF($I62=\"\",\"\",IF($CE62=0,\"Enter question type or turn off variable question type\",$CD62))","v":""},{"$f":"IF($I50=\"\",\"\",IF($CE50=0,\"Enter question type or turn off variable question type\",$CD50))","v":""},{"$f":"IF($I42=\"\",\"\",IF($CE42=0,\"Enter question type or turn off variable question type\",$CD42))","v":""},{"$f":"IF($I83=\"\",\"\",IF($CE83=0,\"Enter question type or turn off variable question type\",$CD83))","v":""},null,null,null,"",null,"",null,"",null,""]
[null,null,null,null,null,null,null,null,null,null,null,null,null,null,null,null,null,null,null,null,null,null,null,null,null,null,null,null,null,null,null,null,null,null,null,null,null,"",240,null,null,null,null,null,null,null,null,null,null,null,"",null,""]
[null,null,null,null,null,null,null,null,null,null,null,null,null,null,null,null,null,null,null,null,null,null,null,null,null,null,null,null,null,null,null,null,null,null,null,null,null,"",241,{"$f":"IF($I63=\"\",\"\",\"::\"&IF($B$16=\"\",\"\",$B$16&\"  \")&IF($E63=\"\",$H63,$E63)&\"::\")","v":""},{"$f":"IF($I51=\"\",\"\",IF($B$18=\"\",\"INPUT MAIN CATEGORY (CELL B18) OR TURN CATEGORIES OFF\",\"$CATEGORY: \"&$B$18&IF($F51=\"\",\"\",\"/\"&$F51)))","v":""},{"$f":"IF($I43=\"\",\"\",IF($B$18=\"\",\"INPUT MAIN CATEGORY (CELL B18) OR TURN CATEGORIES OFF\",\"$CATEGORY: \"&$B$18&IF($F43=\"\",\"\",\"/\"&$F43)))","v":""},{"$f":"IF($I84=\"\",\"\",\"::\"&IF($B$16=\"\",\"\",$B$16&\"  \")&IF($E84=\"\",$H84,$E84)&\"::\")","v":""},null,null,null,{"$f":"IF(AV243+2=2,\"\",AV243+2)","v":63},{"$f":"(ROW()+1)/4","v":61},{"$f":"IF(AX243+2=2,\"\",AX243+2)","v":63},{"$f":"(ROW()+1)/4","v":61},51,{"$f":"(ROW()+2)/5","v":49},83,{"$f":"ROW()/3","v":81}]
[null,null,null,null,null,null,null,null,null,null,null,null,null,null,null,null,null,null,null,null,null,null,null,null,null,null,null,null,null,null,null,null,null,null,null,null,null,"",242,{"$f":"IF($I63=\"\",\"\",IF($CE63=0,\"Enter question type or turn off variable question type\",IF($G63=\"\",VLOOKUP($CE63,$BY:$CA,3,0),$G63)))","v":""},null,null,{"$f":"IF($I84=\"\",\"\",IF($CE84=0,\"Enter question type or turn off variable question type\",$CD84))","v":""},null,null,null,"",null,"",null,"",null,""]
[null,null,null,null,null,null,null,null,null,null,null,null,null,null,null,null,null,null,null,null,null,null,null,null,null,null,null,null,null,null,null,null,null,null,null,null,null,"",243,{"$f":"IF($I63=\"\",\"\",IF($CE63=0,\"Enter question type or turn off variable question type\",$CD63))","v":""},{"$f":"IF($I51=\"\",\"\",\"::\"&IF($B$16=\"\",\"\",$B$16&\"  \")&IF($E51=\"\",$H51,$E51)&\"::\")","v":""},{"$f":"IF($I43=\"\",\"\",\"::\"&IF($B$16=\"\",\"\",$B$16&\"  \")&IF($E43=\"\",$H43,$E43)&\"::\")","v":""},null,null,null,null,"",null,"",null,"",null,""]
[null,null,null,null,null,null,null,null,null,null,null,null,null,null,null,null,null,null,null,null,null,null,null,null,null,null,null,null,null,null,null,null,null,null,null,null,null,"",244,null,{"$f":"IF($I51=\"\",\"\",IF($CE51=0,\"Enter question type or turn off variable question type\",$CD51))","v":""},{"$f":"IF($I43=\"\",\"\",IF($CE43=0,\"Enter question type or turn off variable question type\",IF($G43=\"\",VLOOKUP($CE43,$BY:$CA,3,0),$G43)))","v":""},{"$f":"IF($I85=\"\",\"\",\"::\"&IF($B$16=\"\",\"\",$B$16&\"  \")&IF($E85=\"\",$H85,$E85)&\"::\")","v":""},null,null,null,null,null,null,null,"",null,84,{"$f":"ROW()/3","v":82}]
[null,null,null,null,null,null,null,null,null,null,null,null,null,null,null,null,null,null,null,null,null,null,null,null,null,null,null,null,null,null,null,null,null,null,null,null,null,"",245,{"$f":"IF($I64=\"\",\"\",\"::\"&IF($B$16=\"\",\"\",$B$16&\"  \")&IF($E64=\"\",$H64,$E64)&\"::\")","v":""},null,{"$f":"IF($I43=\"\",\"\",IF($CE43=0,\"Enter question type or turn off variable question type\",$CD43))","v":""},{"$f":"IF($I85=\"\",\"\",IF($CE85=0,\"Enter question type or turn off variable question type\",$CD85))","v":""},null,null,null,{"$f":"IF(AV247+2=2,\"\",AV247+2)","v":64},{"$f":"(ROW()+1)/4","v":62},{"$f":"IF(AX247+2=2,\"\",AX247+2)","v":64},{"$f":"(ROW()+1)/4","v":62},"",null,""]
[null,null,null,null,null,null,null,null,null,null,null,null,null,null,null,null,null,null,null,null,null,null,null,null,null,null,null,null,null,null,null,null,null,null,null,null,null,"",246,{"$f":"IF($I64=\"\",\"\",IF($CE64=0,\"Enter question type or turn off variable question type\",IF($G64=\"\",VLOOKUP($CE64,$BY:$CA,3,0),$G64)))","v":""},{"$f":"IF($I52=\"\",\"\",IF($B$18=\"\",\"INPUT MAIN CATEGORY (CELL B18) OR TURN CATEGORIES OFF\",\"$CATEGORY: \"&$B$18&IF($F52=\"\",\"\",\"/\"&$F52)))","v":""},null,null,null,null,null,"",null,"",null,52,{"$f":"(ROW()+2)/5","v":50},""]
[null,null,null,null,null,null,null,null,null,null,null,null,null,null,null,null,null,null,null,null,null,null,null,null,null,null,null,null,null,null,null,null,null,null,null,null,null,"",247,{"$f":"IF($I64=\"\",\"\",IF($CE64=0,\"Enter question type or turn off variable question type\",$CD64))","v":""},null,{"$f":"IF($I44=\"\",\"\",IF($B$18=\"\",\"INPUT MAIN CATEGORY (CELL B18) OR TURN CATEGORIES OFF\",\"$CATEGORY: \"&$B$18&IF($F44=\"\",\"\",\"/\"&$F44)))","v":""},{"$f":"IF($I86=\"\",\"\",\"::\"&IF($B$16=\"\",\"\",$B$16&\"  \")&IF($E86=\"\",$H86,$E86)&\"::\")","v":""},null,null,null,"",null,"",null,"",null,85,{"$f":"ROW()/3","v":83}]
[null,null,null,null,null,null,null,null,null,null,null,null,null,null,null,null,null,null,null,null,null,null,null,null,null,null,null,null,null,null,null,null,null,null,null,null,null,"",248,null,{"$f":"IF($I52=\"\",\"\",\"::\"&IF($B$16=\"\",\"\",$B$16&\"  \")&IF($E52=\"\",$H52,$E52)&\"::\")","v":""},null,{"$f":"IF($I86=\"\",\"\",IF($CE86=0,\"Enter question type or turn off variable question type\",$CD86))","v":""},null,null,null,null,null,null,null,"",null,""]
[null,null,null,null,null,null,null,null,null,null,null,null,null,null,null,null,null,null,null,null,null,null,null,null,null,null,null,null,null,null,null,null,null,null,null,null,null,"",249,{"$f":"IF($I65=\"\",\"\",\"::\"&IF($B$16=\"\",\"\",$B$16&\"  \")&IF($E65=\"\",$H65,$E65)&\"::\")","v":""},{"$f":"IF($I52=\"\",\"\",IF($CE52=0,\"Enter question type or turn off variable question type\",$CD52))","v":""},{"$f":"IF($I44=\"\",\"\",\"::\"&IF($B$16=\"\",\"\",$B$16&\"  \")&IF($E44=\"\",$H44,$E44)&\"::\")","v":""},null,null,null,null,{"$f":"IF(AV251+2=2,\"\",AV251+2)","v":65},63,{"$f":"IF(AX251+2=2,\"\",AX251+2)","v":65},63,"",null,""]
[null,null,null,null,null,null,null,null,null,null,null,null,null,null,null,null,null,null,null,null,null,null,null,null,null,null,null,null,null,null,null,null,null,null,null,null,null,"",250,{"$f":"IF($I65=\"\",\"\",IF($CE65=0,\"Enter question type or turn off variable question type\",IF($G65=\"\",VLOOKUP($CE65,$BY:$CA,3,0),$G65)))","v":""},null,{"$f":"IF($I44=\"\",\"\",IF($CE44=0,\"Enter question type or turn off variable question type\",IF($G44=\"\",VLOOKUP($CE44,$BY:$CA,3,0),$G44)))","v":""},{"$f":"IF($I87=\"\",\"\",\"::\"&IF($B$16=\"\",\"\",$B$16&\"  \")&IF($E87=\"\",$H87,$E87)&\"::\")","v":""},null,null,null,"",null,"",null,"",null,86,{"$f":"ROW()/3","v":84}]
[null,null,null,null,null,null,null,null,null,null,null,null,null,null,null,null,null,null,null,null,null,null,null,null,null,null,null,null,null,null,null,null,null,null,null,null,null,"",251,{"$f":"IF($I65=\"\",\"\",IF($CE65=0,\"Enter question type or turn off variable question type\",$CD65))","v":""},{"$f":"IF($I53=\"\",\"\",IF($B$18=\"\",\"INPUT MAIN CATEGORY (CELL B18) OR TURN CATEGORIES OFF\",\"$CATEGORY: \"&$B$18&IF($F53=\"\",\"\",\"/\"&$F53)))","v":""},{"$f":"IF($I44=\"\",\"\",IF($CE44=0,\"Enter question type or turn off variable question type\",$CD44))","v":""},{"$f":"IF($I87=\"\",\"\",IF($CE87=0,\"Enter question type or turn off variable question type\",$CD87))","v":""},null,null,null,"",null,"",null,{"$f":"IF(AZ253+2=2,\"\",AZ253+2)","v":53},{"$f":"(ROW()+2)/5","v":51},""]
[null,null,null,null,null,null,null,null,null,null,null,null,null,null,null,null,null,null,null,null,null,null,null,null,null,null,null,null,null,null,null,null,null,null,null,null,null,{"$f":"IF(VLOOKUP($AM254,$AM:$AQ,$A$6,0)=\"\",\"\",VLOOKUP($AM254,$AM:$AQ,$A$6,0))","v":""},252,null,null,null,null,null,null,null,null,null,null,null,{"$f":"IF(AZ254+2=2,\"\",AZ254+2)","v":""},null,""]
[null,null,null,null,null,null,null,null,null,null,null,null,null,null,null,null,null,null,null,null,null,null,null,null,null,null,null,null,null,null,null,null,null,null,null,null,null,"",253,{"$f":"IF($I66=\"\",\"\",\"::\"&IF($B$16=\"\",\"\",$B$16&\"  \")&IF($E66=\"\",$H66,$E66)&\"::\")","v":""},{"$f":"IF($I53=\"\",\"\",\"::\"&IF($B$16=\"\",\"\",$B$16&\"  \")&IF($E53=\"\",$H53,$E53)&\"::\")","v":""},{"$f":"IF($I45=\"\",\"\",IF($B$18=\"\",\"INPUT MAIN CATEGORY (CELL B18) OR TURN CATEGORIES OFF\",\"$CATEGORY: \"&$B$18&IF($F45=\"\",\"\",\"/\"&$F45)))","v":""},{"$f":"IF($I88=\"\",\"\",\"::\"&IF($B$16=\"\",\"\",$B$16&\"  \")&IF($E88=\"\",$H88,$E88)&\"::\")","v":""},null,null,null,{"$f":"IF(AV255+2=2,\"\",AV255+2)","v":66},{"$f":"(ROW()+1)/4","v":64},{"$f":"IF(AX255+2=2,\"\",AX255+2)","v":66},{"$f":"(ROW()+1)/4","v":64},"",null,87,{"$f":"ROW()/3","v":85}]
[null,null,null,null,null,null,null,null,null,null,null,null,null,null,null,null,null,null,null,null,null,null,null,null,null,null,null,null,null,null,null,null,null,null,null,null,null,"",254,{"$f":"IF($I66=\"\",\"\",IF($CE66=0,\"Enter question type or turn off variable question type\",IF($G66=\"\",VLOOKUP($CE66,$BY:$CA,3,0),$G66)))","v":""},{"$f":"IF($I53=\"\",\"\",IF($CE53=0,\"Enter question type or turn off variable question type\",$CD53))","v":""},null,{"$f":"IF($I88=\"\",\"\",IF($CE88=0,\"Enter question type or turn off variable question type\",$CD88))","v":""},null,null,null,"",null,"",null,"",null,""]
[null,null,null,null,null,null,null,null,null,null,null,null,null,null,null,null,null,null,null,null,null,null,null,null,null,null,null,null,null,null,null,null,null,null,null,null,null,"",255,{"$f":"IF($I66=\"\",\"\",IF($CE66=0,\"Enter question type or turn off variable question type\",$CD66))","v":""},null,{"$f":"IF($I45=\"\",\"\",\"::\"&IF($B$16=\"\",\"\",$B$16&\"  \")&IF($E45=\"\",$H45,$E45)&\"::\")","v":""},null,null,null,null,"",null,"",null,"",null,""]
[null,null,null,null,null,null,null,null,null,null,null,null,null,null,null,null,null,null,null,null,null,null,null,null,null,null,null,null,null,null,null,null,null,null,null,null,null,"",256,null,{"$f":"IF($I54=\"\",\"\",IF($B$18=\"\",\"INPUT MAIN CATEGORY (CELL B18) OR TURN CATEGORIES OFF\",\"$CATEGORY: \"&$B$18&IF($F54=\"\",\"\",\"/\"&$F54)))","v":""},{"$f":"IF($I45=\"\",\"\",IF($CE45=0,\"Enter question type or turn off variable question type\",IF($G45=\"\",VLOOKUP($CE45,$BY:$CA,3,0),$G45)))","v":""},{"$f":"IF($I89=\"\",\"\",\"::\"&IF($B$16=\"\",\"\",$B$16&\"  \")&IF($E89=\"\",$H89,$E89)&\"::\")","v":""},null,null,null,null,null,null,null,54,{"$f":"(ROW()+2)/5","v":52},88,{"$f":"ROW()/3","v":86}]
[null,null,null,null,null,null,null,null,null,null,null,null,null,null,null,null,null,null,null,null,null,null,null,null,null,null,null,null,null,null,null,null,null,null,null,null,null,"",257,{"$f":"IF($I67=\"\",\"\",\"::\"&IF($B$16=\"\",\"\",$B$16&\"  \")&IF($E67=\"\",$H67,$E67)&\"::\")","v":""},null,{"$f":"IF($I45=\"\",\"\",IF($CE45=0,\"Enter question type or turn off variable question type\",$CD45))","v":""},{"$f":"IF($I89=\"\",\"\",IF($CE89=0,\"Enter question type or turn off variable question type\",$CD89))","v":""},null,null,null,{"$f":"IF(AV259+2=2,\"\",AV259+2)","v":67},{"$f":"(ROW()+1)/4","v":65},{"$f":"IF(AX259+2=2,\"\",AX259+2)","v":67},{"$f":"(ROW()+1)/4","v":65},"",null,""]
[null,null,null,null,null,null,null,null,null,null,null,null,null,null,null,null,null,null,null,null,null,null,null,null,null,null,null,null,null,null,null,null,null,null,null,null,null,"",258,{"$f":"IF($I67=\"\",\"\",IF($CE67=0,\"Enter question type or turn off variable question type\",IF($G67=\"\",VLOOKUP($CE67,$BY:$CA,3,0),$G67)))","v":""},{"$f":"IF($I54=\"\",\"\",\"::\"&IF($B$16=\"\",\"\",$B$16&\"  \")&IF($E54=\"\",$H54,$E54)&\"::\")","v":""},null,null,null,null,null,"",null,"",null,"",null,""]
[null,null,null,null,null,null,null,null,null,null,null,null,null,null,null,null,null,null,null,null,null,null,null,null,null,null,null,null,null,null,null,null,null,null,null,null,null,"",259,{"$f":"IF($I67=\"\",\"\",IF($CE67=0,\"Enter question type or turn off variable question type\",$CD67))","v":""},{"$f":"IF($I54=\"\",\"\",IF($CE54=0,\"Enter question type or turn off variable question type\",$CD54))","v":""},{"$f":"IF($I46=\"\",\"\",IF($B$18=\"\",\"INPUT MAIN CATEGORY (CELL B18) OR TURN CATEGORIES OFF\",\"$CATEGORY: \"&$B$18&IF($F46=\"\",\"\",\"/\"&$F46)))","v":""},{"$f":"IF($I90=\"\",\"\",\"::\"&IF($B$16=\"\",\"\",$B$16&\"  \")&IF($E90=\"\",$H90,$E90)&\"::\")","v":""},null,null,null,"",null,"",null,"",null,89,{"$f":"ROW()/3","v":87}]
[null,null,null,null,null,null,null,null,null,null,null,null,null,null,null,null,null,null,null,null,null,null,null,null,null,null,null,null,null,null,null,null,null,null,null,null,null,"",260,null,null,null,{"$f":"IF($I90=\"\",\"\",IF($CE90=0,\"Enter question type or turn off variable question type\",$CD90))","v":""},null,null,null,null,null,null,null,"",null,""]
[null,null,null,null,null,null,null,null,null,null,null,null,null,null,null,null,null,null,null,null,null,null,null,null,null,null,null,null,null,null,null,null,null,null,null,null,null,"",261,{"$f":"IF($I68=\"\",\"\",\"::\"&IF($B$16=\"\",\"\",$B$16&\"  \")&IF($E68=\"\",$H68,$E68)&\"::\")","v":""},{"$f":"IF($I55=\"\",\"\",IF($B$18=\"\",\"INPUT MAIN CATEGORY (CELL B18) OR TURN CATEGORIES OFF\",\"$CATEGORY: \"&$B$18&IF($F55=\"\",\"\",\"/\"&$F55)))","v":""},{"$f":"IF($I46=\"\",\"\",\"::\"&IF($B$16=\"\",\"\",$B$16&\"  \")&IF($E46=\"\",$H46,$E46)&\"::\")","v":""},null,null,null,null,{"$f":"IF(AV263+2=2,\"\",AV263+2)","v":68},{"$f":"(ROW()+1)/4","v":66},{"$f":"IF(AX263+2=2,\"\",AX263+2)","v":68},{"$f":"(ROW()+1)/4","v":66},55,{"$f":"(ROW()+2)/5","v":53},""]
[null,null,null,null,null,null,null,null,null,null,null,null,null,null,null,null,null,null,null,null,null,null,null,null,null,null,null,null,null,null,null,null,null,null,null,null,null,"",262,{"$f":"IF($I68=\"\",\"\",IF($CE68=0,\"Enter question type or turn off variable question type\",IF($G68=\"\",VLOOKUP($CE68,$BY:$CA,3,0),$G68)))","v":""},null,{"$f":"IF($I46=\"\",\"\",IF($CE46=0,\"Enter question type or turn off variable question type\",IF($G46=\"\",VLOOKUP($CE46,$BY:$CA,3,0),$G46)))","v":""},{"$f":"IF($I91=\"\",\"\",\"::\"&IF($B$16=\"\",\"\",$B$16&\"  \")&IF($E91=\"\",$H91,$E91)&\"::\")","v":""},null,null,null,"",null,"",null,"",null,90,{"$f":"ROW()/3","v":88}]
[null,null,null,null,null,null,null,null,null,null,null,null,null,null,null,null,null,null,null,null,null,null,null,null,null,null,null,null,null,null,null,null,null,null,null,null,null,"",263,{"$f":"IF($I68=\"\",\"\",IF($CE68=0,\"Enter question type or turn off variable question type\",$CD68))","v":""},{"$f":"IF($I55=\"\",\"\",\"::\"&IF($B$16=\"\",\"\",$B$16&\"  \")&IF($E55=\"\",$H55,$E55)&\"::\")","v":""},{"$f":"IF($I46=\"\",\"\",IF($CE46=0,\"Enter question type or turn off variable question type\",$CD46))","v":""},{"$f":"IF($I91=\"\",\"\",IF($CE91=0,\"Enter question type or turn off variable question type\",$CD91))","v":""},null,null,null,"",null,"",null,"",null,""]
[null,null,null,null,null,null,null,null,null,null,null,null,null,null,null,null,null,null,null,null,null,null,null,null,null,null,null,null,null,null,null,null,null,null,null,null,null,"",264,null,{"$f":"IF($I55=\"\",\"\",IF($CE55=0,\"Enter question type or turn off variable question type\",$CD55))","v":""},null,null,null,null,null,null,null,null,null,"",null,""]
[null,null,null,null,null,null,null,null,null,null,null,null,null,null,null,null,null,null,null,null,null,null,null,null,null,null,null,null,null,null,null,null,null,null,null,null,null,"",265,{"$f":"IF($I69=\"\",\"\",\"::\"&IF($B$16=\"\",\"\",$B$16&\"  \")&IF($E69=\"\",$H69,$E69)&\"::\")","v":""},null,{"$f":"IF($I47=\"\",\"\",IF($B$18=\"\",\"INPUT MAIN CATEGORY (CELL B18) OR TURN CATEGORIES OFF\",\"$CATEGORY: \"&$B$18&IF($F47=\"\",\"\",\"/\"&$F47)))","v":""},{"$f":"IF($I92=\"\",\"\",\"::\"&IF($B$16=\"\",\"\",$B$16&\"  \")&IF($E92=\"\",$H92,$E92)&\"::\")","v":""},null,null,null,{"$f":"IF(AV267+2=2,\"\",AV267+2)","v":69},67,{"$f":"IF(AX267+2=2,\"\",AX267+2)","v":69},67,"",null,91,{"$f":"ROW()/3","v":89}]
[null,null,null,null,null,null,null,null,null,null,null,null,null,null,null,null,null,null,null,null,null,null,null,null,null,null,null,null,null,null,null,null,null,null,null,null,null,"",266,{"$f":"IF($I69=\"\",\"\",IF($CE69=0,\"Enter question type or turn off variable question type\",IF($G69=\"\",VLOOKUP($CE69,$BY:$CA,3,0),$G69)))","v":""},{"$f":"IF($I56=\"\",\"\",IF($B$18=\"\",\"INPUT MAIN CATEGORY (CELL B18) OR TURN CATEGORIES OFF\",\"$CATEGORY: \"&$B$18&IF($F56=\"\",\"\",\"/\"&$F56)))","v":""},null,{"$f":"IF($I92=\"\",\"\",IF($CE92=0,\"Enter question type or turn off variable question type\",$CD92))","v":""},null,null,null,"",null,"",null,56,{"$f":"(ROW()+2)/5","v":54},""]
[null,null,null,null,null,null,null,null,null,null,null,null,null,null,null,null,null,null,null,null,null,null,null,null,null,null,null,null,null,null,null,null,null,null,null,null,null,"",267,{"$f":"IF($I69=\"\",\"\",IF($CE69=0,\"Enter question type or turn off variable question type\",$CD69))","v":""},null,{"$f":"IF($I47=\"\",\"\",\"::\"&IF($B$16=\"\",\"\",$B$16&\"  \")&IF($E47=\"\",$H47,$E47)&\"::\")","v":""},null,null,null,null,"",null,"",null,"",null,""]
[null,null,null,null,null,null,null,null,null,null,null,null,null,null,null,null,null,null,null,null,null,null,null,null,null,null,null,null,null,null,null,null,null,null,null,null,null,"",268,null,{"$f":"IF($I56=\"\",\"\",\"::\"&IF($B$16=\"\",\"\",$B$16&\"  \")&IF($E56=\"\",$H56,$E56)&\"::\")","v":""},{"$f":"IF($I47=\"\",\"\",IF($CE47=0,\"Enter question type or turn off variable question type\",IF($G47=\"\",VLOOKUP($CE47,$BY:$CA,3,0),$G47)))","v":""},{"$f":"IF($I93=\"\",\"\",\"::\"&IF($B$16=\"\",\"\",$B$16&\"  \")&IF($E93=\"\",$H93,$E93)&\"::\")","v":""},null,null,null,null,null,null,null,"",null,92,{"$f":"ROW()/3","v":90}]
[null,null,null,null,null,null,null,null,null,null,null,null,null,null,null,null,null,null,null,null,null,null,null,null,null,null,null,null,null,null,null,null,null,null,null,null,null,"",269,{"$f":"IF($I70=\"\",\"\",\"::\"&IF($B$16=\"\",\"\",$B$16&\"  \")&IF($E70=\"\",$H70,$E70)&\"::\")","v":""},{"$f":"IF($I56=\"\",\"\",IF($CE56=0,\"Enter question type or turn off variable question type\",$CD56))","v":""},{"$f":"IF($I47=\"\",\"\",IF($CE47=0,\"Enter question type or turn off variable question type\",$CD47))","v":""},{"$f":"IF($I93=\"\",\"\",IF($CE93=0,\"Enter question type or turn off variable question type\",$CD93))","v":""},null,null,null,{"$f":"IF(AV271+2=2,\"\",AV271+2)","v":70},{"$f":"(ROW()+1)/4","v":68},{"$f":"IF(AX271+2=2,\"\",AX271+2)","v":70},{"$f":"(ROW()+1)/4","v":68},"",null,""]
[null,null,null,null,null,null,null,null,null,null,null,null,null,null,null,null,null,null,null,null,null,null,null,null,null,null,null,null,null,null,null,null,null,null,null,null,null,"",270,{"$f":"IF($I70=\"\",\"\",IF($CE70=0,\"Enter question type or turn off variable question type\",IF($G70=\"\",VLOOKUP($CE70,$BY:$CA,3,0),$G70)))","v":""},null,null,null,null,null,null,"",null,"",null,"",null,""]
[null,null,null,null,null,null,null,null,null,null,null,null,null,null,null,null,null,null,null,null,null,null,null,null,null,null,null,null,null,null,null,null,null,null,null,null,null,"",271,{"$f":"IF($I70=\"\",\"\",IF($CE70=0,\"Enter question type or turn off variable question type\",$CD70))","v":""},{"$f":"IF($I57=\"\",\"\",IF($B$18=\"\",\"INPUT MAIN CATEGORY (CELL B18) OR TURN CATEGORIES OFF\",\"$CATEGORY: \"&$B$18&IF($F57=\"\",\"\",\"/\"&$F57)))","v":""},{"$f":"IF($I48=\"\",\"\",IF($B$18=\"\",\"INPUT MAIN CATEGORY (CELL B18) OR TURN CATEGORIES OFF\",\"$CATEGORY: \"&$B$18&IF($F48=\"\",\"\",\"/\"&$F48)))","v":""},{"$f":"IF($I94=\"\",\"\",\"::\"&IF($B$16=\"\",\"\",$B$16&\"  \")&IF($E94=\"\",$H94,$E94)&\"::\")","v":""},null,null,null,"",null,"",null,57,{"$f":"(ROW()+2)/5","v":55},93,{"$f":"ROW()/3","v":91}]
[null,null,null,null,null,null,null,null,null,null,null,null,null,null,null,null,null,null,null,null,null,null,null,null,null,null,null,null,null,null,null,null,null,null,null,null,null,"",272,null,null,null,{"$f":"IF($I94=\"\",\"\",IF($CE94=0,\"Enter question type or turn off variable question type\",$CD94))","v":""},null,null,null,null,null,null,null,"",null,""]
[null,null,null,null,null,null,null,null,null,null,null,null,null,null,null,null,null,null,null,null,null,null,null,null,null,null,null,null,null,null,null,null,null,null,null,null,null,"",273,{"$f":"IF($I71=\"\",\"\",\"::\"&IF($B$16=\"\",\"\",$B$16&\"  \")&IF($E71=\"\",$H71,$E71)&\"::\")","v":""},{"$f":"IF($I57=\"\",\"\",\"::\"&IF($B$16=\"\",\"\",$B$16&\"  \")&IF($E57=\"\",$H57,$E57)&\"::\")","v":""},{"$f":"IF($I48=\"\",\"\",\"::\"&IF($B$16=\"\",\"\",$B$16&\"  \")&IF($E48=\"\",$H48,$E48)&\"::\")","v":""},null,null,null,null,{"$f":"IF(AV275+2=2,\"\",AV275+2)","v":71},{"$f":"(ROW()+1)/4","v":69},{"$f":"IF(AX275+2=2,\"\",AX275+2)","v":71},{"$f":"(ROW()+1)/4","v":69},"",null,""]
[null,null,null,null,null,null,null,null,null,null,null,null,null,null,null,null,null,null,null,null,null,null,null,null,null,null,null,null,null,null,null,null,null,null,null,null,null,"",274,{"$f":"IF($I71=\"\",\"\",IF($CE71=0,\"Enter question type or turn off variable question type\",IF($G71=\"\",VLOOKUP($CE71,$BY:$CA,3,0),$G71)))","v":""},{"$f":"IF($I57=\"\",\"\",IF($CE57=0,\"Enter question type or turn off variable question type\",$CD57))","v":""},{"$f":"IF($I48=\"\",\"\",IF($CE48=0,\"Enter question type or turn off variable question type\",IF($G48=\"\",VLOOKUP($CE48,$BY:$CA,3,0),$G48)))","v":""},{"$f":"IF($I95=\"\",\"\",\"::\"&IF($B$16=\"\",\"\",$B$16&\"  \")&IF($E95=\"\",$H95,$E95)&\"::\")","v":""},null,null,null,"",null,"",null,"",null,94,{"$f":"ROW()/3","v":92}]
[null,null,null,null,null,null,null,null,null,null,null,null,null,null,null,null,null,null,null,null,null,null,null,null,null,null,null,null,null,null,null,null,null,null,null,null,null,"",275,{"$f":"IF($I71=\"\",\"\",IF($CE71=0,\"Enter question type or turn off variable question type\",$CD71))","v":""},null,{"$f":"IF($I48=\"\",\"\",IF($CE48=0,\"Enter question type or turn off variable question type\",$CD48))","v":""},{"$f":"IF($I95=\"\",\"\",IF($CE95=0,\"Enter question type or turn off variable question type\",$CD95))","v":""},null,null,null,"",null,"",null,"",null,""]
[null,null,null,null,null,null,null,null,null,null,null,null,null,null,null,null,null,null,null,null,null,null,null,null,null,null,null,null,null,null,null,null,null,null,null,null,null,"",276,null,{"$f":"IF($I58=\"\",\"\",IF($B$18=\"\",\"INPUT MAIN CATEGORY (CELL B18) OR TURN CATEGORIES OFF\",\"$CATEGORY: \"&$B$18&IF($F58=\"\",\"\",\"/\"&$F58)))","v":""},null,null,null,null,null,null,null,null,null,58,{"$f":"(ROW()+2)/5","v":56},""]
[null,null,null,null,null,null,null,null,null,null,null,null,null,null,null,null,null,null,null,null,null,null,null,null,null,null,null,null,null,null,null,null,null,null,null,null,null,"",277,{"$f":"IF($I72=\"\",\"\",\"::\"&IF($B$16=\"\",\"\",$B$16&\"  \")&IF($E72=\"\",$H72,$E72)&\"::\")","v":""},null,{"$f":"IF($I49=\"\",\"\",IF($B$18=\"\",\"INPUT MAIN CATEGORY (CELL B18) OR TURN CATEGORIES OFF\",\"$CATEGORY: \"&$B$18&IF($F49=\"\",\"\",\"/\"&$F49)))","v":""},{"$f":"IF($I96=\"\",\"\",\"::\"&IF($B$16=\"\",\"\",$B$16&\"  \")&IF($E96=\"\",$H96,$E96)&\"::\")","v":""},null,null,null,{"$f":"IF(AV279+2=2,\"\",AV279+2)","v":72},{"$f":"(ROW()+1)/4","v":70},{"$f":"IF(AX279+2=2,\"\",AX279+2)","v":72},{"$f":"(ROW()+1)/4","v":70},"",null,95,{"$f":"ROW()/3","v":93}]
[null,null,null,null,null,null,null,null,null,null,null,null,null,null,null,null,null,null,null,null,null,null,null,null,null,null,null,null,null,null,null,null,null,null,null,null,null,"",278,{"$f":"IF($I72=\"\",\"\",IF($CE72=0,\"Enter question type or turn off variable question type\",IF($G72=\"\",VLOOKUP($CE72,$BY:$CA,3,0),$G72)))","v":""},{"$f":"IF($I58=\"\",\"\",\"::\"&IF($B$16=\"\",\"\",$B$16&\"  \")&IF($E58=\"\",$H58,$E58)&\"::\")","v":""},null,{"$f":"IF($I96=\"\",\"\",IF($CE96=0,\"Enter question type or turn off variable question type\",$CD96))","v":""},null,null,null,"",null,"",null,"",null,""]
[null,null,null,null,null,null,null,null,null,null,null,null,null,null,null,null,null,null,null,null,null,null,null,null,null,null,null,null,null,null,null,null,null,null,null,null,null,"",279,{"$f":"IF($I72=\"\",\"\",IF($CE72=0,\"Enter question type or turn off variable question type\",$CD72))","v":""},{"$f":"IF($I58=\"\",\"\",IF($CE58=0,\"Enter question type or turn off variable question type\",$CD58))","v":""},{"$f":"IF($I49=\"\",\"\",\"::\"&IF($B$16=\"\",\"\",$B$16&\"  \")&IF($E49=\"\",$H49,$E49)&\"::\")","v":""},null,null,null,null,"",null,"",null,"",null,{"$f":"IF(BB281+2=2,\"\",BB281+2)","v":""}]
[null,null,null,null,null,null,null,null,null,null,null,null,null,null,null,null,null,null,null,null,null,null,null,null,null,null,null,null,null,null,null,null,null,null,null,null,null,"",280,null,null,{"$f":"IF($I49=\"\",\"\",IF($CE49=0,\"Enter question type or turn off variable question type\",IF($G49=\"\",VLOOKUP($CE49,$BY:$CA,3,0),$G49)))","v":""},{"$f":"IF($I97=\"\",\"\",\"::\"&IF($B$16=\"\",\"\",$B$16&\"  \")&IF($E97=\"\",$H97,$E97)&\"::\")","v":""},null,null,null,null,null,null,null,"",null,96,{"$f":"ROW()/3","v":94}]
[null,null,null,null,null,null,null,null,null,null,null,null,null,null,null,null,null,null,null,null,null,null,null,null,null,null,null,null,null,null,null,null,null,null,null,null,null,"",281,{"$f":"IF($I73=\"\",\"\",\"::\"&IF($B$16=\"\",\"\",$B$16&\"  \")&IF($E73=\"\",$H73,$E73)&\"::\")","v":""},{"$f":"IF($I59=\"\",\"\",IF($B$18=\"\",\"INPUT MAIN CATEGORY (CELL B18) OR TURN CATEGORIES OFF\",\"$CATEGORY: \"&$B$18&IF($F59=\"\",\"\",\"/\"&$F59)))","v":""},{"$f":"IF($I49=\"\",\"\",IF($CE49=0,\"Enter question type or turn off variable question type\",$CD49))","v":""},{"$f":"IF($I97=\"\",\"\",IF($CE97=0,\"Enter question type or turn off variable question type\",$CD97))","v":""},null,null,null,{"$f":"IF(AV283+2=2,\"\",AV283+2)","v":73},71,{"$f":"IF(AX283+2=2,\"\",AX283+2)","v":73},71,59,{"$f":"(ROW()+2)/5","v":57},""]
[null,null,null,null,null,null,null,null,null,null,null,null,null,null,null,null,null,null,null,null,null,null,null,null,null,null,null,null,null,null,null,null,null,null,null,null,null,"",282,{"$f":"IF($I73=\"\",\"\",IF($CE73=0,\"Enter question type or turn off variable question type\",IF($G73=\"\",VLOOKUP($CE73,$BY:$CA,3,0),$G73)))","v":""},null,null,null,null,null,null,"",null,"",null,"",null,""]
[null,null,null,null,null,null,null,null,null,null,null,null,null,null,null,null,null,null,null,null,null,null,null,null,null,null,null,null,null,null,null,null,null,null,null,null,null,"",283,{"$f":"IF($I73=\"\",\"\",IF($CE73=0,\"Enter question type or turn off variable question type\",$CD73))","v":""},{"$f":"IF($I59=\"\",\"\",\"::\"&IF($B$16=\"\",\"\",$B$16&\"  \")&IF($E59=\"\",$H59,$E59)&\"::\")","v":""},{"$f":"IF($I50=\"\",\"\",IF($B$18=\"\",\"INPUT MAIN CATEGORY (CELL B18) OR TURN CATEGORIES OFF\",\"$CATEGORY: \"&$B$18&IF($F50=\"\",\"\",\"/\"&$F50)))","v":""},{"$f":"IF($I98=\"\",\"\",\"::\"&IF($B$16=\"\",\"\",$B$16&\"  \")&IF($E98=\"\",$H98,$E98)&\"::\")","v":""},null,null,null,"",null,"",null,"",null,97,{"$f":"ROW()/3","v":95}]
[null,null,null,null,null,null,null,null,null,null,null,null,null,null,null,null,null,null,null,null,null,null,null,null,null,null,null,null,null,null,null,null,null,null,null,null,null,"",284,null,{"$f":"IF($I59=\"\",\"\",IF($CE59=0,\"Enter question type or turn off variable question type\",$CD59))","v":""},null,{"$f":"IF($I98=\"\",\"\",IF($CE98=0,\"Enter question type or turn off variable question type\",$CD98))","v":""},null,null,null,null,null,null,null,"",null,""]
[null,null,null,null,null,null,null,null,null,null,null,null,null,null,null,null,null,null,null,null,null,null,null,null,null,null,null,null,null,null,null,null,null,null,null,null,null,"",285,{"$f":"IF($I74=\"\",\"\",\"::\"&IF($B$16=\"\",\"\",$B$16&\"  \")&IF($E74=\"\",$H74,$E74)&\"::\")","v":""},null,{"$f":"IF($I50=\"\",\"\",\"::\"&IF($B$16=\"\",\"\",$B$16&\"  \")&IF($E50=\"\",$H50,$E50)&\"::\")","v":""},null,null,null,null,{"$f":"IF(AV287+2=2,\"\",AV287+2)","v":74},{"$f":"(ROW()+1)/4","v":72},{"$f":"IF(AX287+2=2,\"\",AX287+2)","v":74},{"$f":"(ROW()+1)/4","v":72},"",null,""]
[null,null,null,null,null,null,null,null,null,null,null,null,null,null,null,null,null,null,null,null,null,null,null,null,null,null,null,null,null,null,null,null,null,null,null,null,null,"",286,{"$f":"IF($I74=\"\",\"\",IF($CE74=0,\"Enter question type or turn off variable question type\",IF($G74=\"\",VLOOKUP($CE74,$BY:$CA,3,0),$G74)))","v":""},{"$f":"IF($I60=\"\",\"\",IF($B$18=\"\",\"INPUT MAIN CATEGORY (CELL B18) OR TURN CATEGORIES OFF\",\"$CATEGORY: \"&$B$18&IF($F60=\"\",\"\",\"/\"&$F60)))","v":""},{"$f":"IF($I50=\"\",\"\",IF($CE50=0,\"Enter question type or turn off variable question type\",IF($G50=\"\",VLOOKUP($CE50,$BY:$CA,3,0),$G50)))","v":""},{"$f":"IF($I99=\"\",\"\",\"::\"&IF($B$16=\"\",\"\",$B$16&\"  \")&IF($E99=\"\",$H99,$E99)&\"::\")","v":""},null,null,null,"",null,"",null,60,{"$f":"(ROW()+2)/5","v":58},98,{"$f":"ROW()/3","v":96}]
[null,null,null,null,null,null,null,null,null,null,null,null,null,null,null,null,null,null,null,null,null,null,null,null,null,null,null,null,null,null,null,null,null,null,null,null,null,"",287,{"$f":"IF($I74=\"\",\"\",IF($CE74=0,\"Enter question type or turn off variable question type\",$CD74))","v":""},null,{"$f":"IF($I50=\"\",\"\",IF($CE50=0,\"Enter question type or turn off variable question type\",$CD50))","v":""},{"$f":"IF($I99=\"\",\"\",IF($CE99=0,\"Enter question type or turn off variable question type\",$CD99))","v":""},null,null,null,"",null,"",null,"",null,""]
[null,null,null,null,null,null,null,null,null,null,null,null,null,null,null,null,null,null,null,null,null,null,null,null,null,null,null,null,null,null,null,null,null,null,null,null,null,"",288,null,{"$f":"IF($I60=\"\",\"\",\"::\"&IF($B$16=\"\",\"\",$B$16&\"  \")&IF($E60=\"\",$H60,$E60)&\"::\")","v":""},null,null,null,null,null,null,null,null,null,"",null,""]
[null,null,null,null,null,null,null,null,null,null,null,null,null,null,null,null,null,null,null,null,null,null,null,null,null,null,null,null,null,null,null,null,null,null,null,null,null,"",289,{"$f":"IF($I75=\"\",\"\",\"::\"&IF($B$16=\"\",\"\",$B$16&\"  \")&IF($E75=\"\",$H75,$E75)&\"::\")","v":""},{"$f":"IF($I60=\"\",\"\",IF($CE60=0,\"Enter question type or turn off variable question type\",$CD60))","v":""},{"$f":"IF($I51=\"\",\"\",IF($B$18=\"\",\"INPUT MAIN CATEGORY (CELL B18) OR TURN CATEGORIES OFF\",\"$CATEGORY: \"&$B$18&IF($F51=\"\",\"\",\"/\"&$F51)))","v":""},{"$f":"IF($I100=\"\",\"\",\"::\"&IF($B$16=\"\",\"\",$B$16&\"  \")&IF($E100=\"\",$H100,$E100)&\"::\")","v":""},null,null,null,{"$f":"IF(AV291+2=2,\"\",AV291+2)","v":75},{"$f":"(ROW()+1)/4","v":73},{"$f":"IF(AX291+2=2,\"\",AX291+2)","v":75},{"$f":"(ROW()+1)/4","v":73},"",null,99,{"$f":"ROW()/3","v":97}]
[null,null,null,null,null,null,null,null,null,null,null,null,null,null,null,null,null,null,null,null,null,null,null,null,null,null,null,null,null,null,null,null,null,null,null,null,null,"",290,{"$f":"IF($I75=\"\",\"\",IF($CE75=0,\"Enter question type or turn off variable question type\",IF($G75=\"\",VLOOKUP($CE75,$BY:$CA,3,0),$G75)))","v":""},null,null,{"$f":"IF($I100=\"\",\"\",IF($CE100=0,\"Enter question type or turn off variable question type\",$CD100))","v":""},null,null,null,"",null,"",null,"",null,""]
[null,null,null,null,null,null,null,null,null,null,null,null,null,null,null,null,null,null,null,null,null,null,null,null,null,null,null,null,null,null,null,null,null,null,null,null,null,"",291,{"$f":"IF($I75=\"\",\"\",IF($CE75=0,\"Enter question type or turn off variable question type\",$CD75))","v":""},{"$f":"IF($I61=\"\",\"\",IF($B$18=\"\",\"INPUT MAIN CATEGORY (CELL B18) OR TURN CATEGORIES OFF\",\"$CATEGORY: \"&$B$18&IF($F61=\"\",\"\",\"/\"&$F61)))","v":""},{"$f":"IF($I51=\"\",\"\",\"::\"&IF($B$16=\"\",\"\",$B$16&\"  \")&IF($E51=\"\",$H51,$E51)&\"::\")","v":""},null,null,null,null,"",null,"",null,61,{"$f":"(ROW()+2)/5","v":59},""]
[null,null,null,null,null,null,null,null,null,null,null,null,null,null,null,null,null,null,null,null,null,null,null,null,null,null,null,null,null,null,null,null,null,null,null,null,null,"",292,null,null,{"$f":"IF($I51=\"\",\"\",IF($CE51=0,\"Enter question type or turn off variable question type\",IF($G51=\"\",VLOOKUP($CE51,$BY:$CA,3,0),$G51)))","v":""},{"$f":"IF($I101=\"\",\"\",\"::\"&IF($B$16=\"\",\"\",$B$16&\"  \")&IF($E101=\"\",$H101,$E101)&\"::\")","v":""},null,null,null,null,null,null,null,"",null,100,{"$f":"ROW()/3","v":98}]
[null,null,null,null,null,null,null,null,null,null,null,null,null,null,null,null,null,null,null,null,null,null,null,null,null,null,null,null,null,null,null,null,null,null,null,null,null,"",293,{"$f":"IF($I76=\"\",\"\",\"::\"&IF($B$16=\"\",\"\",$B$16&\"  \")&IF($E76=\"\",$H76,$E76)&\"::\")","v":""},{"$f":"IF($I61=\"\",\"\",\"::\"&IF($B$16=\"\",\"\",$B$16&\"  \")&IF($E61=\"\",$H61,$E61)&\"::\")","v":""},{"$f":"IF($I51=\"\",\"\",IF($CE51=0,\"Enter question type or turn off variable question type\",$CD51))","v":""},{"$f":"IF($I101=\"\",\"\",IF($CE101=0,\"Enter question type or turn off variable question type\",$CD101))","v":""},null,null,null,{"$f":"IF(AV295+2=2,\"\",AV295+2)","v":76},{"$f":"(ROW()+1)/4","v":74},{"$f":"IF(AX295+2=2,\"\",AX295+2)","v":76},{"$f":"(ROW()+1)/4","v":74},"",null,""]
[null,null,null,null,null,null,null,null,null,null,null,null,null,null,null,null,null,null,null,null,null,null,null,null,null,null,null,null,null,null,null,null,null,null,null,null,null,"",294,{"$f":"IF($I76=\"\",\"\",IF($CE76=0,\"Enter question type or turn off variable question type\",IF($G76=\"\",VLOOKUP($CE76,$BY:$CA,3,0),$G76)))","v":""},{"$f":"IF($I61=\"\",\"\",IF($CE61=0,\"Enter question type or turn off variable question type\",$CD61))","v":""},null,null,null,null,null,"",null,"",null,"",null,""]
[null,null,null,null,null,null,null,null,null,null,null,null,null,null,null,null,null,null,null,null,null,null,null,null,null,null,null,null,null,null,null,null,null,null,null,null,null,"",295,{"$f":"IF($I76=\"\",\"\",IF($CE76=0,\"Enter question type or turn off variable question type\",$CD76))","v":""},null,{"$f":"IF($I52=\"\",\"\",IF($B$18=\"\",\"INPUT MAIN CATEGORY (CELL B18) OR TURN CATEGORIES OFF\",\"$CATEGORY: \"&$B$18&IF($F52=\"\",\"\",\"/\"&$F52)))","v":""},{"$f":"IF($I201=\"\",\"\",\"::\"&IF($B$16=\"\",\"\",$B$16&\"  \")&IF($E201=\"\",$H201,$E201)&\"::\")","v":""},null,null,null,"",null,"",null,"",null,{"$f":"IF(BB297+2=2,\"\",BB297+2)","v":101},{"$f":"ROW()/3","v":99}]
[null,null,null,null,null,null,null,null,null,null,null,null,null,null,null,null,null,null,null,null,null,null,null,null,null,null,null,null,null,null,null,null,null,null,null,null,null,"",296,null,{"$f":"IF($I62=\"\",\"\",IF($B$18=\"\",\"INPUT MAIN CATEGORY (CELL B18) OR TURN CATEGORIES OFF\",\"$CATEGORY: \"&$B$18&IF($F62=\"\",\"\",\"/\"&$F62)))","v":""},null,{"$f":"IF($I201=\"\",\"\",IF($CE201=0,\"Enter question type or turn off variable question type\",$CD201))","v":""},null,null,null,null,null,null,null,62,{"$f":"(ROW()+2)/5","v":60},""]
[null,null,null,null,null,null,null,null,null,null,null,null,null,null,null,null,null,null,null,null,null,null,null,null,null,null,null,null,null,null,null,null,null,null,null,null,null,"",297,{"$f":"IF($I77=\"\",\"\",\"::\"&IF($B$16=\"\",\"\",$B$16&\"  \")&IF($E77=\"\",$H77,$E77)&\"::\")","v":""},null,{"$f":"IF($I52=\"\",\"\",\"::\"&IF($B$16=\"\",\"\",$B$16&\"  \")&IF($E52=\"\",$H52,$E52)&\"::\")","v":""},null,null,null,null,{"$f":"IF(AV299+2=2,\"\",AV299+2)","v":77},75,{"$f":"IF(AX299+2=2,\"\",AX299+2)","v":77},75,"",null,""]
[null,null,null,null,null,null,null,null,null,null,null,null,null,null,null,null,null,null,null,null,null,null,null,null,null,null,null,null,null,null,null,null,null,null,null,null,null,"",298,{"$f":"IF($I77=\"\",\"\",IF($CE77=0,\"Enter question type or turn off variable question type\",IF($G77=\"\",VLOOKUP($CE77,$BY:$CA,3,0),$G77)))","v":""},{"$f":"IF($I62=\"\",\"\",\"::\"&IF($B$16=\"\",\"\",$B$16&\"  \")&IF($E62=\"\",$H62,$E62)&\"::\")","v":""},{"$f":"IF($I52=\"\",\"\",IF($CE52=0,\"Enter question type or turn off variable question type\",IF($G52=\"\",VLOOKUP($CE52,$BY:$CA,3,0),$G52)))","v":""},{"$f":"IF($I202=\"\",\"\",\"::\"&IF($B$16=\"\",\"\",$B$16&\"  \")&IF($E202=\"\",$H202,$E202)&\"::\")","v":""},null,null,null,"",null,"",null,"",null,102,{"$f":"ROW()/3","v":100}]
[null,null,null,null,null,null,null,null,null,null,null,null,null,null,null,null,null,null,null,null,null,null,null,null,null,null,null,null,null,null,null,null,null,null,null,null,null,"",299,{"$f":"IF($I77=\"\",\"\",IF($CE77=0,\"Enter question type or turn off variable question type\",$CD77))","v":""},{"$f":"IF($I62=\"\",\"\",IF($CE62=0,\"Enter question type or turn off variable question type\",$CD62))","v":""},{"$f":"IF($I52=\"\",\"\",IF($CE52=0,\"Enter question type or turn off variable question type\",$CD52))","v":""},{"$f":"IF($I202=\"\",\"\",IF($CE202=0,\"Enter question type or turn off variable question type\",$CD202))","v":""},null,null,null,"",null,"",null,"",null,""]
[null,null,null,null,null,null,null,null,null,null,null,null,null,null,null,null,null,null,null,null,null,null,null,null,null,null,null,null,null,null,null,null,null,null,null,null,null,"",300,null,null,null,null,null,null,null,null,null,null,null,"",null,""]
[null,null,null,null,null,null,null,null,null,null,null,null,null,null,null,null,null,null,null,null,null,null,null,null,null,null,null,null,null,null,null,null,null,null,null,null,null,"",301,{"$f":"IF($I78=\"\",\"\",\"::\"&IF($B$16=\"\",\"\",$B$16&\"  \")&IF($E78=\"\",$H78,$E78)&\"::\")","v":""},{"$f":"IF($I63=\"\",\"\",IF($B$18=\"\",\"INPUT MAIN CATEGORY (CELL B18) OR TURN CATEGORIES OFF\",\"$CATEGORY: \"&$B$18&IF($F63=\"\",\"\",\"/\"&$F63)))","v":""},{"$f":"IF($I53=\"\",\"\",IF($B$18=\"\",\"INPUT MAIN CATEGORY (CELL B18) OR TURN CATEGORIES OFF\",\"$CATEGORY: \"&$B$18&IF($F53=\"\",\"\",\"/\"&$F53)))","v":""},null,null,null,null,{"$f":"IF(AV303+2=2,\"\",AV303+2)","v":78},{"$f":"(ROW()+1)/4","v":76},{"$f":"IF(AX303+2=2,\"\",AX303+2)","v":78},{"$f":"(ROW()+1)/4","v":76},63,{"$f":"(ROW()+2)/5","v":61}]
[null,null,null,null,null,null,null,null,null,null,null,null,null,null,null,null,null,null,null,null,null,null,null,null,null,null,null,null,null,null,null,null,null,null,null,null,null,"",302,{"$f":"IF($I78=\"\",\"\",IF($CE78=0,\"Enter question type or turn off variable question type\",IF($G78=\"\",VLOOKUP($CE78,$BY:$CA,3,0),$G78)))","v":""},null,null,null,null,null,null,"",null,"",null,""]
[null,null,null,null,null,null,null,null,null,null,null,null,null,null,null,null,null,null,null,null,null,null,null,null,null,null,null,null,null,null,null,null,null,null,null,null,null,"",303,{"$f":"IF($I78=\"\",\"\",IF($CE78=0,\"Enter question type or turn off variable question type\",$CD78))","v":""},{"$f":"IF($I63=\"\",\"\",\"::\"&IF($B$16=\"\",\"\",$B$16&\"  \")&IF($E63=\"\",$H63,$E63)&\"::\")","v":""},{"$f":"IF($I53=\"\",\"\",\"::\"&IF($B$16=\"\",\"\",$B$16&\"  \")&IF($E53=\"\",$H53,$E53)&\"::\")","v":""},null,null,null,null,"",null,"",null,""]
[null,null,null,null,null,null,null,null,null,null,null,null,null,null,null,null,null,null,null,null,null,null,null,null,null,null,null,null,null,null,null,null,null,null,null,null,null,"",304,null,{"$f":"IF($I63=\"\",\"\",IF($CE63=0,\"Enter question type or turn off variable question type\",$CD63))","v":""},{"$f":"IF($I53=\"\",\"\",IF($CE53=0,\"Enter question type or turn off variable question type\",IF($G53=\"\",VLOOKUP($CE53,$BY:$CA,3,0),$G53)))","v":""},null,null,null,null,null,null,null,null,""]
[null,null,null,null,null,null,null,null,null,null,null,null,null,null,null,null,null,null,null,null,null,null,null,null,null,null,null,null,null,null,null,null,null,null,null,null,null,"",305,{"$f":"IF($I79=\"\",\"\",\"::\"&IF($B$16=\"\",\"\",$B$16&\"  \")&IF($E79=\"\",$H79,$E79)&\"::\")","v":""},null,{"$f":"IF($I53=\"\",\"\",IF($CE53=0,\"Enter question type or turn off variable question type\",$CD53))","v":""},null,null,null,null,{"$f":"IF(AV307+2=2,\"\",AV307+2)","v":79},{"$f":"(ROW()+1)/4","v":77},{"$f":"IF(AX307+2=2,\"\",AX307+2)","v":79},{"$f":"(ROW()+1)/4","v":77},""]
[null,null,null,null,null,null,null,null,null,null,null,null,null,null,null,null,null,null,null,null,null,null,null,null,null,null,null,null,null,null,null,null,null,null,null,null,null,"",306,{"$f":"IF($I79=\"\",\"\",IF($CE79=0,\"Enter question type or turn off variable question type\",IF($G79=\"\",VLOOKUP($CE79,$BY:$CA,3,0),$G79)))","v":""},{"$f":"IF($I64=\"\",\"\",IF($B$18=\"\",\"INPUT MAIN CATEGORY (CELL B18) OR TURN CATEGORIES OFF\",\"$CATEGORY: \"&$B$18&IF($F64=\"\",\"\",\"/\"&$F64)))","v":""},null,null,null,null,null,"",null,"",null,64,{"$f":"(ROW()+2)/5","v":62}]
[null,null,null,null,null,null,null,null,null,null,null,null,null,null,null,null,null,null,null,null,null,null,null,null,null,null,null,null,null,null,null,null,null,null,null,null,null,"",307,{"$f":"IF($I79=\"\",\"\",IF($CE79=0,\"Enter question type or turn off variable question type\",$CD79))","v":""},null,{"$f":"IF($I54=\"\",\"\",IF($B$18=\"\",\"INPUT MAIN CATEGORY (CELL B18) OR TURN CATEGORIES OFF\",\"$CATEGORY: \"&$B$18&IF($F54=\"\",\"\",\"/\"&$F54)))","v":""},null,null,null,null,"",null,"",null,""]
[null,null,null,null,null,null,null,null,null,null,null,null,null,null,null,null,null,null,null,null,null,null,null,null,null,null,null,null,null,null,null,null,null,null,null,null,null,"",308,null,{"$f":"IF($I64=\"\",\"\",\"::\"&IF($B$16=\"\",\"\",$B$16&\"  \")&IF($E64=\"\",$H64,$E64)&\"::\")","v":""},null,null,null,null,null,null,null,null,null,""]
[null,null,null,null,null,null,null,null,null,null,null,null,null,null,null,null,null,null,null,null,null,null,null,null,null,null,null,null,null,null,null,null,null,null,null,null,null,"",309,{"$f":"IF($I80=\"\",\"\",\"::\"&IF($B$16=\"\",\"\",$B$16&\"  \")&IF($E80=\"\",$H80,$E80)&\"::\")","v":""},{"$f":"IF($I64=\"\",\"\",IF($CE64=0,\"Enter question type or turn off variable question type\",$CD64))","v":""},{"$f":"IF($I54=\"\",\"\",\"::\"&IF($B$16=\"\",\"\",$B$16&\"  \")&IF($E54=\"\",$H54,$E54)&\"::\")","v":""},null,null,null,null,{"$f":"IF(AV311+2=2,\"\",AV311+2)","v":80},{"$f":"(ROW()+1)/4","v":78},{"$f":"IF(AX311+2=2,\"\",AX311+2)","v":80},{"$f":"(ROW()+1)/4","v":78},""]
[null,null,null,null,null,null,null,null,null,null,null,null,null,null,null,null,null,null,null,null,null,null,null,null,null,null,null,null,null,null,null,null,null,null,null,null,null,"",310,{"$f":"IF($I80=\"\",\"\",IF($CE80=0,\"Enter question type or turn off variable question type\",IF($G80=\"\",VLOOKUP($CE80,$BY:$CA,3,0),$G80)))","v":""},null,{"$f":"IF($I54=\"\",\"\",IF($CE54=0,\"Enter question type or turn off variable question type\",IF($G54=\"\",VLOOKUP($CE54,$BY:$CA,3,0),$G54)))","v":""},null,null,null,null,"",null,"",null,""]
[null,null,null,null,null,null,null,null,null,null,null,null,null,null,null,null,null,null,null,null,null,null,null,null,null,null,null,null,null,null,null,null,null,null,null,null,null,"",311,{"$f":"IF($I80=\"\",\"\",IF($CE80=0,\"Enter question type or turn off variable question type\",$CD80))","v":""},{"$f":"IF($I65=\"\",\"\",IF($B$18=\"\",\"INPUT MAIN CATEGORY (CELL B18) OR TURN CATEGORIES OFF\",\"$CATEGORY: \"&$B$18&IF($F65=\"\",\"\",\"/\"&$F65)))","v":""},{"$f":"IF($I54=\"\",\"\",IF($CE54=0,\"Enter question type or turn off variable question type\",$CD54))","v":""},null,null,null,null,"",null,"",null,65,{"$f":"(ROW()+2)/5","v":63}]
[null,null,null,null,null,null,null,null,null,null,null,null,null,null,null,null,null,null,null,null,null,null,null,null,null,null,null,null,null,null,null,null,null,null,null,null,null,"",312,null,null,null,null,null,null,null,null,null,null,null,""]
[null,null,null,null,null,null,null,null,null,null,null,null,null,null,null,null,null,null,null,null,null,null,null,null,null,null,null,null,null,null,null,null,null,null,null,null,null,"",313,{"$f":"IF($I81=\"\",\"\",\"::\"&IF($B$16=\"\",\"\",$B$16&\"  \")&IF($E81=\"\",$H81,$E81)&\"::\")","v":""},{"$f":"IF($I65=\"\",\"\",\"::\"&IF($B$16=\"\",\"\",$B$16&\"  \")&IF($E65=\"\",$H65,$E65)&\"::\")","v":""},{"$f":"IF($I55=\"\",\"\",IF($B$18=\"\",\"INPUT MAIN CATEGORY (CELL B18) OR TURN CATEGORIES OFF\",\"$CATEGORY: \"&$B$18&IF($F55=\"\",\"\",\"/\"&$F55)))","v":""},null,null,null,null,{"$f":"IF(AV315+2=2,\"\",AV315+2)","v":81},79,{"$f":"IF(AX315+2=2,\"\",AX315+2)","v":81},79,""]
[null,null,null,null,null,null,null,null,null,null,null,null,null,null,null,null,null,null,null,null,null,null,null,null,null,null,null,null,null,null,null,null,null,null,null,null,null,"",314,{"$f":"IF($I81=\"\",\"\",IF($CE81=0,\"Enter question type or turn off variable question type\",IF($G81=\"\",VLOOKUP($CE81,$BY:$CA,3,0),$G81)))","v":""},{"$f":"IF($I65=\"\",\"\",IF($CE65=0,\"Enter question type or turn off variable question type\",$CD65))","v":""},null,null,null,null,null,"",null,"",null,""]
[null,null,null,null,null,null,null,null,null,null,null,null,null,null,null,null,null,null,null,null,null,null,null,null,null,null,null,null,null,null,null,null,null,null,null,null,null,"",315,{"$f":"IF($I81=\"\",\"\",IF($CE81=0,\"Enter question type or turn off variable question type\",$CD81))","v":""},null,{"$f":"IF($I55=\"\",\"\",\"::\"&IF($B$16=\"\",\"\",$B$16&\"  \")&IF($E55=\"\",$H55,$E55)&\"::\")","v":""},null,null,null,null,"",null,"",null,""]
[null,null,null,null,null,null,null,null,null,null,null,null,null,null,null,null,null,null,null,null,null,null,null,null,null,null,null,null,null,null,null,null,null,null,null,null,null,{"$f":"IF(VLOOKUP($AM318,$AM:$AQ,$A$6,0)=\"\",\"\",VLOOKUP($AM318,$AM:$AQ,$A$6,0))","v":""},316,null,{"$f":"IF($I66=\"\",\"\",IF($B$18=\"\",\"INPUT MAIN CATEGORY (CELL B18) OR TURN CATEGORIES OFF\",\"$CATEGORY: \"&$B$18&IF($F66=\"\",\"\",\"/\"&$F66)))","v":""},{"$f":"IF($I55=\"\",\"\",IF($CE55=0,\"Enter question type or turn off variable question type\",IF($G55=\"\",VLOOKUP($CE55,$BY:$CA,3,0),$G55)))","v":""},null,null,null,null,null,null,null,null,{"$f":"IF(AZ318+2=2,\"\",AZ318+2)","v":66},{"$f":"(ROW()+2)/5","v":64}]
[null,null,null,null,null,null,null,null,null,null,null,null,null,null,null,null,null,null,null,null,null,null,null,null,null,null,null,null,null,null,null,null,null,null,null,null,null,"",317,{"$f":"IF($I82=\"\",\"\",\"::\"&IF($B$16=\"\",\"\",$B$16&\"  \")&IF($E82=\"\",$H82,$E82)&\"::\")","v":""},null,{"$f":"IF($I55=\"\",\"\",IF($CE55=0,\"Enter question type or turn off variable question type\",$CD55))","v":""},null,null,null,null,{"$f":"IF(AV319+2=2,\"\",AV319+2)","v":82},{"$f":"(ROW()+1)/4","v":80},{"$f":"IF(AX319+2=2,\"\",AX319+2)","v":82},{"$f":"(ROW()+1)/4","v":80},""]
[null,null,null,null,null,null,null,null,null,null,null,null,null,null,null,null,null,null,null,null,null,null,null,null,null,null,null,null,null,null,null,null,null,null,null,null,null,"",318,{"$f":"IF($I82=\"\",\"\",IF($CE82=0,\"Enter question type or turn off variable question type\",IF($G82=\"\",VLOOKUP($CE82,$BY:$CA,3,0),$G82)))","v":""},{"$f":"IF($I66=\"\",\"\",\"::\"&IF($B$16=\"\",\"\",$B$16&\"  \")&IF($E66=\"\",$H66,$E66)&\"::\")","v":""},null,null,null,null,null,"",null,"",null,""]
[null,null,null,null,null,null,null,null,null,null,null,null,null,null,null,null,null,null,null,null,null,null,null,null,null,null,null,null,null,null,null,null,null,null,null,null,null,"",319,{"$f":"IF($I82=\"\",\"\",IF($CE82=0,\"Enter question type or turn off variable question type\",$CD82))","v":""},{"$f":"IF($I66=\"\",\"\",IF($CE66=0,\"Enter question type or turn off variable question type\",$CD66))","v":""},{"$f":"IF($I56=\"\",\"\",IF($B$18=\"\",\"INPUT MAIN CATEGORY (CELL B18) OR TURN CATEGORIES OFF\",\"$CATEGORY: \"&$B$18&IF($F56=\"\",\"\",\"/\"&$F56)))","v":""},null,null,null,null,"",null,"",null,""]
[null,null,null,null,null,null,null,null,null,null,null,null,null,null,null,null,null,null,null,null,null,null,null,null,null,null,null,null,null,null,null,null,null,null,null,null,null,"",320,null,null,null,null,null,null,null,null,null,null,null,""]
[null,null,null,null,null,null,null,null,null,null,null,null,null,null,null,null,null,null,null,null,null,null,null,null,null,null,null,null,null,null,null,null,null,null,null,null,null,"",321,{"$f":"IF($I83=\"\",\"\",\"::\"&IF($B$16=\"\",\"\",$B$16&\"  \")&IF($E83=\"\",$H83,$E83)&\"::\")","v":""},{"$f":"IF($I67=\"\",\"\",IF($B$18=\"\",\"INPUT MAIN CATEGORY (CELL B18) OR TURN CATEGORIES OFF\",\"$CATEGORY: \"&$B$18&IF($F67=\"\",\"\",\"/\"&$F67)))","v":""},{"$f":"IF($I56=\"\",\"\",\"::\"&IF($B$16=\"\",\"\",$B$16&\"  \")&IF($E56=\"\",$H56,$E56)&\"::\")","v":""},null,null,null,null,{"$f":"IF(AV323+2=2,\"\",AV323+2)","v":83},{"$f":"(ROW()+1)/4","v":81},{"$f":"IF(AX323+2=2,\"\",AX323+2)","v":83},{"$f":"(ROW()+1)/4","v":81},67,{"$f":"(ROW()+2)/5","v":65}]
[null,null,null,null,null,null,null,null,null,null,null,null,null,null,null,null,null,null,null,null,null,null,null,null,null,null,null,null,null,null,null,null,null,null,null,null,null,"",322,{"$f":"IF($I83=\"\",\"\",IF($CE83=0,\"Enter question type or turn off variable question type\",IF($G83=\"\",VLOOKUP($CE83,$BY:$CA,3,0),$G83)))","v":""},null,{"$f":"IF($I56=\"\",\"\",IF($CE56=0,\"Enter question type or turn off variable question type\",IF($G56=\"\",VLOOKUP($CE56,$BY:$CA,3,0),$G56)))","v":""},null,null,null,null,"",null,"",null,""]
[null,null,null,null,null,null,null,null,null,null,null,null,null,null,null,null,null,null,null,null,null,null,null,null,null,null,null,null,null,null,null,null,null,null,null,null,null,"",323,{"$f":"IF($I83=\"\",\"\",IF($CE83=0,\"Enter question type or turn off variable question type\",$CD83))","v":""},{"$f":"IF($I67=\"\",\"\",\"::\"&IF($B$16=\"\",\"\",$B$16&\"  \")&IF($E67=\"\",$H67,$E67)&\"::\")","v":""},{"$f":"IF($I56=\"\",\"\",IF($CE56=0,\"Enter question type or turn off variable question type\",$CD56))","v":""},null,null,null,null,"",null,"",null,""]
[null,null,null,null,null,null,null,null,null,null,null,null,null,null,null,null,null,null,null,null,null,null,null,null,null,null,null,null,null,null,null,null,null,null,null,null,null,"",324,null,{"$f":"IF($I67=\"\",\"\",IF($CE67=0,\"Enter question type or turn off variable question type\",$CD67))","v":""},null,null,null,null,null,null,null,null,null,""]
[null,null,null,null,null,null,null,null,null,null,null,null,null,null,null,null,null,null,null,null,null,null,null,null,null,null,null,null,null,null,null,null,null,null,null,null,null,"",325,{"$f":"IF($I84=\"\",\"\",\"::\"&IF($B$16=\"\",\"\",$B$16&\"  \")&IF($E84=\"\",$H84,$E84)&\"::\")","v":""},null,{"$f":"IF($I57=\"\",\"\",IF($B$18=\"\",\"INPUT MAIN CATEGORY (CELL B18) OR TURN CATEGORIES OFF\",\"$CATEGORY: \"&$B$18&IF($F57=\"\",\"\",\"/\"&$F57)))","v":""},null,null,null,null,{"$f":"IF(AV327+2=2,\"\",AV327+2)","v":84},{"$f":"(ROW()+1)/4","v":82},{"$f":"IF(AX327+2=2,\"\",AX327+2)","v":84},{"$f":"(ROW()+1)/4","v":82},""]
[null,null,null,null,null,null,null,null,null,null,null,null,null,null,null,null,null,null,null,null,null,null,null,null,null,null,null,null,null,null,null,null,null,null,null,null,null,"",326,{"$f":"IF($I84=\"\",\"\",IF($CE84=0,\"Enter question type or turn off variable question type\",IF($G84=\"\",VLOOKUP($CE84,$BY:$CA,3,0),$G84)))","v":""},{"$f":"IF($I68=\"\",\"\",IF($B$18=\"\",\"INPUT MAIN CATEGORY (CELL B18) OR TURN CATEGORIES OFF\",\"$CATEGORY: \"&$B$18&IF($F68=\"\",\"\",\"/\"&$F68)))","v":""},null,null,null,null,null,"",null,"",null,68,{"$f":"(ROW()+2)/5","v":66}]
[null,null,null,null,null,null,null,null,null,null,null,null,null,null,null,null,null,null,null,null,null,null,null,null,null,null,null,null,null,null,null,null,null,null,null,null,null,"",327,{"$f":"IF($I84=\"\",\"\",IF($CE84=0,\"Enter question type or turn off variable question type\",$CD84))","v":""},null,{"$f":"IF($I57=\"\",\"\",\"::\"&IF($B$16=\"\",\"\",$B$16&\"  \")&IF($E57=\"\",$H57,$E57)&\"::\")","v":""},null,null,null,null,"",null,"",null,""]
[null,null,null,null,null,null,null,null,null,null,null,null,null,null,null,null,null,null,null,null,null,null,null,null,null,null,null,null,null,null,null,null,null,null,null,null,null,"",328,null,{"$f":"IF($I68=\"\",\"\",\"::\"&IF($B$16=\"\",\"\",$B$16&\"  \")&IF($E68=\"\",$H68,$E68)&\"::\")","v":""},{"$f":"IF($I57=\"\",\"\",IF($CE57=0,\"Enter question type or turn off variable question type\",IF($G57=\"\",VLOOKUP($CE57,$BY:$CA,3,0),$G57)))","v":""},null,null,null,null,null,null,null,null,""]
[null,null,null,null,null,null,null,null,null,null,null,null,null,null,null,null,null,null,null,null,null,null,null,null,null,null,null,null,null,null,null,null,null,null,null,null,null,"",329,{"$f":"IF($I85=\"\",\"\",\"::\"&IF($B$16=\"\",\"\",$B$16&\"  \")&IF($E85=\"\",$H85,$E85)&\"::\")","v":""},{"$f":"IF($I68=\"\",\"\",IF($CE68=0,\"Enter question type or turn off variable question type\",$CD68))","v":""},{"$f":"IF($I57=\"\",\"\",IF($CE57=0,\"Enter question type or turn off variable question type\",$CD57))","v":""},null,null,null,null,{"$f":"IF(AV331+2=2,\"\",AV331+2)","v":85},83,{"$f":"IF(AX331+2=2,\"\",AX331+2)","v":85},83,""]
[null,null,null,null,null,null,null,null,null,null,null,null,null,null,null,null,null,null,null,null,null,null,null,null,null,null,null,null,null,null,null,null,null,null,null,null,null,"",330,{"$f":"IF($I85=\"\",\"\",IF($CE85=0,\"Enter question type or turn off variable question type\",IF($G85=\"\",VLOOKUP($CE85,$BY:$CA,3,0),$G85)))","v":""},null,null,null,null,null,null,"",null,"",null,""]
[null,null,null,null,null,null,null,null,null,null,null,null,null,null,null,null,null,null,null,null,null,null,null,null,null,null,null,null,null,null,null,null,null,null,null,null,null,"",331,{"$f":"IF($I85=\"\",\"\",IF($CE85=0,\"Enter question type or turn off variable question type\",$CD85))","v":""},{"$f":"IF($I69=\"\",\"\",IF($B$18=\"\",\"INPUT MAIN CATEGORY (CELL B18) OR TURN CATEGORIES OFF\",\"$CATEGORY: \"&$B$18&IF($F69=\"\",\"\",\"/\"&$F69)))","v":""},{"$f":"IF($I58=\"\",\"\",IF($B$18=\"\",\"INPUT MAIN CATEGORY (CELL B18) OR TURN CATEGORIES OFF\",\"$CATEGORY: \"&$B$18&IF($F58=\"\",\"\",\"/\"&$F58)))","v":""},null,null,null,null,"",null,"",null,69,{"$f":"(ROW()+2)/5","v":67}]
[null,null,null,null,null,null,null,null,null,null,null,null,null,null,null,null,null,null,null,null,null,null,null,null,null,null,null,null,null,null,null,null,null,null,null,null,null,"",332,null,null,null,null,null,null,null,null,null,null,null,""]
[null,null,null,null,null,null,null,null,null,null,null,null,null,null,null,null,null,null,null,null,null,null,null,null,null,null,null,null,null,null,null,null,null,null,null,null,null,"",333,{"$f":"IF($I86=\"\",\"\",\"::\"&IF($B$16=\"\",\"\",$B$16&\"  \")&IF($E86=\"\",$H86,$E86)&\"::\")","v":""},{"$f":"IF($I69=\"\",\"\",\"::\"&IF($B$16=\"\",\"\",$B$16&\"  \")&IF($E69=\"\",$H69,$E69)&\"::\")","v":""},{"$f":"IF($I58=\"\",\"\",\"::\"&IF($B$16=\"\",\"\",$B$16&\"  \")&IF($E58=\"\",$H58,$E58)&\"::\")","v":""},null,null,null,null,{"$f":"IF(AV335+2=2,\"\",AV335+2)","v":86},{"$f":"(ROW()+1)/4","v":84},{"$f":"IF(AX335+2=2,\"\",AX335+2)","v":86},{"$f":"(ROW()+1)/4","v":84},""]
[null,null,null,null,null,null,null,null,null,null,null,null,null,null,null,null,null,null,null,null,null,null,null,null,null,null,null,null,null,null,null,null,null,null,null,null,null,"",334,{"$f":"IF($I86=\"\",\"\",IF($CE86=0,\"Enter question type or turn off variable question type\",IF($G86=\"\",VLOOKUP($CE86,$BY:$CA,3,0),$G86)))","v":""},{"$f":"IF($I69=\"\",\"\",IF($CE69=0,\"Enter question type or turn off variable question type\",$CD69))","v":""},{"$f":"IF($I58=\"\",\"\",IF($CE58=0,\"Enter question type or turn off variable question type\",IF($G58=\"\",VLOOKUP($CE58,$BY:$CA,3,0),$G58)))","v":""},null,null,null,null,"",null,"",null,""]
[null,null,null,null,null,null,null,null,null,null,null,null,null,null,null,null,null,null,null,null,null,null,null,null,null,null,null,null,null,null,null,null,null,null,null,null,null,"",335,{"$f":"IF($I86=\"\",\"\",IF($CE86=0,\"Enter question type or turn off variable question type\",$CD86))","v":""},null,{"$f":"IF($I58=\"\",\"\",IF($CE58=0,\"Enter question type or turn off variable question type\",$CD58))","v":""},null,null,null,null,"",null,"",null,""]
[null,null,null,null,null,null,null,null,null,null,null,null,null,null,null,null,null,null,null,null,null,null,null,null,null,null,null,null,null,null,null,null,null,null,null,null,null,"",336,null,{"$f":"IF($I70=\"\",\"\",IF($B$18=\"\",\"INPUT MAIN CATEGORY (CELL B18) OR TURN CATEGORIES OFF\",\"$CATEGORY: \"&$B$18&IF($F70=\"\",\"\",\"/\"&$F70)))","v":""},null,null,null,null,null,null,null,null,null,70,{"$f":"(ROW()+2)/5","v":68}]
[null,null,null,null,null,null,null,null,null,null,null,null,null,null,null,null,null,null,null,null,null,null,null,null,null,null,null,null,null,null,null,null,null,null,null,null,null,"",337,{"$f":"IF($I87=\"\",\"\",\"::\"&IF($B$16=\"\",\"\",$B$16&\"  \")&IF($E87=\"\",$H87,$E87)&\"::\")","v":""},null,{"$f":"IF($I59=\"\",\"\",IF($B$18=\"\",\"INPUT MAIN CATEGORY (CELL B18) OR TURN CATEGORIES OFF\",\"$CATEGORY: \"&$B$18&IF($F59=\"\",\"\",\"/\"&$F59)))","v":""},null,null,null,null,{"$f":"IF(AV339+2=2,\"\",AV339+2)","v":87},{"$f":"(ROW()+1)/4","v":85},{"$f":"IF(AX339+2=2,\"\",AX339+2)","v":87},{"$f":"(ROW()+1)/4","v":85},""]
[null,null,null,null,null,null,null,null,null,null,null,null,null,null,null,null,null,null,null,null,null,null,null,null,null,null,null,null,null,null,null,null,null,null,null,null,null,"",338,{"$f":"IF($I87=\"\",\"\",IF($CE87=0,\"Enter question type or turn off variable question type\",IF($G87=\"\",VLOOKUP($CE87,$BY:$CA,3,0),$G87)))","v":""},{"$f":"IF($I70=\"\",\"\",\"::\"&IF($B$16=\"\",\"\",$B$16&\"  \")&IF($E70=\"\",$H70,$E70)&\"::\")","v":""},null,null,null,null,null,"",null,"",null,""]
[null,null,null,null,null,null,null,null,null,null,null,null,null,null,null,null,null,null,null,null,null,null,null,null,null,null,null,null,null,null,null,null,null,null,null,null,null,"",339,{"$f":"IF($I87=\"\",\"\",IF($CE87=0,\"Enter question type or turn off variable question type\",$CD87))","v":""},{"$f":"IF($I70=\"\",\"\",IF($CE70=0,\"Enter question type or turn off variable question type\",$CD70))","v":""},{"$f":"IF($I59=\"\",\"\",\"::\"&IF($B$16=\"\",\"\",$B$16&\"  \")&IF($E59=\"\",$H59,$E59)&\"::\")","v":""},null,null,null,null,"",null,"",null,""]
[null,null,null,null,null,null,null,null,null,null,null,null,null,null,null,null,null,null,null,null,null,null,null,null,null,null,null,null,null,null,null,null,null,null,null,null,null,"",340,null,null,{"$f":"IF($I59=\"\",\"\",IF($CE59=0,\"Enter question type or turn off variable question type\",IF($G59=\"\",VLOOKUP($CE59,$BY:$CA,3,0),$G59)))","v":""},null,null,null,null,null,null,null,null,""]
[null,null,null,null,null,null,null,null,null,null,null,null,null,null,null,null,null,null,null,null,null,null,null,null,null,null,null,null,null,null,null,null,null,null,null,null,null,"",341,{"$f":"IF($I88=\"\",\"\",\"::\"&IF($B$16=\"\",\"\",$B$16&\"  \")&IF($E88=\"\",$H88,$E88)&\"::\")","v":""},{"$f":"IF($I71=\"\",\"\",IF($B$18=\"\",\"INPUT MAIN CATEGORY (CELL B18) OR TURN CATEGORIES OFF\",\"$CATEGORY: \"&$B$18&IF($F71=\"\",\"\",\"/\"&$F71)))","v":""},{"$f":"IF($I59=\"\",\"\",IF($CE59=0,\"Enter question type or turn off variable question type\",$CD59))","v":""},null,null,null,null,{"$f":"IF(AV343+2=2,\"\",AV343+2)","v":88},{"$f":"(ROW()+1)/4","v":86},{"$f":"IF(AX343+2=2,\"\",AX343+2)","v":88},{"$f":"(ROW()+1)/4","v":86},71,{"$f":"(ROW()+2)/5","v":69}]
[null,null,null,null,null,null,null,null,null,null,null,null,null,null,null,null,null,null,null,null,null,null,null,null,null,null,null,null,null,null,null,null,null,null,null,null,null,"",342,{"$f":"IF($I88=\"\",\"\",IF($CE88=0,\"Enter question type or turn off variable question type\",IF($G88=\"\",VLOOKUP($CE88,$BY:$CA,3,0),$G88)))","v":""},null,null,null,null,null,null,"",null,"",null,""]
[null,null,null,null,null,null,null,null,null,null,null,null,null,null,null,null,null,null,null,null,null,null,null,null,null,null,null,null,null,null,null,null,null,null,null,null,null,"",343,{"$f":"IF($I88=\"\",\"\",IF($CE88=0,\"Enter question type or turn off variable question type\",$CD88))","v":""},{"$f":"IF($I71=\"\",\"\",\"::\"&IF($B$16=\"\",\"\",$B$16&\"  \")&IF($E71=\"\",$H71,$E71)&\"::\")","v":""},{"$f":"IF($I60=\"\",\"\",IF($B$18=\"\",\"INPUT MAIN CATEGORY (CELL B18) OR TURN CATEGORIES OFF\",\"$CATEGORY: \"&$B$18&IF($F60=\"\",\"\",\"/\"&$F60)))","v":""},null,null,null,null,"",null,"",null,""]
[null,null,null,null,null,null,null,null,null,null,null,null,null,null,null,null,null,null,null,null,null,null,null,null,null,null,null,null,null,null,null,null,null,null,null,null,null,"",344,null,{"$f":"IF($I71=\"\",\"\",IF($CE71=0,\"Enter question type or turn off variable question type\",$CD71))","v":""},null,null,null,null,null,null,null,null,null,""]
[null,null,null,null,null,null,null,null,null,null,null,null,null,null,null,null,null,null,null,null,null,null,null,null,null,null,null,null,null,null,null,null,null,null,null,null,null,"",345,{"$f":"IF($I89=\"\",\"\",\"::\"&IF($B$16=\"\",\"\",$B$16&\"  \")&IF($E89=\"\",$H89,$E89)&\"::\")","v":""},null,{"$f":"IF($I60=\"\",\"\",\"::\"&IF($B$16=\"\",\"\",$B$16&\"  \")&IF($E60=\"\",$H60,$E60)&\"::\")","v":""},null,null,null,null,{"$f":"IF(AV347+2=2,\"\",AV347+2)","v":89},87,{"$f":"IF(AX347+2=2,\"\",AX347+2)","v":89},87,""]
[null,null,null,null,null,null,null,null,null,null,null,null,null,null,null,null,null,null,null,null,null,null,null,null,null,null,null,null,null,null,null,null,null,null,null,null,null,"",346,{"$f":"IF($I89=\"\",\"\",IF($CE89=0,\"Enter question type or turn off variable question type\",IF($G89=\"\",VLOOKUP($CE89,$BY:$CA,3,0),$G89)))","v":""},{"$f":"IF($I72=\"\",\"\",IF($B$18=\"\",\"INPUT MAIN CATEGORY (CELL B18) OR TURN CATEGORIES OFF\",\"$CATEGORY: \"&$B$18&IF($F72=\"\",\"\",\"/\"&$F72)))","v":""},{"$f":"IF($I60=\"\",\"\",IF($CE60=0,\"Enter question type or turn off variable question type\",IF($G60=\"\",VLOOKUP($CE60,$BY:$CA,3,0),$G60)))","v":""},null,null,null,null,"",null,"",null,72,{"$f":"(ROW()+2)/5","v":70}]
[null,null,null,null,null,null,null,null,null,null,null,null,null,null,null,null,null,null,null,null,null,null,null,null,null,null,null,null,null,null,null,null,null,null,null,null,null,"",347,{"$f":"IF($I89=\"\",\"\",IF($CE89=0,\"Enter question type or turn off variable question type\",$CD89))","v":""},null,{"$f":"IF($I60=\"\",\"\",IF($CE60=0,\"Enter question type or turn off variable question type\",$CD60))","v":""},null,null,null,null,"",null,"",null,""]
[null,null,null,null,null,null,null,null,null,null,null,null,null,null,null,null,null,null,null,null,null,null,null,null,null,null,null,null,null,null,null,null,null,null,null,null,null,"",348,null,{"$f":"IF($I72=\"\",\"\",\"::\"&IF($B$16=\"\",\"\",$B$16&\"  \")&IF($E72=\"\",$H72,$E72)&\"::\")","v":""},null,null,null,null,null,null,null,null,null,""]
[null,null,null,null,null,null,null,null,null,null,null,null,null,null,null,null,null,null,null,null,null,null,null,null,null,null,null,null,null,null,null,null,null,null,null,null,null,"",349,{"$f":"IF($I90=\"\",\"\",\"::\"&IF($B$16=\"\",\"\",$B$16&\"  \")&IF($E90=\"\",$H90,$E90)&\"::\")","v":""},{"$f":"IF($I72=\"\",\"\",IF($CE72=0,\"Enter question type or turn off variable question type\",$CD72))","v":""},{"$f":"IF($I61=\"\",\"\",IF($B$18=\"\",\"INPUT MAIN CATEGORY (CELL B18) OR TURN CATEGORIES OFF\",\"$CATEGORY: \"&$B$18&IF($F61=\"\",\"\",\"/\"&$F61)))","v":""},null,null,null,null,{"$f":"IF(AV351+2=2,\"\",AV351+2)","v":90},{"$f":"(ROW()+1)/4","v":88},{"$f":"IF(AX351+2=2,\"\",AX351+2)","v":90},{"$f":"(ROW()+1)/4","v":88},""]
[null,null,null,null,null,null,null,null,null,null,null,null,null,null,null,null,null,null,null,null,null,null,null,null,null,null,null,null,null,null,null,null,null,null,null,null,null,"",350,{"$f":"IF($I90=\"\",\"\",IF($CE90=0,\"Enter question type or turn off variable question type\",IF($G90=\"\",VLOOKUP($CE90,$BY:$CA,3,0),$G90)))","v":""},null,null,null,null,null,null,"",null,"",null,""]
[null,null,null,null,null,null,null,null,null,null,null,null,null,null,null,null,null,null,null,null,null,null,null,null,null,null,null,null,null,null,null,null,null,null,null,null,null,"",351,{"$f":"IF($I90=\"\",\"\",IF($CE90=0,\"Enter question type or turn off variable question type\",$CD90))","v":""},{"$f":"IF($I73=\"\",\"\",IF($B$18=\"\",\"INPUT MAIN CATEGORY (CELL B18) OR TURN CATEGORIES OFF\",\"$CATEGORY: \"&$B$18&IF($F73=\"\",\"\",\"/\"&$F73)))","v":""},{"$f":"IF($I61=\"\",\"\",\"::\"&IF($B$16=\"\",\"\",$B$16&\"  \")&IF($E61=\"\",$H61,$E61)&\"::\")","v":""},null,null,null,null,"",null,"",null,73,{"$f":"(ROW()+2)/5","v":71}]
[null,null,null,null,null,null,null,null,null,null,null,null,null,null,null,null,null,null,null,null,null,null,null,null,null,null,null,null,null,null,null,null,null,null,null,null,null,"",352,null,null,{"$f":"IF($I61=\"\",\"\",IF($CE61=0,\"Enter question type or turn off variable question type\",IF($G61=\"\",VLOOKUP($CE61,$BY:$CA,3,0),$G61)))","v":""},null,null,null,null,null,null,null,null,""]
[null,null,null,null,null,null,null,null,null,null,null,null,null,null,null,null,null,null,null,null,null,null,null,null,null,null,null,null,null,null,null,null,null,null,null,null,null,"",353,{"$f":"IF($I91=\"\",\"\",\"::\"&IF($B$16=\"\",\"\",$B$16&\"  \")&IF($E91=\"\",$H91,$E91)&\"::\")","v":""},{"$f":"IF($I73=\"\",\"\",\"::\"&IF($B$16=\"\",\"\",$B$16&\"  \")&IF($E73=\"\",$H73,$E73)&\"::\")","v":""},{"$f":"IF($I61=\"\",\"\",IF($CE61=0,\"Enter question type or turn off variable question type\",$CD61))","v":""},null,null,null,null,{"$f":"IF(AV355+2=2,\"\",AV355+2)","v":91},{"$f":"(ROW()+1)/4","v":89},{"$f":"IF(AX355+2=2,\"\",AX355+2)","v":91},{"$f":"(ROW()+1)/4","v":89},""]
[null,null,null,null,null,null,null,null,null,null,null,null,null,null,null,null,null,null,null,null,null,null,null,null,null,null,null,null,null,null,null,null,null,null,null,null,null,"",354,{"$f":"IF($I91=\"\",\"\",IF($CE91=0,\"Enter question type or turn off variable question type\",IF($G91=\"\",VLOOKUP($CE91,$BY:$CA,3,0),$G91)))","v":""},{"$f":"IF($I73=\"\",\"\",IF($CE73=0,\"Enter question type or turn off variable question type\",$CD73))","v":""},null,null,null,null,null,"",null,"",null,""]
[null,null,null,null,null,null,null,null,null,null,null,null,null,null,null,null,null,null,null,null,null,null,null,null,null,null,null,null,null,null,null,null,null,null,null,null,null,"",355,{"$f":"IF($I91=\"\",\"\",IF($CE91=0,\"Enter question type or turn off variable question type\",$CD91))","v":""},null,{"$f":"IF($I62=\"\",\"\",IF($B$18=\"\",\"INPUT MAIN CATEGORY (CELL B18) OR TURN CATEGORIES OFF\",\"$CATEGORY: \"&$B$18&IF($F62=\"\",\"\",\"/\"&$F62)))","v":""},null,null,null,null,"",null,"",null,""]
[null,null,null,null,null,null,null,null,null,null,null,null,null,null,null,null,null,null,null,null,null,null,null,null,null,null,null,null,null,null,null,null,null,null,null,null,null,"",356,null,{"$f":"IF($I74=\"\",\"\",IF($B$18=\"\",\"INPUT MAIN CATEGORY (CELL B18) OR TURN CATEGORIES OFF\",\"$CATEGORY: \"&$B$18&IF($F74=\"\",\"\",\"/\"&$F74)))","v":""},null,null,null,null,null,null,null,null,null,74,{"$f":"(ROW()+2)/5","v":72}]
[null,null,null,null,null,null,null,null,null,null,null,null,null,null,null,null,null,null,null,null,null,null,null,null,null,null,null,null,null,null,null,null,null,null,null,null,null,"",357,{"$f":"IF($I92=\"\",\"\",\"::\"&IF($B$16=\"\",\"\",$B$16&\"  \")&IF($E92=\"\",$H92,$E92)&\"::\")","v":""},null,{"$f":"IF($I62=\"\",\"\",\"::\"&IF($B$16=\"\",\"\",$B$16&\"  \")&IF($E62=\"\",$H62,$E62)&\"::\")","v":""},null,null,null,null,{"$f":"IF(AV359+2=2,\"\",AV359+2)","v":92},{"$f":"(ROW()+1)/4","v":90},{"$f":"IF(AX359+2=2,\"\",AX359+2)","v":92},{"$f":"(ROW()+1)/4","v":90},""]
[null,null,null,null,null,null,null,null,null,null,null,null,null,null,null,null,null,null,null,null,null,null,null,null,null,null,null,null,null,null,null,null,null,null,null,null,null,"",358,{"$f":"IF($I92=\"\",\"\",IF($CE92=0,\"Enter question type or turn off variable question type\",IF($G92=\"\",VLOOKUP($CE92,$BY:$CA,3,0),$G92)))","v":""},{"$f":"IF($I74=\"\",\"\",\"::\"&IF($B$16=\"\",\"\",$B$16&\"  \")&IF($E74=\"\",$H74,$E74)&\"::\")","v":""},{"$f":"IF($I62=\"\",\"\",IF($CE62=0,\"Enter question type or turn off variable question type\",IF($G62=\"\",VLOOKUP($CE62,$BY:$CA,3,0),$G62)))","v":""},null,null,null,null,"",null,"",null,""]
[null,null,null,null,null,null,null,null,null,null,null,null,null,null,null,null,null,null,null,null,null,null,null,null,null,null,null,null,null,null,null,null,null,null,null,null,null,"",359,{"$f":"IF($I92=\"\",\"\",IF($CE92=0,\"Enter question type or turn off variable question type\",$CD92))","v":""},{"$f":"IF($I74=\"\",\"\",IF($CE74=0,\"Enter question type or turn off variable question type\",$CD74))","v":""},{"$f":"IF($I62=\"\",\"\",IF($CE62=0,\"Enter question type or turn off variable question type\",$CD62))","v":""},null,null,null,null,"",null,"",null,""]
[null,null,null,null,null,null,null,null,null,null,null,null,null,null,null,null,null,null,null,null,null,null,null,null,null,null,null,null,null,null,null,null,null,null,null,null,null,"",360,null,null,null,null,null,null,null,null,null,null,null,""]
[null,null,null,null,null,null,null,null,null,null,null,null,null,null,null,null,null,null,null,null,null,null,null,null,null,null,null,null,null,null,null,null,null,null,null,null,null,"",361,{"$f":"IF($I93=\"\",\"\",\"::\"&IF($B$16=\"\",\"\",$B$16&\"  \")&IF($E93=\"\",$H93,$E93)&\"::\")","v":""},{"$f":"IF($I75=\"\",\"\",IF($B$18=\"\",\"INPUT MAIN CATEGORY (CELL B18) OR TURN CATEGORIES OFF\",\"$CATEGORY: \"&$B$18&IF($F75=\"\",\"\",\"/\"&$F75)))","v":""},{"$f":"IF($I63=\"\",\"\",IF($B$18=\"\",\"INPUT MAIN CATEGORY (CELL B18) OR TURN CATEGORIES OFF\",\"$CATEGORY: \"&$B$18&IF($F63=\"\",\"\",\"/\"&$F63)))","v":""},null,null,null,null,{"$f":"IF(AV363+2=2,\"\",AV363+2)","v":93},91,{"$f":"IF(AX363+2=2,\"\",AX363+2)","v":93},91,75,{"$f":"(ROW()+2)/5","v":73}]
[null,null,null,null,null,null,null,null,null,null,null,null,null,null,null,null,null,null,null,null,null,null,null,null,null,null,null,null,null,null,null,null,null,null,null,null,null,"",362,{"$f":"IF($I93=\"\",\"\",IF($CE93=0,\"Enter question type or turn off variable question type\",IF($G93=\"\",VLOOKUP($CE93,$BY:$CA,3,0),$G93)))","v":""},null,null,null,null,null,null,"",null,"",null,""]
[null,null,null,null,null,null,null,null,null,null,null,null,null,null,null,null,null,null,null,null,null,null,null,null,null,null,null,null,null,null,null,null,null,null,null,null,null,"",363,{"$f":"IF($I93=\"\",\"\",IF($CE93=0,\"Enter question type or turn off variable question type\",$CD93))","v":""},{"$f":"IF($I75=\"\",\"\",\"::\"&IF($B$16=\"\",\"\",$B$16&\"  \")&IF($E75=\"\",$H75,$E75)&\"::\")","v":""},{"$f":"IF($I63=\"\",\"\",\"::\"&IF($B$16=\"\",\"\",$B$16&\"  \")&IF($E63=\"\",$H63,$E63)&\"::\")","v":""},null,null,null,null,"",null,"",null,""]
[null,null,null,null,null,null,null,null,null,null,null,null,null,null,null,null,null,null,null,null,null,null,null,null,null,null,null,null,null,null,null,null,null,null,null,null,null,"",364,null,{"$f":"IF($I75=\"\",\"\",IF($CE75=0,\"Enter question type or turn off variable question type\",$CD75))","v":""},{"$f":"IF($I63=\"\",\"\",IF($CE63=0,\"Enter question type or turn off variable question type\",IF($G63=\"\",VLOOKUP($CE63,$BY:$CA,3,0),$G63)))","v":""},null,null,null,null,null,null,null,null,""]
[null,null,null,null,null,null,null,null,null,null,null,null,null,null,null,null,null,null,null,null,null,null,null,null,null,null,null,null,null,null,null,null,null,null,null,null,null,"",365,{"$f":"IF($I94=\"\",\"\",\"::\"&IF($B$16=\"\",\"\",$B$16&\"  \")&IF($E94=\"\",$H94,$E94)&\"::\")","v":""},null,{"$f":"IF($I63=\"\",\"\",IF($CE63=0,\"Enter question type or turn off variable question type\",$CD63))","v":""},null,null,null,null,{"$f":"IF(AV367+2=2,\"\",AV367+2)","v":94},{"$f":"(ROW()+1)/4","v":92},{"$f":"IF(AX367+2=2,\"\",AX367+2)","v":94},{"$f":"(ROW()+1)/4","v":92},""]
[null,null,null,null,null,null,null,null,null,null,null,null,null,null,null,null,null,null,null,null,null,null,null,null,null,null,null,null,null,null,null,null,null,null,null,null,null,"",366,{"$f":"IF($I94=\"\",\"\",IF($CE94=0,\"Enter question type or turn off variable question type\",IF($G94=\"\",VLOOKUP($CE94,$BY:$CA,3,0),$G94)))","v":""},{"$f":"IF($I76=\"\",\"\",IF($B$18=\"\",\"INPUT MAIN CATEGORY (CELL B18) OR TURN CATEGORIES OFF\",\"$CATEGORY: \"&$B$18&IF($F76=\"\",\"\",\"/\"&$F76)))","v":""},null,null,null,null,null,"",null,"",null,76,{"$f":"(ROW()+2)/5","v":74}]
[null,null,null,null,null,null,null,null,null,null,null,null,null,null,null,null,null,null,null,null,null,null,null,null,null,null,null,null,null,null,null,null,null,null,null,null,null,"",367,{"$f":"IF($I94=\"\",\"\",IF($CE94=0,\"Enter question type or turn off variable question type\",$CD94))","v":""},null,{"$f":"IF($I64=\"\",\"\",IF($B$18=\"\",\"INPUT MAIN CATEGORY (CELL B18) OR TURN CATEGORIES OFF\",\"$CATEGORY: \"&$B$18&IF($F64=\"\",\"\",\"/\"&$F64)))","v":""},null,null,null,null,"",null,"",null,""]
[null,null,null,null,null,null,null,null,null,null,null,null,null,null,null,null,null,null,null,null,null,null,null,null,null,null,null,null,null,null,null,null,null,null,null,null,null,"",368,null,{"$f":"IF($I76=\"\",\"\",\"::\"&IF($B$16=\"\",\"\",$B$16&\"  \")&IF($E76=\"\",$H76,$E76)&\"::\")","v":""},null,null,null,null,null,null,null,null,null,""]
[null,null,null,null,null,null,null,null,null,null,null,null,null,null,null,null,null,null,null,null,null,null,null,null,null,null,null,null,null,null,null,null,null,null,null,null,null,"",369,{"$f":"IF($I95=\"\",\"\",\"::\"&IF($B$16=\"\",\"\",$B$16&\"  \")&IF($E95=\"\",$H95,$E95)&\"::\")","v":""},{"$f":"IF($I76=\"\",\"\",IF($CE76=0,\"Enter question type or turn off variable question type\",$CD76))","v":""},{"$f":"IF($I64=\"\",\"\",\"::\"&IF($B$16=\"\",\"\",$B$16&\"  \")&IF($E64=\"\",$H64,$E64)&\"::\")","v":""},null,null,null,null,{"$f":"IF(AV371+2=2,\"\",AV371+2)","v":95},{"$f":"(ROW()+1)/4","v":93},{"$f":"IF(AX371+2=2,\"\",AX371+2)","v":95},{"$f":"(ROW()+1)/4","v":93},""]
[null,null,null,null,null,null,null,null,null,null,null,null,null,null,null,null,null,null,null,null,null,null,null,null,null,null,null,null,null,null,null,null,null,null,null,null,null,"",370,{"$f":"IF($I95=\"\",\"\",IF($CE95=0,\"Enter question type or turn off variable question type\",IF($G95=\"\",VLOOKUP($CE95,$BY:$CA,3,0),$G95)))","v":""},null,{"$f":"IF($I64=\"\",\"\",IF($CE64=0,\"Enter question type or turn off variable question type\",IF($G64=\"\",VLOOKUP($CE64,$BY:$CA,3,0),$G64)))","v":""},null,null,null,null,"",null,"",null,""]
[null,null,null,null,null,null,null,null,null,null,null,null,null,null,null,null,null,null,null,null,null,null,null,null,null,null,null,null,null,null,null,null,null,null,null,null,null,"",371,{"$f":"IF($I95=\"\",\"\",IF($CE95=0,\"Enter question type or turn off variable question type\",$CD95))","v":""},{"$f":"IF($I77=\"\",\"\",IF($B$18=\"\",\"INPUT MAIN CATEGORY (CELL B18) OR TURN CATEGORIES OFF\",\"$CATEGORY: \"&$B$18&IF($F77=\"\",\"\",\"/\"&$F77)))","v":""},{"$f":"IF($I64=\"\",\"\",IF($CE64=0,\"Enter question type or turn off variable question type\",$CD64))","v":""},null,null,null,null,"",null,"",null,77,{"$f":"(ROW()+2)/5","v":75}]
[null,null,null,null,null,null,null,null,null,null,null,null,null,null,null,null,null,null,null,null,null,null,null,null,null,null,null,null,null,null,null,null,null,null,null,null,null,"",372,null,null,null,null,null,null,null,null,null,null,null,""]
[null,null,null,null,null,null,null,null,null,null,null,null,null,null,null,null,null,null,null,null,null,null,null,null,null,null,null,null,null,null,null,null,null,null,null,null,null,"",373,{"$f":"IF($I96=\"\",\"\",\"::\"&IF($B$16=\"\",\"\",$B$16&\"  \")&IF($E96=\"\",$H96,$E96)&\"::\")","v":""},{"$f":"IF($I77=\"\",\"\",\"::\"&IF($B$16=\"\",\"\",$B$16&\"  \")&IF($E77=\"\",$H77,$E77)&\"::\")","v":""},{"$f":"IF($I65=\"\",\"\",IF($B$18=\"\",\"INPUT MAIN CATEGORY (CELL B18) OR TURN CATEGORIES OFF\",\"$CATEGORY: \"&$B$18&IF($F65=\"\",\"\",\"/\"&$F65)))","v":""},null,null,null,null,{"$f":"IF(AV375+2=2,\"\",AV375+2)","v":96},{"$f":"(ROW()+1)/4","v":94},{"$f":"IF(AX375+2=2,\"\",AX375+2)","v":96},{"$f":"(ROW()+1)/4","v":94},""]
[null,null,null,null,null,null,null,null,null,null,null,null,null,null,null,null,null,null,null,null,null,null,null,null,null,null,null,null,null,null,null,null,null,null,null,null,null,"",374,{"$f":"IF($I96=\"\",\"\",IF($CE96=0,\"Enter question type or turn off variable question type\",IF($G96=\"\",VLOOKUP($CE96,$BY:$CA,3,0),$G96)))","v":""},{"$f":"IF($I77=\"\",\"\",IF($CE77=0,\"Enter question type or turn off variable question type\",$CD77))","v":""},null,null,null,null,null,"",null,"",null,""]
[null,null,null,null,null,null,null,null,null,null,null,null,null,null,null,null,null,null,null,null,null,null,null,null,null,null,null,null,null,null,null,null,null,null,null,null,null,"",375,{"$f":"IF($I96=\"\",\"\",IF($CE96=0,\"Enter question type or turn off variable question type\",$CD96))","v":""},null,{"$f":"IF($I65=\"\",\"\",\"::\"&IF($B$16=\"\",\"\",$B$16&\"  \")&IF($E65=\"\",$H65,$E65)&\"::\")","v":""},null,null,null,null,"",null,"",null,""]
[null,null,null,null,null,null,null,null,null,null,null,null,null,null,null,null,null,null,null,null,null,null,null,null,null,null,null,null,null,null,null,null,null,null,null,null,null,"",376,null,{"$f":"IF($I78=\"\",\"\",IF($B$18=\"\",\"INPUT MAIN CATEGORY (CELL B18) OR TURN CATEGORIES OFF\",\"$CATEGORY: \"&$B$18&IF($F78=\"\",\"\",\"/\"&$F78)))","v":""},{"$f":"IF($I65=\"\",\"\",IF($CE65=0,\"Enter question type or turn off variable question type\",IF($G65=\"\",VLOOKUP($CE65,$BY:$CA,3,0),$G65)))","v":""},null,null,null,null,null,null,null,null,78,{"$f":"(ROW()+2)/5","v":76}]
[null,null,null,null,null,null,null,null,null,null,null,null,null,null,null,null,null,null,null,null,null,null,null,null,null,null,null,null,null,null,null,null,null,null,null,null,null,"",377,{"$f":"IF($I97=\"\",\"\",\"::\"&IF($B$16=\"\",\"\",$B$16&\"  \")&IF($E97=\"\",$H97,$E97)&\"::\")","v":""},null,{"$f":"IF($I65=\"\",\"\",IF($CE65=0,\"Enter question type or turn off variable question type\",$CD65))","v":""},null,null,null,null,{"$f":"IF(AV379+2=2,\"\",AV379+2)","v":97},95,{"$f":"IF(AX379+2=2,\"\",AX379+2)","v":97},95,""]
[null,null,null,null,null,null,null,null,null,null,null,null,null,null,null,null,null,null,null,null,null,null,null,null,null,null,null,null,null,null,null,null,null,null,null,null,null,"",378,{"$f":"IF($I97=\"\",\"\",IF($CE97=0,\"Enter question type or turn off variable question type\",IF($G97=\"\",VLOOKUP($CE97,$BY:$CA,3,0),$G97)))","v":""},{"$f":"IF($I78=\"\",\"\",\"::\"&IF($B$16=\"\",\"\",$B$16&\"  \")&IF($E78=\"\",$H78,$E78)&\"::\")","v":""},null,null,null,null,null,"",null,"",null,""]
[null,null,null,null,null,null,null,null,null,null,null,null,null,null,null,null,null,null,null,null,null,null,null,null,null,null,null,null,null,null,null,null,null,null,null,null,null,"",379,{"$f":"IF($I97=\"\",\"\",IF($CE97=0,\"Enter question type or turn off variable question type\",$CD97))","v":""},{"$f":"IF($I78=\"\",\"\",IF($CE78=0,\"Enter question type or turn off variable question type\",$CD78))","v":""},{"$f":"IF($I66=\"\",\"\",IF($B$18=\"\",\"INPUT MAIN CATEGORY (CELL B18) OR TURN CATEGORIES OFF\",\"$CATEGORY: \"&$B$18&IF($F66=\"\",\"\",\"/\"&$F66)))","v":""},null,null,null,null,"",null,"",null,""]
[null,null,null,null,null,null,null,null,null,null,null,null,null,null,null,null,null,null,null,null,null,null,null,null,null,null,null,null,null,null,null,null,null,null,null,null,null,{"$f":"IF(VLOOKUP($AM382,$AM:$AQ,$A$6,0)=\"\",\"\",VLOOKUP($AM382,$AM:$AQ,$A$6,0))","v":""},380,null,null,null,null,null,null,null,null,null,null,null,{"$f":"IF(AZ382+2=2,\"\",AZ382+2)","v":""}]
[null,null,null,null,null,null,null,null,null,null,null,null,null,null,null,null,null,null,null,null,null,null,null,null,null,null,null,null,null,null,null,null,null,null,null,null,null,"",381,{"$f":"IF($I98=\"\",\"\",\"::\"&IF($B$16=\"\",\"\",$B$16&\"  \")&IF($E98=\"\",$H98,$E98)&\"::\")","v":""},{"$f":"IF($I79=\"\",\"\",IF($B$18=\"\",\"INPUT MAIN CATEGORY (CELL B18) OR TURN CATEGORIES OFF\",\"$CATEGORY: \"&$B$18&IF($F79=\"\",\"\",\"/\"&$F79)))","v":""},{"$f":"IF($I66=\"\",\"\",\"::\"&IF($B$16=\"\",\"\",$B$16&\"  \")&IF($E66=\"\",$H66,$E66)&\"::\")","v":""},null,null,null,null,{"$f":"IF(AV383+2=2,\"\",AV383+2)","v":98},{"$f":"(ROW()+1)/4","v":96},{"$f":"IF(AX383+2=2,\"\",AX383+2)","v":98},{"$f":"(ROW()+1)/4","v":96},79,{"$f":"(ROW()+2)/5","v":77}]
[null,null,null,null,null,null,null,null,null,null,null,null,null,null,null,null,null,null,null,null,null,null,null,null,null,null,null,null,null,null,null,null,null,null,null,null,null,"",382,{"$f":"IF($I98=\"\",\"\",IF($CE98=0,\"Enter question type or turn off variable question type\",IF($G98=\"\",VLOOKUP($CE98,$BY:$CA,3,0),$G98)))","v":""},null,{"$f":"IF($I66=\"\",\"\",IF($CE66=0,\"Enter question type or turn off variable question type\",IF($G66=\"\",VLOOKUP($CE66,$BY:$CA,3,0),$G66)))","v":""},null,null,null,null,"",null,"",null,""]
[null,null,null,null,null,null,null,null,null,null,null,null,null,null,null,null,null,null,null,null,null,null,null,null,null,null,null,null,null,null,null,null,null,null,null,null,null,"",383,{"$f":"IF($I98=\"\",\"\",IF($CE98=0,\"Enter question type or turn off variable question type\",$CD98))","v":""},{"$f":"IF($I79=\"\",\"\",\"::\"&IF($B$16=\"\",\"\",$B$16&\"  \")&IF($E79=\"\",$H79,$E79)&\"::\")","v":""},{"$f":"IF($I66=\"\",\"\",IF($CE66=0,\"Enter question type or turn off variable question type\",$CD66))","v":""},null,null,null,null,"",null,"",null,""]
[null,null,null,null,null,null,null,null,null,null,null,null,null,null,null,null,null,null,null,null,null,null,null,null,null,null,null,null,null,null,null,null,null,null,null,null,null,"",384,null,{"$f":"IF($I79=\"\",\"\",IF($CE79=0,\"Enter question type or turn off variable question type\",$CD79))","v":""},null,null,null,null,null,null,null,null,null,""]
[null,null,null,null,null,null,null,null,null,null,null,null,null,null,null,null,null,null,null,null,null,null,null,null,null,null,null,null,null,null,null,null,null,null,null,null,null,"",385,{"$f":"IF($I99=\"\",\"\",\"::\"&IF($B$16=\"\",\"\",$B$16&\"  \")&IF($E99=\"\",$H99,$E99)&\"::\")","v":""},null,{"$f":"IF($I67=\"\",\"\",IF($B$18=\"\",\"INPUT MAIN CATEGORY (CELL B18) OR TURN CATEGORIES OFF\",\"$CATEGORY: \"&$B$18&IF($F67=\"\",\"\",\"/\"&$F67)))","v":""},null,null,null,null,{"$f":"IF(AV387+2=2,\"\",AV387+2)","v":99},{"$f":"(ROW()+1)/4","v":97},{"$f":"IF(AX387+2=2,\"\",AX387+2)","v":99},{"$f":"(ROW()+1)/4","v":97},""]
[null,null,null,null,null,null,null,null,null,null,null,null,null,null,null,null,null,null,null,null,null,null,null,null,null,null,null,null,null,null,null,null,null,null,null,null,null,"",386,{"$f":"IF($I99=\"\",\"\",IF($CE99=0,\"Enter question type or turn off variable question type\",IF($G99=\"\",VLOOKUP($CE99,$BY:$CA,3,0),$G99)))","v":""},{"$f":"IF($I80=\"\",\"\",IF($B$18=\"\",\"INPUT MAIN CATEGORY (CELL B18) OR TURN CATEGORIES OFF\",\"$CATEGORY: \"&$B$18&IF($F80=\"\",\"\",\"/\"&$F80)))","v":""},null,null,null,null,null,"",null,"",null,80,{"$f":"(ROW()+2)/5","v":78}]
[null,null,null,null,null,null,null,null,null,null,null,null,null,null,null,null,null,null,null,null,null,null,null,null,null,null,null,null,null,null,null,null,null,null,null,null,null,"",387,{"$f":"IF($I99=\"\",\"\",IF($CE99=0,\"Enter question type or turn off variable question type\",$CD99))","v":""},null,{"$f":"IF($I67=\"\",\"\",\"::\"&IF($B$16=\"\",\"\",$B$16&\"  \")&IF($E67=\"\",$H67,$E67)&\"::\")","v":""},null,null,null,null,"",null,"",null,""]
[null,null,null,null,null,null,null,null,null,null,null,null,null,null,null,null,null,null,null,null,null,null,null,null,null,null,null,null,null,null,null,null,null,null,null,null,null,"",388,null,{"$f":"IF($I80=\"\",\"\",\"::\"&IF($B$16=\"\",\"\",$B$16&\"  \")&IF($E80=\"\",$H80,$E80)&\"::\")","v":""},{"$f":"IF($I67=\"\",\"\",IF($CE67=0,\"Enter question type or turn off variable question type\",IF($G67=\"\",VLOOKUP($CE67,$BY:$CA,3,0),$G67)))","v":""},null,null,null,null,null,null,null,null,""]
[null,null,null,null,null,null,null,null,null,null,null,null,null,null,null,null,null,null,null,null,null,null,null,null,null,null,null,null,null,null,null,null,null,null,null,null,null,"",389,{"$f":"IF($I100=\"\",\"\",\"::\"&IF($B$16=\"\",\"\",$B$16&\"  \")&IF($E100=\"\",$H100,$E100)&\"::\")","v":""},{"$f":"IF($I80=\"\",\"\",IF($CE80=0,\"Enter question type or turn off variable question type\",$CD80))","v":""},{"$f":"IF($I67=\"\",\"\",IF($CE67=0,\"Enter question type or turn off variable question type\",$CD67))","v":""},null,null,null,null,{"$f":"IF(AV391+2=2,\"\",AV391+2)","v":100},98,{"$f":"IF(AX391+2=2,\"\",AX391+2)","v":100},98,""]
[null,null,null,null,null,null,null,null,null,null,null,null,null,null,null,null,null,null,null,null,null,null,null,null,null,null,null,null,null,null,null,null,null,null,null,null,null,"",390,{"$f":"IF($I100=\"\",\"\",IF($CE100=0,\"Enter question type or turn off variable question type\",IF($G100=\"\",VLOOKUP($CE100,$BY:$CA,3,0),$G100)))","v":""},null,null,null,null,null,null,"",null,"",null,""]
[null,null,null,null,null,null,null,null,null,null,null,null,null,null,null,null,null,null,null,null,null,null,null,null,null,null,null,null,null,null,null,null,null,null,null,null,null,"",391,{"$f":"IF($I100=\"\",\"\",IF($CE100=0,\"Enter question type or turn off variable question type\",$CD100))","v":""},{"$f":"IF($I81=\"\",\"\",IF($B$18=\"\",\"INPUT MAIN CATEGORY (CELL B18) OR TURN CATEGORIES OFF\",\"$CATEGORY: \"&$B$18&IF($F81=\"\",\"\",\"/\"&$F81)))","v":""},{"$f":"IF($I68=\"\",\"\",IF($B$18=\"\",\"INPUT MAIN CATEGORY (CELL B18) OR TURN CATEGORIES OFF\",\"$CATEGORY: \"&$B$18&IF($F68=\"\",\"\",\"/\"&$F68)))","v":""},null,null,null,null,"",null,"",null,81,{"$f":"(ROW()+2)/5","v":79}]
[null,null,null,null,null,null,null,null,null,null,null,null,null,null,null,null,null,null,null,null,null,null,null,null,null,null,null,null,null,null,null,null,null,null,null,null,null,"",392,null,null,null,null,null,null,null,null,null,null,null,""]
[null,null,null,null,null,null,null,null,null,null,null,null,null,null,null,null,null,null,null,null,null,null,null,null,null,null,null,null,null,null,null,null,null,null,null,null,null,"",393,{"$f":"IF($I101=\"\",\"\",\"::\"&IF($B$16=\"\",\"\",$B$16&\"  \")&IF($E101=\"\",$H101,$E101)&\"::\")","v":""},{"$f":"IF($I81=\"\",\"\",\"::\"&IF($B$16=\"\",\"\",$B$16&\"  \")&IF($E81=\"\",$H81,$E81)&\"::\")","v":""},{"$f":"IF($I68=\"\",\"\",\"::\"&IF($B$16=\"\",\"\",$B$16&\"  \")&IF($E68=\"\",$H68,$E68)&\"::\")","v":""},null,null,null,null,{"$f":"IF(AV395+2=2,\"\",AV395+2)","v":101},{"$f":"(ROW()+1)/4","v":99},{"$f":"IF(AX395+2=2,\"\",AX395+2)","v":101},{"$f":"(ROW()+1)/4","v":99},""]
[null,null,null,null,null,null,null,null,null,null,null,null,null,null,null,null,null,null,null,null,null,null,null,null,null,null,null,null,null,null,null,null,null,null,null,null,null,"",394,{"$f":"IF($I101=\"\",\"\",IF($CE101=0,\"Enter question type or turn off variable question type\",IF($G101=\"\",VLOOKUP($CE101,$BY:$CA,3,0),$G101)))","v":""},{"$f":"IF($I81=\"\",\"\",IF($CE81=0,\"Enter question type or turn off variable question type\",$CD81))","v":""},{"$f":"IF($I68=\"\",\"\",IF($CE68=0,\"Enter question type or turn off variable question type\",IF($G68=\"\",VLOOKUP($CE68,$BY:$CA,3,0),$G68)))","v":""},null,null,null,null,"",null,"",null,""]
[null,null,null,null,null,null,null,null,null,null,null,null,null,null,null,null,null,null,null,null,null,null,null,null,null,null,null,null,null,null,null,null,null,null,null,null,null,"",395,{"$f":"IF($I101=\"\",\"\",IF($CE101=0,\"Enter question type or turn off variable question type\",$CD101))","v":""},null,{"$f":"IF($I68=\"\",\"\",IF($CE68=0,\"Enter question type or turn off variable question type\",$CD68))","v":""},null,null,null,null,"",null,"",null,""]
[null,null,null,null,null,null,null,null,null,null,null,null,null,null,null,null,null,null,null,null,null,null,null,null,null,null,null,null,null,null,null,null,null,null,null,null,null,"",396,null,{"$f":"IF($I82=\"\",\"\",IF($B$18=\"\",\"INPUT MAIN CATEGORY (CELL B18) OR TURN CATEGORIES OFF\",\"$CATEGORY: \"&$B$18&IF($F82=\"\",\"\",\"/\"&$F82)))","v":""},null,null,null,null,null,null,null,null,null,82,{"$f":"(ROW()+2)/5","v":80}]
[null,null,null,null,null,null,null,null,null,null,null,null,null,null,null,null,null,null,null,null,null,null,null,null,null,null,null,null,null,null,null,null,null,null,null,null,null,"",397,{"$f":"IF($I102=\"\",\"\",\"::\"&IF($B$16=\"\",\"\",$B$16&\"  \")&IF($E102=\"\",$H102,$E102)&\"::\")","v":""},null,{"$f":"IF($I69=\"\",\"\",IF($B$18=\"\",\"INPUT MAIN CATEGORY (CELL B18) OR TURN CATEGORIES OFF\",\"$CATEGORY: \"&$B$18&IF($F69=\"\",\"\",\"/\"&$F69)))","v":""},null,null,null,null,{"$f":"IF(AV399+2=2,\"\",AV399+2)","v":102},100,{"$f":"IF(AX399+2=2,\"\",AX399+2)","v":102},100,""]
[null,null,null,null,null,null,null,null,null,null,null,null,null,null,null,null,null,null,null,null,null,null,null,null,null,null,null,null,null,null,null,null,null,null,null,null,null,"",398,{"$f":"IF($I102=\"\",\"\",IF($CE102=0,\"Enter question type or turn off variable question type\",IF($G102=\"\",VLOOKUP($CE102,$BY:$CA,3,0),$G102)))","v":""},{"$f":"IF($I82=\"\",\"\",\"::\"&IF($B$16=\"\",\"\",$B$16&\"  \")&IF($E82=\"\",$H82,$E82)&\"::\")","v":""},null,null,null,null,null,"",null,"",null,""]
[null,null,null,null,null,null,null,null,null,null,null,null,null,null,null,null,null,null,null,null,null,null,null,null,null,null,null,null,null,null,null,null,null,null,null,null,null,"",399,{"$f":"IF($I102=\"\",\"\",IF($CE102=0,\"Enter question type or turn off variable question type\",$CD102))","v":""},{"$f":"IF($I82=\"\",\"\",IF($CE82=0,\"Enter question type or turn off variable question type\",$CD82))","v":""},{"$f":"IF($I69=\"\",\"\",\"::\"&IF($B$16=\"\",\"\",$B$16&\"  \")&IF($E69=\"\",$H69,$E69)&\"::\")","v":""},null,null,null,null,"",null,"",null,""]
[null,null,null,null,null,null,null,null,null,null,null,null,null,null,null,null,null,null,null,null,null,null,null,null,null,null,null,null,null,null,null,null,null,null,null,null,null,"",400,null,null,{"$f":"IF($I69=\"\",\"\",IF($CE69=0,\"Enter question type or turn off variable question type\",IF($G69=\"\",VLOOKUP($CE69,$BY:$CA,3,0),$G69)))","v":""},null,null,null,null,null,null,null,null,""]
[null,null,null,null,null,null,null,null,null,null,null,null,null,null,null,null,null,null,null,null,null,null,null,null,null,null,null,null,null,null,null,null,null,null,null,null,null,"",401,null,{"$f":"IF($I83=\"\",\"\",IF($B$18=\"\",\"INPUT MAIN CATEGORY (CELL B18) OR TURN CATEGORIES OFF\",\"$CATEGORY: \"&$B$18&IF($F83=\"\",\"\",\"/\"&$F83)))","v":""},{"$f":"IF($I69=\"\",\"\",IF($CE69=0,\"Enter question type or turn off variable question type\",$CD69))","v":""},null,null,null,null,null,null,null,null,83,{"$f":"(ROW()+2)/5","v":81}]
[null,null,null,null,null,null,null,null,null,null,null,null,null,null,null,null,null,null,null,null,null,null,null,null,null,null,null,null,null,null,null,null,null,null,null,null,null,"",402,null,null,null,null,null,null,null,null,null,null,null,""]
[null,null,null,null,null,null,null,null,null,null,null,null,null,null,null,null,null,null,null,null,null,null,null,null,null,null,null,null,null,null,null,null,null,null,null,null,null,"",403,null,{"$f":"IF($I83=\"\",\"\",\"::\"&IF($B$16=\"\",\"\",$B$16&\"  \")&IF($E83=\"\",$H83,$E83)&\"::\")","v":""},{"$f":"IF($I70=\"\",\"\",IF($B$18=\"\",\"INPUT MAIN CATEGORY (CELL B18) OR TURN CATEGORIES OFF\",\"$CATEGORY: \"&$B$18&IF($F70=\"\",\"\",\"/\"&$F70)))","v":""},null,null,null,null,null,null,null,null,""]
[null,null,null,null,null,null,null,null,null,null,null,null,null,null,null,null,null,null,null,null,null,null,null,null,null,null,null,null,null,null,null,null,null,null,null,null,null,"",404,null,{"$f":"IF($I83=\"\",\"\",IF($CE83=0,\"Enter question type or turn off variable question type\",$CD83))","v":""},null,null,null,null,null,null,null,null,null,""]
[null,null,null,null,null,null,null,null,null,null,null,null,null,null,null,null,null,null,null,null,null,null,null,null,null,null,null,null,null,null,null,null,null,null,null,null,null,"",405,null,null,{"$f":"IF($I70=\"\",\"\",\"::\"&IF($B$16=\"\",\"\",$B$16&\"  \")&IF($E70=\"\",$H70,$E70)&\"::\")","v":""},null,null,null,null,null,null,null,null,""]
[null,null,null,null,null,null,null,null,null,null,null,null,null,null,null,null,null,null,null,null,null,null,null,null,null,null,null,null,null,null,null,null,null,null,null,null,null,"",406,null,{"$f":"IF($I84=\"\",\"\",IF($B$18=\"\",\"INPUT MAIN CATEGORY (CELL B18) OR TURN CATEGORIES OFF\",\"$CATEGORY: \"&$B$18&IF($F84=\"\",\"\",\"/\"&$F84)))","v":""},{"$f":"IF($I70=\"\",\"\",IF($CE70=0,\"Enter question type or turn off variable question type\",IF($G70=\"\",VLOOKUP($CE70,$BY:$CA,3,0),$G70)))","v":""},null,null,null,null,null,null,null,null,84,{"$f":"(ROW()+2)/5","v":82}]
[null,null,null,null,null,null,null,null,null,null,null,null,null,null,null,null,null,null,null,null,null,null,null,null,null,null,null,null,null,null,null,null,null,null,null,null,null,"",407,null,null,{"$f":"IF($I70=\"\",\"\",IF($CE70=0,\"Enter question type or turn off variable question type\",$CD70))","v":""},null,null,null,null,null,null,null,null,""]
[null,null,null,null,null,null,null,null,null,null,null,null,null,null,null,null,null,null,null,null,null,null,null,null,null,null,null,null,null,null,null,null,null,null,null,null,null,"",408,null,{"$f":"IF($I84=\"\",\"\",\"::\"&IF($B$16=\"\",\"\",$B$16&\"  \")&IF($E84=\"\",$H84,$E84)&\"::\")","v":""},null,null,null,null,null,null,null,null,null,""]
[null,null,null,null,null,null,null,null,null,null,null,null,null,null,null,null,null,null,null,null,null,null,null,null,null,null,null,null,null,null,null,null,null,null,null,null,null,"",409,null,{"$f":"IF($I84=\"\",\"\",IF($CE84=0,\"Enter question type or turn off variable question type\",$CD84))","v":""},{"$f":"IF($I71=\"\",\"\",IF($B$18=\"\",\"INPUT MAIN CATEGORY (CELL B18) OR TURN CATEGORIES OFF\",\"$CATEGORY: \"&$B$18&IF($F71=\"\",\"\",\"/\"&$F71)))","v":""},null,null,null,null,null,null,null,null,""]
[null,null,null,null,null,null,null,null,null,null,null,null,null,null,null,null,null,null,null,null,null,null,null,null,null,null,null,null,null,null,null,null,null,null,null,null,null,"",410,null,null,null,null,null,null,null,null,null,null,null,""]
[null,null,null,null,null,null,null,null,null,null,null,null,null,null,null,null,null,null,null,null,null,null,null,null,null,null,null,null,null,null,null,null,null,null,null,null,null,"",411,null,{"$f":"IF($I85=\"\",\"\",IF($B$18=\"\",\"INPUT MAIN CATEGORY (CELL B18) OR TURN CATEGORIES OFF\",\"$CATEGORY: \"&$B$18&IF($F85=\"\",\"\",\"/\"&$F85)))","v":""},{"$f":"IF($I71=\"\",\"\",\"::\"&IF($B$16=\"\",\"\",$B$16&\"  \")&IF($E71=\"\",$H71,$E71)&\"::\")","v":""},null,null,null,null,null,null,null,null,85,{"$f":"(ROW()+2)/5","v":83}]
[null,null,null,null,null,null,null,null,null,null,null,null,null,null,null,null,null,null,null,null,null,null,null,null,null,null,null,null,null,null,null,null,null,null,null,null,null,"",412,null,null,{"$f":"IF($I71=\"\",\"\",IF($CE71=0,\"Enter question type or turn off variable question type\",IF($G71=\"\",VLOOKUP($CE71,$BY:$CA,3,0),$G71)))","v":""},null,null,null,null,null,null,null,null,""]
[null,null,null,null,null,null,null,null,null,null,null,null,null,null,null,null,null,null,null,null,null,null,null,null,null,null,null,null,null,null,null,null,null,null,null,null,null,"",413,null,{"$f":"IF($I85=\"\",\"\",\"::\"&IF($B$16=\"\",\"\",$B$16&\"  \")&IF($E85=\"\",$H85,$E85)&\"::\")","v":""},{"$f":"IF($I71=\"\",\"\",IF($CE71=0,\"Enter question type or turn off variable question type\",$CD71))","v":""},null,null,null,null,null,null,null,null,""]
[null,null,null,null,null,null,null,null,null,null,null,null,null,null,null,null,null,null,null,null,null,null,null,null,null,null,null,null,null,null,null,null,null,null,null,null,null,"",414,null,{"$f":"IF($I85=\"\",\"\",IF($CE85=0,\"Enter question type or turn off variable question type\",$CD85))","v":""},null,null,null,null,null,null,null,null,null,""]
[null,null,null,null,null,null,null,null,null,null,null,null,null,null,null,null,null,null,null,null,null,null,null,null,null,null,null,null,null,null,null,null,null,null,null,null,null,"",415,null,null,{"$f":"IF($I72=\"\",\"\",IF($B$18=\"\",\"INPUT MAIN CATEGORY (CELL B18) OR TURN CATEGORIES OFF\",\"$CATEGORY: \"&$B$18&IF($F72=\"\",\"\",\"/\"&$F72)))","v":""},null,null,null,null,null,null,null,null,""]
[null,null,null,null,null,null,null,null,null,null,null,null,null,null,null,null,null,null,null,null,null,null,null,null,null,null,null,null,null,null,null,null,null,null,null,null,null,"",416,null,{"$f":"IF($I86=\"\",\"\",IF($B$18=\"\",\"INPUT MAIN CATEGORY (CELL B18) OR TURN CATEGORIES OFF\",\"$CATEGORY: \"&$B$18&IF($F86=\"\",\"\",\"/\"&$F86)))","v":""},null,null,null,null,null,null,null,null,null,86,{"$f":"(ROW()+2)/5","v":84}]
[null,null,null,null,null,null,null,null,null,null,null,null,null,null,null,null,null,null,null,null,null,null,null,null,null,null,null,null,null,null,null,null,null,null,null,null,null,"",417,null,null,{"$f":"IF($I72=\"\",\"\",\"::\"&IF($B$16=\"\",\"\",$B$16&\"  \")&IF($E72=\"\",$H72,$E72)&\"::\")","v":""},null,null,null,null,null,null,null,null,""]
[null,null,null,null,null,null,null,null,null,null,null,null,null,null,null,null,null,null,null,null,null,null,null,null,null,null,null,null,null,null,null,null,null,null,null,null,null,"",418,null,{"$f":"IF($I86=\"\",\"\",\"::\"&IF($B$16=\"\",\"\",$B$16&\"  \")&IF($E86=\"\",$H86,$E86)&\"::\")","v":""},{"$f":"IF($I72=\"\",\"\",IF($CE72=0,\"Enter question type or turn off variable question type\",IF($G72=\"\",VLOOKUP($CE72,$BY:$CA,3,0),$G72)))","v":""},null,null,null,null,null,null,null,null,""]
[null,null,null,null,null,null,null,null,null,null,null,null,null,null,null,null,null,null,null,null,null,null,null,null,null,null,null,null,null,null,null,null,null,null,null,null,null,"",419,null,{"$f":"IF($I86=\"\",\"\",IF($CE86=0,\"Enter question type or turn off variable question type\",$CD86))","v":""},{"$f":"IF($I72=\"\",\"\",IF($CE72=0,\"Enter question type or turn off variable question type\",$CD72))","v":""},null,null,null,null,null,null,null,null,""]
[null,null,null,null,null,null,null,null,null,null,null,null,null,null,null,null,null,null,null,null,null,null,null,null,null,null,null,null,null,null,null,null,null,null,null,null,null,"",420,null,null,null,null,null,null,null,null,null,null,null,""]
[null,null,null,null,null,null,null,null,null,null,null,null,null,null,null,null,null,null,null,null,null,null,null,null,null,null,null,null,null,null,null,null,null,null,null,null,null,"",421,null,{"$f":"IF($I87=\"\",\"\",IF($B$18=\"\",\"INPUT MAIN CATEGORY (CELL B18) OR TURN CATEGORIES OFF\",\"$CATEGORY: \"&$B$18&IF($F87=\"\",\"\",\"/\"&$F87)))","v":""},{"$f":"IF($I73=\"\",\"\",IF($B$18=\"\",\"INPUT MAIN CATEGORY (CELL B18) OR TURN CATEGORIES OFF\",\"$CATEGORY: \"&$B$18&IF($F73=\"\",\"\",\"/\"&$F73)))","v":""},null,null,null,null,null,null,null,null,87,{"$f":"(ROW()+2)/5","v":85}]
[null,null,null,null,null,null,null,null,null,null,null,null,null,null,null,null,null,null,null,null,null,null,null,null,null,null,null,null,null,null,null,null,null,null,null,null,null,"",422,null,null,null,null,null,null,null,null,null,null,null,""]
[null,null,null,null,null,null,null,null,null,null,null,null,null,null,null,null,null,null,null,null,null,null,null,null,null,null,null,null,null,null,null,null,null,null,null,null,null,"",423,null,{"$f":"IF($I87=\"\",\"\",\"::\"&IF($B$16=\"\",\"\",$B$16&\"  \")&IF($E87=\"\",$H87,$E87)&\"::\")","v":""},{"$f":"IF($I73=\"\",\"\",\"::\"&IF($B$16=\"\",\"\",$B$16&\"  \")&IF($E73=\"\",$H73,$E73)&\"::\")","v":""},null,null,null,null,null,null,null,null,""]
[null,null,null,null,null,null,null,null,null,null,null,null,null,null,null,null,null,null,null,null,null,null,null,null,null,null,null,null,null,null,null,null,null,null,null,null,null,"",424,null,{"$f":"IF($I87=\"\",\"\",IF($CE87=0,\"Enter question type or turn off variable question type\",$CD87))","v":""},{"$f":"IF($I73=\"\",\"\",IF($CE73=0,\"Enter question type or turn off variable question type\",IF($G73=\"\",VLOOKUP($CE73,$BY:$CA,3,0),$G73)))","v":""},null,null,null,null,null,null,null,null,""]
[null,null,null,null,null,null,null,null,null,null,null,null,null,null,null,null,null,null,null,null,null,null,null,null,null,null,null,null,null,null,null,null,null,null,null,null,null,"",425,null,null,{"$f":"IF($I73=\"\",\"\",IF($CE73=0,\"Enter question type or turn off variable question type\",$CD73))","v":""},null,null,null,null,null,null,null,null,""]
[null,null,null,null,null,null,null,null,null,null,null,null,null,null,null,null,null,null,null,null,null,null,null,null,null,null,null,null,null,null,null,null,null,null,null,null,null,"",426,null,{"$f":"IF($I88=\"\",\"\",IF($B$18=\"\",\"INPUT MAIN CATEGORY (CELL B18) OR TURN CATEGORIES OFF\",\"$CATEGORY: \"&$B$18&IF($F88=\"\",\"\",\"/\"&$F88)))","v":""},null,null,null,null,null,null,null,null,null,88,{"$f":"(ROW()+2)/5","v":86}]
[null,null,null,null,null,null,null,null,null,null,null,null,null,null,null,null,null,null,null,null,null,null,null,null,null,null,null,null,null,null,null,null,null,null,null,null,null,"",427,null,null,{"$f":"IF($I74=\"\",\"\",IF($B$18=\"\",\"INPUT MAIN CATEGORY (CELL B18) OR TURN CATEGORIES OFF\",\"$CATEGORY: \"&$B$18&IF($F74=\"\",\"\",\"/\"&$F74)))","v":""},null,null,null,null,null,null,null,null,""]
[null,null,null,null,null,null,null,null,null,null,null,null,null,null,null,null,null,null,null,null,null,null,null,null,null,null,null,null,null,null,null,null,null,null,null,null,null,"",428,null,{"$f":"IF($I88=\"\",\"\",\"::\"&IF($B$16=\"\",\"\",$B$16&\"  \")&IF($E88=\"\",$H88,$E88)&\"::\")","v":""},null,null,null,null,null,null,null,null,null,""]
[null,null,null,null,null,null,null,null,null,null,null,null,null,null,null,null,null,null,null,null,null,null,null,null,null,null,null,null,null,null,null,null,null,null,null,null,null,"",429,null,{"$f":"IF($I88=\"\",\"\",IF($CE88=0,\"Enter question type or turn off variable question type\",$CD88))","v":""},{"$f":"IF($I74=\"\",\"\",\"::\"&IF($B$16=\"\",\"\",$B$16&\"  \")&IF($E74=\"\",$H74,$E74)&\"::\")","v":""},null,null,null,null,null,null,null,null,""]
[null,null,null,null,null,null,null,null,null,null,null,null,null,null,null,null,null,null,null,null,null,null,null,null,null,null,null,null,null,null,null,null,null,null,null,null,null,"",430,null,null,{"$f":"IF($I74=\"\",\"\",IF($CE74=0,\"Enter question type or turn off variable question type\",IF($G74=\"\",VLOOKUP($CE74,$BY:$CA,3,0),$G74)))","v":""},null,null,null,null,null,null,null,null,""]
[null,null,null,null,null,null,null,null,null,null,null,null,null,null,null,null,null,null,null,null,null,null,null,null,null,null,null,null,null,null,null,null,null,null,null,null,null,"",431,null,{"$f":"IF($I89=\"\",\"\",IF($B$18=\"\",\"INPUT MAIN CATEGORY (CELL B18) OR TURN CATEGORIES OFF\",\"$CATEGORY: \"&$B$18&IF($F89=\"\",\"\",\"/\"&$F89)))","v":""},{"$f":"IF($I74=\"\",\"\",IF($CE74=0,\"Enter question type or turn off variable question type\",$CD74))","v":""},null,null,null,null,null,null,null,null,89,{"$f":"(ROW()+2)/5","v":87}]
[null,null,null,null,null,null,null,null,null,null,null,null,null,null,null,null,null,null,null,null,null,null,null,null,null,null,null,null,null,null,null,null,null,null,null,null,null,"",432,null,null,null,null,null,null,null,null,null,null,null,""]
[null,null,null,null,null,null,null,null,null,null,null,null,null,null,null,null,null,null,null,null,null,null,null,null,null,null,null,null,null,null,null,null,null,null,null,null,null,"",433,null,{"$f":"IF($I89=\"\",\"\",\"::\"&IF($B$16=\"\",\"\",$B$16&\"  \")&IF($E89=\"\",$H89,$E89)&\"::\")","v":""},{"$f":"IF($I75=\"\",\"\",IF($B$18=\"\",\"INPUT MAIN CATEGORY (CELL B18) OR TURN CATEGORIES OFF\",\"$CATEGORY: \"&$B$18&IF($F75=\"\",\"\",\"/\"&$F75)))","v":""},null,null,null,null,null,null,null,null,""]
[null,null,null,null,null,null,null,null,null,null,null,null,null,null,null,null,null,null,null,null,null,null,null,null,null,null,null,null,null,null,null,null,null,null,null,null,null,"",434,null,{"$f":"IF($I89=\"\",\"\",IF($CE89=0,\"Enter question type or turn off variable question type\",$CD89))","v":""},null,null,null,null,null,null,null,null,null,""]
[null,null,null,null,null,null,null,null,null,null,null,null,null,null,null,null,null,null,null,null,null,null,null,null,null,null,null,null,null,null,null,null,null,null,null,null,null,"",435,null,null,{"$f":"IF($I75=\"\",\"\",\"::\"&IF($B$16=\"\",\"\",$B$16&\"  \")&IF($E75=\"\",$H75,$E75)&\"::\")","v":""},null,null,null,null,null,null,null,null,""]
[null,null,null,null,null,null,null,null,null,null,null,null,null,null,null,null,null,null,null,null,null,null,null,null,null,null,null,null,null,null,null,null,null,null,null,null,null,"",436,null,{"$f":"IF($I90=\"\",\"\",IF($B$18=\"\",\"INPUT MAIN CATEGORY (CELL B18) OR TURN CATEGORIES OFF\",\"$CATEGORY: \"&$B$18&IF($F90=\"\",\"\",\"/\"&$F90)))","v":""},{"$f":"IF($I75=\"\",\"\",IF($CE75=0,\"Enter question type or turn off variable question type\",IF($G75=\"\",VLOOKUP($CE75,$BY:$CA,3,0),$G75)))","v":""},null,null,null,null,null,null,null,null,90,{"$f":"(ROW()+2)/5","v":88}]
[null,null,null,null,null,null,null,null,null,null,null,null,null,null,null,null,null,null,null,null,null,null,null,null,null,null,null,null,null,null,null,null,null,null,null,null,null,"",437,null,null,{"$f":"IF($I75=\"\",\"\",IF($CE75=0,\"Enter question type or turn off variable question type\",$CD75))","v":""},null,null,null,null,null,null,null,null,""]
[null,null,null,null,null,null,null,null,null,null,null,null,null,null,null,null,null,null,null,null,null,null,null,null,null,null,null,null,null,null,null,null,null,null,null,null,null,"",438,null,{"$f":"IF($I90=\"\",\"\",\"::\"&IF($B$16=\"\",\"\",$B$16&\"  \")&IF($E90=\"\",$H90,$E90)&\"::\")","v":""},null,null,null,null,null,null,null,null,null,""]
[null,null,null,null,null,null,null,null,null,null,null,null,null,null,null,null,null,null,null,null,null,null,null,null,null,null,null,null,null,null,null,null,null,null,null,null,null,"",439,null,{"$f":"IF($I90=\"\",\"\",IF($CE90=0,\"Enter question type or turn off variable question type\",$CD90))","v":""},{"$f":"IF($I76=\"\",\"\",IF($B$18=\"\",\"INPUT MAIN CATEGORY (CELL B18) OR TURN CATEGORIES OFF\",\"$CATEGORY: \"&$B$18&IF($F76=\"\",\"\",\"/\"&$F76)))","v":""},null,null,null,null,null,null,null,null,""]
[null,null,null,null,null,null,null,null,null,null,null,null,null,null,null,null,null,null,null,null,null,null,null,null,null,null,null,null,null,null,null,null,null,null,null,null,null,"",440,null,null,null,null,null,null,null,null,null,null,null,""]
[null,null,null,null,null,null,null,null,null,null,null,null,null,null,null,null,null,null,null,null,null,null,null,null,null,null,null,null,null,null,null,null,null,null,null,null,null,"",441,null,{"$f":"IF($I91=\"\",\"\",IF($B$18=\"\",\"INPUT MAIN CATEGORY (CELL B18) OR TURN CATEGORIES OFF\",\"$CATEGORY: \"&$B$18&IF($F91=\"\",\"\",\"/\"&$F91)))","v":""},{"$f":"IF($I76=\"\",\"\",\"::\"&IF($B$16=\"\",\"\",$B$16&\"  \")&IF($E76=\"\",$H76,$E76)&\"::\")","v":""},null,null,null,null,null,null,null,null,91,{"$f":"(ROW()+2)/5","v":89}]
[null,null,null,null,null,null,null,null,null,null,null,null,null,null,null,null,null,null,null,null,null,null,null,null,null,null,null,null,null,null,null,null,null,null,null,null,null,"",442,null,null,{"$f":"IF($I76=\"\",\"\",IF($CE76=0,\"Enter question type or turn off variable question type\",IF($G76=\"\",VLOOKUP($CE76,$BY:$CA,3,0),$G76)))","v":""},null,null,null,null,null,null,null,null,""]
[null,null,null,null,null,null,null,null,null,null,null,null,null,null,null,null,null,null,null,null,null,null,null,null,null,null,null,null,null,null,null,null,null,null,null,null,null,"",443,null,{"$f":"IF($I91=\"\",\"\",\"::\"&IF($B$16=\"\",\"\",$B$16&\"  \")&IF($E91=\"\",$H91,$E91)&\"::\")","v":""},{"$f":"IF($I76=\"\",\"\",IF($CE76=0,\"Enter question type or turn off variable question type\",$CD76))","v":""},null,null,null,null,null,null,null,null,""]
[null,null,null,null,null,null,null,null,null,null,null,null,null,null,null,null,null,null,null,null,null,null,null,null,null,null,null,null,null,null,null,null,null,null,null,null,null,{"$f":"IF(VLOOKUP($AM446,$AM:$AQ,$A$6,0)=\"\",\"\",VLOOKUP($AM446,$AM:$AQ,$A$6,0))","v":""},444,null,{"$f":"IF($I91=\"\",\"\",IF($CE91=0,\"Enter question type or turn off variable question type\",$CD91))","v":""},null,null,null,null,null,null,null,null,null,{"$f":"IF(AZ446+2=2,\"\",AZ446+2)","v":""}]
[null,null,null,null,null,null,null,null,null,null,null,null,null,null,null,null,null,null,null,null,null,null,null,null,null,null,null,null,null,null,null,null,null,null,null,null,null,"",445,null,null,{"$f":"IF($I77=\"\",\"\",IF($B$18=\"\",\"INPUT MAIN CATEGORY (CELL B18) OR TURN CATEGORIES OFF\",\"$CATEGORY: \"&$B$18&IF($F77=\"\",\"\",\"/\"&$F77)))","v":""},null,null,null,null,null,null,null,null,""]
[null,null,null,null,null,null,null,null,null,null,null,null,null,null,null,null,null,null,null,null,null,null,null,null,null,null,null,null,null,null,null,null,null,null,null,null,null,"",446,null,{"$f":"IF($I92=\"\",\"\",IF($B$18=\"\",\"INPUT MAIN CATEGORY (CELL B18) OR TURN CATEGORIES OFF\",\"$CATEGORY: \"&$B$18&IF($F92=\"\",\"\",\"/\"&$F92)))","v":""},null,null,null,null,null,null,null,null,null,92,{"$f":"(ROW()+2)/5","v":90}]
[null,null,null,null,null,null,null,null,null,null,null,null,null,null,null,null,null,null,null,null,null,null,null,null,null,null,null,null,null,null,null,null,null,null,null,null,null,"",447,null,null,{"$f":"IF($I77=\"\",\"\",\"::\"&IF($B$16=\"\",\"\",$B$16&\"  \")&IF($E77=\"\",$H77,$E77)&\"::\")","v":""},null,null,null,null,null,null,null,null,""]
[null,null,null,null,null,null,null,null,null,null,null,null,null,null,null,null,null,null,null,null,null,null,null,null,null,null,null,null,null,null,null,null,null,null,null,null,null,"",448,null,{"$f":"IF($I92=\"\",\"\",\"::\"&IF($B$16=\"\",\"\",$B$16&\"  \")&IF($E92=\"\",$H92,$E92)&\"::\")","v":""},{"$f":"IF($I77=\"\",\"\",IF($CE77=0,\"Enter question type or turn off variable question type\",IF($G77=\"\",VLOOKUP($CE77,$BY:$CA,3,0),$G77)))","v":""},null,null,null,null,null,null,null,null,""]
[null,null,null,null,null,null,null,null,null,null,null,null,null,null,null,null,null,null,null,null,null,null,null,null,null,null,null,null,null,null,null,null,null,null,null,null,null,"",449,null,{"$f":"IF($I92=\"\",\"\",IF($CE92=0,\"Enter question type or turn off variable question type\",$CD92))","v":""},{"$f":"IF($I77=\"\",\"\",IF($CE77=0,\"Enter question type or turn off variable question type\",$CD77))","v":""},null,null,null,null,null,null,null,null,""]
[null,null,null,null,null,null,null,null,null,null,null,null,null,null,null,null,null,null,null,null,null,null,null,null,null,null,null,null,null,null,null,null,null,null,null,null,null,"",450,null,null,null,null,null,null,null,null,null,null,null,""]
[null,null,null,null,null,null,null,null,null,null,null,null,null,null,null,null,null,null,null,null,null,null,null,null,null,null,null,null,null,null,null,null,null,null,null,null,null,"",451,null,{"$f":"IF($I93=\"\",\"\",IF($B$18=\"\",\"INPUT MAIN CATEGORY (CELL B18) OR TURN CATEGORIES OFF\",\"$CATEGORY: \"&$B$18&IF($F93=\"\",\"\",\"/\"&$F93)))","v":""},{"$f":"IF($I78=\"\",\"\",IF($B$18=\"\",\"INPUT MAIN CATEGORY (CELL B18) OR TURN CATEGORIES OFF\",\"$CATEGORY: \"&$B$18&IF($F78=\"\",\"\",\"/\"&$F78)))","v":""},null,null,null,null,null,null,null,null,93,{"$f":"(ROW()+2)/5","v":91}]
[null,null,null,null,null,null,null,null,null,null,null,null,null,null,null,null,null,null,null,null,null,null,null,null,null,null,null,null,null,null,null,null,null,null,null,null,null,"",452,null,null,null,null,null,null,null,null,null,null,null,""]
[null,null,null,null,null,null,null,null,null,null,null,null,null,null,null,null,null,null,null,null,null,null,null,null,null,null,null,null,null,null,null,null,null,null,null,null,null,"",453,null,{"$f":"IF($I93=\"\",\"\",\"::\"&IF($B$16=\"\",\"\",$B$16&\"  \")&IF($E93=\"\",$H93,$E93)&\"::\")","v":""},{"$f":"IF($I78=\"\",\"\",\"::\"&IF($B$16=\"\",\"\",$B$16&\"  \")&IF($E78=\"\",$H78,$E78)&\"::\")","v":""},null,null,null,null,null,null,null,null,""]
[null,null,null,null,null,null,null,null,null,null,null,null,null,null,null,null,null,null,null,null,null,null,null,null,null,null,null,null,null,null,null,null,null,null,null,null,null,"",454,null,{"$f":"IF($I93=\"\",\"\",IF($CE93=0,\"Enter question type or turn off variable question type\",$CD93))","v":""},{"$f":"IF($I78=\"\",\"\",IF($CE78=0,\"Enter question type or turn off variable question type\",IF($G78=\"\",VLOOKUP($CE78,$BY:$CA,3,0),$G78)))","v":""},null,null,null,null,null,null,null,null,""]
[null,null,null,null,null,null,null,null,null,null,null,null,null,null,null,null,null,null,null,null,null,null,null,null,null,null,null,null,null,null,null,null,null,null,null,null,null,"",455,null,null,{"$f":"IF($I78=\"\",\"\",IF($CE78=0,\"Enter question type or turn off variable question type\",$CD78))","v":""},null,null,null,null,null,null,null,null,""]
[null,null,null,null,null,null,null,null,null,null,null,null,null,null,null,null,null,null,null,null,null,null,null,null,null,null,null,null,null,null,null,null,null,null,null,null,null,"",456,null,{"$f":"IF($I94=\"\",\"\",IF($B$18=\"\",\"INPUT MAIN CATEGORY (CELL B18) OR TURN CATEGORIES OFF\",\"$CATEGORY: \"&$B$18&IF($F94=\"\",\"\",\"/\"&$F94)))","v":""},null,null,null,null,null,null,null,null,null,94,{"$f":"(ROW()+2)/5","v":92}]
[null,null,null,null,null,null,null,null,null,null,null,null,null,null,null,null,null,null,null,null,null,null,null,null,null,null,null,null,null,null,null,null,null,null,null,null,null,"",457,null,null,{"$f":"IF($I79=\"\",\"\",IF($B$18=\"\",\"INPUT MAIN CATEGORY (CELL B18) OR TURN CATEGORIES OFF\",\"$CATEGORY: \"&$B$18&IF($F79=\"\",\"\",\"/\"&$F79)))","v":""},null,null,null,null,null,null,null,null,""]
[null,null,null,null,null,null,null,null,null,null,null,null,null,null,null,null,null,null,null,null,null,null,null,null,null,null,null,null,null,null,null,null,null,null,null,null,null,"",458,null,{"$f":"IF($I94=\"\",\"\",\"::\"&IF($B$16=\"\",\"\",$B$16&\"  \")&IF($E94=\"\",$H94,$E94)&\"::\")","v":""},null,null,null,null,null,null,null,null,null,""]
[null,null,null,null,null,null,null,null,null,null,null,null,null,null,null,null,null,null,null,null,null,null,null,null,null,null,null,null,null,null,null,null,null,null,null,null,null,"",459,null,{"$f":"IF($I94=\"\",\"\",IF($CE94=0,\"Enter question type or turn off variable question type\",$CD94))","v":""},{"$f":"IF($I79=\"\",\"\",\"::\"&IF($B$16=\"\",\"\",$B$16&\"  \")&IF($E79=\"\",$H79,$E79)&\"::\")","v":""},null,null,null,null,null,null,null,null,""]
[null,null,null,null,null,null,null,null,null,null,null,null,null,null,null,null,null,null,null,null,null,null,null,null,null,null,null,null,null,null,null,null,null,null,null,null,null,"",460,null,null,{"$f":"IF($I79=\"\",\"\",IF($CE79=0,\"Enter question type or turn off variable question type\",IF($G79=\"\",VLOOKUP($CE79,$BY:$CA,3,0),$G79)))","v":""},null,null,null,null,null,null,null,null,""]
[null,null,null,null,null,null,null,null,null,null,null,null,null,null,null,null,null,null,null,null,null,null,null,null,null,null,null,null,null,null,null,null,null,null,null,null,null,"",461,null,{"$f":"IF($I95=\"\",\"\",IF($B$18=\"\",\"INPUT MAIN CATEGORY (CELL B18) OR TURN CATEGORIES OFF\",\"$CATEGORY: \"&$B$18&IF($F95=\"\",\"\",\"/\"&$F95)))","v":""},{"$f":"IF($I79=\"\",\"\",IF($CE79=0,\"Enter question type or turn off variable question type\",$CD79))","v":""},null,null,null,null,null,null,null,null,95,{"$f":"(ROW()+2)/5","v":93}]
[null,null,null,null,null,null,null,null,null,null,null,null,null,null,null,null,null,null,null,null,null,null,null,null,null,null,null,null,null,null,null,null,null,null,null,null,null,"",462,null,null,null,null,null,null,null,null,null,null,null,""]
[null,null,null,null,null,null,null,null,null,null,null,null,null,null,null,null,null,null,null,null,null,null,null,null,null,null,null,null,null,null,null,null,null,null,null,null,null,"",463,null,{"$f":"IF($I95=\"\",\"\",\"::\"&IF($B$16=\"\",\"\",$B$16&\"  \")&IF($E95=\"\",$H95,$E95)&\"::\")","v":""},{"$f":"IF($I80=\"\",\"\",IF($B$18=\"\",\"INPUT MAIN CATEGORY (CELL B18) OR TURN CATEGORIES OFF\",\"$CATEGORY: \"&$B$18&IF($F80=\"\",\"\",\"/\"&$F80)))","v":""},null,null,null,null,null,null,null,null,""]
[null,null,null,null,null,null,null,null,null,null,null,null,null,null,null,null,null,null,null,null,null,null,null,null,null,null,null,null,null,null,null,null,null,null,null,null,null,"",464,null,{"$f":"IF($I95=\"\",\"\",IF($CE95=0,\"Enter question type or turn off variable question type\",$CD95))","v":""},null,null,null,null,null,null,null,null,null,""]
[null,null,null,null,null,null,null,null,null,null,null,null,null,null,null,null,null,null,null,null,null,null,null,null,null,null,null,null,null,null,null,null,null,null,null,null,null,"",465,null,null,{"$f":"IF($I80=\"\",\"\",\"::\"&IF($B$16=\"\",\"\",$B$16&\"  \")&IF($E80=\"\",$H80,$E80)&\"::\")","v":""},null,null,null,null,null,null,null,null,""]
[null,null,null,null,null,null,null,null,null,null,null,null,null,null,null,null,null,null,null,null,null,null,null,null,null,null,null,null,null,null,null,null,null,null,null,null,null,"",466,null,{"$f":"IF($I96=\"\",\"\",IF($B$18=\"\",\"INPUT MAIN CATEGORY (CELL B18) OR TURN CATEGORIES OFF\",\"$CATEGORY: \"&$B$18&IF($F96=\"\",\"\",\"/\"&$F96)))","v":""},{"$f":"IF($I80=\"\",\"\",IF($CE80=0,\"Enter question type or turn off variable question type\",IF($G80=\"\",VLOOKUP($CE80,$BY:$CA,3,0),$G80)))","v":""},null,null,null,null,null,null,null,null,96,{"$f":"(ROW()+2)/5","v":94}]
[null,null,null,null,null,null,null,null,null,null,null,null,null,null,null,null,null,null,null,null,null,null,null,null,null,null,null,null,null,null,null,null,null,null,null,null,null,"",467,null,null,{"$f":"IF($I80=\"\",\"\",IF($CE80=0,\"Enter question type or turn off variable question type\",$CD80))","v":""},null,null,null,null,null,null,null,null,""]
[null,null,null,null,null,null,null,null,null,null,null,null,null,null,null,null,null,null,null,null,null,null,null,null,null,null,null,null,null,null,null,null,null,null,null,null,null,"",468,null,{"$f":"IF($I96=\"\",\"\",\"::\"&IF($B$16=\"\",\"\",$B$16&\"  \")&IF($E96=\"\",$H96,$E96)&\"::\")","v":""},null,null,null,null,null,null,null,null,null,""]
[null,null,null,null,null,null,null,null,null,null,null,null,null,null,null,null,null,null,null,null,null,null,null,null,null,null,null,null,null,null,null,null,null,null,null,null,null,"",469,null,{"$f":"IF($I96=\"\",\"\",IF($CE96=0,\"Enter question type or turn off variable question type\",$CD96))","v":""},{"$f":"IF($I81=\"\",\"\",IF($B$18=\"\",\"INPUT MAIN CATEGORY (CELL B18) OR TURN CATEGORIES OFF\",\"$CATEGORY: \"&$B$18&IF($F81=\"\",\"\",\"/\"&$F81)))","v":""},null,null,null,null,null,null,null,null,""]
[null,null,null,null,null,null,null,null,null,null,null,null,null,null,null,null,null,null,null,null,null,null,null,null,null,null,null,null,null,null,null,null,null,null,null,null,null,"",470,null,null,null,null,null,null,null,null,null,null,null,""]
[null,null,null,null,null,null,null,null,null,null,null,null,null,null,null,null,null,null,null,null,null,null,null,null,null,null,null,null,null,null,null,null,null,null,null,null,null,"",471,null,{"$f":"IF($I97=\"\",\"\",IF($B$18=\"\",\"INPUT MAIN CATEGORY (CELL B18) OR TURN CATEGORIES OFF\",\"$CATEGORY: \"&$B$18&IF($F97=\"\",\"\",\"/\"&$F97)))","v":""},{"$f":"IF($I81=\"\",\"\",\"::\"&IF($B$16=\"\",\"\",$B$16&\"  \")&IF($E81=\"\",$H81,$E81)&\"::\")","v":""},null,null,null,null,null,null,null,null,97,{"$f":"(ROW()+2)/5","v":95}]
[null,null,null,null,null,null,null,null,null,null,null,null,null,null,null,null,null,null,null,null,null,null,null,null,null,null,null,null,null,null,null,null,null,null,null,null,null,"",472,null,null,{"$f":"IF($I81=\"\",\"\",IF($CE81=0,\"Enter question type or turn off variable question type\",IF($G81=\"\",VLOOKUP($CE81,$BY:$CA,3,0),$G81)))","v":""},null,null,null,null,null,null,null,null,""]
[null,null,null,null,null,null,null,null,null,null,null,null,null,null,null,null,null,null,null,null,null,null,null,null,null,null,null,null,null,null,null,null,null,null,null,null,null,"",473,null,{"$f":"IF($I97=\"\",\"\",\"::\"&IF($B$16=\"\",\"\",$B$16&\"  \")&IF($E97=\"\",$H97,$E97)&\"::\")","v":""},{"$f":"IF($I81=\"\",\"\",IF($CE81=0,\"Enter question type or turn off variable question type\",$CD81))","v":""},null,null,null,null,null,null,null,null,""]
[null,null,null,null,null,null,null,null,null,null,null,null,null,null,null,null,null,null,null,null,null,null,null,null,null,null,null,null,null,null,null,null,null,null,null,null,null,"",474,null,{"$f":"IF($I97=\"\",\"\",IF($CE97=0,\"Enter question type or turn off variable question type\",$CD97))","v":""},null,null,null,null,null,null,null,null,null,""]
[null,null,null,null,null,null,null,null,null,null,null,null,null,null,null,null,null,null,null,null,null,null,null,null,null,null,null,null,null,null,null,null,null,null,null,null,null,"",475,null,null,{"$f":"IF($I82=\"\",\"\",IF($B$18=\"\",\"INPUT MAIN CATEGORY (CELL B18) OR TURN CATEGORIES OFF\",\"$CATEGORY: \"&$B$18&IF($F82=\"\",\"\",\"/\"&$F82)))","v":""},null,null,null,null,null,null,null,null,""]
[null,null,null,null,null,null,null,null,null,null,null,null,null,null,null,null,null,null,null,null,null,null,null,null,null,null,null,null,null,null,null,null,null,null,null,null,null,"",476,null,{"$f":"IF($I98=\"\",\"\",IF($B$18=\"\",\"INPUT MAIN CATEGORY (CELL B18) OR TURN CATEGORIES OFF\",\"$CATEGORY: \"&$B$18&IF($F98=\"\",\"\",\"/\"&$F98)))","v":""},null,null,null,null,null,null,null,null,null,98,{"$f":"(ROW()+2)/5","v":96}]
[null,null,null,null,null,null,null,null,null,null,null,null,null,null,null,null,null,null,null,null,null,null,null,null,null,null,null,null,null,null,null,null,null,null,null,null,null,"",477,null,null,{"$f":"IF($I82=\"\",\"\",\"::\"&IF($B$16=\"\",\"\",$B$16&\"  \")&IF($E82=\"\",$H82,$E82)&\"::\")","v":""},null,null,null,null,null,null,null,null,""]
[null,null,null,null,null,null,null,null,null,null,null,null,null,null,null,null,null,null,null,null,null,null,null,null,null,null,null,null,null,null,null,null,null,null,null,null,null,"",478,null,{"$f":"IF($I98=\"\",\"\",\"::\"&IF($B$16=\"\",\"\",$B$16&\"  \")&IF($E98=\"\",$H98,$E98)&\"::\")","v":""},{"$f":"IF($I82=\"\",\"\",IF($CE82=0,\"Enter question type or turn off variable question type\",IF($G82=\"\",VLOOKUP($CE82,$BY:$CA,3,0),$G82)))","v":""},null,null,null,null,null,null,null,null,""]
[null,null,null,null,null,null,null,null,null,null,null,null,null,null,null,null,null,null,null,null,null,null,null,null,null,null,null,null,null,null,null,null,null,null,null,null,null,"",479,null,{"$f":"IF($I98=\"\",\"\",IF($CE98=0,\"Enter question type or turn off variable question type\",$CD98))","v":""},{"$f":"IF($I82=\"\",\"\",IF($CE82=0,\"Enter question type or turn off variable question type\",$CD82))","v":""},null,null,null,null,null,null,null,null,""]
[null,null,null,null,null,null,null,null,null,null,null,null,null,null,null,null,null,null,null,null,null,null,null,null,null,null,null,null,null,null,null,null,null,null,null,null,null,"",480,null,null,null,null,null,null,null,null,null,null,null,""]
[null,null,null,null,null,null,null,null,null,null,null,null,null,null,null,null,null,null,null,null,null,null,null,null,null,null,null,null,null,null,null,null,null,null,null,null,null,"",481,null,{"$f":"IF($I99=\"\",\"\",IF($B$18=\"\",\"INPUT MAIN CATEGORY (CELL B18) OR TURN CATEGORIES OFF\",\"$CATEGORY: \"&$B$18&IF($F99=\"\",\"\",\"/\"&$F99)))","v":""},{"$f":"IF($I83=\"\",\"\",IF($B$18=\"\",\"INPUT MAIN CATEGORY (CELL B18) OR TURN CATEGORIES OFF\",\"$CATEGORY: \"&$B$18&IF($F83=\"\",\"\",\"/\"&$F83)))","v":""},null,null,null,null,null,null,null,null,99,{"$f":"(ROW()+2)/5","v":97}]
[null,null,null,null,null,null,null,null,null,null,null,null,null,null,null,null,null,null,null,null,null,null,null,null,null,null,null,null,null,null,null,null,null,null,null,null,null,"",482,null,null,null,null,null,null,null,null,null,null,null,""]
[null,null,null,null,null,null,null,null,null,null,null,null,null,null,null,null,null,null,null,null,null,null,null,null,null,null,null,null,null,null,null,null,null,null,null,null,null,"",483,null,{"$f":"IF($I99=\"\",\"\",\"::\"&IF($B$16=\"\",\"\",$B$16&\"  \")&IF($E99=\"\",$H99,$E99)&\"::\")","v":""},{"$f":"IF($I83=\"\",\"\",\"::\"&IF($B$16=\"\",\"\",$B$16&\"  \")&IF($E83=\"\",$H83,$E83)&\"::\")","v":""},null,null,null,null,null,null,null,null,""]
[null,null,null,null,null,null,null,null,null,null,null,null,null,null,null,null,null,null,null,null,null,null,null,null,null,null,null,null,null,null,null,null,null,null,null,null,null,"",484,null,{"$f":"IF($I99=\"\",\"\",IF($CE99=0,\"Enter question type or turn off variable question type\",$CD99))","v":""},{"$f":"IF($I83=\"\",\"\",IF($CE83=0,\"Enter question type or turn off variable question type\",IF($G83=\"\",VLOOKUP($CE83,$BY:$CA,3,0),$G83)))","v":""},null,null,null,null,null,null,null,null,""]
[null,null,null,null,null,null,null,null,null,null,null,null,null,null,null,null,null,null,null,null,null,null,null,null,null,null,null,null,null,null,null,null,null,null,null,null,null,"",485,null,null,{"$f":"IF($I83=\"\",\"\",IF($CE83=0,\"Enter question type or turn off variable question type\",$CD83))","v":""},null,null,null,null,null,null,null,null,""]
[null,null,null,null,null,null,null,null,null,null,null,null,null,null,null,null,null,null,null,null,null,null,null,null,null,null,null,null,null,null,null,null,null,null,null,null,null,"",486,null,{"$f":"IF($I100=\"\",\"\",IF($B$18=\"\",\"INPUT MAIN CATEGORY (CELL B18) OR TURN CATEGORIES OFF\",\"$CATEGORY: \"&$B$18&IF($F100=\"\",\"\",\"/\"&$F100)))","v":""},null,null,null,null,null,null,null,null,null,100,{"$f":"(ROW()+2)/5","v":98}]
[null,null,null,null,null,null,null,null,null,null,null,null,null,null,null,null,null,null,null,null,null,null,null,null,null,null,null,null,null,null,null,null,null,null,null,null,null,"",487,null,null,{"$f":"IF($I84=\"\",\"\",IF($B$18=\"\",\"INPUT MAIN CATEGORY (CELL B18) OR TURN CATEGORIES OFF\",\"$CATEGORY: \"&$B$18&IF($F84=\"\",\"\",\"/\"&$F84)))","v":""},null,null,null,null,null,null,null,null,""]
[null,null,null,null,null,null,null,null,null,null,null,null,null,null,null,null,null,null,null,null,null,null,null,null,null,null,null,null,null,null,null,null,null,null,null,null,null,"",488,null,{"$f":"IF($I100=\"\",\"\",\"::\"&IF($B$16=\"\",\"\",$B$16&\"  \")&IF($E100=\"\",$H100,$E100)&\"::\")","v":""},null,null,null,null,null,null,null,null,null,""]
[null,null,null,null,null,null,null,null,null,null,null,null,null,null,null,null,null,null,null,null,null,null,null,null,null,null,null,null,null,null,null,null,null,null,null,null,null,"",489,null,{"$f":"IF($I100=\"\",\"\",IF($CE100=0,\"Enter question type or turn off variable question type\",$CD100))","v":""},{"$f":"IF($I84=\"\",\"\",\"::\"&IF($B$16=\"\",\"\",$B$16&\"  \")&IF($E84=\"\",$H84,$E84)&\"::\")","v":""},null,null,null,null,null,null,null,null,""]
[null,null,null,null,null,null,null,null,null,null,null,null,null,null,null,null,null,null,null,null,null,null,null,null,null,null,null,null,null,null,null,null,null,null,null,null,null,"",490,null,null,{"$f":"IF($I84=\"\",\"\",IF($CE84=0,\"Enter question type or turn off variable question type\",IF($G84=\"\",VLOOKUP($CE84,$BY:$CA,3,0),$G84)))","v":""},null,null,null,null,null,null,null,null,""]
[null,null,null,null,null,null,null,null,null,null,null,null,null,null,null,null,null,null,null,null,null,null,null,null,null,null,null,null,null,null,null,null,null,null,null,null,null,"",491,null,{"$f":"IF($I101=\"\",\"\",IF($B$18=\"\",\"INPUT MAIN CATEGORY (CELL B18) OR TURN CATEGORIES OFF\",\"$CATEGORY: \"&$B$18&IF($F101=\"\",\"\",\"/\"&$F101)))","v":""},{"$f":"IF($I84=\"\",\"\",IF($CE84=0,\"Enter question type or turn off variable question type\",$CD84))","v":""},null,null,null,null,null,null,null,null,101,{"$f":"(ROW()+2)/5","v":99}]
[null,null,null,null,null,null,null,null,null,null,null,null,null,null,null,null,null,null,null,null,null,null,null,null,null,null,null,null,null,null,null,null,null,null,null,null,null,"",492,null,null,null,null,null,null,null,null,null,null,null,""]
[null,null,null,null,null,null,null,null,null,null,null,null,null,null,null,null,null,null,null,null,null,null,null,null,null,null,null,null,null,null,null,null,null,null,null,null,null,"",493,null,{"$f":"IF($I101=\"\",\"\",\"::\"&IF($B$16=\"\",\"\",$B$16&\"  \")&IF($E101=\"\",$H101,$E101)&\"::\")","v":""},{"$f":"IF($I85=\"\",\"\",IF($B$18=\"\",\"INPUT MAIN CATEGORY (CELL B18) OR TURN CATEGORIES OFF\",\"$CATEGORY: \"&$B$18&IF($F85=\"\",\"\",\"/\"&$F85)))","v":""},null,null,null,null,null,null,null,null,""]
[null,null,null,null,null,null,null,null,null,null,null,null,null,null,null,null,null,null,null,null,null,null,null,null,null,null,null,null,null,null,null,null,null,null,null,null,null,"",494,null,{"$f":"IF($I101=\"\",\"\",IF($CE101=0,\"Enter question type or turn off variable question type\",$CD101))","v":""},null,null,null,null,null,null,null,null,null,""]
[null,null,null,null,null,null,null,null,null,null,null,null,null,null,null,null,null,null,null,null,null,null,null,null,null,null,null,null,null,null,null,null,null,null,null,null,null,"",495,null,null,{"$f":"IF($I85=\"\",\"\",\"::\"&IF($B$16=\"\",\"\",$B$16&\"  \")&IF($E85=\"\",$H85,$E85)&\"::\")","v":""},null,null,null,null,null,null,null,null,""]
[null,null,null,null,null,null,null,null,null,null,null,null,null,null,null,null,null,null,null,null,null,null,null,null,null,null,null,null,null,null,null,null,null,null,null,null,null,"",496,null,{"$f":"IF($I102=\"\",\"\",IF($B$18=\"\",\"INPUT MAIN CATEGORY (CELL B18) OR TURN CATEGORIES OFF\",\"$CATEGORY: \"&$B$18&IF($F102=\"\",\"\",\"/\"&$F102)))","v":""},{"$f":"IF($I85=\"\",\"\",IF($CE85=0,\"Enter question type or turn off variable question type\",IF($G85=\"\",VLOOKUP($CE85,$BY:$CA,3,0),$G85)))","v":""},null,null,null,null,null,null,null,null,102,{"$f":"(ROW()+2)/5","v":100}]
[null,null,null,null,null,null,null,null,null,null,null,null,null,null,null,null,null,null,null,null,null,null,null,null,null,null,null,null,null,null,null,null,null,null,null,null,null,"",497,null,null,{"$f":"IF($I85=\"\",\"\",IF($CE85=0,\"Enter question type or turn off variable question type\",$CD85))","v":""},null,null,null,null,null,null,null,null,""]
[null,null,null,null,null,null,null,null,null,null,null,null,null,null,null,null,null,null,null,null,null,null,null,null,null,null,null,null,null,null,null,null,null,null,null,null,null,"",498,null,{"$f":"IF($I102=\"\",\"\",\"::\"&IF($B$16=\"\",\"\",$B$16&\"  \")&IF($E102=\"\",$H102,$E102)&\"::\")","v":""},null,null,null,null,null,null,null,null,null,""]
[null,null,null,null,null,null,null,null,null,null,null,null,null,null,null,null,null,null,null,null,null,null,null,null,null,null,null,null,null,null,null,null,null,null,null,null,null,"",499,null,{"$f":"IF($I102=\"\",\"\",IF($CE102=0,\"Enter question type or turn off variable question type\",$CD102))","v":""},{"$f":"IF($I86=\"\",\"\",IF($B$18=\"\",\"INPUT MAIN CATEGORY (CELL B18) OR TURN CATEGORIES OFF\",\"$CATEGORY: \"&$B$18&IF($F86=\"\",\"\",\"/\"&$F86)))","v":""},null,null,null,null,null,null,null,null,""]
[null,null,null,null,null,null,null,null,null,null,null,null,null,null,null,null,null,null,null,null,null,null,null,null,null,null,null,null,null,null,null,null,null,null,null,null,null,"",500,null,null,null,null,null,null,null,null,null,null,null,""]
[null,null,null,null,null,null,null,null,null,null,null,null,null,null,null,null,null,null,null,null,null,null,null,null,null,null,null,null,null,null,null,null,null,null,null,null,null,"",501,null,null,{"$f":"IF($I86=\"\",\"\",\"::\"&IF($B$16=\"\",\"\",$B$16&\"  \")&IF($E86=\"\",$H86,$E86)&\"::\")","v":""}]
[null,null,null,null,null,null,null,null,null,null,null,null,null,null,null,null,null,null,null,null,null,null,null,null,null,null,null,null,null,null,null,null,null,null,null,null,null,"",502,null,null,{"$f":"IF($I86=\"\",\"\",IF($CE86=0,\"Enter question type or turn off variable question type\",IF($G86=\"\",VLOOKUP($CE86,$BY:$CA,3,0),$G86)))","v":""}]
[null,null,null,null,null,null,null,null,null,null,null,null,null,null,null,null,null,null,null,null,null,null,null,null,null,null,null,null,null,null,null,null,null,null,null,null,null,"",503,null,null,{"$f":"IF($I86=\"\",\"\",IF($CE86=0,\"Enter question type or turn off variable question type\",$CD86))","v":""}]
[null,null,null,null,null,null,null,null,null,null,null,null,null,null,null,null,null,null,null,null,null,null,null,null,null,null,null,null,null,null,null,null,null,null,null,null,null,"",504]
[null,null,null,null,null,null,null,null,null,null,null,null,null,null,null,null,null,null,null,null,null,null,null,null,null,null,null,null,null,null,null,null,null,null,null,null,null,"",505,null,null,{"$f":"IF($I87=\"\",\"\",IF($B$18=\"\",\"INPUT MAIN CATEGORY (CELL B18) OR TURN CATEGORIES OFF\",\"$CATEGORY: \"&$B$18&IF($F87=\"\",\"\",\"/\"&$F87)))","v":""}]
[null,null,null,null,null,null,null,null,null,null,null,null,null,null,null,null,null,null,null,null,null,null,null,null,null,null,null,null,null,null,null,null,null,null,null,null,null,"",506]
[null,null,null,null,null,null,null,null,null,null,null,null,null,null,null,null,null,null,null,null,null,null,null,null,null,null,null,null,null,null,null,null,null,null,null,null,null,"",507,null,null,{"$f":"IF($I87=\"\",\"\",\"::\"&IF($B$16=\"\",\"\",$B$16&\"  \")&IF($E87=\"\",$H87,$E87)&\"::\")","v":""}]
[null,null,null,null,null,null,null,null,null,null,null,null,null,null,null,null,null,null,null,null,null,null,null,null,null,null,null,null,null,null,null,null,null,null,null,null,null,{"$f":"IF(VLOOKUP($AM510,$AM:$AQ,$A$6,0)=\"\",\"\",VLOOKUP($AM510,$AM:$AQ,$A$6,0))","v":""},508,null,null,{"$f":"IF($I87=\"\",\"\",IF($CE87=0,\"Enter question type or turn off variable question type\",IF($G87=\"\",VLOOKUP($CE87,$BY:$CA,3,0),$G87)))","v":""}]
[null,null,null,null,null,null,null,null,null,null,null,null,null,null,null,null,null,null,null,null,null,null,null,null,null,null,null,null,null,null,null,null,null,null,null,null,null,"",509,null,null,{"$f":"IF($I87=\"\",\"\",IF($CE87=0,\"Enter question type or turn off variable question type\",$CD87))","v":""}]
[null,null,null,null,null,null,null,null,null,null,null,null,null,null,null,null,null,null,null,null,null,null,null,null,null,null,null,null,null,null,null,null,null,null,null,null,null,"",510]
[null,null,null,null,null,null,null,null,null,null,null,null,null,null,null,null,null,null,null,null,null,null,null,null,null,null,null,null,null,null,null,null,null,null,null,null,null,"",511,null,null,{"$f":"IF($I88=\"\",\"\",IF($B$18=\"\",\"INPUT MAIN CATEGORY (CELL B18) OR TURN CATEGORIES OFF\",\"$CATEGORY: \"&$B$18&IF($F88=\"\",\"\",\"/\"&$F88)))","v":""}]
[null,null,null,null,null,null,null,null,null,null,null,null,null,null,null,null,null,null,null,null,null,null,null,null,null,null,null,null,null,null,null,null,null,null,null,null,null,"",512]
[null,null,null,null,null,null,null,null,null,null,null,null,null,null,null,null,null,null,null,null,null,null,null,null,null,null,null,null,null,null,null,null,null,null,null,null,null,"",513,null,null,{"$f":"IF($I88=\"\",\"\",\"::\"&IF($B$16=\"\",\"\",$B$16&\"  \")&IF($E88=\"\",$H88,$E88)&\"::\")","v":""}]
[null,null,null,null,null,null,null,null,null,null,null,null,null,null,null,null,null,null,null,null,null,null,null,null,null,null,null,null,null,null,null,null,null,null,null,null,null,"",514,null,null,{"$f":"IF($I88=\"\",\"\",IF($CE88=0,\"Enter question type or turn off variable question type\",IF($G88=\"\",VLOOKUP($CE88,$BY:$CA,3,0),$G88)))","v":""}]
[null,null,null,null,null,null,null,null,null,null,null,null,null,null,null,null,null,null,null,null,null,null,null,null,null,null,null,null,null,null,null,null,null,null,null,null,null,"",515,null,null,{"$f":"IF($I88=\"\",\"\",IF($CE88=0,\"Enter question type or turn off variable question type\",$CD88))","v":""}]
[null,null,null,null,null,null,null,null,null,null,null,null,null,null,null,null,null,null,null,null,null,null,null,null,null,null,null,null,null,null,null,null,null,null,null,null,null,"",516]
[null,null,null,null,null,null,null,null,null,null,null,null,null,null,null,null,null,null,null,null,null,null,null,null,null,null,null,null,null,null,null,null,null,null,null,null,null,"",517,null,null,{"$f":"IF($I89=\"\",\"\",IF($B$18=\"\",\"INPUT MAIN CATEGORY (CELL B18) OR TURN CATEGORIES OFF\",\"$CATEGORY: \"&$B$18&IF($F89=\"\",\"\",\"/\"&$F89)))","v":""}]
[null,null,null,null,null,null,null,null,null,null,null,null,null,null,null,null,null,null,null,null,null,null,null,null,null,null,null,null,null,null,null,null,null,null,null,null,null,"",518]
[null,null,null,null,null,null,null,null,null,null,null,null,null,null,null,null,null,null,null,null,null,null,null,null,null,null,null,null,null,null,null,null,null,null,null,null,null,"",519,null,null,{"$f":"IF($I89=\"\",\"\",\"::\"&IF($B$16=\"\",\"\",$B$16&\"  \")&IF($E89=\"\",$H89,$E89)&\"::\")","v":""}]
[null,null,null,null,null,null,null,null,null,null,null,null,null,null,null,null,null,null,null,null,null,null,null,null,null,null,null,null,null,null,null,null,null,null,null,null,null,"",520,null,null,{"$f":"IF($I89=\"\",\"\",IF($CE89=0,\"Enter question type or turn off variable question type\",IF($G89=\"\",VLOOKUP($CE89,$BY:$CA,3,0),$G89)))","v":""}]
[null,null,null,null,null,null,null,null,null,null,null,null,null,null,null,null,null,null,null,null,null,null,null,null,null,null,null,null,null,null,null,null,null,null,null,null,null,"",521,null,null,{"$f":"IF($I89=\"\",\"\",IF($CE89=0,\"Enter question type or turn off variable question type\",$CD89))","v":""}]
[null,null,null,null,null,null,null,null,null,null,null,null,null,null,null,null,null,null,null,null,null,null,null,null,null,null,null,null,null,null,null,null,null,null,null,null,null,"",522]
[null,null,null,null,null,null,null,null,null,null,null,null,null,null,null,null,null,null,null,null,null,null,null,null,null,null,null,null,null,null,null,null,null,null,null,null,null,"",523,null,null,{"$f":"IF($I90=\"\",\"\",IF($B$18=\"\",\"INPUT MAIN CATEGORY (CELL B18) OR TURN CATEGORIES OFF\",\"$CATEGORY: \"&$B$18&IF($F90=\"\",\"\",\"/\"&$F90)))","v":""}]
[null,null,null,null,null,null,null,null,null,null,null,null,null,null,null,null,null,null,null,null,null,null,null,null,null,null,null,null,null,null,null,null,null,null,null,null,null,"",524]
[null,null,null,null,null,null,null,null,null,null,null,null,null,null,null,null,null,null,null,null,null,null,null,null,null,null,null,null,null,null,null,null,null,null,null,null,null,"",525,null,null,{"$f":"IF($I90=\"\",\"\",\"::\"&IF($B$16=\"\",\"\",$B$16&\"  \")&IF($E90=\"\",$H90,$E90)&\"::\")","v":""}]
[null,null,null,null,null,null,null,null,null,null,null,null,null,null,null,null,null,null,null,null,null,null,null,null,null,null,null,null,null,null,null,null,null,null,null,null,null,"",526,null,null,{"$f":"IF($I90=\"\",\"\",IF($CE90=0,\"Enter question type or turn off variable question type\",IF($G90=\"\",VLOOKUP($CE90,$BY:$CA,3,0),$G90)))","v":""}]
[null,null,null,null,null,null,null,null,null,null,null,null,null,null,null,null,null,null,null,null,null,null,null,null,null,null,null,null,null,null,null,null,null,null,null,null,null,"",527,null,null,{"$f":"IF($I90=\"\",\"\",IF($CE90=0,\"Enter question type or turn off variable question type\",$CD90))","v":""}]
[null,null,null,null,null,null,null,null,null,null,null,null,null,null,null,null,null,null,null,null,null,null,null,null,null,null,null,null,null,null,null,null,null,null,null,null,null,"",528]
[null,null,null,null,null,null,null,null,null,null,null,null,null,null,null,null,null,null,null,null,null,null,null,null,null,null,null,null,null,null,null,null,null,null,null,null,null,"",529,null,null,{"$f":"IF($I91=\"\",\"\",IF($B$18=\"\",\"INPUT MAIN CATEGORY (CELL B18) OR TURN CATEGORIES OFF\",\"$CATEGORY: \"&$B$18&IF($F91=\"\",\"\",\"/\"&$F91)))","v":""}]
[null,null,null,null,null,null,null,null,null,null,null,null,null,null,null,null,null,null,null,null,null,null,null,null,null,null,null,null,null,null,null,null,null,null,null,null,null,"",530]
[null,null,null,null,null,null,null,null,null,null,null,null,null,null,null,null,null,null,null,null,null,null,null,null,null,null,null,null,null,null,null,null,null,null,null,null,null,"",531,null,null,{"$f":"IF($I91=\"\",\"\",\"::\"&IF($B$16=\"\",\"\",$B$16&\"  \")&IF($E91=\"\",$H91,$E91)&\"::\")","v":""}]
[null,null,null,null,null,null,null,null,null,null,null,null,null,null,null,null,null,null,null,null,null,null,null,null,null,null,null,null,null,null,null,null,null,null,null,null,null,"",532,null,null,{"$f":"IF($I91=\"\",\"\",IF($CE91=0,\"Enter question type or turn off variable question type\",IF($G91=\"\",VLOOKUP($CE91,$BY:$CA,3,0),$G91)))","v":""}]
[null,null,null,null,null,null,null,null,null,null,null,null,null,null,null,null,null,null,null,null,null,null,null,null,null,null,null,null,null,null,null,null,null,null,null,null,null,"",533,null,null,{"$f":"IF($I91=\"\",\"\",IF($CE91=0,\"Enter question type or turn off variable question type\",$CD91))","v":""}]
[null,null,null,null,null,null,null,null,null,null,null,null,null,null,null,null,null,null,null,null,null,null,null,null,null,null,null,null,null,null,null,null,null,null,null,null,null,"",534]
[null,null,null,null,null,null,null,null,null,null,null,null,null,null,null,null,null,null,null,null,null,null,null,null,null,null,null,null,null,null,null,null,null,null,null,null,null,"",535,null,null,{"$f":"IF($I92=\"\",\"\",IF($B$18=\"\",\"INPUT MAIN CATEGORY (CELL B18) OR TURN CATEGORIES OFF\",\"$CATEGORY: \"&$B$18&IF($F92=\"\",\"\",\"/\"&$F92)))","v":""}]
[null,null,null,null,null,null,null,null,null,null,null,null,null,null,null,null,null,null,null,null,null,null,null,null,null,null,null,null,null,null,null,null,null,null,null,null,null,"",536]
[null,null,null,null,null,null,null,null,null,null,null,null,null,null,null,null,null,null,null,null,null,null,null,null,null,null,null,null,null,null,null,null,null,null,null,null,null,"",537,null,null,{"$f":"IF($I92=\"\",\"\",\"::\"&IF($B$16=\"\",\"\",$B$16&\"  \")&IF($E92=\"\",$H92,$E92)&\"::\")","v":""}]
[null,null,null,null,null,null,null,null,null,null,null,null,null,null,null,null,null,null,null,null,null,null,null,null,null,null,null,null,null,null,null,null,null,null,null,null,null,"",538,null,null,{"$f":"IF($I92=\"\",\"\",IF($CE92=0,\"Enter question type or turn off variable question type\",IF($G92=\"\",VLOOKUP($CE92,$BY:$CA,3,0),$G92)))","v":""}]
[null,null,null,null,null,null,null,null,null,null,null,null,null,null,null,null,null,null,null,null,null,null,null,null,null,null,null,null,null,null,null,null,null,null,null,null,null,"",539,null,null,{"$f":"IF($I92=\"\",\"\",IF($CE92=0,\"Enter question type or turn off variable question type\",$CD92))","v":""}]
[null,null,null,null,null,null,null,null,null,null,null,null,null,null,null,null,null,null,null,null,null,null,null,null,null,null,null,null,null,null,null,null,null,null,null,null,null,"",540]
[null,null,null,null,null,null,null,null,null,null,null,null,null,null,null,null,null,null,null,null,null,null,null,null,null,null,null,null,null,null,null,null,null,null,null,null,null,"",541,null,null,{"$f":"IF($I93=\"\",\"\",IF($B$18=\"\",\"INPUT MAIN CATEGORY (CELL B18) OR TURN CATEGORIES OFF\",\"$CATEGORY: \"&$B$18&IF($F93=\"\",\"\",\"/\"&$F93)))","v":""}]
[null,null,null,null,null,null,null,null,null,null,null,null,null,null,null,null,null,null,null,null,null,null,null,null,null,null,null,null,null,null,null,null,null,null,null,null,null,"",542]
[null,null,null,null,null,null,null,null,null,null,null,null,null,null,null,null,null,null,null,null,null,null,null,null,null,null,null,null,null,null,null,null,null,null,null,null,null,"",543,null,null,{"$f":"IF($I93=\"\",\"\",\"::\"&IF($B$16=\"\",\"\",$B$16&\"  \")&IF($E93=\"\",$H93,$E93)&\"::\")","v":""}]
[null,null,null,null,null,null,null,null,null,null,null,null,null,null,null,null,null,null,null,null,null,null,null,null,null,null,null,null,null,null,null,null,null,null,null,null,null,"",544,null,null,{"$f":"IF($I93=\"\",\"\",IF($CE93=0,\"Enter question type or turn off variable question type\",IF($G93=\"\",VLOOKUP($CE93,$BY:$CA,3,0),$G93)))","v":""}]
[null,null,null,null,null,null,null,null,null,null,null,null,null,null,null,null,null,null,null,null,null,null,null,null,null,null,null,null,null,null,null,null,null,null,null,null,null,"",545,null,null,{"$f":"IF($I93=\"\",\"\",IF($CE93=0,\"Enter question type or turn off variable question type\",$CD93))","v":""}]
[null,null,null,null,null,null,null,null,null,null,null,null,null,null,null,null,null,null,null,null,null,null,null,null,null,null,null,null,null,null,null,null,null,null,null,null,null,"",546]
[null,null,null,null,null,null,null,null,null,null,null,null,null,null,null,null,null,null,null,null,null,null,null,null,null,null,null,null,null,null,null,null,null,null,null,null,null,"",547,null,null,{"$f":"IF($I94=\"\",\"\",IF($B$18=\"\",\"INPUT MAIN CATEGORY (CELL B18) OR TURN CATEGORIES OFF\",\"$CATEGORY: \"&$B$18&IF($F94=\"\",\"\",\"/\"&$F94)))","v":""}]
[null,null,null,null,null,null,null,null,null,null,null,null,null,null,null,null,null,null,null,null,null,null,null,null,null,null,null,null,null,null,null,null,null,null,null,null,null,"",548]
[null,null,null,null,null,null,null,null,null,null,null,null,null,null,null,null,null,null,null,null,null,null,null,null,null,null,null,null,null,null,null,null,null,null,null,null,null,"",549,null,null,{"$f":"IF($I94=\"\",\"\",\"::\"&IF($B$16=\"\",\"\",$B$16&\"  \")&IF($E94=\"\",$H94,$E94)&\"::\")","v":""}]
[null,null,null,null,null,null,null,null,null,null,null,null,null,null,null,null,null,null,null,null,null,null,null,null,null,null,null,null,null,null,null,null,null,null,null,null,null,"",550,null,null,{"$f":"IF($I94=\"\",\"\",IF($CE94=0,\"Enter question type or turn off variable question type\",IF($G94=\"\",VLOOKUP($CE94,$BY:$CA,3,0),$G94)))","v":""}]
[null,null,null,null,null,null,null,null,null,null,null,null,null,null,null,null,null,null,null,null,null,null,null,null,null,null,null,null,null,null,null,null,null,null,null,null,null,"",551,null,null,{"$f":"IF($I94=\"\",\"\",IF($CE94=0,\"Enter question type or turn off variable question type\",$CD94))","v":""}]
[null,null,null,null,null,null,null,null,null,null,null,null,null,null,null,null,null,null,null,null,null,null,null,null,null,null,null,null,null,null,null,null,null,null,null,null,null,"",552]
[null,null,null,null,null,null,null,null,null,null,null,null,null,null,null,null,null,null,null,null,null,null,null,null,null,null,null,null,null,null,null,null,null,null,null,null,null,"",553,null,null,{"$f":"IF($I95=\"\",\"\",IF($B$18=\"\",\"INPUT MAIN CATEGORY (CELL B18) OR TURN CATEGORIES OFF\",\"$CATEGORY: \"&$B$18&IF($F95=\"\",\"\",\"/\"&$F95)))","v":""}]
[null,null,null,null,null,null,null,null,null,null,null,null,null,null,null,null,null,null,null,null,null,null,null,null,null,null,null,null,null,null,null,null,null,null,null,null,null,"",554]
[null,null,null,null,null,null,null,null,null,null,null,null,null,null,null,null,null,null,null,null,null,null,null,null,null,null,null,null,null,null,null,null,null,null,null,null,null,"",555,null,null,{"$f":"IF($I95=\"\",\"\",\"::\"&IF($B$16=\"\",\"\",$B$16&\"  \")&IF($E95=\"\",$H95,$E95)&\"::\")","v":""}]
[null,null,null,null,null,null,null,null,null,null,null,null,null,null,null,null,null,null,null,null,null,null,null,null,null,null,null,null,null,null,null,null,null,null,null,null,null,"",556,null,null,{"$f":"IF($I95=\"\",\"\",IF($CE95=0,\"Enter question type or turn off variable question type\",IF($G95=\"\",VLOOKUP($CE95,$BY:$CA,3,0),$G95)))","v":""}]
[null,null,null,null,null,null,null,null,null,null,null,null,null,null,null,null,null,null,null,null,null,null,null,null,null,null,null,null,null,null,null,null,null,null,null,null,null,"",557,null,null,{"$f":"IF($I95=\"\",\"\",IF($CE95=0,\"Enter question type or turn off variable question type\",$CD95))","v":""}]
[null,null,null,null,null,null,null,null,null,null,null,null,null,null,null,null,null,null,null,null,null,null,null,null,null,null,null,null,null,null,null,null,null,null,null,null,null,"",558]
[null,null,null,null,null,null,null,null,null,null,null,null,null,null,null,null,null,null,null,null,null,null,null,null,null,null,null,null,null,null,null,null,null,null,null,null,null,"",559,null,null,{"$f":"IF($I96=\"\",\"\",IF($B$18=\"\",\"INPUT MAIN CATEGORY (CELL B18) OR TURN CATEGORIES OFF\",\"$CATEGORY: \"&$B$18&IF($F96=\"\",\"\",\"/\"&$F96)))","v":""}]
[null,null,null,null,null,null,null,null,null,null,null,null,null,null,null,null,null,null,null,null,null,null,null,null,null,null,null,null,null,null,null,null,null,null,null,null,null,"",560]
[null,null,null,null,null,null,null,null,null,null,null,null,null,null,null,null,null,null,null,null,null,null,null,null,null,null,null,null,null,null,null,null,null,null,null,null,null,"",561,null,null,{"$f":"IF($I96=\"\",\"\",\"::\"&IF($B$16=\"\",\"\",$B$16&\"  \")&IF($E96=\"\",$H96,$E96)&\"::\")","v":""}]
[null,null,null,null,null,null,null,null,null,null,null,null,null,null,null,null,null,null,null,null,null,null,null,null,null,null,null,null,null,null,null,null,null,null,null,null,null,"",562,null,null,{"$f":"IF($I96=\"\",\"\",IF($CE96=0,\"Enter question type or turn off variable question type\",IF($G96=\"\",VLOOKUP($CE96,$BY:$CA,3,0),$G96)))","v":""}]
[null,null,null,null,null,null,null,null,null,null,null,null,null,null,null,null,null,null,null,null,null,null,null,null,null,null,null,null,null,null,null,null,null,null,null,null,null,"",563,null,null,{"$f":"IF($I96=\"\",\"\",IF($CE96=0,\"Enter question type or turn off variable question type\",$CD96))","v":""}]
[null,null,null,null,null,null,null,null,null,null,null,null,null,null,null,null,null,null,null,null,null,null,null,null,null,null,null,null,null,null,null,null,null,null,null,null,null,"",564]
[null,null,null,null,null,null,null,null,null,null,null,null,null,null,null,null,null,null,null,null,null,null,null,null,null,null,null,null,null,null,null,null,null,null,null,null,null,"",565,null,null,{"$f":"IF($I97=\"\",\"\",IF($B$18=\"\",\"INPUT MAIN CATEGORY (CELL B18) OR TURN CATEGORIES OFF\",\"$CATEGORY: \"&$B$18&IF($F97=\"\",\"\",\"/\"&$F97)))","v":""}]
[null,null,null,null,null,null,null,null,null,null,null,null,null,null,null,null,null,null,null,null,null,null,null,null,null,null,null,null,null,null,null,null,null,null,null,null,null,"",566]
[null,null,null,null,null,null,null,null,null,null,null,null,null,null,null,null,null,null,null,null,null,null,null,null,null,null,null,null,null,null,null,null,null,null,null,null,null,"",567,null,null,{"$f":"IF($I97=\"\",\"\",\"::\"&IF($B$16=\"\",\"\",$B$16&\"  \")&IF($E97=\"\",$H97,$E97)&\"::\")","v":""}]
[null,null,null,null,null,null,null,null,null,null,null,null,null,null,null,null,null,null,null,null,null,null,null,null,null,null,null,null,null,null,null,null,null,null,null,null,null,"",568,null,null,{"$f":"IF($I97=\"\",\"\",IF($CE97=0,\"Enter question type or turn off variable question type\",IF($G97=\"\",VLOOKUP($CE97,$BY:$CA,3,0),$G97)))","v":""}]
[null,null,null,null,null,null,null,null,null,null,null,null,null,null,null,null,null,null,null,null,null,null,null,null,null,null,null,null,null,null,null,null,null,null,null,null,null,"",569,null,null,{"$f":"IF($I97=\"\",\"\",IF($CE97=0,\"Enter question type or turn off variable question type\",$CD97))","v":""}]
[null,null,null,null,null,null,null,null,null,null,null,null,null,null,null,null,null,null,null,null,null,null,null,null,null,null,null,null,null,null,null,null,null,null,null,null,null,"",570]
[null,null,null,null,null,null,null,null,null,null,null,null,null,null,null,null,null,null,null,null,null,null,null,null,null,null,null,null,null,null,null,null,null,null,null,null,null,"",571,null,null,{"$f":"IF($I98=\"\",\"\",IF($B$18=\"\",\"INPUT MAIN CATEGORY (CELL B18) OR TURN CATEGORIES OFF\",\"$CATEGORY: \"&$B$18&IF($F98=\"\",\"\",\"/\"&$F98)))","v":""}]
[null,null,null,null,null,null,null,null,null,null,null,null,null,null,null,null,null,null,null,null,null,null,null,null,null,null,null,null,null,null,null,null,null,null,null,null,null,{"$f":"IF(VLOOKUP($AM574,$AM:$AQ,$A$6,0)=\"\",\"\",VLOOKUP($AM574,$AM:$AQ,$A$6,0))","v":""},572]
[null,null,null,null,null,null,null,null,null,null,null,null,null,null,null,null,null,null,null,null,null,null,null,null,null,null,null,null,null,null,null,null,null,null,null,null,null,"",573,null,null,{"$f":"IF($I98=\"\",\"\",\"::\"&IF($B$16=\"\",\"\",$B$16&\"  \")&IF($E98=\"\",$H98,$E98)&\"::\")","v":""}]
[null,null,null,null,null,null,null,null,null,null,null,null,null,null,null,null,null,null,null,null,null,null,null,null,null,null,null,null,null,null,null,null,null,null,null,null,null,"",574,null,null,{"$f":"IF($I98=\"\",\"\",IF($CE98=0,\"Enter question type or turn off variable question type\",IF($G98=\"\",VLOOKUP($CE98,$BY:$CA,3,0),$G98)))","v":""}]
[null,null,null,null,null,null,null,null,null,null,null,null,null,null,null,null,null,null,null,null,null,null,null,null,null,null,null,null,null,null,null,null,null,null,null,null,null,"",575,null,null,{"$f":"IF($I98=\"\",\"\",IF($CE98=0,\"Enter question type or turn off variable question type\",$CD98))","v":""}]
[null,null,null,null,null,null,null,null,null,null,null,null,null,null,null,null,null,null,null,null,null,null,null,null,null,null,null,null,null,null,null,null,null,null,null,null,null,"",576]
[null,null,null,null,null,null,null,null,null,null,null,null,null,null,null,null,null,null,null,null,null,null,null,null,null,null,null,null,null,null,null,null,null,null,null,null,null,"",577,null,null,{"$f":"IF($I99=\"\",\"\",IF($B$18=\"\",\"INPUT MAIN CATEGORY (CELL B18) OR TURN CATEGORIES OFF\",\"$CATEGORY: \"&$B$18&IF($F99=\"\",\"\",\"/\"&$F99)))","v":""}]
[null,null,null,null,null,null,null,null,null,null,null,null,null,null,null,null,null,null,null,null,null,null,null,null,null,null,null,null,null,null,null,null,null,null,null,null,null,"",578]
[null,null,null,null,null,null,null,null,null,null,null,null,null,null,null,null,null,null,null,null,null,null,null,null,null,null,null,null,null,null,null,null,null,null,null,null,null,"",579,null,null,{"$f":"IF($I99=\"\",\"\",\"::\"&IF($B$16=\"\",\"\",$B$16&\"  \")&IF($E99=\"\",$H99,$E99)&\"::\")","v":""}]
[null,null,null,null,null,null,null,null,null,null,null,null,null,null,null,null,null,null,null,null,null,null,null,null,null,null,null,null,null,null,null,null,null,null,null,null,null,"",580,null,null,{"$f":"IF($I99=\"\",\"\",IF($CE99=0,\"Enter question type or turn off variable question type\",IF($G99=\"\",VLOOKUP($CE99,$BY:$CA,3,0),$G99)))","v":""}]
[null,null,null,null,null,null,null,null,null,null,null,null,null,null,null,null,null,null,null,null,null,null,null,null,null,null,null,null,null,null,null,null,null,null,null,null,null,"",581,null,null,{"$f":"IF($I99=\"\",\"\",IF($CE99=0,\"Enter question type or turn off variable question type\",$CD99))","v":""}]
[null,null,null,null,null,null,null,null,null,null,null,null,null,null,null,null,null,null,null,null,null,null,null,null,null,null,null,null,null,null,null,null,null,null,null,null,null,"",582]
[null,null,null,null,null,null,null,null,null,null,null,null,null,null,null,null,null,null,null,null,null,null,null,null,null,null,null,null,null,null,null,null,null,null,null,null,null,"",583,null,null,{"$f":"IF($I100=\"\",\"\",IF($B$18=\"\",\"INPUT MAIN CATEGORY (CELL B18) OR TURN CATEGORIES OFF\",\"$CATEGORY: \"&$B$18&IF($F100=\"\",\"\",\"/\"&$F100)))","v":""}]
[null,null,null,null,null,null,null,null,null,null,null,null,null,null,null,null,null,null,null,null,null,null,null,null,null,null,null,null,null,null,null,null,null,null,null,null,null,"",584]
[null,null,null,null,null,null,null,null,null,null,null,null,null,null,null,null,null,null,null,null,null,null,null,null,null,null,null,null,null,null,null,null,null,null,null,null,null,"",585,null,null,{"$f":"IF($I100=\"\",\"\",\"::\"&IF($B$16=\"\",\"\",$B$16&\"  \")&IF($E100=\"\",$H100,$E100)&\"::\")","v":""}]
[null,null,null,null,null,null,null,null,null,null,null,null,null,null,null,null,null,null,null,null,null,null,null,null,null,null,null,null,null,null,null,null,null,null,null,null,null,"",586,null,null,{"$f":"IF($I100=\"\",\"\",IF($CE100=0,\"Enter question type or turn off variable question type\",IF($G100=\"\",VLOOKUP($CE100,$BY:$CA,3,0),$G100)))","v":""}]
[null,null,null,null,null,null,null,null,null,null,null,null,null,null,null,null,null,null,null,null,null,null,null,null,null,null,null,null,null,null,null,null,null,null,null,null,null,"",587,null,null,{"$f":"IF($I100=\"\",\"\",IF($CE100=0,\"Enter question type or turn off variable question type\",$CD100))","v":""}]
[null,null,null,null,null,null,null,null,null,null,null,null,null,null,null,null,null,null,null,null,null,null,null,null,null,null,null,null,null,null,null,null,null,null,null,null,null,"",588]
[null,null,null,null,null,null,null,null,null,null,null,null,null,null,null,null,null,null,null,null,null,null,null,null,null,null,null,null,null,null,null,null,null,null,null,null,null,"",589,null,null,{"$f":"IF($I101=\"\",\"\",IF($B$18=\"\",\"INPUT MAIN CATEGORY (CELL B18) OR TURN CATEGORIES OFF\",\"$CATEGORY: \"&$B$18&IF($F101=\"\",\"\",\"/\"&$F101)))","v":""}]
[null,null,null,null,null,null,null,null,null,null,null,null,null,null,null,null,null,null,null,null,null,null,null,null,null,null,null,null,null,null,null,null,null,null,null,null,null,"",590]
[null,null,null,null,null,null,null,null,null,null,null,null,null,null,null,null,null,null,null,null,null,null,null,null,null,null,null,null,null,null,null,null,null,null,null,null,null,"",591,null,null,{"$f":"IF($I101=\"\",\"\",\"::\"&IF($B$16=\"\",\"\",$B$16&\"  \")&IF($E101=\"\",$H101,$E101)&\"::\")","v":""}]
[null,null,null,null,null,null,null,null,null,null,null,null,null,null,null,null,null,null,null,null,null,null,null,null,null,null,null,null,null,null,null,null,null,null,null,null,null,"",592,null,null,{"$f":"IF($I101=\"\",\"\",IF($CE101=0,\"Enter question type or turn off variable question type\",IF($G101=\"\",VLOOKUP($CE101,$BY:$CA,3,0),$G101)))","v":""}]
[null,null,null,null,null,null,null,null,null,null,null,null,null,null,null,null,null,null,null,null,null,null,null,null,null,null,null,null,null,null,null,null,null,null,null,null,null,"",593,null,null,{"$f":"IF($I101=\"\",\"\",IF($CE101=0,\"Enter question type or turn off variable question type\",$CD101))","v":""}]
[null,null,null,null,null,null,null,null,null,null,null,null,null,null,null,null,null,null,null,null,null,null,null,null,null,null,null,null,null,null,null,null,null,null,null,null,null,"",594]
[null,null,null,null,null,null,null,null,null,null,null,null,null,null,null,null,null,null,null,null,null,null,null,null,null,null,null,null,null,null,null,null,null,null,null,null,null,"",595,null,null,{"$f":"IF($I102=\"\",\"\",IF($B$18=\"\",\"INPUT MAIN CATEGORY (CELL B18) OR TURN CATEGORIES OFF\",\"$CATEGORY: \"&$B$18&IF($F102=\"\",\"\",\"/\"&$F102)))","v":""}]
[null,null,null,null,null,null,null,null,null,null,null,null,null,null,null,null,null,null,null,null,null,null,null,null,null,null,null,null,null,null,null,null,null,null,null,null,null,"",596]
[null,null,null,null,null,null,null,null,null,null,null,null,null,null,null,null,null,null,null,null,null,null,null,null,null,null,null,null,null,null,null,null,null,null,null,null,null,"",597,null,null,{"$f":"IF($I102=\"\",\"\",\"::\"&IF($B$16=\"\",\"\",$B$16&\"  \")&IF($E102=\"\",$H102,$E102)&\"::\")","v":""}]
[null,null,null,null,null,null,null,null,null,null,null,null,null,null,null,null,null,null,null,null,null,null,null,null,null,null,null,null,null,null,null,null,null,null,null,null,null,"",598,null,null,{"$f":"IF($I102=\"\",\"\",IF($CE102=0,\"Enter question type or turn off variable question type\",IF($G102=\"\",VLOOKUP($CE102,$BY:$CA,3,0),$G102)))","v":""}]
[null,null,null,null,null,null,null,null,null,null,null,null,null,null,null,null,null,null,null,null,null,null,null,null,null,null,null,null,null,null,null,null,null,null,null,null,null,"",599,null,null,{"$f":"IF($I102=\"\",\"\",IF($CE102=0,\"Enter question type or turn off variable question type\",$CD102))","v":""}]
[null,null,null,null,null,null,null,null,null,null,null,null,null,null,null,null,null,null,null,null,null,null,null,null,null,null,null,null,null,null,null,null,null,null,null,null,null,"",600]

{"sheet":"Version History","index":4,"n_rows":21,"n_cols":3,"rows_kept":21,"cut":false,"hidden":false,"merged":[[2,1,3,1],[17,0,19,0],[9,0,15,0],[9,1,15,1],[17,1,19,1],[4,1,6,1],[4,0,6,0],[1,0,3,0]]}
["Version","Date","Updates"]
[3.3,"2020-05-07","Fixed a bug with Short Answer GIFT code (both standard and variable)"]
[null,"2020-04-01","Added Essay question type to GIFT generator"]
[null,null,"Text fixes / cleanups"]
[3.2,"2019-12-01","Expanded input screens to 100 questions"]
[null,null,"Added FAQ"]
[null,null,"Instructions typo / clarity fixes"]
[3.12,"2019-07-01","Bug fixes (feedback bug, bugs with GIFT True/False code generation)"]
[3.1,"2019-04-01","Added GIFT specific question title column"]
[3,"2019-02-01","Implemented partial credit"]
[null,null,"Implemented GIFT categories for Moodle question bank"]
[null,null,"Expanded input screens to 50 questions"]
[null,null,"Reformatted layout; created Control Panel"]
[null,null,"Added feedback shortcuts"]
[null,null,"Added \"are you sure\" button before clearing data"]
[null,null,"Added version history"]
[2.0099999999999998,"2017-06-01","Bug and typo fixes"]
[2,"2017-05-01","Implemented feedback"]
[null,null,"Added buttons to show/hide columns"]
[null,null,"Added buttons to copy and clear data"]
[1,"2017-02-01","Generator created"]

{"sheet":"Cloze Gift Spelling Part","index":5,"n_rows":520,"n_cols":19,"rows_kept":520,"cut":false,"hidden":true,"merged":[[456,16,456,17],[192,16,192,17],[216,16,216,17],[240,16,240,17],[264,16,264,17],[288,16,288,17],[312,16,312,17],[336,16,336,17],[360,16,360,17],[384,16,384,17],[408,16,408,17],[432,16,432,17],[432,6,432,7],[456,6,456,7],[0,16,0,17],[24,16,24,17],[48,16,48,17],[72,16,72,17],[96,16,96,17],[120,16,120,17],[144,16,144,17],[168,16,168,17],[288,6,288,7],[312,6,312,7],[336,6,336,7],[360,6,360,7],[384,6,384,7],[408,6,408,7],[264,6,264,7],[0,6,0,7],[24,6,24,7],[48,6,48,7],[72,6,72,7],[96,6,96,7],[120,6,120,7],[144,6,144,7],[168,6,168,7],[192,6,192,7],[216,6,216,7],[240,6,240,7]]}
[null,null,null,"Feedback:",null,null,1,null,null,null,null,null,null,null,null,null,1]
[null,null,null,{"$f":"'Embedded Answer (Cloze) Strings'!A2","v":"Off"},null,null,"Type word here (lowecase only):",{"$f":"'Embedded Answer (Cloze) Strings'!$F$3","v":0},null,null,null,null,null,null,null,null,"Type word here (lowecase only):",{"$f":"'GIFT Import Strings'!$I$3","v":0}]
["Index","Original","String","Letter","Wrong","Right","Copy this code and paste as plain text into Moodle:",{"$f":"G4&G5&G6&G7&G8&G9&G10&G11&G12&G13&G14&G15&G16&G17&G18&G19&G20&G21&G22&G23","v":"{1:MC:%0%a~%0%b~%0%c~%0%d~%0%e~%0%f~%0%g~%0%h~%0%i~%0%j~%0%k~%0%l~%0%m~%0%n~%0%o~%0%p~%0%q~%0%r~%0%s~%0%t~%0%u~%0%v~%0%w~%0%x~%0%y~%0%z}"},null,null,"Index","Original","String","Letter","Wrong","Right","Copy this code and paste as plain text into Moodle:",{"$f":"Q4&Q5&Q6&Q7&Q8&Q9&Q10&Q11&Q12&Q13&Q14&Q15&Q16&Q17&Q18&Q19&Q20&Q21&Q22&Q23","v":"{1:MC:%0%a~%0%b~%0%c~%0%d~%0%e~%0%f~%0%g~%0%h~%0%i~%0%j~%0%k~%0%l~%0%m~%0%n~%0%o~%0%p~%0%q~%0%r~%0%s~%0%t~%0%u~%0%v~%0%w~%0%x~%0%y~%0%z}"}]
[1,{"$f":"\"{\"&IF('Embedded Answer (Cloze) Strings'!$D$3=\"\",1,'Embedded Answer (Cloze) Strings'!$D$3)&\":MC:%0%a~%0%b~%0%c~%0%d~%0%e~%0%f~%0%g~%0%h~%0%i~%0%j~%0%k~%0%l~%0%m~%0%n~%0%o~%0%p~%0%q~%0%r~%0%s~%0%t~%0%u~%0%v~%0%w~%0%x~%0%y~%0%z}\"","v":"{1:MC:%0%a~%0%b~%0%c~%0%d~%0%e~%0%f~%0%g~%0%h~%0%i~%0%j~%0%k~%0%l~%0%m~%0%n~%0%o~%0%p~%0%q~%0%r~%0%s~%0%t~%0%u~%0%v~%0%w~%0%x~%0%y~%0%z}"},{"$f":"IF(LEN($H2)>=$A4,LEFT($H2,$A4),\"\")","v":"0"},{"$f":"RIGHT(C4,1)","v":"0"},{"$f":"\"%0%\"&D4","v":"%0%0"},{"$f":"\"=\"&D4","v":"=0"},{"$f":"IF(D4=\"\",\"\",SUBSTITUTE(B4,E4,F4))","v":"{1:MC:%0%a~%0%b~%0%c~%0%d~%0%e~%0%f~%0%g~%0%h~%0%i~%0%j~%0%k~%0%l~%0%m~%0%n~%0%o~%0%p~%0%q~%0%r~%0%s~%0%t~%0%u~%0%v~%0%w~%0%x~%0%y~%0%z}"},null,null,null,1,"{1:MC:%0%a~%0%b~%0%c~%0%d~%0%e~%0%f~%0%g~%0%h~%0%i~%0%j~%0%k~%0%l~%0%m~%0%n~%0%o~%0%p~%0%q~%0%r~%0%s~%0%t~%0%u~%0%v~%0%w~%0%x~%0%y~%0%z}",{"$f":"IF(LEN($H$2)>=$A4,LEFT($H$2,$A4),\"\")","v":"0"},{"$f":"RIGHT(M4,1)","v":"0"},{"$f":"\"%0%\"&N4","v":"%0%0"},{"$f":"\"=\"&N4","v":"=0"},{"$f":"IF(N4=\"\",\"\",SUBSTITUTE(L4,O4,P4))","v":"{1:MC:%0%a~%0%b~%0%c~%0%d~%0%e~%0%f~%0%g~%0%h~%0%i~%0%j~%0%k~%0%l~%0%m~%0%n~%0%o~%0%p~%0%q~%0%r~%0%s~%0%t~%0%u~%0%v~%0%w~%0%x~%0%y~%0%z}"}]
[2,{"$f":"\"{\"&IF('Embedded Answer (Cloze) Strings'!$D$3=\"\",1,'Embedded Answer (Cloze) Strings'!$D$3)&\":MC:%0%a~%0%b~%0%c~%0%d~%0%e~%0%f~%0%g~%0%h~%0%i~%0%j~%0%k~%0%l~%0%m~%0%n~%0%o~%0%p~%0%q~%0%r~%0%s~%0%t~%0%u~%0%v~%0%w~%0%x~%0%y~%0%z}\"","v":"{1:MC:%0%a~%0%b~%0%c~%0%d~%0%e~%0%f~%0%g~%0%h~%0%i~%0%j~%0%k~%0%l~%0%m~%0%n~%0%o~%0%p~%0%q~%0%r~%0%s~%0%t~%0%u~%0%v~%0%w~%0%x~%0%y~%0%z}"},{"$f":"IF(LEN($H$2)>=$A5,LEFT($H$2,$A5),\"\")","v":""},{"$f":"RIGHT(C5,1)","v":""},{"$f":"\"%0%\"&D5","v":"%0%"},"=",{"$f":"IF(D5=\"\",\"\",SUBSTITUTE(B5,E5,F5))","v":""},null,null,null,2,"{1:MC:%0%a~%0%b~%0%c~%0%d~%0%e~%0%f~%0%g~%0%h~%0%i~%0%j~%0%k~%0%l~%0%m~%0%n~%0%o~%0%p~%0%q~%0%r~%0%s~%0%t~%0%u~%0%v~%0%w~%0%x~%0%y~%0%z}","",{"$f":"RIGHT(M5,1)","v":""},{"$f":"\"%0%\"&N5","v":"%0%"},{"$f":"\"=\"&N5","v":"="},{"$f":"IF(N5=\"\",\"\",SUBSTITUTE(L5,O5,P5))","v":""}]
[3,{"$f":"\"{\"&IF('Embedded Answer (Cloze) Strings'!$D$3=\"\",1,'Embedded Answer (Cloze) Strings'!$D$3)&\":MC:%0%a~%0%b~%0%c~%0%d~%0%e~%0%f~%0%g~%0%h~%0%i~%0%j~%0%k~%0%l~%0%m~%0%n~%0%o~%0%p~%0%q~%0%r~%0%s~%0%t~%0%u~%0%v~%0%w~%0%x~%0%y~%0%z}\"","v":"{1:MC:%0%a~%0%b~%0%c~%0%d~%0%e~%0%f~%0%g~%0%h~%0%i~%0%j~%0%k~%0%l~%0%m~%0%n~%0%o~%0%p~%0%q~%0%r~%0%s~%0%t~%0%u~%0%v~%0%w~%0%x~%0%y~%0%z}"},"","","%0%","=","",null,null,null,3,"{1:MC:%0%a~%0%b~%0%c~%0%d~%0%e~%0%f~%0%g~%0%h~%0%i~%0%j~%0%k~%0%l~%0%m~%0%n~%0%o~%0%p~%0%q~%0%r~%0%s~%0%t~%0%u~%0%v~%0%w~%0%x~%0%y~%0%z}","","","%0%","=",""]
[4,{"$f":"\"{\"&IF('Embedded Answer (Cloze) Strings'!$D$3=\"\",1,'Embedded Answer (Cloze) Strings'!$D$3)&\":MC:%0%a~%0%b~%0%c~%0%d~%0%e~%0%f~%0%g~%0%h~%0%i~%0%j~%0%k~%0%l~%0%m~%0%n~%0%o~%0%p~%0%q~%0%r~%0%s~%0%t~%0%u~%0%v~%0%w~%0%x~%0%y~%0%z}\"","v":"{1:MC:%0%a~%0%b~%0%c~%0%d~%0%e~%0%f~%0%g~%0%h~%0%i~%0%j~%0%k~%0%l~%0%m~%0%n~%0%o~%0%p~%0%q~%0%r~%0%s~%0%t~%0%u~%0%v~%0%w~%0%x~%0%y~%0%z}"},"","","%0%","=","",null,null,null,4,"{1:MC:%0%a~%0%b~%0%c~%0%d~%0%e~%0%f~%0%g~%0%h~%0%i~%0%j~%0%k~%0%l~%0%m~%0%n~%0%o~%0%p~%0%q~%0%r~%0%s~%0%t~%0%u~%0%v~%0%w~%0%x~%0%y~%0%z}","","","%0%","=",""]
[5,{"$f":"\"{\"&IF('Embedded Answer (Cloze) Strings'!$D$3=\"\",1,'Embedded Answer (Cloze) Strings'!$D$3)&\":MC:%0%a~%0%b~%0%c~%0%d~%0%e~%0%f~%0%g~%0%h~%0%i~%0%j~%0%k~%0%l~%0%m~%0%n~%0%o~%0%p~%0%q~%0%r~%0%s~%0%t~%0%u~%0%v~%0%w~%0%x~%0%y~%0%z}\"","v":"{1:MC:%0%a~%0%b~%0%c~%0%d~%0%e~%0%f~%0%g~%0%h~%0%i~%0%j~%0%k~%0%l~%0%m~%0%n~%0%o~%0%p~%0%q~%0%r~%0%s~%0%t~%0%u~%0%v~%0%w~%0%x~%0%y~%0%z}"},"","","%0%","=","",null,null,null,5,"{1:MC:%0%a~%0%b~%0%c~%0%d~%0%e~%0%f~%0%g~%0%h~%0%i~%0%j~%0%k~%0%l~%0%m~%0%n~%0%o~%0%p~%0%q~%0%r~%0%s~%0%t~%0%u~%0%v~%0%w~%0%x~%0%y~%0%z}","","","%0%","=",""]
[6,{"$f":"\"{\"&IF('Embedded Answer (Cloze) Strings'!$D$3=\"\",1,'Embedded Answer (Cloze) Strings'!$D$3)&\":MC:%0%a~%0%b~%0%c~%0%d~%0%e~%0%f~%0%g~%0%h~%0%i~%0%j~%0%k~%0%l~%0%m~%0%n~%0%o~%0%p~%0%q~%0%r~%0%s~%0%t~%0%u~%0%v~%0%w~%0%x~%0%y~%0%z}\"","v":"{1:MC:%0%a~%0%b~%0%c~%0%d~%0%e~%0%f~%0%g~%0%h~%0%i~%0%j~%0%k~%0%l~%0%m~%0%n~%0%o~%0%p~%0%q~%0%r~%0%s~%0%t~%0%u~%0%v~%0%w~%0%x~%0%y~%0%z}"},"","","%0%","=","",null,null,null,6,"{1:MC:%0%a~%0%b~%0%c~%0%d~%0%e~%0%f~%0%g~%0%h~%0%i~%0%j~%0%k~%0%l~%0%m~%0%n~%0%o~%0%p~%0%q~%0%r~%0%s~%0%t~%0%u~%0%v~%0%w~%0%x~%0%y~%0%z}","","","%0%","=",""]
[7,{"$f":"\"{\"&IF('Embedded Answer (Cloze) Strings'!$D$3=\"\",1,'Embedded Answer (Cloze) Strings'!$D$3)&\":MC:%0%a~%0%b~%0%c~%0%d~%0%e~%0%f~%0%g~%0%h~%0%i~%0%j~%0%k~%0%l~%0%m~%0%n~%0%o~%0%p~%0%q~%0%r~%0%s~%0%t~%0%u~%0%v~%0%w~%0%x~%0%y~%0%z}\"","v":"{1:MC:%0%a~%0%b~%0%c~%0%d~%0%e~%0%f~%0%g~%0%h~%0%i~%0%j~%0%k~%0%l~%0%m~%0%n~%0%o~%0%p~%0%q~%0%r~%0%s~%0%t~%0%u~%0%v~%0%w~%0%x~%0%y~%0%z}"},"","","%0%","=","",null,null,null,7,"{1:MC:%0%a~%0%b~%0%c~%0%d~%0%e~%0%f~%0%g~%0%h~%0%i~%0%j~%0%k~%0%l~%0%m~%0%n~%0%o~%0%p~%0%q~%0%r~%0%s~%0%t~%0%u~%0%v~%0%w~%0%x~%0%y~%0%z}","","","%0%","=",""]
[8,{"$f":"\"{\"&IF('Embedded Answer (Cloze) Strings'!$D$3=\"\",1,'Embedded Answer (Cloze) Strings'!$D$3)&\":MC:%0%a~%0%b~%0%c~%0%d~%0%e~%0%f~%0%g~%0%h~%0%i~%0%j~%0%k~%0%l~%0%m~%0%n~%0%o~%0%p~%0%q~%0%r~%0%s~%0%t~%0%u~%0%v~%0%w~%0%x~%0%y~%0%z}\"","v":"{1:MC:%0%a~%0%b~%0%c~%0%d~%0%e~%0%f~%0%g~%0%h~%0%i~%0%j~%0%k~%0%l~%0%m~%0%n~%0%o~%0%p~%0%q~%0%r~%0%s~%0%t~%0%u~%0%v~%0%w~%0%x~%0%y~%0%z}"},"","","%0%","=","",null,null,null,8,"{1:MC:%0%a~%0%b~%0%c~%0%d~%0%e~%0%f~%0%g~%0%h~%0%i~%0%j~%0%k~%0%l~%0%m~%0%n~%0%o~%0%p~%0%q~%0%r~%0%s~%0%t~%0%u~%0%v~%0%w~%0%x~%0%y~%0%z}","","","%0%","=",""]
[9,{"$f":"\"{\"&IF('Embedded Answer (Cloze) Strings'!$D$3=\"\",1,'Embedded Answer (Cloze) Strings'!$D$3)&\":MC:%0%a~%0%b~%0%c~%0%d~%0%e~%0%f~%0%g~%0%h~%0%i~%0%j~%0%k~%0%l~%0%m~%0%n~%0%o~%0%p~%0%q~%0%r~%0%s~%0%t~%0%u~%0%v~%0%w~%0%x~%0%y~%0%z}\"","v":"{1:MC:%0%a~%0%b~%0%c~%0%d~%0%e~%0%f~%0%g~%0%h~%0%i~%0%j~%0%k~%0%l~%0%m~%0%n~%0%o~%0%p~%0%q~%0%r~%0%s~%0%t~%0%u~%0%v~%0%w~%0%x~%0%y~%0%z}"},"","","%0%","=","",null,null,null,9,"{1:MC:%0%a~%0%b~%0%c~%0%d~%0%e~%0%f~%0%g~%0%h~%0%i~%0%j~%0%k~%0%l~%0%m~%0%n~%0%o~%0%p~%0%q~%0%r~%0%s~%0%t~%0%u~%0%v~%0%w~%0%x~%0%y~%0%z}","","","%0%","=",""]
[10,{"$f":"\"{\"&IF('Embedded Answer (Cloze) Strings'!$D$3=\"\",1,'Embedded Answer (Cloze) Strings'!$D$3)&\":MC:%0%a~%0%b~%0%c~%0%d~%0%e~%0%f~%0%g~%0%h~%0%i~%0%j~%0%k~%0%l~%0%m~%0%n~%0%o~%0%p~%0%q~%0%r~%0%s~%0%t~%0%u~%0%v~%0%w~%0%x~%0%y~%0%z}\"","v":"{1:MC:%0%a~%0%b~%0%c~%0%d~%0%e~%0%f~%0%g~%0%h~%0%i~%0%j~%0%k~%0%l~%0%m~%0%n~%0%o~%0%p~%0%q~%0%r~%0%s~%0%t~%0%u~%0%v~%0%w~%0%x~%0%y~%0%z}"},"","","%0%","=","",null,null,null,10,"{1:MC:%0%a~%0%b~%0%c~%0%d~%0%e~%0%f~%0%g~%0%h~%0%i~%0%j~%0%k~%0%l~%0%m~%0%n~%0%o~%0%p~%0%q~%0%r~%0%s~%0%t~%0%u~%0%v~%0%w~%0%x~%0%y~%0%z}","","","%0%","=",""]
[11,{"$f":"\"{\"&IF('Embedded Answer (Cloze) Strings'!$D$3=\"\",1,'Embedded Answer (Cloze) Strings'!$D$3)&\":MC:%0%a~%0%b~%0%c~%0%d~%0%e~%0%f~%0%g~%0%h~%0%i~%0%j~%0%k~%0%l~%0%m~%0%n~%0%o~%0%p~%0%q~%0%r~%0%s~%0%t~%0%u~%0%v~%0%w~%0%x~%0%y~%0%z}\"","v":"{1:MC:%0%a~%0%b~%0%c~%0%d~%0%e~%0%f~%0%g~%0%h~%0%i~%0%j~%0%k~%0%l~%0%m~%0%n~%0%o~%0%p~%0%q~%0%r~%0%s~%0%t~%0%u~%0%v~%0%w~%0%x~%0%y~%0%z}"},"","","%0%","=","",null,null,null,11,"{1:MC:%0%a~%0%b~%0%c~%0%d~%0%e~%0%f~%0%g~%0%h~%0%i~%0%j~%0%k~%0%l~%0%m~%0%n~%0%o~%0%p~%0%q~%0%r~%0%s~%0%t~%0%u~%0%v~%0%w~%0%x~%0%y~%0%z}","","","%0%","=",""]
[12,{"$f":"\"{\"&IF('Embedded Answer (Cloze) Strings'!$D$3=\"\",1,'Embedded Answer (Cloze) Strings'!$D$3)&\":MC:%0%a~%0%b~%0%c~%0%d~%0%e~%0%f~%0%g~%0%h~%0%i~%0%j~%0%k~%0%l~%0%m~%0%n~%0%o~%0%p~%0%q~%0%r~%0%s~%0%t~%0%u~%0%v~%0%w~%0%x~%0%y~%0%z}\"","v":"{1:MC:%0%a~%0%b~%0%c~%0%d~%0%e~%0%f~%0%g~%0%h~%0%i~%0%j~%0%k~%0%l~%0%m~%0%n~%0%o~%0%p~%0%q~%0%r~%0%s~%0%t~%0%u~%0%v~%0%w~%0%x~%0%y~%0%z}"},"","","%0%","=","",null,null,null,12,"{1:MC:%0%a~%0%b~%0%c~%0%d~%0%e~%0%f~%0%g~%0%h~%0%i~%0%j~%0%k~%0%l~%0%m~%0%n~%0%o~%0%p~%0%q~%0%r~%0%s~%0%t~%0%u~%0%v~%0%w~%0%x~%0%y~%0%z}","","","%0%","=",""]
[13,{"$f":"\"{\"&IF('Embedded Answer (Cloze) Strings'!$D$3=\"\",1,'Embedded Answer (Cloze) Strings'!$D$3)&\":MC:%0%a~%0%b~%0%c~%0%d~%0%e~%0%f~%0%g~%0%h~%0%i~%0%j~%0%k~%0%l~%0%m~%0%n~%0%o~%0%p~%0%q~%0%r~%0%s~%0%t~%0%u~%0%v~%0%w~%0%x~%0%y~%0%z}\"","v":"{1:MC:%0%a~%0%b~%0%c~%0%d~%0%e~%0%f~%0%g~%0%h~%0%i~%0%j~%0%k~%0%l~%0%m~%0%n~%0%o~%0%p~%0%q~%0%r~%0%s~%0%t~%0%u~%0%v~%0%w~%0%x~%0%y~%0%z}"},"","","%0%","=","",null,null,null,13,"{1:MC:%0%a~%0%b~%0%c~%0%d~%0%e~%0%f~%0%g~%0%h~%0%i~%0%j~%0%k~%0%l~%0%m~%0%n~%0%o~%0%p~%0%q~%0%r~%0%s~%0%t~%0%u~%0%v~%0%w~%0%x~%0%y~%0%z}","","","%0%","=",""]
[14,{"$f":"\"{\"&IF('Embedded Answer (Cloze) Strings'!$D$3=\"\",1,'Embedded Answer (Cloze) Strings'!$D$3)&\":MC:%0%a~%0%b~%0%c~%0%d~%0%e~%0%f~%0%g~%0%h~%0%i~%0%j~%0%k~%0%l~%0%m~%0%n~%0%o~%0%p~%0%q~%0%r~%0%s~%0%t~%0%u~%0%v~%0%w~%0%x~%0%y~%0%z}\"","v":"{1:MC:%0%a~%0%b~%0%c~%0%d~%0%e~%0%f~%0%g~%0%h~%0%i~%0%j~%0%k~%0%l~%0%m~%0%n~%0%o~%0%p~%0%q~%0%r~%0%s~%0%t~%0%u~%0%v~%0%w~%0%x~%0%y~%0%z}"},"","","%0%","=","",null,null,null,14,"{1:MC:%0%a~%0%b~%0%c~%0%d~%0%e~%0%f~%0%g~%0%h~%0%i~%0%j~%0%k~%0%l~%0%m~%0%n~%0%o~%0%p~%0%q~%0%r~%0%s~%0%t~%0%u~%0%v~%0%w~%0%x~%0%y~%0%z}","","","%0%","=",""]
[15,{"$f":"\"{\"&IF('Embedded Answer (Cloze) Strings'!$D$3=\"\",1,'Embedded Answer (Cloze) Strings'!$D$3)&\":MC:%0%a~%0%b~%0%c~%0%d~%0%e~%0%f~%0%g~%0%h~%0%i~%0%j~%0%k~%0%l~%0%m~%0%n~%0%o~%0%p~%0%q~%0%r~%0%s~%0%t~%0%u~%0%v~%0%w~%0%x~%0%y~%0%z}\"","v":"{1:MC:%0%a~%0%b~%0%c~%0%d~%0%e~%0%f~%0%g~%0%h~%0%i~%0%j~%0%k~%0%l~%0%m~%0%n~%0%o~%0%p~%0%q~%0%r~%0%s~%0%t~%0%u~%0%v~%0%w~%0%x~%0%y~%0%z}"},"","","%0%","=","",null,null,null,15,"{1:MC:%0%a~%0%b~%0%c~%0%d~%0%e~%0%f~%0%g~%0%h~%0%i~%0%j~%0%k~%0%l~%0%m~%0%n~%0%o~%0%p~%0%q~%0%r~%0%s~%0%t~%0%u~%0%v~%0%w~%0%x~%0%y~%0%z}","","","%0%","=",""]
[16,{"$f":"\"{\"&IF('Embedded Answer (Cloze) Strings'!$D$3=\"\",1,'Embedded Answer (Cloze) Strings'!$D$3)&\":MC:%0%a~%0%b~%0%c~%0%d~%0%e~%0%f~%0%g~%0%h~%0%i~%0%j~%0%k~%0%l~%0%m~%0%n~%0%o~%0%p~%0%q~%0%r~%0%s~%0%t~%0%u~%0%v~%0%w~%0%x~%0%y~%0%z}\"","v":"{1:MC:%0%a~%0%b~%0%c~%0%d~%0%e~%0%f~%0%g~%0%h~%0%i~%0%j~%0%k~%0%l~%0%m~%0%n~%0%o~%0%p~%0%q~%0%r~%0%s~%0%t~%0%u~%0%v~%0%w~%0%x~%0%y~%0%z}"},"","","%0%","=","",null,null,null,16,"{1:MC:%0%a~%0%b~%0%c~%0%d~%0%e~%0%f~%0%g~%0%h~%0%i~%0%j~%0%k~%0%l~%0%m~%0%n~%0%o~%0%p~%0%q~%0%r~%0%s~%0%t~%0%u~%0%v~%0%w~%0%x~%0%y~%0%z}","","","%0%","=",""]
[17,{"$f":"\"{\"&IF('Embedded Answer (Cloze) Strings'!$D$3=\"\",1,'Embedded Answer (Cloze) Strings'!$D$3)&\":MC:%0%a~%0%b~%0%c~%0%d~%0%e~%0%f~%0%g~%0%h~%0%i~%0%j~%0%k~%0%l~%0%m~%0%n~%0%o~%0%p~%0%q~%0%r~%0%s~%0%t~%0%u~%0%v~%0%w~%0%x~%0%y~%0%z}\"","v":"{1:MC:%0%a~%0%b~%0%c~%0%d~%0%e~%0%f~%0%g~%0%h~%0%i~%0%j~%0%k~%0%l~%0%m~%0%n~%0%o~%0%p~%0%q~%0%r~%0%s~%0%t~%0%u~%0%v~%0%w~%0%x~%0%y~%0%z}"},"","","%0%","=","",null,null,null,17,"{1:MC:%0%a~%0%b~%0%c~%0%d~%0%e~%0%f~%0%g~%0%h~%0%i~%0%j~%0%k~%0%l~%0%m~%0%n~%0%o~%0%p~%0%q~%0%r~%0%s~%0%t~%0%u~%0%v~%0%w~%0%x~%0%y~%0%z}","","","%0%","=",""]
[18,{"$f":"\"{\"&IF('Embedded Answer (Cloze) Strings'!$D$3=\"\",1,'Embedded Answer (Cloze) Strings'!$D$3)&\":MC:%0%a~%0%b~%0%c~%0%d~%0%e~%0%f~%0%g~%0%h~%0%i~%0%j~%0%k~%0%l~%0%m~%0%n~%0%o~%0%p~%0%q~%0%r~%0%s~%0%t~%0%u~%0%v~%0%w~%0%x~%0%y~%0%z}\"","v":"{1:MC:%0%a~%0%b~%0%c~%0%d~%0%e~%0%f~%0%g~%0%h~%0%i~%0%j~%0%k~%0%l~%0%m~%0%n~%0%o~%0%p~%0%q~%0%r~%0%s~%0%t~%0%u~%0%v~%0%w~%0%x~%0%y~%0%z}"},"","","%0%","=","",null,null,null,18,"{1:MC:%0%a~%0%b~%0%c~%0%d~%0%e~%0%f~%0%g~%0%h~%0%i~%0%j~%0%k~%0%l~%0%m~%0%n~%0%o~%0%p~%0%q~%0%r~%0%s~%0%t~%0%u~%0%v~%0%w~%0%x~%0%y~%0%z}","","","%0%","=",""]
[19,{"$f":"\"{\"&IF('Embedded Answer (Cloze) Strings'!$D$3=\"\",1,'Embedded Answer (Cloze) Strings'!$D$3)&\":MC:%0%a~%0%b~%0%c~%0%d~%0%e~%0%f~%0%g~%0%h~%0%i~%0%j~%0%k~%0%l~%0%m~%0%n~%0%o~%0%p~%0%q~%0%r~%0%s~%0%t~%0%u~%0%v~%0%w~%0%x~%0%y~%0%z}\"","v":"{1:MC:%0%a~%0%b~%0%c~%0%d~%0%e~%0%f~%0%g~%0%h~%0%i~%0%j~%0%k~%0%l~%0%m~%0%n~%0%o~%0%p~%0%q~%0%r~%0%s~%0%t~%0%u~%0%v~%0%w~%0%x~%0%y~%0%z}"},"","","%0%","=","",null,null,null,19,"{1:MC:%0%a~%0%b~%0%c~%0%d~%0%e~%0%f~%0%g~%0%h~%0%i~%0%j~%0%k~%0%l~%0%m~%0%n~%0%o~%0%p~%0%q~%0%r~%0%s~%0%t~%0%u~%0%v~%0%w~%0%x~%0%y~%0%z}","","","%0%","=",""]
[20,{"$f":"\"{\"&IF('Embedded Answer (Cloze) Strings'!$D$3=\"\",1,'Embedded Answer (Cloze) Strings'!$D$3)&\":MC:%0%a~%0%b~%0%c~%0%d~%0%e~%0%f~%0%g~%0%h~%0%i~%0%j~%0%k~%0%l~%0%m~%0%n~%0%o~%0%p~%0%q~%0%r~%0%s~%0%t~%0%u~%0%v~%0%w~%0%x~%0%y~%0%z}\"","v":"{1:MC:%0%a~%0%b~%0%c~%0%d~%0%e~%0%f~%0%g~%0%h~%0%i~%0%j~%0%k~%0%l~%0%m~%0%n~%0%o~%0%p~%0%q~%0%r~%0%s~%0%t~%0%u~%0%v~%0%w~%0%x~%0%y~%0%z}"},"","","%0%","=","",null,null,null,20,"{1:MC:%0%a~%0%b~%0%c~%0%d~%0%e~%0%f~%0%g~%0%h~%0%i~%0%j~%0%k~%0%l~%0%m~%0%n~%0%o~%0%p~%0%q~%0%r~%0%s~%0%t~%0%u~%0%v~%0%w~%0%x~%0%y~%0%z}","","","%0%","=",""]
[]
[null,null,null,null,null,null,2,null,null,null,null,null,null,null,null,null,2]
[null,null,null,null,null,null,"Type word here (lowecase only):",{"$f":"'Embedded Answer (Cloze) Strings'!$F$4","v":0},null,null,null,null,null,null,null,null,"Type word here (lowecase only):",{"$f":"'GIFT Import Strings'!$I$4","v":0}]
["Index","Original","String","Letter","Wrong","Right","Copy this code and paste as plain text into Moodle:",{"$f":"G28&G29&G30&G31&G32&G33&G34&G35&G36&G37&G38&G39&G40&G41&G42&G43&G44&G45&G46&G47","v":"{1:MC:%0%a~%0%b~%0%c~%0%d~%0%e~%0%f~%0%g~%0%h~%0%i~%0%j~%0%k~%0%l~%0%m~%0%n~%0%o~%0%p~%0%q~%0%r~%0%s~%0%t~%0%u~%0%v~%0%w~%0%x~%0%y~%0%z}"},null,null,"Index","Original","String","Letter","Wrong","Right","Copy this code and paste as plain text into Moodle:",{"$f":"Q28&Q29&Q30&Q31&Q32&Q33&Q34&Q35&Q36&Q37&Q38&Q39&Q40&Q41&Q42&Q43&Q44&Q45&Q46&Q47","v":"{1:MC:%0%a~%0%b~%0%c~%0%d~%0%e~%0%f~%0%g~%0%h~%0%i~%0%j~%0%k~%0%l~%0%m~%0%n~%0%o~%0%p~%0%q~%0%r~%0%s~%0%t~%0%u~%0%v~%0%w~%0%x~%0%y~%0%z}"}]
[1,{"$f":"\"{\"&IF('Embedded Answer (Cloze) Strings'!$D$4=\"\",1,'Embedded Answer (Cloze) Strings'!$D$4)&\":MC:%0%a~%0%b~%0%c~%0%d~%0%e~%0%f~%0%g~%0%h~%0%i~%0%j~%0%k~%0%l~%0%m~%0%n~%0%o~%0%p~%0%q~%0%r~%0%s~%0%t~%0%u~%0%v~%0%w~%0%x~%0%y~%0%z}\"","v":"{1:MC:%0%a~%0%b~%0%c~%0%d~%0%e~%0%f~%0%g~%0%h~%0%i~%0%j~%0%k~%0%l~%0%m~%0%n~%0%o~%0%p~%0%q~%0%r~%0%s~%0%t~%0%u~%0%v~%0%w~%0%x~%0%y~%0%z}"},{"$f":"IF(LEN($H$26)>=$A28,LEFT($H$26,$A28),\"\")","v":"0"},{"$f":"RIGHT(C28,1)","v":"0"},{"$f":"\"%0%\"&D28","v":"%0%0"},{"$f":"\"=\"&D28","v":"=0"},{"$f":"IF(D28=\"\",\"\",SUBSTITUTE(B28,E28,F28))","v":"{1:MC:%0%a~%0%b~%0%c~%0%d~%0%e~%0%f~%0%g~%0%h~%0%i~%0%j~%0%k~%0%l~%0%m~%0%n~%0%o~%0%p~%0%q~%0%r~%0%s~%0%t~%0%u~%0%v~%0%w~%0%x~%0%y~%0%z}"},null,null,null,1,"{1:MC:%0%a~%0%b~%0%c~%0%d~%0%e~%0%f~%0%g~%0%h~%0%i~%0%j~%0%k~%0%l~%0%m~%0%n~%0%o~%0%p~%0%q~%0%r~%0%s~%0%t~%0%u~%0%v~%0%w~%0%x~%0%y~%0%z}",{"$f":"IF(LEN($H$2)>=$A28,LEFT($H$2,$A28),\"\")","v":"0"},{"$f":"RIGHT(M28,1)","v":"0"},{"$f":"\"%0%\"&N28","v":"%0%0"},{"$f":"\"=\"&N28","v":"=0"},{"$f":"IF(N28=\"\",\"\",SUBSTITUTE(L28,O28,P28))","v":"{1:MC:%0%a~%0%b~%0%c~%0%d~%0%e~%0%f~%0%g~%0%h~%0%i~%0%j~%0%k~%0%l~%0%m~%0%n~%0%o~%0%p~%0%q~%0%r~%0%s~%0%t~%0%u~%0%v~%0%w~%0%x~%0%y~%0%z}"}]
[2,{"$f":"\"{\"&IF('Embedded Answer (Cloze) Strings'!$D$4=\"\",1,'Embedded Answer (Cloze) Strings'!$D$4)&\":MC:%0%a~%0%b~%0%c~%0%d~%0%e~%0%f~%0%g~%0%h~%0%i~%0%j~%0%k~%0%l~%0%m~%0%n~%0%o~%0%p~%0%q~%0%r~%0%s~%0%t~%0%u~%0%v~%0%w~%0%x~%0%y~%0%z}\"","v":"{1:MC:%0%a~%0%b~%0%c~%0%d~%0%e~%0%f~%0%g~%0%h~%0%i~%0%j~%0%k~%0%l~%0%m~%0%n~%0%o~%0%p~%0%q~%0%r~%0%s~%0%t~%0%u~%0%v~%0%w~%0%x~%0%y~%0%z}"},"",{"$f":"RIGHT(C29,1)","v":""},{"$f":"\"%0%\"&D29","v":"%0%"},"=","",null,null,null,2,"{1:MC:%0%a~%0%b~%0%c~%0%d~%0%e~%0%f~%0%g~%0%h~%0%i~%0%j~%0%k~%0%l~%0%m~%0%n~%0%o~%0%p~%0%q~%0%r~%0%s~%0%t~%0%u~%0%v~%0%w~%0%x~%0%y~%0%z}","",{"$f":"RIGHT(M29,1)","v":""},{"$f":"\"%0%\"&N29","v":"%0%"},{"$f":"\"=\"&N29","v":"="},{"$f":"IF(N29=\"\",\"\",SUBSTITUTE(L29,O29,P29))","v":""}]
[3,{"$f":"\"{\"&IF('Embedded Answer (Cloze) Strings'!$D$4=\"\",1,'Embedded Answer (Cloze) Strings'!$D$4)&\":MC:%0%a~%0%b~%0%c~%0%d~%0%e~%0%f~%0%g~%0%h~%0%i~%0%j~%0%k~%0%l~%0%m~%0%n~%0%o~%0%p~%0%q~%0%r~%0%s~%0%t~%0%u~%0%v~%0%w~%0%x~%0%y~%0%z}\"","v":"{1:MC:%0%a~%0%b~%0%c~%0%d~%0%e~%0%f~%0%g~%0%h~%0%i~%0%j~%0%k~%0%l~%0%m~%0%n~%0%o~%0%p~%0%q~%0%r~%0%s~%0%t~%0%u~%0%v~%0%w~%0%x~%0%y~%0%z}"},"","","%0%","=","",null,null,null,3,"{1:MC:%0%a~%0%b~%0%c~%0%d~%0%e~%0%f~%0%g~%0%h~%0%i~%0%j~%0%k~%0%l~%0%m~%0%n~%0%o~%0%p~%0%q~%0%r~%0%s~%0%t~%0%u~%0%v~%0%w~%0%x~%0%y~%0%z}","","","%0%","=",""]
[4,{"$f":"\"{\"&IF('Embedded Answer (Cloze) Strings'!$D$4=\"\",1,'Embedded Answer (Cloze) Strings'!$D$4)&\":MC:%0%a~%0%b~%0%c~%0%d~%0%e~%0%f~%0%g~%0%h~%0%i~%0%j~%0%k~%0%l~%0%m~%0%n~%0%o~%0%p~%0%q~%0%r~%0%s~%0%t~%0%u~%0%v~%0%w~%0%x~%0%y~%0%z}\"","v":"{1:MC:%0%a~%0%b~%0%c~%0%d~%0%e~%0%f~%0%g~%0%h~%0%i~%0%j~%0%k~%0%l~%0%m~%0%n~%0%o~%0%p~%0%q~%0%r~%0%s~%0%t~%0%u~%0%v~%0%w~%0%x~%0%y~%0%z}"},"","","%0%","=","",null,null,null,4,"{1:MC:%0%a~%0%b~%0%c~%0%d~%0%e~%0%f~%0%g~%0%h~%0%i~%0%j~%0%k~%0%l~%0%m~%0%n~%0%o~%0%p~%0%q~%0%r~%0%s~%0%t~%0%u~%0%v~%0%w~%0%x~%0%y~%0%z}","","","%0%","=",""]
[5,{"$f":"\"{\"&IF('Embedded Answer (Cloze) Strings'!$D$4=\"\",1,'Embedded Answer (Cloze) Strings'!$D$4)&\":MC:%0%a~%0%b~%0%c~%0%d~%0%e~%0%f~%0%g~%0%h~%0%i~%0%j~%0%k~%0%l~%0%m~%0%n~%0%o~%0%p~%0%q~%0%r~%0%s~%0%t~%0%u~%0%v~%0%w~%0%x~%0%y~%0%z}\"","v":"{1:MC:%0%a~%0%b~%0%c~%0%d~%0%e~%0%f~%0%g~%0%h~%0%i~%0%j~%0%k~%0%l~%0%m~%0%n~%0%o~%0%p~%0%q~%0%r~%0%s~%0%t~%0%u~%0%v~%0%w~%0%x~%0%y~%0%z}"},"","","%0%","=","",null,null,null,5,"{1:MC:%0%a~%0%b~%0%c~%0%d~%0%e~%0%f~%0%g~%0%h~%0%i~%0%j~%0%k~%0%l~%0%m~%0%n~%0%o~%0%p~%0%q~%0%r~%0%s~%0%t~%0%u~%0%v~%0%w~%0%x~%0%y~%0%z}","","","%0%","=",""]
[6,{"$f":"\"{\"&IF('Embedded Answer (Cloze) Strings'!$D$4=\"\",1,'Embedded Answer (Cloze) Strings'!$D$4)&\":MC:%0%a~%0%b~%0%c~%0%d~%0%e~%0%f~%0%g~%0%h~%0%i~%0%j~%0%k~%0%l~%0%m~%0%n~%0%o~%0%p~%0%q~%0%r~%0%s~%0%t~%0%u~%0%v~%0%w~%0%x~%0%y~%0%z}\"","v":"{1:MC:%0%a~%0%b~%0%c~%0%d~%0%e~%0%f~%0%g~%0%h~%0%i~%0%j~%0%k~%0%l~%0%m~%0%n~%0%o~%0%p~%0%q~%0%r~%0%s~%0%t~%0%u~%0%v~%0%w~%0%x~%0%y~%0%z}"},"","","%0%","=","",null,null,null,6,"{1:MC:%0%a~%0%b~%0%c~%0%d~%0%e~%0%f~%0%g~%0%h~%0%i~%0%j~%0%k~%0%l~%0%m~%0%n~%0%o~%0%p~%0%q~%0%r~%0%s~%0%t~%0%u~%0%v~%0%w~%0%x~%0%y~%0%z}","","","%0%","=",""]
[7,{"$f":"\"{\"&IF('Embedded Answer (Cloze) Strings'!$D$4=\"\",1,'Embedded Answer (Cloze) Strings'!$D$4)&\":MC:%0%a~%0%b~%0%c~%0%d~%0%e~%0%f~%0%g~%0%h~%0%i~%0%j~%0%k~%0%l~%0%m~%0%n~%0%o~%0%p~%0%q~%0%r~%0%s~%0%t~%0%u~%0%v~%0%w~%0%x~%0%y~%0%z}\"","v":"{1:MC:%0%a~%0%b~%0%c~%0%d~%0%e~%0%f~%0%g~%0%h~%0%i~%0%j~%0%k~%0%l~%0%m~%0%n~%0%o~%0%p~%0%q~%0%r~%0%s~%0%t~%0%u~%0%v~%0%w~%0%x~%0%y~%0%z}"},"","","%0%","=","",null,null,null,7,"{1:MC:%0%a~%0%b~%0%c~%0%d~%0%e~%0%f~%0%g~%0%h~%0%i~%0%j~%0%k~%0%l~%0%m~%0%n~%0%o~%0%p~%0%q~%0%r~%0%s~%0%t~%0%u~%0%v~%0%w~%0%x~%0%y~%0%z}","","","%0%","=",""]
[8,{"$f":"\"{\"&IF('Embedded Answer (Cloze) Strings'!$D$4=\"\",1,'Embedded Answer (Cloze) Strings'!$D$4)&\":MC:%0%a~%0%b~%0%c~%0%d~%0%e~%0%f~%0%g~%0%h~%0%i~%0%j~%0%k~%0%l~%0%m~%0%n~%0%o~%0%p~%0%q~%0%r~%0%s~%0%t~%0%u~%0%v~%0%w~%0%x~%0%y~%0%z}\"","v":"{1:MC:%0%a~%0%b~%0%c~%0%d~%0%e~%0%f~%0%g~%0%h~%0%i~%0%j~%0%k~%0%l~%0%m~%0%n~%0%o~%0%p~%0%q~%0%r~%0%s~%0%t~%0%u~%0%v~%0%w~%0%x~%0%y~%0%z}"},"","","%0%","=","",null,null,null,8,"{1:MC:%0%a~%0%b~%0%c~%0%d~%0%e~%0%f~%0%g~%0%h~%0%i~%0%j~%0%k~%0%l~%0%m~%0%n~%0%o~%0%p~%0%q~%0%r~%0%s~%0%t~%0%u~%0%v~%0%w~%0%x~%0%y~%0%z}","","","%0%","=",""]
[9,{"$f":"\"{\"&IF('Embedded Answer (Cloze) Strings'!$D$4=\"\",1,'Embedded Answer (Cloze) Strings'!$D$4)&\":MC:%0%a~%0%b~%0%c~%0%d~%0%e~%0%f~%0%g~%0%h~%0%i~%0%j~%0%k~%0%l~%0%m~%0%n~%0%o~%0%p~%0%q~%0%r~%0%s~%0%t~%0%u~%0%v~%0%w~%0%x~%0%y~%0%z}\"","v":"{1:MC:%0%a~%0%b~%0%c~%0%d~%0%e~%0%f~%0%g~%0%h~%0%i~%0%j~%0%k~%0%l~%0%m~%0%n~%0%o~%0%p~%0%q~%0%r~%0%s~%0%t~%0%u~%0%v~%0%w~%0%x~%0%y~%0%z}"},"","","%0%","=","",null,null,null,9,"{1:MC:%0%a~%0%b~%0%c~%0%d~%0%e~%0%f~%0%g~%0%h~%0%i~%0%j~%0%k~%0%l~%0%m~%0%n~%0%o~%0%p~%0%q~%0%r~%0%s~%0%t~%0%u~%0%v~%0%w~%0%x~%0%y~%0%z}","","","%0%","=",""]
[10,{"$f":"\"{\"&IF('Embedded Answer (Cloze) Strings'!$D$4=\"\",1,'Embedded Answer (Cloze) Strings'!$D$4)&\":MC:%0%a~%0%b~%0%c~%0%d~%0%e~%0%f~%0%g~%0%h~%0%i~%0%j~%0%k~%0%l~%0%m~%0%n~%0%o~%0%p~%0%q~%0%r~%0%s~%0%t~%0%u~%0%v~%0%w~%0%x~%0%y~%0%z}\"","v":"{1:MC:%0%a~%0%b~%0%c~%0%d~%0%e~%0%f~%0%g~%0%h~%0%i~%0%j~%0%k~%0%l~%0%m~%0%n~%0%o~%0%p~%0%q~%0%r~%0%s~%0%t~%0%u~%0%v~%0%w~%0%x~%0%y~%0%z}"},"","","%0%","=","",null,null,null,10,"{1:MC:%0%a~%0%b~%0%c~%0%d~%0%e~%0%f~%0%g~%0%h~%0%i~%0%j~%0%k~%0%l~%0%m~%0%n~%0%o~%0%p~%0%q~%0%r~%0%s~%0%t~%0%u~%0%v~%0%w~%0%x~%0%y~%0%z}","","","%0%","=",""]
[11,{"$f":"\"{\"&IF('Embedded Answer (Cloze) Strings'!$D$4=\"\",1,'Embedded Answer (Cloze) Strings'!$D$4)&\":MC:%0%a~%0%b~%0%c~%0%d~%0%e~%0%f~%0%g~%0%h~%0%i~%0%j~%0%k~%0%l~%0%m~%0%n~%0%o~%0%p~%0%q~%0%r~%0%s~%0%t~%0%u~%0%v~%0%w~%0%x~%0%y~%0%z}\"","v":"{1:MC:%0%a~%0%b~%0%c~%0%d~%0%e~%0%f~%0%g~%0%h~%0%i~%0%j~%0%k~%0%l~%0%m~%0%n~%0%o~%0%p~%0%q~%0%r~%0%s~%0%t~%0%u~%0%v~%0%w~%0%x~%0%y~%0%z}"},"","","%0%","=","",null,null,null,11,"{1:MC:%0%a~%0%b~%0%c~%0%d~%0%e~%0%f~%0%g~%0%h~%0%i~%0%j~%0%k~%0%l~%0%m~%0%n~%0%o~%0%p~%0%q~%0%r~%0%s~%0%t~%0%u~%0%v~%0%w~%0%x~%0%y~%0%z}","","","%0%","=",""]
[12,{"$f":"\"{\"&IF('Embedded Answer (Cloze) Strings'!$D$4=\"\",1,'Embedded Answer (Cloze) Strings'!$D$4)&\":MC:%0%a~%0%b~%0%c~%0%d~%0%e~%0%f~%0%g~%0%h~%0%i~%0%j~%0%k~%0%l~%0%m~%0%n~%0%o~%0%p~%0%q~%0%r~%0%s~%0%t~%0%u~%0%v~%0%w~%0%x~%0%y~%0%z}\"","v":"{1:MC:%0%a~%0%b~%0%c~%0%d~%0%e~%0%f~%0%g~%0%h~%0%i~%0%j~%0%k~%0%l~%0%m~%0%n~%0%o~%0%p~%0%q~%0%r~%0%s~%0%t~%0%u~%0%v~%0%w~%0%x~%0%y~%0%z}"},"","","%0%","=","",null,null,null,12,"{1:MC:%0%a~%0%b~%0%c~%0%d~%0%e~%0%f~%0%g~%0%h~%0%i~%0%j~%0%k~%0%l~%0%m~%0%n~%0%o~%0%p~%0%q~%0%r~%0%s~%0%t~%0%u~%0%v~%0%w~%0%x~%0%y~%0%z}","","","%0%","=",""]
[13,{"$f":"\"{\"&IF('Embedded Answer (Cloze) Strings'!$D$4=\"\",1,'Embedded Answer (Cloze) Strings'!$D$4)&\":MC:%0%a~%0%b~%0%c~%0%d~%0%e~%0%f~%0%g~%0%h~%0%i~%0%j~%0%k~%0%l~%0%m~%0%n~%0%o~%0%p~%0%q~%0%r~%0%s~%0%t~%0%u~%0%v~%0%w~%0%x~%0%y~%0%z}\"","v":"{1:MC:%0%a~%0%b~%0%c~%0%d~%0%e~%0%f~%0%g~%0%h~%0%i~%0%j~%0%k~%0%l~%0%m~%0%n~%0%o~%0%p~%0%q~%0%r~%0%s~%0%t~%0%u~%0%v~%0%w~%0%x~%0%y~%0%z}"},"","","%0%","=","",null,null,null,13,"{1:MC:%0%a~%0%b~%0%c~%0%d~%0%e~%0%f~%0%g~%0%h~%0%i~%0%j~%0%k~%0%l~%0%m~%0%n~%0%o~%0%p~%0%q~%0%r~%0%s~%0%t~%0%u~%0%v~%0%w~%0%x~%0%y~%0%z}","","","%0%","=",""]
[14,{"$f":"\"{\"&IF('Embedded Answer (Cloze) Strings'!$D$4=\"\",1,'Embedded Answer (Cloze) Strings'!$D$4)&\":MC:%0%a~%0%b~%0%c~%0%d~%0%e~%0%f~%0%g~%0%h~%0%i~%0%j~%0%k~%0%l~%0%m~%0%n~%0%o~%0%p~%0%q~%0%r~%0%s~%0%t~%0%u~%0%v~%0%w~%0%x~%0%y~%0%z}\"","v":"{1:MC:%0%a~%0%b~%0%c~%0%d~%0%e~%0%f~%0%g~%0%h~%0%i~%0%j~%0%k~%0%l~%0%m~%0%n~%0%o~%0%p~%0%q~%0%r~%0%s~%0%t~%0%u~%0%v~%0%w~%0%x~%0%y~%0%z}"},"","","%0%","=","",null,null,null,14,"{1:MC:%0%a~%0%b~%0%c~%0%d~%0%e~%0%f~%0%g~%0%h~%0%i~%0%j~%0%k~%0%l~%0%m~%0%n~%0%o~%0%p~%0%q~%0%r~%0%s~%0%t~%0%u~%0%v~%0%w~%0%x~%0%y~%0%z}","","","%0%","=",""]
[15,{"$f":"\"{\"&IF('Embedded Answer (Cloze) Strings'!$D$4=\"\",1,'Embedded Answer (Cloze) Strings'!$D$4)&\":MC:%0%a~%0%b~%0%c~%0%d~%0%e~%0%f~%0%g~%0%h~%0%i~%0%j~%0%k~%0%l~%0%m~%0%n~%0%o~%0%p~%0%q~%0%r~%0%s~%0%t~%0%u~%0%v~%0%w~%0%x~%0%y~%0%z}\"","v":"{1:MC:%0%a~%0%b~%0%c~%0%d~%0%e~%0%f~%0%g~%0%h~%0%i~%0%j~%0%k~%0%l~%0%m~%0%n~%0%o~%0%p~%0%q~%0%r~%0%s~%0%t~%0%u~%0%v~%0%w~%0%x~%0%y~%0%z}"},"","","%0%","=","",null,null,null,15,"{1:MC:%0%a~%0%b~%0%c~%0%d~%0%e~%0%f~%0%g~%0%h~%0%i~%0%j~%0%k~%0%l~%0%m~%0%n~%0%o~%0%p~%0%q~%0%r~%0%s~%0%t~%0%u~%0%v~%0%w~%0%x~%0%y~%0%z}","","","%0%","=",""]
[16,{"$f":"\"{\"&IF('Embedded Answer (Cloze) Strings'!$D$4=\"\",1,'Embedded Answer (Cloze) Strings'!$D$4)&\":MC:%0%a~%0%b~%0%c~%0%d~%0%e~%0%f~%0%g~%0%h~%0%i~%0%j~%0%k~%0%l~%0%m~%0%n~%0%o~%0%p~%0%q~%0%r~%0%s~%0%t~%0%u~%0%v~%0%w~%0%x~%0%y~%0%z}\"","v":"{1:MC:%0%a~%0%b~%0%c~%0%d~%0%e~%0%f~%0%g~%0%h~%0%i~%0%j~%0%k~%0%l~%0%m~%0%n~%0%o~%0%p~%0%q~%0%r~%0%s~%0%t~%0%u~%0%v~%0%w~%0%x~%0%y~%0%z}"},"","","%0%","=","",null,null,null,16,"{1:MC:%0%a~%0%b~%0%c~%0%d~%0%e~%0%f~%0%g~%0%h~%0%i~%0%j~%0%k~%0%l~%0%m~%0%n~%0%o~%0%p~%0%q~%0%r~%0%s~%0%t~%0%u~%0%v~%0%w~%0%x~%0%y~%0%z}","","","%0%","=",""]
[17,{"$f":"\"{\"&IF('Embedded Answer (Cloze) Strings'!$D$4=\"\",1,'Embedded Answer (Cloze) Strings'!$D$4)&\":MC:%0%a~%0%b~%0%c~%0%d~%0%e~%0%f~%0%g~%0%h~%0%i~%0%j~%0%k~%0%l~%0%m~%0%n~%0%o~%0%p~%0%q~%0%r~%0%s~%0%t~%0%u~%0%v~%0%w~%0%x~%0%y~%0%z}\"","v":"{1:MC:%0%a~%0%b~%0%c~%0%d~%0%e~%0%f~%0%g~%0%h~%0%i~%0%j~%0%k~%0%l~%0%m~%0%n~%0%o~%0%p~%0%q~%0%r~%0%s~%0%t~%0%u~%0%v~%0%w~%0%x~%0%y~%0%z}"},"","","%0%","=","",null,null,null,17,"{1:MC:%0%a~%0%b~%0%c~%0%d~%0%e~%0%f~%0%g~%0%h~%0%i~%0%j~%0%k~%0%l~%0%m~%0%n~%0%o~%0%p~%0%q~%0%r~%0%s~%0%t~%0%u~%0%v~%0%w~%0%x~%0%y~%0%z}","","","%0%","=",""]
[18,{"$f":"\"{\"&IF('Embedded Answer (Cloze) Strings'!$D$4=\"\",1,'Embedded Answer (Cloze) Strings'!$D$4)&\":MC:%0%a~%0%b~%0%c~%0%d~%0%e~%0%f~%0%g~%0%h~%0%i~%0%j~%0%k~%0%l~%0%m~%0%n~%0%o~%0%p~%0%q~%0%r~%0%s~%0%t~%0%u~%0%v~%0%w~%0%x~%0%y~%0%z}\"","v":"{1:MC:%0%a~%0%b~%0%c~%0%d~%0%e~%0%f~%0%g~%0%h~%0%i~%0%j~%0%k~%0%l~%0%m~%0%n~%0%o~%0%p~%0%q~%0%r~%0%s~%0%t~%0%u~%0%v~%0%w~%0%x~%0%y~%0%z}"},"","","%0%","=","",null,null,null,18,"{1:MC:%0%a~%0%b~%0%c~%0%d~%0%e~%0%f~%0%g~%0%h~%0%i~%0%j~%0%k~%0%l~%0%m~%0%n~%0%o~%0%p~%0%q~%0%r~%0%s~%0%t~%0%u~%0%v~%0%w~%0%x~%0%y~%0%z}","","","%0%","=",""]
[19,{"$f":"\"{\"&IF('Embedded Answer (Cloze) Strings'!$D$4=\"\",1,'Embedded Answer (Cloze) Strings'!$D$4)&\":MC:%0%a~%0%b~%0%c~%0%d~%0%e~%0%f~%0%g~%0%h~%0%i~%0%j~%0%k~%0%l~%0%m~%0%n~%0%o~%0%p~%0%q~%0%r~%0%s~%0%t~%0%u~%0%v~%0%w~%0%x~%0%y~%0%z}\"","v":"{1:MC:%0%a~%0%b~%0%c~%0%d~%0%e~%0%f~%0%g~%0%h~%0%i~%0%j~%0%k~%0%l~%0%m~%0%n~%0%o~%0%p~%0%q~%0%r~%0%s~%0%t~%0%u~%0%v~%0%w~%0%x~%0%y~%0%z}"},"","","%0%","=","",null,null,null,19,"{1:MC:%0%a~%0%b~%0%c~%0%d~%0%e~%0%f~%0%g~%0%h~%0%i~%0%j~%0%k~%0%l~%0%m~%0%n~%0%o~%0%p~%0%q~%0%r~%0%s~%0%t~%0%u~%0%v~%0%w~%0%x~%0%y~%0%z}","","","%0%","=",""]
[20,{"$f":"\"{\"&IF('Embedded Answer (Cloze) Strings'!$D$4=\"\",1,'Embedded Answer (Cloze) Strings'!$D$4)&\":MC:%0%a~%0%b~%0%c~%0%d~%0%e~%0%f~%0%g~%0%h~%0%i~%0%j~%0%k~%0%l~%0%m~%0%n~%0%o~%0%p~%0%q~%0%r~%0%s~%0%t~%0%u~%0%v~%0%w~%0%x~%0%y~%0%z}\"","v":"{1:MC:%0%a~%0%b~%0%c~%0%d~%0%e~%0%f~%0%g~%0%h~%0%i~%0%j~%0%k~%0%l~%0%m~%0%n~%0%o~%0%p~%0%q~%0%r~%0%s~%0%t~%0%u~%0%v~%0%w~%0%x~%0%y~%0%z}"},"","","%0%","=","",null,null,null,20,"{1:MC:%0%a~%0%b~%0%c~%0%d~%0%e~%0%f~%0%g~%0%h~%0%i~%0%j~%0%k~%0%l~%0%m~%0%n~%0%o~%0%p~%0%q~%0%r~%0%s~%0%t~%0%u~%0%v~%0%w~%0%x~%0%y~%0%z}","","","%0%","=",""]
[]
[null,null,null,null,null,null,3,null,null,null,null,null,null,null,null,null,3]
[null,null,null,null,null,null,"Type word here (lowecase only):",{"$f":"'Embedded Answer (Cloze) Strings'!$F$5","v":0},null,null,null,null,null,null,null,null,"Type word here (lowecase only):",{"$f":"'GIFT Import Strings'!$I$5","v":0}]
["Index","Original","String","Letter","Wrong","Right","Copy this code and paste as plain text into Moodle:",{"$f":"G52&G53&G54&G55&G56&G57&G58&G59&G60&G61&G62&G63&G64&G65&G66&G67&G68&G69&G70&G71","v":"{1:MC:%0%a~%0%b~%0%c~%0%d~%0%e~%0%f~%0%g~%0%h~%0%i~%0%j~%0%k~%0%l~%0%m~%0%n~%0%o~%0%p~%0%q~%0%r~%0%s~%0%t~%0%u~%0%v~%0%w~%0%x~%0%y~%0%z}"},null,null,"Index","Original","String","Letter","Wrong","Right","Copy this code and paste as plain text into Moodle:",{"$f":"Q52&Q53&Q54&Q55&Q56&Q57&Q58&Q59&Q60&Q61&Q62&Q63&Q64&Q65&Q66&Q67&Q68&Q69&Q70&Q71","v":"{1:MC:%0%a~%0%b~%0%c~%0%d~%0%e~%0%f~%0%g~%0%h~%0%i~%0%j~%0%k~%0%l~%0%m~%0%n~%0%o~%0%p~%0%q~%0%r~%0%s~%0%t~%0%u~%0%v~%0%w~%0%x~%0%y~%0%z}"}]
[1,{"$f":"\"{\"&IF('Embedded Answer (Cloze) Strings'!$D$5=\"\",1,'Embedded Answer (Cloze) Strings'!$D$5)&\":MC:%0%a~%0%b~%0%c~%0%d~%0%e~%0%f~%0%g~%0%h~%0%i~%0%j~%0%k~%0%l~%0%m~%0%n~%0%o~%0%p~%0%q~%0%r~%0%s~%0%t~%0%u~%0%v~%0%w~%0%x~%0%y~%0%z}\"","v":"{1:MC:%0%a~%0%b~%0%c~%0%d~%0%e~%0%f~%0%g~%0%h~%0%i~%0%j~%0%k~%0%l~%0%m~%0%n~%0%o~%0%p~%0%q~%0%r~%0%s~%0%t~%0%u~%0%v~%0%w~%0%x~%0%y~%0%z}"},{"$f":"IF(LEN($H$50)>=$A52,LEFT($H$50,$A52),\"\")","v":"0"},{"$f":"RIGHT(C52,1)","v":"0"},{"$f":"\"%0%\"&D52","v":"%0%0"},{"$f":"\"=\"&D52","v":"=0"},{"$f":"IF(D52=\"\",\"\",SUBSTITUTE(B52,E52,F52))","v":"{1:MC:%0%a~%0%b~%0%c~%0%d~%0%e~%0%f~%0%g~%0%h~%0%i~%0%j~%0%k~%0%l~%0%m~%0%n~%0%o~%0%p~%0%q~%0%r~%0%s~%0%t~%0%u~%0%v~%0%w~%0%x~%0%y~%0%z}"},null,null,null,1,"{1:MC:%0%a~%0%b~%0%c~%0%d~%0%e~%0%f~%0%g~%0%h~%0%i~%0%j~%0%k~%0%l~%0%m~%0%n~%0%o~%0%p~%0%q~%0%r~%0%s~%0%t~%0%u~%0%v~%0%w~%0%x~%0%y~%0%z}",{"$f":"IF(LEN($H$2)>=$A52,LEFT($H$2,$A52),\"\")","v":"0"},{"$f":"RIGHT(M52,1)","v":"0"},{"$f":"\"%0%\"&N52","v":"%0%0"},{"$f":"\"=\"&N52","v":"=0"},{"$f":"IF(N52=\"\",\"\",SUBSTITUTE(L52,O52,P52))","v":"{1:MC:%0%a~%0%b~%0%c~%0%d~%0%e~%0%f~%0%g~%0%h~%0%i~%0%j~%0%k~%0%l~%0%m~%0%n~%0%o~%0%p~%0%q~%0%r~%0%s~%0%t~%0%u~%0%v~%0%w~%0%x~%0%y~%0%z}"}]
[2,{"$f":"\"{\"&IF('Embedded Answer (Cloze) Strings'!$D$5=\"\",1,'Embedded Answer (Cloze) Strings'!$D$5)&\":MC:%0%a~%0%b~%0%c~%0%d~%0%e~%0%f~%0%g~%0%h~%0%i~%0%j~%0%k~%0%l~%0%m~%0%n~%0%o~%0%p~%0%q~%0%r~%0%s~%0%t~%0%u~%0%v~%0%w~%0%x~%0%y~%0%z}\"","v":"{1:MC:%0%a~%0%b~%0%c~%0%d~%0%e~%0%f~%0%g~%0%h~%0%i~%0%j~%0%k~%0%l~%0%m~%0%n~%0%o~%0%p~%0%q~%0%r~%0%s~%0%t~%0%u~%0%v~%0%w~%0%x~%0%y~%0%z}"},"",{"$f":"RIGHT(C53,1)","v":""},{"$f":"\"%0%\"&D53","v":"%0%"},"=","",null,null,null,2,"{1:MC:%0%a~%0%b~%0%c~%0%d~%0%e~%0%f~%0%g~%0%h~%0%i~%0%j~%0%k~%0%l~%0%m~%0%n~%0%o~%0%p~%0%q~%0%r~%0%s~%0%t~%0%u~%0%v~%0%w~%0%x~%0%y~%0%z}","",{"$f":"RIGHT(M53,1)","v":""},{"$f":"\"%0%\"&N53","v":"%0%"},{"$f":"\"=\"&N53","v":"="},{"$f":"IF(N53=\"\",\"\",SUBSTITUTE(L53,O53,P53))","v":""}]
[3,{"$f":"\"{\"&IF('Embedded Answer (Cloze) Strings'!$D$5=\"\",1,'Embedded Answer (Cloze) Strings'!$D$5)&\":MC:%0%a~%0%b~%0%c~%0%d~%0%e~%0%f~%0%g~%0%h~%0%i~%0%j~%0%k~%0%l~%0%m~%0%n~%0%o~%0%p~%0%q~%0%r~%0%s~%0%t~%0%u~%0%v~%0%w~%0%x~%0%y~%0%z}\"","v":"{1:MC:%0%a~%0%b~%0%c~%0%d~%0%e~%0%f~%0%g~%0%h~%0%i~%0%j~%0%k~%0%l~%0%m~%0%n~%0%o~%0%p~%0%q~%0%r~%0%s~%0%t~%0%u~%0%v~%0%w~%0%x~%0%y~%0%z}"},"","","%0%","=","",null,null,null,3,"{1:MC:%0%a~%0%b~%0%c~%0%d~%0%e~%0%f~%0%g~%0%h~%0%i~%0%j~%0%k~%0%l~%0%m~%0%n~%0%o~%0%p~%0%q~%0%r~%0%s~%0%t~%0%u~%0%v~%0%w~%0%x~%0%y~%0%z}","","","%0%","=",""]
[4,{"$f":"\"{\"&IF('Embedded Answer (Cloze) Strings'!$D$5=\"\",1,'Embedded Answer (Cloze) Strings'!$D$5)&\":MC:%0%a~%0%b~%0%c~%0%d~%0%e~%0%f~%0%g~%0%h~%0%i~%0%j~%0%k~%0%l~%0%m~%0%n~%0%o~%0%p~%0%q~%0%r~%0%s~%0%t~%0%u~%0%v~%0%w~%0%x~%0%y~%0%z}\"","v":"{1:MC:%0%a~%0%b~%0%c~%0%d~%0%e~%0%f~%0%g~%0%h~%0%i~%0%j~%0%k~%0%l~%0%m~%0%n~%0%o~%0%p~%0%q~%0%r~%0%s~%0%t~%0%u~%0%v~%0%w~%0%x~%0%y~%0%z}"},"","","%0%","=","",null,null,null,4,"{1:MC:%0%a~%0%b~%0%c~%0%d~%0%e~%0%f~%0%g~%0%h~%0%i~%0%j~%0%k~%0%l~%0%m~%0%n~%0%o~%0%p~%0%q~%0%r~%0%s~%0%t~%0%u~%0%v~%0%w~%0%x~%0%y~%0%z}","","","%0%","=",""]
[5,{"$f":"\"{\"&IF('Embedded Answer (Cloze) Strings'!$D$5=\"\",1,'Embedded Answer (Cloze) Strings'!$D$5)&\":MC:%0%a~%0%b~%0%c~%0%d~%0%e~%0%f~%0%g~%0%h~%0%i~%0%j~%0%k~%0%l~%0%m~%0%n~%0%o~%0%p~%0%q~%0%r~%0%s~%0%t~%0%u~%0%v~%0%w~%0%x~%0%y~%0%z}\"","v":"{1:MC:%0%a~%0%b~%0%c~%0%d~%0%e~%0%f~%0%g~%0%h~%0%i~%0%j~%0%k~%0%l~%0%m~%0%n~%0%o~%0%p~%0%q~%0%r~%0%s~%0%t~%0%u~%0%v~%0%w~%0%x~%0%y~%0%z}"},"","","%0%","=","",null,null,null,5,"{1:MC:%0%a~%0%b~%0%c~%0%d~%0%e~%0%f~%0%g~%0%h~%0%i~%0%j~%0%k~%0%l~%0%m~%0%n~%0%o~%0%p~%0%q~%0%r~%0%s~%0%t~%0%u~%0%v~%0%w~%0%x~%0%y~%0%z}","","","%0%","=",""]
[6,{"$f":"\"{\"&IF('Embedded Answer (Cloze) Strings'!$D$5=\"\",1,'Embedded Answer (Cloze) Strings'!$D$5)&\":MC:%0%a~%0%b~%0%c~%0%d~%0%e~%0%f~%0%g~%0%h~%0%i~%0%j~%0%k~%0%l~%0%m~%0%n~%0%o~%0%p~%0%q~%0%r~%0%s~%0%t~%0%u~%0%v~%0%w~%0%x~%0%y~%0%z}\"","v":"{1:MC:%0%a~%0%b~%0%c~%0%d~%0%e~%0%f~%0%g~%0%h~%0%i~%0%j~%0%k~%0%l~%0%m~%0%n~%0%o~%0%p~%0%q~%0%r~%0%s~%0%t~%0%u~%0%v~%0%w~%0%x~%0%y~%0%z}"},"","","%0%","=","",null,null,null,6,"{1:MC:%0%a~%0%b~%0%c~%0%d~%0%e~%0%f~%0%g~%0%h~%0%i~%0%j~%0%k~%0%l~%0%m~%0%n~%0%o~%0%p~%0%q~%0%r~%0%s~%0%t~%0%u~%0%v~%0%w~%0%x~%0%y~%0%z}","","","%0%","=",""]
[7,{"$f":"\"{\"&IF('Embedded Answer (Cloze) Strings'!$D$5=\"\",1,'Embedded Answer (Cloze) Strings'!$D$5)&\":MC:%0%a~%0%b~%0%c~%0%d~%0%e~%0%f~%0%g~%0%h~%0%i~%0%j~%0%k~%0%l~%0%m~%0%n~%0%o~%0%p~%0%q~%0%r~%0%s~%0%t~%0%u~%0%v~%0%w~%0%x~%0%y~%0%z}\"","v":"{1:MC:%0%a~%0%b~%0%c~%0%d~%0%e~%0%f~%0%g~%0%h~%0%i~%0%j~%0%k~%0%l~%0%m~%0%n~%0%o~%0%p~%0%q~%0%r~%0%s~%0%t~%0%u~%0%v~%0%w~%0%x~%0%y~%0%z}"},"","","%0%","=","",null,null,null,7,"{1:MC:%0%a~%0%b~%0%c~%0%d~%0%e~%0%f~%0%g~%0%h~%0%i~%0%j~%0%k~%0%l~%0%m~%0%n~%0%o~%0%p~%0%q~%0%r~%0%s~%0%t~%0%u~%0%v~%0%w~%0%x~%0%y~%0%z}","","","%0%","=",""]
[8,{"$f":"\"{\"&IF('Embedded Answer (Cloze) Strings'!$D$5=\"\",1,'Embedded Answer (Cloze) Strings'!$D$5)&\":MC:%0%a~%0%b~%0%c~%0%d~%0%e~%0%f~%0%g~%0%h~%0%i~%0%j~%0%k~%0%l~%0%m~%0%n~%0%o~%0%p~%0%q~%0%r~%0%s~%0%t~%0%u~%0%v~%0%w~%0%x~%0%y~%0%z}\"","v":"{1:MC:%0%a~%0%b~%0%c~%0%d~%0%e~%0%f~%0%g~%0%h~%0%i~%0%j~%0%k~%0%l~%0%m~%0%n~%0%o~%0%p~%0%q~%0%r~%0%s~%0%t~%0%u~%0%v~%0%w~%0%x~%0%y~%0%z}"},"","","%0%","=","",null,null,null,8,"{1:MC:%0%a~%0%b~%0%c~%0%d~%0%e~%0%f~%0%g~%0%h~%0%i~%0%j~%0%k~%0%l~%0%m~%0%n~%0%o~%0%p~%0%q~%0%r~%0%s~%0%t~%0%u~%0%v~%0%w~%0%x~%0%y~%0%z}","","","%0%","=",""]
[9,{"$f":"\"{\"&IF('Embedded Answer (Cloze) Strings'!$D$5=\"\",1,'Embedded Answer (Cloze) Strings'!$D$5)&\":MC:%0%a~%0%b~%0%c~%0%d~%0%e~%0%f~%0%g~%0%h~%0%i~%0%j~%0%k~%0%l~%0%m~%0%n~%0%o~%0%p~%0%q~%0%r~%0%s~%0%t~%0%u~%0%v~%0%w~%0%x~%0%y~%0%z}\"","v":"{1:MC:%0%a~%0%b~%0%c~%0%d~%0%e~%0%f~%0%g~%0%h~%0%i~%0%j~%0%k~%0%l~%0%m~%0%n~%0%o~%0%p~%0%q~%0%r~%0%s~%0%t~%0%u~%0%v~%0%w~%0%x~%0%y~%0%z}"},"","","%0%","=","",null,null,null,9,"{1:MC:%0%a~%0%b~%0%c~%0%d~%0%e~%0%f~%0%g~%0%h~%0%i~%0%j~%0%k~%0%l~%0%m~%0%n~%0%o~%0%p~%0%q~%0%r~%0%s~%0%t~%0%u~%0%v~%0%w~%0%x~%0%y~%0%z}","","","%0%","=",""]
[10,{"$f":"\"{\"&IF('Embedded Answer (Cloze) Strings'!$D$5=\"\",1,'Embedded Answer (Cloze) Strings'!$D$5)&\":MC:%0%a~%0%b~%0%c~%0%d~%0%e~%0%f~%0%g~%0%h~%0%i~%0%j~%0%k~%0%l~%0%m~%0%n~%0%o~%0%p~%0%q~%0%r~%0%s~%0%t~%0%u~%0%v~%0%w~%0%x~%0%y~%0%z}\"","v":"{1:MC:%0%a~%0%b~%0%c~%0%d~%0%e~%0%f~%0%g~%0%h~%0%i~%0%j~%0%k~%0%l~%0%m~%0%n~%0%o~%0%p~%0%q~%0%r~%0%s~%0%t~%0%u~%0%v~%0%w~%0%x~%0%y~%0%z}"},"","","%0%","=","",null,null,null,10,"{1:MC:%0%a~%0%b~%0%c~%0%d~%0%e~%0%f~%0%g~%0%h~%0%i~%0%j~%0%k~%0%l~%0%m~%0%n~%0%o~%0%p~%0%q~%0%r~%0%s~%0%t~%0%u~%0%v~%0%w~%0%x~%0%y~%0%z}","","","%0%","=",""]
[11,{"$f":"\"{\"&IF('Embedded Answer (Cloze) Strings'!$D$5=\"\",1,'Embedded Answer (Cloze) Strings'!$D$5)&\":MC:%0%a~%0%b~%0%c~%0%d~%0%e~%0%f~%0%g~%0%h~%0%i~%0%j~%0%k~%0%l~%0%m~%0%n~%0%o~%0%p~%0%q~%0%r~%0%s~%0%t~%0%u~%0%v~%0%w~%0%x~%0%y~%0%z}\"","v":"{1:MC:%0%a~%0%b~%0%c~%0%d~%0%e~%0%f~%0%g~%0%h~%0%i~%0%j~%0%k~%0%l~%0%m~%0%n~%0%o~%0%p~%0%q~%0%r~%0%s~%0%t~%0%u~%0%v~%0%w~%0%x~%0%y~%0%z}"},"","","%0%","=","",null,null,null,11,"{1:MC:%0%a~%0%b~%0%c~%0%d~%0%e~%0%f~%0%g~%0%h~%0%i~%0%j~%0%k~%0%l~%0%m~%0%n~%0%o~%0%p~%0%q~%0%r~%0%s~%0%t~%0%u~%0%v~%0%w~%0%x~%0%y~%0%z}","","","%0%","=",""]
[12,{"$f":"\"{\"&IF('Embedded Answer (Cloze) Strings'!$D$5=\"\",1,'Embedded Answer (Cloze) Strings'!$D$5)&\":MC:%0%a~%0%b~%0%c~%0%d~%0%e~%0%f~%0%g~%0%h~%0%i~%0%j~%0%k~%0%l~%0%m~%0%n~%0%o~%0%p~%0%q~%0%r~%0%s~%0%t~%0%u~%0%v~%0%w~%0%x~%0%y~%0%z}\"","v":"{1:MC:%0%a~%0%b~%0%c~%0%d~%0%e~%0%f~%0%g~%0%h~%0%i~%0%j~%0%k~%0%l~%0%m~%0%n~%0%o~%0%p~%0%q~%0%r~%0%s~%0%t~%0%u~%0%v~%0%w~%0%x~%0%y~%0%z}"},"","","%0%","=","",null,null,null,12,"{1:MC:%0%a~%0%b~%0%c~%0%d~%0%e~%0%f~%0%g~%0%h~%0%i~%0%j~%0%k~%0%l~%0%m~%0%n~%0%o~%0%p~%0%q~%0%r~%0%s~%0%t~%0%u~%0%v~%0%w~%0%x~%0%y~%0%z}","","","%0%","=",""]
[13,{"$f":"\"{\"&IF('Embedded Answer (Cloze) Strings'!$D$5=\"\",1,'Embedded Answer (Cloze) Strings'!$D$5)&\":MC:%0%a~%0%b~%0%c~%0%d~%0%e~%0%f~%0%g~%0%h~%0%i~%0%j~%0%k~%0%l~%0%m~%0%n~%0%o~%0%p~%0%q~%0%r~%0%s~%0%t~%0%u~%0%v~%0%w~%0%x~%0%y~%0%z}\"","v":"{1:MC:%0%a~%0%b~%0%c~%0%d~%0%e~%0%f~%0%g~%0%h~%0%i~%0%j~%0%k~%0%l~%0%m~%0%n~%0%o~%0%p~%0%q~%0%r~%0%s~%0%t~%0%u~%0%v~%0%w~%0%x~%0%y~%0%z}"},"","","%0%","=","",null,null,null,13,"{1:MC:%0%a~%0%b~%0%c~%0%d~%0%e~%0%f~%0%g~%0%h~%0%i~%0%j~%0%k~%0%l~%0%m~%0%n~%0%o~%0%p~%0%q~%0%r~%0%s~%0%t~%0%u~%0%v~%0%w~%0%x~%0%y~%0%z}","","","%0%","=",""]
[14,{"$f":"\"{\"&IF('Embedded Answer (Cloze) Strings'!$D$5=\"\",1,'Embedded Answer (Cloze) Strings'!$D$5)&\":MC:%0%a~%0%b~%0%c~%0%d~%0%e~%0%f~%0%g~%0%h~%0%i~%0%j~%0%k~%0%l~%0%m~%0%n~%0%o~%0%p~%0%q~%0%r~%0%s~%0%t~%0%u~%0%v~%0%w~%0%x~%0%y~%0%z}\"","v":"{1:MC:%0%a~%0%b~%0%c~%0%d~%0%e~%0%f~%0%g~%0%h~%0%i~%0%j~%0%k~%0%l~%0%m~%0%n~%0%o~%0%p~%0%q~%0%r~%0%s~%0%t~%0%u~%0%v~%0%w~%0%x~%0%y~%0%z}"},"","","%0%","=","",null,null,null,14,"{1:MC:%0%a~%0%b~%0%c~%0%d~%0%e~%0%f~%0%g~%0%h~%0%i~%0%j~%0%k~%0%l~%0%m~%0%n~%0%o~%0%p~%0%q~%0%r~%0%s~%0%t~%0%u~%0%v~%0%w~%0%x~%0%y~%0%z}","","","%0%","=",""]
[15,{"$f":"\"{\"&IF('Embedded Answer (Cloze) Strings'!$D$5=\"\",1,'Embedded Answer (Cloze) Strings'!$D$5)&\":MC:%0%a~%0%b~%0%c~%0%d~%0%e~%0%f~%0%g~%0%h~%0%i~%0%j~%0%k~%0%l~%0%m~%0%n~%0%o~%0%p~%0%q~%0%r~%0%s~%0%t~%0%u~%0%v~%0%w~%0%x~%0%y~%0%z}\"","v":"{1:MC:%0%a~%0%b~%0%c~%0%d~%0%e~%0%f~%0%g~%0%h~%0%i~%0%j~%0%k~%0%l~%0%m~%0%n~%0%o~%0%p~%0%q~%0%r~%0%s~%0%t~%0%u~%0%v~%0%w~%0%x~%0%y~%0%z}"},"","","%0%","=","",null,null,null,15,"{1:MC:%0%a~%0%b~%0%c~%0%d~%0%e~%0%f~%0%g~%0%h~%0%i~%0%j~%0%k~%0%l~%0%m~%0%n~%0%o~%0%p~%0%q~%0%r~%0%s~%0%t~%0%u~%0%v~%0%w~%0%x~%0%y~%0%z}","","","%0%","=",""]
[16,{"$f":"\"{\"&IF('Embedded Answer (Cloze) Strings'!$D$5=\"\",1,'Embedded Answer (Cloze) Strings'!$D$5)&\":MC:%0%a~%0%b~%0%c~%0%d~%0%e~%0%f~%0%g~%0%h~%0%i~%0%j~%0%k~%0%l~%0%m~%0%n~%0%o~%0%p~%0%q~%0%r~%0%s~%0%t~%0%u~%0%v~%0%w~%0%x~%0%y~%0%z}\"","v":"{1:MC:%0%a~%0%b~%0%c~%0%d~%0%e~%0%f~%0%g~%0%h~%0%i~%0%j~%0%k~%0%l~%0%m~%0%n~%0%o~%0%p~%0%q~%0%r~%0%s~%0%t~%0%u~%0%v~%0%w~%0%x~%0%y~%0%z}"},"","","%0%","=","",null,null,null,16,"{1:MC:%0%a~%0%b~%0%c~%0%d~%0%e~%0%f~%0%g~%0%h~%0%i~%0%j~%0%k~%0%l~%0%m~%0%n~%0%o~%0%p~%0%q~%0%r~%0%s~%0%t~%0%u~%0%v~%0%w~%0%x~%0%y~%0%z}","","","%0%","=",""]
[17,{"$f":"\"{\"&IF('Embedded Answer (Cloze) Strings'!$D$5=\"\",1,'Embedded Answer (Cloze) Strings'!$D$5)&\":MC:%0%a~%0%b~%0%c~%0%d~%0%e~%0%f~%0%g~%0%h~%0%i~%0%j~%0%k~%0%l~%0%m~%0%n~%0%o~%0%p~%0%q~%0%r~%0%s~%0%t~%0%u~%0%v~%0%w~%0%x~%0%y~%0%z}\"","v":"{1:MC:%0%a~%0%b~%0%c~%0%d~%0%e~%0%f~%0%g~%0%h~%0%i~%0%j~%0%k~%0%l~%0%m~%0%n~%0%o~%0%p~%0%q~%0%r~%0%s~%0%t~%0%u~%0%v~%0%w~%0%x~%0%y~%0%z}"},"","","%0%","=","",null,null,null,17,"{1:MC:%0%a~%0%b~%0%c~%0%d~%0%e~%0%f~%0%g~%0%h~%0%i~%0%j~%0%k~%0%l~%0%m~%0%n~%0%o~%0%p~%0%q~%0%r~%0%s~%0%t~%0%u~%0%v~%0%w~%0%x~%0%y~%0%z}","","","%0%","=",""]
[18,{"$f":"\"{\"&IF('Embedded Answer (Cloze) Strings'!$D$5=\"\",1,'Embedded Answer (Cloze) Strings'!$D$5)&\":MC:%0%a~%0%b~%0%c~%0%d~%0%e~%0%f~%0%g~%0%h~%0%i~%0%j~%0%k~%0%l~%0%m~%0%n~%0%o~%0%p~%0%q~%0%r~%0%s~%0%t~%0%u~%0%v~%0%w~%0%x~%0%y~%0%z}\"","v":"{1:MC:%0%a~%0%b~%0%c~%0%d~%0%e~%0%f~%0%g~%0%h~%0%i~%0%j~%0%k~%0%l~%0%m~%0%n~%0%o~%0%p~%0%q~%0%r~%0%s~%0%t~%0%u~%0%v~%0%w~%0%x~%0%y~%0%z}"},"","","%0%","=","",null,null,null,18,"{1:MC:%0%a~%0%b~%0%c~%0%d~%0%e~%0%f~%0%g~%0%h~%0%i~%0%j~%0%k~%0%l~%0%m~%0%n~%0%o~%0%p~%0%q~%0%r~%0%s~%0%t~%0%u~%0%v~%0%w~%0%x~%0%y~%0%z}","","","%0%","=",""]
[19,{"$f":"\"{\"&IF('Embedded Answer (Cloze) Strings'!$D$5=\"\",1,'Embedded Answer (Cloze) Strings'!$D$5)&\":MC:%0%a~%0%b~%0%c~%0%d~%0%e~%0%f~%0%g~%0%h~%0%i~%0%j~%0%k~%0%l~%0%m~%0%n~%0%o~%0%p~%0%q~%0%r~%0%s~%0%t~%0%u~%0%v~%0%w~%0%x~%0%y~%0%z}\"","v":"{1:MC:%0%a~%0%b~%0%c~%0%d~%0%e~%0%f~%0%g~%0%h~%0%i~%0%j~%0%k~%0%l~%0%m~%0%n~%0%o~%0%p~%0%q~%0%r~%0%s~%0%t~%0%u~%0%v~%0%w~%0%x~%0%y~%0%z}"},"","","%0%","=","",null,null,null,19,"{1:MC:%0%a~%0%b~%0%c~%0%d~%0%e~%0%f~%0%g~%0%h~%0%i~%0%j~%0%k~%0%l~%0%m~%0%n~%0%o~%0%p~%0%q~%0%r~%0%s~%0%t~%0%u~%0%v~%0%w~%0%x~%0%y~%0%z}","","","%0%","=",""]
[20,{"$f":"\"{\"&IF('Embedded Answer (Cloze) Strings'!$D$5=\"\",1,'Embedded Answer (Cloze) Strings'!$D$5)&\":MC:%0%a~%0%b~%0%c~%0%d~%0%e~%0%f~%0%g~%0%h~%0%i~%0%j~%0%k~%0%l~%0%m~%0%n~%0%o~%0%p~%0%q~%0%r~%0%s~%0%t~%0%u~%0%v~%0%w~%0%x~%0%y~%0%z}\"","v":"{1:MC:%0%a~%0%b~%0%c~%0%d~%0%e~%0%f~%0%g~%0%h~%0%i~%0%j~%0%k~%0%l~%0%m~%0%n~%0%o~%0%p~%0%q~%0%r~%0%s~%0%t~%0%u~%0%v~%0%w~%0%x~%0%y~%0%z}"},"","","%0%","=","",null,null,null,20,"{1:MC:%0%a~%0%b~%0%c~%0%d~%0%e~%0%f~%0%g~%0%h~%0%i~%0%j~%0%k~%0%l~%0%m~%0%n~%0%o~%0%p~%0%q~%0%r~%0%s~%0%t~%0%u~%0%v~%0%w~%0%x~%0%y~%0%z}","","","%0%","=",""]
[]
[null,null,null,null,null,null,4,null,null,null,null,null,null,null,null,null,4]
[null,null,null,null,null,null,"Type word here (lowecase only):",{"$f":"'Embedded Answer (Cloze) Strings'!$F$6","v":0},null,null,null,null,null,null,null,null,"Type word here (lowecase only):",{"$f":"'GIFT Import Strings'!$I$6","v":0}]
["Index","Original","String","Letter","Wrong","Right","Copy this code and paste as plain text into Moodle:",{"$f":"G76&G77&G78&G79&G80&G81&G82&G83&G84&G85&G86&G87&G88&G89&G90&G91&G92&G93&G94&G95","v":"{1:MC:%0%a~%0%b~%0%c~%0%d~%0%e~%0%f~%0%g~%0%h~%0%i~%0%j~%0%k~%0%l~%0%m~%0%n~%0%o~%0%p~%0%q~%0%r~%0%s~%0%t~%0%u~%0%v~%0%w~%0%x~%0%y~%0%z}"},null,null,"Index","Original","String","Letter","Wrong","Right","Copy this code and paste as plain text into Moodle:",{"$f":"Q76&Q77&Q78&Q79&Q80&Q81&Q82&Q83&Q84&Q85&Q86&Q87&Q88&Q89&Q90&Q91&Q92&Q93&Q94&Q95","v":"{1:MC:%0%a~%0%b~%0%c~%0%d~%0%e~%0%f~%0%g~%0%h~%0%i~%0%j~%0%k~%0%l~%0%m~%0%n~%0%o~%0%p~%0%q~%0%r~%0%s~%0%t~%0%u~%0%v~%0%w~%0%x~%0%y~%0%z}"}]
[1,{"$f":"\"{\"&IF('Embedded Answer (Cloze) Strings'!$D$6=\"\",1,'Embedded Answer (Cloze) Strings'!$D$6)&\":MC:%0%a~%0%b~%0%c~%0%d~%0%e~%0%f~%0%g~%0%h~%0%i~%0%j~%0%k~%0%l~%0%m~%0%n~%0%o~%0%p~%0%q~%0%r~%0%s~%0%t~%0%u~%0%v~%0%w~%0%x~%0%y~%0%z}\"","v":"{1:MC:%0%a~%0%b~%0%c~%0%d~%0%e~%0%f~%0%g~%0%h~%0%i~%0%j~%0%k~%0%l~%0%m~%0%n~%0%o~%0%p~%0%q~%0%r~%0%s~%0%t~%0%u~%0%v~%0%w~%0%x~%0%y~%0%z}"},{"$f":"IF(LEN($H$74)>=$A76,LEFT($H$74,$A76),\"\")","v":"0"},{"$f":"RIGHT(C76,1)","v":"0"},{"$f":"\"%0%\"&D76","v":"%0%0"},{"$f":"\"=\"&D76","v":"=0"},{"$f":"IF(D76=\"\",\"\",SUBSTITUTE(B76,E76,F76))","v":"{1:MC:%0%a~%0%b~%0%c~%0%d~%0%e~%0%f~%0%g~%0%h~%0%i~%0%j~%0%k~%0%l~%0%m~%0%n~%0%o~%0%p~%0%q~%0%r~%0%s~%0%t~%0%u~%0%v~%0%w~%0%x~%0%y~%0%z}"},null,null,null,1,"{1:MC:%0%a~%0%b~%0%c~%0%d~%0%e~%0%f~%0%g~%0%h~%0%i~%0%j~%0%k~%0%l~%0%m~%0%n~%0%o~%0%p~%0%q~%0%r~%0%s~%0%t~%0%u~%0%v~%0%w~%0%x~%0%y~%0%z}",{"$f":"IF(LEN($H$2)>=$A76,LEFT($H$2,$A76),\"\")","v":"0"},{"$f":"RIGHT(M76,1)","v":"0"},{"$f":"\"%0%\"&N76","v":"%0%0"},{"$f":"\"=\"&N76","v":"=0"},{"$f":"IF(N76=\"\",\"\",SUBSTITUTE(L76,O76,P76))","v":"{1:MC:%0%a~%0%b~%0%c~%0%d~%0%e~%0%f~%0%g~%0%h~%0%i~%0%j~%0%k~%0%l~%0%m~%0%n~%0%o~%0%p~%0%q~%0%r~%0%s~%0%t~%0%u~%0%v~%0%w~%0%x~%0%y~%0%z}"}]
[2,{"$f":"\"{\"&IF('Embedded Answer (Cloze) Strings'!$D$6=\"\",1,'Embedded Answer (Cloze) Strings'!$D$6)&\":MC:%0%a~%0%b~%0%c~%0%d~%0%e~%0%f~%0%g~%0%h~%0%i~%0%j~%0%k~%0%l~%0%m~%0%n~%0%o~%0%p~%0%q~%0%r~%0%s~%0%t~%0%u~%0%v~%0%w~%0%x~%0%y~%0%z}\"","v":"{1:MC:%0%a~%0%b~%0%c~%0%d~%0%e~%0%f~%0%g~%0%h~%0%i~%0%j~%0%k~%0%l~%0%m~%0%n~%0%o~%0%p~%0%q~%0%r~%0%s~%0%t~%0%u~%0%v~%0%w~%0%x~%0%y~%0%z}"},"",{"$f":"RIGHT(C77,1)","v":""},{"$f":"\"%0%\"&D77","v":"%0%"},"=","",null,null,null,2,"{1:MC:%0%a~%0%b~%0%c~%0%d~%0%e~%0%f~%0%g~%0%h~%0%i~%0%j~%0%k~%0%l~%0%m~%0%n~%0%o~%0%p~%0%q~%0%r~%0%s~%0%t~%0%u~%0%v~%0%w~%0%x~%0%y~%0%z}","",{"$f":"RIGHT(M77,1)","v":""},{"$f":"\"%0%\"&N77","v":"%0%"},{"$f":"\"=\"&N77","v":"="},{"$f":"IF(N77=\"\",\"\",SUBSTITUTE(L77,O77,P77))","v":""}]
[3,{"$f":"\"{\"&IF('Embedded Answer (Cloze) Strings'!$D$6=\"\",1,'Embedded Answer (Cloze) Strings'!$D$6)&\":MC:%0%a~%0%b~%0%c~%0%d~%0%e~%0%f~%0%g~%0%h~%0%i~%0%j~%0%k~%0%l~%0%m~%0%n~%0%o~%0%p~%0%q~%0%r~%0%s~%0%t~%0%u~%0%v~%0%w~%0%x~%0%y~%0%z}\"","v":"{1:MC:%0%a~%0%b~%0%c~%0%d~%0%e~%0%f~%0%g~%0%h~%0%i~%0%j~%0%k~%0%l~%0%m~%0%n~%0%o~%0%p~%0%q~%0%r~%0%s~%0%t~%0%u~%0%v~%0%w~%0%x~%0%y~%0%z}"},"","","%0%","=","",null,null,null,3,"{1:MC:%0%a~%0%b~%0%c~%0%d~%0%e~%0%f~%0%g~%0%h~%0%i~%0%j~%0%k~%0%l~%0%m~%0%n~%0%o~%0%p~%0%q~%0%r~%0%s~%0%t~%0%u~%0%v~%0%w~%0%x~%0%y~%0%z}","","","%0%","=",""]
[4,{"$f":"\"{\"&IF('Embedded Answer (Cloze) Strings'!$D$6=\"\",1,'Embedded Answer (Cloze) Strings'!$D$6)&\":MC:%0%a~%0%b~%0%c~%0%d~%0%e~%0%f~%0%g~%0%h~%0%i~%0%j~%0%k~%0%l~%0%m~%0%n~%0%o~%0%p~%0%q~%0%r~%0%s~%0%t~%0%u~%0%v~%0%w~%0%x~%0%y~%0%z}\"","v":"{1:MC:%0%a~%0%b~%0%c~%0%d~%0%e~%0%f~%0%g~%0%h~%0%i~%0%j~%0%k~%0%l~%0%m~%0%n~%0%o~%0%p~%0%q~%0%r~%0%s~%0%t~%0%u~%0%v~%0%w~%0%x~%0%y~%0%z}"},"","","%0%","=","",null,null,null,4,"{1:MC:%0%a~%0%b~%0%c~%0%d~%0%e~%0%f~%0%g~%0%h~%0%i~%0%j~%0%k~%0%l~%0%m~%0%n~%0%o~%0%p~%0%q~%0%r~%0%s~%0%t~%0%u~%0%v~%0%w~%0%x~%0%y~%0%z}","","","%0%","=",""]
[5,{"$f":"\"{\"&IF('Embedded Answer (Cloze) Strings'!$D$6=\"\",1,'Embedded Answer (Cloze) Strings'!$D$6)&\":MC:%0%a~%0%b~%0%c~%0%d~%0%e~%0%f~%0%g~%0%h~%0%i~%0%j~%0%k~%0%l~%0%m~%0%n~%0%o~%0%p~%0%q~%0%r~%0%s~%0%t~%0%u~%0%v~%0%w~%0%x~%0%y~%0%z}\"","v":"{1:MC:%0%a~%0%b~%0%c~%0%d~%0%e~%0%f~%0%g~%0%h~%0%i~%0%j~%0%k~%0%l~%0%m~%0%n~%0%o~%0%p~%0%q~%0%r~%0%s~%0%t~%0%u~%0%v~%0%w~%0%x~%0%y~%0%z}"},"","","%0%","=","",null,null,null,5,"{1:MC:%0%a~%0%b~%0%c~%0%d~%0%e~%0%f~%0%g~%0%h~%0%i~%0%j~%0%k~%0%l~%0%m~%0%n~%0%o~%0%p~%0%q~%0%r~%0%s~%0%t~%0%u~%0%v~%0%w~%0%x~%0%y~%0%z}","","","%0%","=",""]
[6,{"$f":"\"{\"&IF('Embedded Answer (Cloze) Strings'!$D$6=\"\",1,'Embedded Answer (Cloze) Strings'!$D$6)&\":MC:%0%a~%0%b~%0%c~%0%d~%0%e~%0%f~%0%g~%0%h~%0%i~%0%j~%0%k~%0%l~%0%m~%0%n~%0%o~%0%p~%0%q~%0%r~%0%s~%0%t~%0%u~%0%v~%0%w~%0%x~%0%y~%0%z}\"","v":"{1:MC:%0%a~%0%b~%0%c~%0%d~%0%e~%0%f~%0%g~%0%h~%0%i~%0%j~%0%k~%0%l~%0%m~%0%n~%0%o~%0%p~%0%q~%0%r~%0%s~%0%t~%0%u~%0%v~%0%w~%0%x~%0%y~%0%z}"},"","","%0%","=","",null,null,null,6,"{1:MC:%0%a~%0%b~%0%c~%0%d~%0%e~%0%f~%0%g~%0%h~%0%i~%0%j~%0%k~%0%l~%0%m~%0%n~%0%o~%0%p~%0%q~%0%r~%0%s~%0%t~%0%u~%0%v~%0%w~%0%x~%0%y~%0%z}","","","%0%","=",""]
[7,{"$f":"\"{\"&IF('Embedded Answer (Cloze) Strings'!$D$6=\"\",1,'Embedded Answer (Cloze) Strings'!$D$6)&\":MC:%0%a~%0%b~%0%c~%0%d~%0%e~%0%f~%0%g~%0%h~%0%i~%0%j~%0%k~%0%l~%0%m~%0%n~%0%o~%0%p~%0%q~%0%r~%0%s~%0%t~%0%u~%0%v~%0%w~%0%x~%0%y~%0%z}\"","v":"{1:MC:%0%a~%0%b~%0%c~%0%d~%0%e~%0%f~%0%g~%0%h~%0%i~%0%j~%0%k~%0%l~%0%m~%0%n~%0%o~%0%p~%0%q~%0%r~%0%s~%0%t~%0%u~%0%v~%0%w~%0%x~%0%y~%0%z}"},"","","%0%","=","",null,null,null,7,"{1:MC:%0%a~%0%b~%0%c~%0%d~%0%e~%0%f~%0%g~%0%h~%0%i~%0%j~%0%k~%0%l~%0%m~%0%n~%0%o~%0%p~%0%q~%0%r~%0%s~%0%t~%0%u~%0%v~%0%w~%0%x~%0%y~%0%z}","","","%0%","=",""]
[8,{"$f":"\"{\"&IF('Embedded Answer (Cloze) Strings'!$D$6=\"\",1,'Embedded Answer (Cloze) Strings'!$D$6)&\":MC:%0%a~%0%b~%0%c~%0%d~%0%e~%0%f~%0%g~%0%h~%0%i~%0%j~%0%k~%0%l~%0%m~%0%n~%0%o~%0%p~%0%q~%0%r~%0%s~%0%t~%0%u~%0%v~%0%w~%0%x~%0%y~%0%z}\"","v":"{1:MC:%0%a~%0%b~%0%c~%0%d~%0%e~%0%f~%0%g~%0%h~%0%i~%0%j~%0%k~%0%l~%0%m~%0%n~%0%o~%0%p~%0%q~%0%r~%0%s~%0%t~%0%u~%0%v~%0%w~%0%x~%0%y~%0%z}"},"","","%0%","=","",null,null,null,8,"{1:MC:%0%a~%0%b~%0%c~%0%d~%0%e~%0%f~%0%g~%0%h~%0%i~%0%j~%0%k~%0%l~%0%m~%0%n~%0%o~%0%p~%0%q~%0%r~%0%s~%0%t~%0%u~%0%v~%0%w~%0%x~%0%y~%0%z}","","","%0%","=",""]
[9,{"$f":"\"{\"&IF('Embedded Answer (Cloze) Strings'!$D$6=\"\",1,'Embedded Answer (Cloze) Strings'!$D$6)&\":MC:%0%a~%0%b~%0%c~%0%d~%0%e~%0%f~%0%g~%0%h~%0%i~%0%j~%0%k~%0%l~%0%m~%0%n~%0%o~%0%p~%0%q~%0%r~%0%s~%0%t~%0%u~%0%v~%0%w~%0%x~%0%y~%0%z}\"","v":"{1:MC:%0%a~%0%b~%0%c~%0%d~%0%e~%0%f~%0%g~%0%h~%0%i~%0%j~%0%k~%0%l~%0%m~%0%n~%0%o~%0%p~%0%q~%0%r~%0%s~%0%t~%0%u~%0%v~%0%w~%0%x~%0%y~%0%z}"},"","","%0%","=","",null,null,null,9,"{1:MC:%0%a~%0%b~%0%c~%0%d~%0%e~%0%f~%0%g~%0%h~%0%i~%0%j~%0%k~%0%l~%0%m~%0%n~%0%o~%0%p~%0%q~%0%r~%0%s~%0%t~%0%u~%0%v~%0%w~%0%x~%0%y~%0%z}","","","%0%","=",""]
[10,{"$f":"\"{\"&IF('Embedded Answer (Cloze) Strings'!$D$6=\"\",1,'Embedded Answer (Cloze) Strings'!$D$6)&\":MC:%0%a~%0%b~%0%c~%0%d~%0%e~%0%f~%0%g~%0%h~%0%i~%0%j~%0%k~%0%l~%0%m~%0%n~%0%o~%0%p~%0%q~%0%r~%0%s~%0%t~%0%u~%0%v~%0%w~%0%x~%0%y~%0%z}\"","v":"{1:MC:%0%a~%0%b~%0%c~%0%d~%0%e~%0%f~%0%g~%0%h~%0%i~%0%j~%0%k~%0%l~%0%m~%0%n~%0%o~%0%p~%0%q~%0%r~%0%s~%0%t~%0%u~%0%v~%0%w~%0%x~%0%y~%0%z}"},"","","%0%","=","",null,null,null,10,"{1:MC:%0%a~%0%b~%0%c~%0%d~%0%e~%0%f~%0%g~%0%h~%0%i~%0%j~%0%k~%0%l~%0%m~%0%n~%0%o~%0%p~%0%q~%0%r~%0%s~%0%t~%0%u~%0%v~%0%w~%0%x~%0%y~%0%z}","","","%0%","=",""]
[11,{"$f":"\"{\"&IF('Embedded Answer (Cloze) Strings'!$D$6=\"\",1,'Embedded Answer (Cloze) Strings'!$D$6)&\":MC:%0%a~%0%b~%0%c~%0%d~%0%e~%0%f~%0%g~%0%h~%0%i~%0%j~%0%k~%0%l~%0%m~%0%n~%0%o~%0%p~%0%q~%0%r~%0%s~%0%t~%0%u~%0%v~%0%w~%0%x~%0%y~%0%z}\"","v":"{1:MC:%0%a~%0%b~%0%c~%0%d~%0%e~%0%f~%0%g~%0%h~%0%i~%0%j~%0%k~%0%l~%0%m~%0%n~%0%o~%0%p~%0%q~%0%r~%0%s~%0%t~%0%u~%0%v~%0%w~%0%x~%0%y~%0%z}"},"","","%0%","=","",null,null,null,11,"{1:MC:%0%a~%0%b~%0%c~%0%d~%0%e~%0%f~%0%g~%0%h~%0%i~%0%j~%0%k~%0%l~%0%m~%0%n~%0%o~%0%p~%0%q~%0%r~%0%s~%0%t~%0%u~%0%v~%0%w~%0%x~%0%y~%0%z}","","","%0%","=",""]
[12,{"$f":"\"{\"&IF('Embedded Answer (Cloze) Strings'!$D$6=\"\",1,'Embedded Answer (Cloze) Strings'!$D$6)&\":MC:%0%a~%0%b~%0%c~%0%d~%0%e~%0%f~%0%g~%0%h~%0%i~%0%j~%0%k~%0%l~%0%m~%0%n~%0%o~%0%p~%0%q~%0%r~%0%s~%0%t~%0%u~%0%v~%0%w~%0%x~%0%y~%0%z}\"","v":"{1:MC:%0%a~%0%b~%0%c~%0%d~%0%e~%0%f~%0%g~%0%h~%0%i~%0%j~%0%k~%0%l~%0%m~%0%n~%0%o~%0%p~%0%q~%0%r~%0%s~%0%t~%0%u~%0%v~%0%w~%0%x~%0%y~%0%z}"},"","","%0%","=","",null,null,null,12,"{1:MC:%0%a~%0%b~%0%c~%0%d~%0%e~%0%f~%0%g~%0%h~%0%i~%0%j~%0%k~%0%l~%0%m~%0%n~%0%o~%0%p~%0%q~%0%r~%0%s~%0%t~%0%u~%0%v~%0%w~%0%x~%0%y~%0%z}","","","%0%","=",""]
[13,{"$f":"\"{\"&IF('Embedded Answer (Cloze) Strings'!$D$6=\"\",1,'Embedded Answer (Cloze) Strings'!$D$6)&\":MC:%0%a~%0%b~%0%c~%0%d~%0%e~%0%f~%0%g~%0%h~%0%i~%0%j~%0%k~%0%l~%0%m~%0%n~%0%o~%0%p~%0%q~%0%r~%0%s~%0%t~%0%u~%0%v~%0%w~%0%x~%0%y~%0%z}\"","v":"{1:MC:%0%a~%0%b~%0%c~%0%d~%0%e~%0%f~%0%g~%0%h~%0%i~%0%j~%0%k~%0%l~%0%m~%0%n~%0%o~%0%p~%0%q~%0%r~%0%s~%0%t~%0%u~%0%v~%0%w~%0%x~%0%y~%0%z}"},"","","%0%","=","",null,null,null,13,"{1:MC:%0%a~%0%b~%0%c~%0%d~%0%e~%0%f~%0%g~%0%h~%0%i~%0%j~%0%k~%0%l~%0%m~%0%n~%0%o~%0%p~%0%q~%0%r~%0%s~%0%t~%0%u~%0%v~%0%w~%0%x~%0%y~%0%z}","","","%0%","=",""]
[14,{"$f":"\"{\"&IF('Embedded Answer (Cloze) Strings'!$D$6=\"\",1,'Embedded Answer (Cloze) Strings'!$D$6)&\":MC:%0%a~%0%b~%0%c~%0%d~%0%e~%0%f~%0%g~%0%h~%0%i~%0%j~%0%k~%0%l~%0%m~%0%n~%0%o~%0%p~%0%q~%0%r~%0%s~%0%t~%0%u~%0%v~%0%w~%0%x~%0%y~%0%z}\"","v":"{1:MC:%0%a~%0%b~%0%c~%0%d~%0%e~%0%f~%0%g~%0%h~%0%i~%0%j~%0%k~%0%l~%0%m~%0%n~%0%o~%0%p~%0%q~%0%r~%0%s~%0%t~%0%u~%0%v~%0%w~%0%x~%0%y~%0%z}"},"","","%0%","=","",null,null,null,14,"{1:MC:%0%a~%0%b~%0%c~%0%d~%0%e~%0%f~%0%g~%0%h~%0%i~%0%j~%0%k~%0%l~%0%m~%0%n~%0%o~%0%p~%0%q~%0%r~%0%s~%0%t~%0%u~%0%v~%0%w~%0%x~%0%y~%0%z}","","","%0%","=",""]
[15,{"$f":"\"{\"&IF('Embedded Answer (Cloze) Strings'!$D$6=\"\",1,'Embedded Answer (Cloze) Strings'!$D$6)&\":MC:%0%a~%0%b~%0%c~%0%d~%0%e~%0%f~%0%g~%0%h~%0%i~%0%j~%0%k~%0%l~%0%m~%0%n~%0%o~%0%p~%0%q~%0%r~%0%s~%0%t~%0%u~%0%v~%0%w~%0%x~%0%y~%0%z}\"","v":"{1:MC:%0%a~%0%b~%0%c~%0%d~%0%e~%0%f~%0%g~%0%h~%0%i~%0%j~%0%k~%0%l~%0%m~%0%n~%0%o~%0%p~%0%q~%0%r~%0%s~%0%t~%0%u~%0%v~%0%w~%0%x~%0%y~%0%z}"},"","","%0%","=","",null,null,null,15,"{1:MC:%0%a~%0%b~%0%c~%0%d~%0%e~%0%f~%0%g~%0%h~%0%i~%0%j~%0%k~%0%l~%0%m~%0%n~%0%o~%0%p~%0%q~%0%r~%0%s~%0%t~%0%u~%0%v~%0%w~%0%x~%0%y~%0%z}","","","%0%","=",""]
[16,{"$f":"\"{\"&IF('Embedded Answer (Cloze) Strings'!$D$6=\"\",1,'Embedded Answer (Cloze) Strings'!$D$6)&\":MC:%0%a~%0%b~%0%c~%0%d~%0%e~%0%f~%0%g~%0%h~%0%i~%0%j~%0%k~%0%l~%0%m~%0%n~%0%o~%0%p~%0%q~%0%r~%0%s~%0%t~%0%u~%0%v~%0%w~%0%x~%0%y~%0%z}\"","v":"{1:MC:%0%a~%0%b~%0%c~%0%d~%0%e~%0%f~%0%g~%0%h~%0%i~%0%j~%0%k~%0%l~%0%m~%0%n~%0%o~%0%p~%0%q~%0%r~%0%s~%0%t~%0%u~%0%v~%0%w~%0%x~%0%y~%0%z}"},"","","%0%","=","",null,null,null,16,"{1:MC:%0%a~%0%b~%0%c~%0%d~%0%e~%0%f~%0%g~%0%h~%0%i~%0%j~%0%k~%0%l~%0%m~%0%n~%0%o~%0%p~%0%q~%0%r~%0%s~%0%t~%0%u~%0%v~%0%w~%0%x~%0%y~%0%z}","","","%0%","=",""]
[17,{"$f":"\"{\"&IF('Embedded Answer (Cloze) Strings'!$D$6=\"\",1,'Embedded Answer (Cloze) Strings'!$D$6)&\":MC:%0%a~%0%b~%0%c~%0%d~%0%e~%0%f~%0%g~%0%h~%0%i~%0%j~%0%k~%0%l~%0%m~%0%n~%0%o~%0%p~%0%q~%0%r~%0%s~%0%t~%0%u~%0%v~%0%w~%0%x~%0%y~%0%z}\"","v":"{1:MC:%0%a~%0%b~%0%c~%0%d~%0%e~%0%f~%0%g~%0%h~%0%i~%0%j~%0%k~%0%l~%0%m~%0%n~%0%o~%0%p~%0%q~%0%r~%0%s~%0%t~%0%u~%0%v~%0%w~%0%x~%0%y~%0%z}"},"","","%0%","=","",null,null,null,17,"{1:MC:%0%a~%0%b~%0%c~%0%d~%0%e~%0%f~%0%g~%0%h~%0%i~%0%j~%0%k~%0%l~%0%m~%0%n~%0%o~%0%p~%0%q~%0%r~%0%s~%0%t~%0%u~%0%v~%0%w~%0%x~%0%y~%0%z}","","","%0%","=",""]
[18,{"$f":"\"{\"&IF('Embedded Answer (Cloze) Strings'!$D$6=\"\",1,'Embedded Answer (Cloze) Strings'!$D$6)&\":MC:%0%a~%0%b~%0%c~%0%d~%0%e~%0%f~%0%g~%0%h~%0%i~%0%j~%0%k~%0%l~%0%m~%0%n~%0%o~%0%p~%0%q~%0%r~%0%s~%0%t~%0%u~%0%v~%0%w~%0%x~%0%y~%0%z}\"","v":"{1:MC:%0%a~%0%b~%0%c~%0%d~%0%e~%0%f~%0%g~%0%h~%0%i~%0%j~%0%k~%0%l~%0%m~%0%n~%0%o~%0%p~%0%q~%0%r~%0%s~%0%t~%0%u~%0%v~%0%w~%0%x~%0%y~%0%z}"},"","","%0%","=","",null,null,null,18,"{1:MC:%0%a~%0%b~%0%c~%0%d~%0%e~%0%f~%0%g~%0%h~%0%i~%0%j~%0%k~%0%l~%0%m~%0%n~%0%o~%0%p~%0%q~%0%r~%0%s~%0%t~%0%u~%0%v~%0%w~%0%x~%0%y~%0%z}","","","%0%","=",""]
[19,{"$f":"\"{\"&IF('Embedded Answer (Cloze) Strings'!$D$6=\"\",1,'Embedded Answer (Cloze) Strings'!$D$6)&\":MC:%0%a~%0%b~%0%c~%0%d~%0%e~%0%f~%0%g~%0%h~%0%i~%0%j~%0%k~%0%l~%0%m~%0%n~%0%o~%0%p~%0%q~%0%r~%0%s~%0%t~%0%u~%0%v~%0%w~%0%x~%0%y~%0%z}\"","v":"{1:MC:%0%a~%0%b~%0%c~%0%d~%0%e~%0%f~%0%g~%0%h~%0%i~%0%j~%0%k~%0%l~%0%m~%0%n~%0%o~%0%p~%0%q~%0%r~%0%s~%0%t~%0%u~%0%v~%0%w~%0%x~%0%y~%0%z}"},"","","%0%","=","",null,null,null,19,"{1:MC:%0%a~%0%b~%0%c~%0%d~%0%e~%0%f~%0%g~%0%h~%0%i~%0%j~%0%k~%0%l~%0%m~%0%n~%0%o~%0%p~%0%q~%0%r~%0%s~%0%t~%0%u~%0%v~%0%w~%0%x~%0%y~%0%z}","","","%0%","=",""]
[20,{"$f":"\"{\"&IF('Embedded Answer (Cloze) Strings'!$D$6=\"\",1,'Embedded Answer (Cloze) Strings'!$D$6)&\":MC:%0%a~%0%b~%0%c~%0%d~%0%e~%0%f~%0%g~%0%h~%0%i~%0%j~%0%k~%0%l~%0%m~%0%n~%0%o~%0%p~%0%q~%0%r~%0%s~%0%t~%0%u~%0%v~%0%w~%0%x~%0%y~%0%z}\"","v":"{1:MC:%0%a~%0%b~%0%c~%0%d~%0%e~%0%f~%0%g~%0%h~%0%i~%0%j~%0%k~%0%l~%0%m~%0%n~%0%o~%0%p~%0%q~%0%r~%0%s~%0%t~%0%u~%0%v~%0%w~%0%x~%0%y~%0%z}"},"","","%0%","=","",null,null,null,20,"{1:MC:%0%a~%0%b~%0%c~%0%d~%0%e~%0%f~%0%g~%0%h~%0%i~%0%j~%0%k~%0%l~%0%m~%0%n~%0%o~%0%p~%0%q~%0%r~%0%s~%0%t~%0%u~%0%v~%0%w~%0%x~%0%y~%0%z}","","","%0%","=",""]
[]
[null,null,null,null,null,null,5,null,null,null,null,null,null,null,null,null,5]
[null,null,null,null,null,null,"Type word here (lowecase only):",{"$f":"'Embedded Answer (Cloze) Strings'!$F$7","v":0},null,null,null,null,null,null,null,null,"Type word here (lowecase only):",{"$f":"'GIFT Import Strings'!$I$7","v":0}]
["Index","Original","String","Letter","Wrong","Right","Copy this code and paste as plain text into Moodle:",{"$f":"G100&G101&G102&G103&G104&G105&G106&G107&G108&G109&G110&G111&G112&G113&G114&G115&G116&G117&G118&G119","v":"{1:MC:%0%a~%0%b~%0%c~%0%d~%0%e~%0%f~%0%g~%0%h~%0%i~%0%j~%0%k~%0%l~%0%m~%0%n~%0%o~%0%p~%0%q~%0%r~%0%s~%0%t~%0%u~%0%v~%0%w~%0%x~%0%y~%0%z}"},null,null,"Index","Original","String","Letter","Wrong","Right","Copy this code and paste as plain text into Moodle:",{"$f":"Q100&Q101&Q102&Q103&Q104&Q105&Q106&Q107&Q108&Q109&Q110&Q111&Q112&Q113&Q114&Q115&Q116&Q117&Q118&Q119","v":"{1:MC:%0%a~%0%b~%0%c~%0%d~%0%e~%0%f~%0%g~%0%h~%0%i~%0%j~%0%k~%0%l~%0%m~%0%n~%0%o~%0%p~%0%q~%0%r~%0%s~%0%t~%0%u~%0%v~%0%w~%0%x~%0%y~%0%z}"}]
[1,{"$f":"\"{\"&IF('Embedded Answer (Cloze) Strings'!$D$7=\"\",1,'Embedded Answer (Cloze) Strings'!$D$7)&\":MC:%0%a~%0%b~%0%c~%0%d~%0%e~%0%f~%0%g~%0%h~%0%i~%0%j~%0%k~%0%l~%0%m~%0%n~%0%o~%0%p~%0%q~%0%r~%0%s~%0%t~%0%u~%0%v~%0%w~%0%x~%0%y~%0%z}\"","v":"{1:MC:%0%a~%0%b~%0%c~%0%d~%0%e~%0%f~%0%g~%0%h~%0%i~%0%j~%0%k~%0%l~%0%m~%0%n~%0%o~%0%p~%0%q~%0%r~%0%s~%0%t~%0%u~%0%v~%0%w~%0%x~%0%y~%0%z}"},{"$f":"IF(LEN($H$98)>=$A100,LEFT($H$98,$A100),\"\")","v":"0"},{"$f":"RIGHT(C100,1)","v":"0"},{"$f":"\"%0%\"&D100","v":"%0%0"},{"$f":"\"=\"&D100","v":"=0"},{"$f":"IF(D100=\"\",\"\",SUBSTITUTE(B100,E100,F100))","v":"{1:MC:%0%a~%0%b~%0%c~%0%d~%0%e~%0%f~%0%g~%0%h~%0%i~%0%j~%0%k~%0%l~%0%m~%0%n~%0%o~%0%p~%0%q~%0%r~%0%s~%0%t~%0%u~%0%v~%0%w~%0%x~%0%y~%0%z}"},null,null,null,1,"{1:MC:%0%a~%0%b~%0%c~%0%d~%0%e~%0%f~%0%g~%0%h~%0%i~%0%j~%0%k~%0%l~%0%m~%0%n~%0%o~%0%p~%0%q~%0%r~%0%s~%0%t~%0%u~%0%v~%0%w~%0%x~%0%y~%0%z}",{"$f":"IF(LEN($H$2)>=$A100,LEFT($H$2,$A100),\"\")","v":"0"},{"$f":"RIGHT(M100,1)","v":"0"},{"$f":"\"%0%\"&N100","v":"%0%0"},{"$f":"\"=\"&N100","v":"=0"},{"$f":"IF(N100=\"\",\"\",SUBSTITUTE(L100,O100,P100))","v":"{1:MC:%0%a~%0%b~%0%c~%0%d~%0%e~%0%f~%0%g~%0%h~%0%i~%0%j~%0%k~%0%l~%0%m~%0%n~%0%o~%0%p~%0%q~%0%r~%0%s~%0%t~%0%u~%0%v~%0%w~%0%x~%0%y~%0%z}"}]
[2,{"$f":"\"{\"&IF('Embedded Answer (Cloze) Strings'!$D$7=\"\",1,'Embedded Answer (Cloze) Strings'!$D$7)&\":MC:%0%a~%0%b~%0%c~%0%d~%0%e~%0%f~%0%g~%0%h~%0%i~%0%j~%0%k~%0%l~%0%m~%0%n~%0%o~%0%p~%0%q~%0%r~%0%s~%0%t~%0%u~%0%v~%0%w~%0%x~%0%y~%0%z}\"","v":"{1:MC:%0%a~%0%b~%0%c~%0%d~%0%e~%0%f~%0%g~%0%h~%0%i~%0%j~%0%k~%0%l~%0%m~%0%n~%0%o~%0%p~%0%q~%0%r~%0%s~%0%t~%0%u~%0%v~%0%w~%0%x~%0%y~%0%z}"},"",{"$f":"RIGHT(C101,1)","v":""},{"$f":"\"%0%\"&D101","v":"%0%"},"=","",null,null,null,2,"{1:MC:%0%a~%0%b~%0%c~%0%d~%0%e~%0%f~%0%g~%0%h~%0%i~%0%j~%0%k~%0%l~%0%m~%0%n~%0%o~%0%p~%0%q~%0%r~%0%s~%0%t~%0%u~%0%v~%0%w~%0%x~%0%y~%0%z}","",{"$f":"RIGHT(M101,1)","v":""},{"$f":"\"%0%\"&N101","v":"%0%"},{"$f":"\"=\"&N101","v":"="},{"$f":"IF(N101=\"\",\"\",SUBSTITUTE(L101,O101,P101))","v":""}]
[3,{"$f":"\"{\"&IF('Embedded Answer (Cloze) Strings'!$D$7=\"\",1,'Embedded Answer (Cloze) Strings'!$D$7)&\":MC:%0%a~%0%b~%0%c~%0%d~%0%e~%0%f~%0%g~%0%h~%0%i~%0%j~%0%k~%0%l~%0%m~%0%n~%0%o~%0%p~%0%q~%0%r~%0%s~%0%t~%0%u~%0%v~%0%w~%0%x~%0%y~%0%z}\"","v":"{1:MC:%0%a~%0%b~%0%c~%0%d~%0%e~%0%f~%0%g~%0%h~%0%i~%0%j~%0%k~%0%l~%0%m~%0%n~%0%o~%0%p~%0%q~%0%r~%0%s~%0%t~%0%u~%0%v~%0%w~%0%x~%0%y~%0%z}"},"","","%0%","=","",null,null,null,3,"{1:MC:%0%a~%0%b~%0%c~%0%d~%0%e~%0%f~%0%g~%0%h~%0%i~%0%j~%0%k~%0%l~%0%m~%0%n~%0%o~%0%p~%0%q~%0%r~%0%s~%0%t~%0%u~%0%v~%0%w~%0%x~%0%y~%0%z}","","","%0%","=",""]
[4,{"$f":"\"{\"&IF('Embedded Answer (Cloze) Strings'!$D$7=\"\",1,'Embedded Answer (Cloze) Strings'!$D$7)&\":MC:%0%a~%0%b~%0%c~%0%d~%0%e~%0%f~%0%g~%0%h~%0%i~%0%j~%0%k~%0%l~%0%m~%0%n~%0%o~%0%p~%0%q~%0%r~%0%s~%0%t~%0%u~%0%v~%0%w~%0%x~%0%y~%0%z}\"","v":"{1:MC:%0%a~%0%b~%0%c~%0%d~%0%e~%0%f~%0%g~%0%h~%0%i~%0%j~%0%k~%0%l~%0%m~%0%n~%0%o~%0%p~%0%q~%0%r~%0%s~%0%t~%0%u~%0%v~%0%w~%0%x~%0%y~%0%z}"},"","","%0%","=","",null,null,null,4,"{1:MC:%0%a~%0%b~%0%c~%0%d~%0%e~%0%f~%0%g~%0%h~%0%i~%0%j~%0%k~%0%l~%0%m~%0%n~%0%o~%0%p~%0%q~%0%r~%0%s~%0%t~%0%u~%0%v~%0%w~%0%x~%0%y~%0%z}","","","%0%","=",""]
[5,{"$f":"\"{\"&IF('Embedded Answer (Cloze) Strings'!$D$7=\"\",1,'Embedded Answer (Cloze) Strings'!$D$7)&\":MC:%0%a~%0%b~%0%c~%0%d~%0%e~%0%f~%0%g~%0%h~%0%i~%0%j~%0%k~%0%l~%0%m~%0%n~%0%o~%0%p~%0%q~%0%r~%0%s~%0%t~%0%u~%0%v~%0%w~%0%x~%0%y~%0%z}\"","v":"{1:MC:%0%a~%0%b~%0%c~%0%d~%0%e~%0%f~%0%g~%0%h~%0%i~%0%j~%0%k~%0%l~%0%m~%0%n~%0%o~%0%p~%0%q~%0%r~%0%s~%0%t~%0%u~%0%v~%0%w~%0%x~%0%y~%0%z}"},"","","%0%","=","",null,null,null,5,"{1:MC:%0%a~%0%b~%0%c~%0%d~%0%e~%0%f~%0%g~%0%h~%0%i~%0%j~%0%k~%0%l~%0%m~%0%n~%0%o~%0%p~%0%q~%0%r~%0%s~%0%t~%0%u~%0%v~%0%w~%0%x~%0%y~%0%z}","","","%0%","=",""]
[6,{"$f":"\"{\"&IF('Embedded Answer (Cloze) Strings'!$D$7=\"\",1,'Embedded Answer (Cloze) Strings'!$D$7)&\":MC:%0%a~%0%b~%0%c~%0%d~%0%e~%0%f~%0%g~%0%h~%0%i~%0%j~%0%k~%0%l~%0%m~%0%n~%0%o~%0%p~%0%q~%0%r~%0%s~%0%t~%0%u~%0%v~%0%w~%0%x~%0%y~%0%z}\"","v":"{1:MC:%0%a~%0%b~%0%c~%0%d~%0%e~%0%f~%0%g~%0%h~%0%i~%0%j~%0%k~%0%l~%0%m~%0%n~%0%o~%0%p~%0%q~%0%r~%0%s~%0%t~%0%u~%0%v~%0%w~%0%x~%0%y~%0%z}"},"","","%0%","=","",null,null,null,6,"{1:MC:%0%a~%0%b~%0%c~%0%d~%0%e~%0%f~%0%g~%0%h~%0%i~%0%j~%0%k~%0%l~%0%m~%0%n~%0%o~%0%p~%0%q~%0%r~%0%s~%0%t~%0%u~%0%v~%0%w~%0%x~%0%y~%0%z}","","","%0%","=",""]
[7,{"$f":"\"{\"&IF('Embedded Answer (Cloze) Strings'!$D$7=\"\",1,'Embedded Answer (Cloze) Strings'!$D$7)&\":MC:%0%a~%0%b~%0%c~%0%d~%0%e~%0%f~%0%g~%0%h~%0%i~%0%j~%0%k~%0%l~%0%m~%0%n~%0%o~%0%p~%0%q~%0%r~%0%s~%0%t~%0%u~%0%v~%0%w~%0%x~%0%y~%0%z}\"","v":"{1:MC:%0%a~%0%b~%0%c~%0%d~%0%e~%0%f~%0%g~%0%h~%0%i~%0%j~%0%k~%0%l~%0%m~%0%n~%0%o~%0%p~%0%q~%0%r~%0%s~%0%t~%0%u~%0%v~%0%w~%0%x~%0%y~%0%z}"},"","","%0%","=","",null,null,null,7,"{1:MC:%0%a~%0%b~%0%c~%0%d~%0%e~%0%f~%0%g~%0%h~%0%i~%0%j~%0%k~%0%l~%0%m~%0%n~%0%o~%0%p~%0%q~%0%r~%0%s~%0%t~%0%u~%0%v~%0%w~%0%x~%0%y~%0%z}","","","%0%","=",""]
[8,{"$f":"\"{\"&IF('Embedded Answer (Cloze) Strings'!$D$7=\"\",1,'Embedded Answer (Cloze) Strings'!$D$7)&\":MC:%0%a~%0%b~%0%c~%0%d~%0%e~%0%f~%0%g~%0%h~%0%i~%0%j~%0%k~%0%l~%0%m~%0%n~%0%o~%0%p~%0%q~%0%r~%0%s~%0%t~%0%u~%0%v~%0%w~%0%x~%0%y~%0%z}\"","v":"{1:MC:%0%a~%0%b~%0%c~%0%d~%0%e~%0%f~%0%g~%0%h~%0%i~%0%j~%0%k~%0%l~%0%m~%0%n~%0%o~%0%p~%0%q~%0%r~%0%s~%0%t~%0%u~%0%v~%0%w~%0%x~%0%y~%0%z}"},"","","%0%","=","",null,null,null,8,"{1:MC:%0%a~%0%b~%0%c~%0%d~%0%e~%0%f~%0%g~%0%h~%0%i~%0%j~%0%k~%0%l~%0%m~%0%n~%0%o~%0%p~%0%q~%0%r~%0%s~%0%t~%0%u~%0%v~%0%w~%0%x~%0%y~%0%z}","","","%0%","=",""]
[9,{"$f":"\"{\"&IF('Embedded Answer (Cloze) Strings'!$D$7=\"\",1,'Embedded Answer (Cloze) Strings'!$D$7)&\":MC:%0%a~%0%b~%0%c~%0%d~%0%e~%0%f~%0%g~%0%h~%0%i~%0%j~%0%k~%0%l~%0%m~%0%n~%0%o~%0%p~%0%q~%0%r~%0%s~%0%t~%0%u~%0%v~%0%w~%0%x~%0%y~%0%z}\"","v":"{1:MC:%0%a~%0%b~%0%c~%0%d~%0%e~%0%f~%0%g~%0%h~%0%i~%0%j~%0%k~%0%l~%0%m~%0%n~%0%o~%0%p~%0%q~%0%r~%0%s~%0%t~%0%u~%0%v~%0%w~%0%x~%0%y~%0%z}"},"","","%0%","=","",null,null,null,9,"{1:MC:%0%a~%0%b~%0%c~%0%d~%0%e~%0%f~%0%g~%0%h~%0%i~%0%j~%0%k~%0%l~%0%m~%0%n~%0%o~%0%p~%0%q~%0%r~%0%s~%0%t~%0%u~%0%v~%0%w~%0%x~%0%y~%0%z}","","","%0%","=",""]
[10,{"$f":"\"{\"&IF('Embedded Answer (Cloze) Strings'!$D$7=\"\",1,'Embedded Answer (Cloze) Strings'!$D$7)&\":MC:%0%a~%0%b~%0%c~%0%d~%0%e~%0%f~%0%g~%0%h~%0%i~%0%j~%0%k~%0%l~%0%m~%0%n~%0%o~%0%p~%0%q~%0%r~%0%s~%0%t~%0%u~%0%v~%0%w~%0%x~%0%y~%0%z}\"","v":"{1:MC:%0%a~%0%b~%0%c~%0%d~%0%e~%0%f~%0%g~%0%h~%0%i~%0%j~%0%k~%0%l~%0%m~%0%n~%0%o~%0%p~%0%q~%0%r~%0%s~%0%t~%0%u~%0%v~%0%w~%0%x~%0%y~%0%z}"},"","","%0%","=","",null,null,null,10,"{1:MC:%0%a~%0%b~%0%c~%0%d~%0%e~%0%f~%0%g~%0%h~%0%i~%0%j~%0%k~%0%l~%0%m~%0%n~%0%o~%0%p~%0%q~%0%r~%0%s~%0%t~%0%u~%0%v~%0%w~%0%x~%0%y~%0%z}","","","%0%","=",""]
[11,{"$f":"\"{\"&IF('Embedded Answer (Cloze) Strings'!$D$7=\"\",1,'Embedded Answer (Cloze) Strings'!$D$7)&\":MC:%0%a~%0%b~%0%c~%0%d~%0%e~%0%f~%0%g~%0%h~%0%i~%0%j~%0%k~%0%l~%0%m~%0%n~%0%o~%0%p~%0%q~%0%r~%0%s~%0%t~%0%u~%0%v~%0%w~%0%x~%0%y~%0%z}\"","v":"{1:MC:%0%a~%0%b~%0%c~%0%d~%0%e~%0%f~%0%g~%0%h~%0%i~%0%j~%0%k~%0%l~%0%m~%0%n~%0%o~%0%p~%0%q~%0%r~%0%s~%0%t~%0%u~%0%v~%0%w~%0%x~%0%y~%0%z}"},"","","%0%","=","",null,null,null,11,"{1:MC:%0%a~%0%b~%0%c~%0%d~%0%e~%0%f~%0%g~%0%h~%0%i~%0%j~%0%k~%0%l~%0%m~%0%n~%0%o~%0%p~%0%q~%0%r~%0%s~%0%t~%0%u~%0%v~%0%w~%0%x~%0%y~%0%z}","","","%0%","=",""]
[12,{"$f":"\"{\"&IF('Embedded Answer (Cloze) Strings'!$D$7=\"\",1,'Embedded Answer (Cloze) Strings'!$D$7)&\":MC:%0%a~%0%b~%0%c~%0%d~%0%e~%0%f~%0%g~%0%h~%0%i~%0%j~%0%k~%0%l~%0%m~%0%n~%0%o~%0%p~%0%q~%0%r~%0%s~%0%t~%0%u~%0%v~%0%w~%0%x~%0%y~%0%z}\"","v":"{1:MC:%0%a~%0%b~%0%c~%0%d~%0%e~%0%f~%0%g~%0%h~%0%i~%0%j~%0%k~%0%l~%0%m~%0%n~%0%o~%0%p~%0%q~%0%r~%0%s~%0%t~%0%u~%0%v~%0%w~%0%x~%0%y~%0%z}"},"","","%0%","=","",null,null,null,12,"{1:MC:%0%a~%0%b~%0%c~%0%d~%0%e~%0%f~%0%g~%0%h~%0%i~%0%j~%0%k~%0%l~%0%m~%0%n~%0%o~%0%p~%0%q~%0%r~%0%s~%0%t~%0%u~%0%v~%0%w~%0%x~%0%y~%0%z}","","","%0%","=",""]
[13,{"$f":"\"{\"&IF('Embedded Answer (Cloze) Strings'!$D$7=\"\",1,'Embedded Answer (Cloze) Strings'!$D$7)&\":MC:%0%a~%0%b~%0%c~%0%d~%0%e~%0%f~%0%g~%0%h~%0%i~%0%j~%0%k~%0%l~%0%m~%0%n~%0%o~%0%p~%0%q~%0%r~%0%s~%0%t~%0%u~%0%v~%0%w~%0%x~%0%y~%0%z}\"","v":"{1:MC:%0%a~%0%b~%0%c~%0%d~%0%e~%0%f~%0%g~%0%h~%0%i~%0%j~%0%k~%0%l~%0%m~%0%n~%0%o~%0%p~%0%q~%0%r~%0%s~%0%t~%0%u~%0%v~%0%w~%0%x~%0%y~%0%z}"},"","","%0%","=","",null,null,null,13,"{1:MC:%0%a~%0%b~%0%c~%0%d~%0%e~%0%f~%0%g~%0%h~%0%i~%0%j~%0%k~%0%l~%0%m~%0%n~%0%o~%0%p~%0%q~%0%r~%0%s~%0%t~%0%u~%0%v~%0%w~%0%x~%0%y~%0%z}","","","%0%","=",""]
[14,{"$f":"\"{\"&IF('Embedded Answer (Cloze) Strings'!$D$7=\"\",1,'Embedded Answer (Cloze) Strings'!$D$7)&\":MC:%0%a~%0%b~%0%c~%0%d~%0%e~%0%f~%0%g~%0%h~%0%i~%0%j~%0%k~%0%l~%0%m~%0%n~%0%o~%0%p~%0%q~%0%r~%0%s~%0%t~%0%u~%0%v~%0%w~%0%x~%0%y~%0%z}\"","v":"{1:MC:%0%a~%0%b~%0%c~%0%d~%0%e~%0%f~%0%g~%0%h~%0%i~%0%j~%0%k~%0%l~%0%m~%0%n~%0%o~%0%p~%0%q~%0%r~%0%s~%0%t~%0%u~%0%v~%0%w~%0%x~%0%y~%0%z}"},"","","%0%","=","",null,null,null,14,"{1:MC:%0%a~%0%b~%0%c~%0%d~%0%e~%0%f~%0%g~%0%h~%0%i~%0%j~%0%k~%0%l~%0%m~%0%n~%0%o~%0%p~%0%q~%0%r~%0%s~%0%t~%0%u~%0%v~%0%w~%0%x~%0%y~%0%z}","","","%0%","=",""]
[15,{"$f":"\"{\"&IF('Embedded Answer (Cloze) Strings'!$D$7=\"\",1,'Embedded Answer (Cloze) Strings'!$D$7)&\":MC:%0%a~%0%b~%0%c~%0%d~%0%e~%0%f~%0%g~%0%h~%0%i~%0%j~%0%k~%0%l~%0%m~%0%n~%0%o~%0%p~%0%q~%0%r~%0%s~%0%t~%0%u~%0%v~%0%w~%0%x~%0%y~%0%z}\"","v":"{1:MC:%0%a~%0%b~%0%c~%0%d~%0%e~%0%f~%0%g~%0%h~%0%i~%0%j~%0%k~%0%l~%0%m~%0%n~%0%o~%0%p~%0%q~%0%r~%0%s~%0%t~%0%u~%0%v~%0%w~%0%x~%0%y~%0%z}"},"","","%0%","=","",null,null,null,15,"{1:MC:%0%a~%0%b~%0%c~%0%d~%0%e~%0%f~%0%g~%0%h~%0%i~%0%j~%0%k~%0%l~%0%m~%0%n~%0%o~%0%p~%0%q~%0%r~%0%s~%0%t~%0%u~%0%v~%0%w~%0%x~%0%y~%0%z}","","","%0%","=",""]
[16,{"$f":"\"{\"&IF('Embedded Answer (Cloze) Strings'!$D$7=\"\",1,'Embedded Answer (Cloze) Strings'!$D$7)&\":MC:%0%a~%0%b~%0%c~%0%d~%0%e~%0%f~%0%g~%0%h~%0%i~%0%j~%0%k~%0%l~%0%m~%0%n~%0%o~%0%p~%0%q~%0%r~%0%s~%0%t~%0%u~%0%v~%0%w~%0%x~%0%y~%0%z}\"","v":"{1:MC:%0%a~%0%b~%0%c~%0%d~%0%e~%0%f~%0%g~%0%h~%0%i~%0%j~%0%k~%0%l~%0%m~%0%n~%0%o~%0%p~%0%q~%0%r~%0%s~%0%t~%0%u~%0%v~%0%w~%0%x~%0%y~%0%z}"},"","","%0%","=","",null,null,null,16,"{1:MC:%0%a~%0%b~%0%c~%0%d~%0%e~%0%f~%0%g~%0%h~%0%i~%0%j~%0%k~%0%l~%0%m~%0%n~%0%o~%0%p~%0%q~%0%r~%0%s~%0%t~%0%u~%0%v~%0%w~%0%x~%0%y~%0%z}","","","%0%","=",""]
[17,{"$f":"\"{\"&IF('Embedded Answer (Cloze) Strings'!$D$7=\"\",1,'Embedded Answer (Cloze) Strings'!$D$7)&\":MC:%0%a~%0%b~%0%c~%0%d~%0%e~%0%f~%0%g~%0%h~%0%i~%0%j~%0%k~%0%l~%0%m~%0%n~%0%o~%0%p~%0%q~%0%r~%0%s~%0%t~%0%u~%0%v~%0%w~%0%x~%0%y~%0%z}\"","v":"{1:MC:%0%a~%0%b~%0%c~%0%d~%0%e~%0%f~%0%g~%0%h~%0%i~%0%j~%0%k~%0%l~%0%m~%0%n~%0%o~%0%p~%0%q~%0%r~%0%s~%0%t~%0%u~%0%v~%0%w~%0%x~%0%y~%0%z}"},"","","%0%","=","",null,null,null,17,"{1:MC:%0%a~%0%b~%0%c~%0%d~%0%e~%0%f~%0%g~%0%h~%0%i~%0%j~%0%k~%0%l~%0%m~%0%n~%0%o~%0%p~%0%q~%0%r~%0%s~%0%t~%0%u~%0%v~%0%w~%0%x~%0%y~%0%z}","","","%0%","=",""]
[18,{"$f":"\"{\"&IF('Embedded Answer (Cloze) Strings'!$D$7=\"\",1,'Embedded Answer (Cloze) Strings'!$D$7)&\":MC:%0%a~%0%b~%0%c~%0%d~%0%e~%0%f~%0%g~%0%h~%0%i~%0%j~%0%k~%0%l~%0%m~%0%n~%0%o~%0%p~%0%q~%0%r~%0%s~%0%t~%0%u~%0%v~%0%w~%0%x~%0%y~%0%z}\"","v":"{1:MC:%0%a~%0%b~%0%c~%0%d~%0%e~%0%f~%0%g~%0%h~%0%i~%0%j~%0%k~%0%l~%0%m~%0%n~%0%o~%0%p~%0%q~%0%r~%0%s~%0%t~%0%u~%0%v~%0%w~%0%x~%0%y~%0%z}"},"","","%0%","=","",null,null,null,18,"{1:MC:%0%a~%0%b~%0%c~%0%d~%0%e~%0%f~%0%g~%0%h~%0%i~%0%j~%0%k~%0%l~%0%m~%0%n~%0%o~%0%p~%0%q~%0%r~%0%s~%0%t~%0%u~%0%v~%0%w~%0%x~%0%y~%0%z}","","","%0%","=",""]
[19,{"$f":"\"{\"&IF('Embedded Answer (Cloze) Strings'!$D$7=\"\",1,'Embedded Answer (Cloze) Strings'!$D$7)&\":MC:%0%a~%0%b~%0%c~%0%d~%0%e~%0%f~%0%g~%0%h~%0%i~%0%j~%0%k~%0%l~%0%m~%0%n~%0%o~%0%p~%0%q~%0%r~%0%s~%0%t~%0%u~%0%v~%0%w~%0%x~%0%y~%0%z}\"","v":"{1:MC:%0%a~%0%b~%0%c~%0%d~%0%e~%0%f~%0%g~%0%h~%0%i~%0%j~%0%k~%0%l~%0%m~%0%n~%0%o~%0%p~%0%q~%0%r~%0%s~%0%t~%0%u~%0%v~%0%w~%0%x~%0%y~%0%z}"},"","","%0%","=","",null,null,null,19,"{1:MC:%0%a~%0%b~%0%c~%0%d~%0%e~%0%f~%0%g~%0%h~%0%i~%0%j~%0%k~%0%l~%0%m~%0%n~%0%o~%0%p~%0%q~%0%r~%0%s~%0%t~%0%u~%0%v~%0%w~%0%x~%0%y~%0%z}","","","%0%","=",""]
[20,{"$f":"\"{\"&IF('Embedded Answer (Cloze) Strings'!$D$7=\"\",1,'Embedded Answer (Cloze) Strings'!$D$7)&\":MC:%0%a~%0%b~%0%c~%0%d~%0%e~%0%f~%0%g~%0%h~%0%i~%0%j~%0%k~%0%l~%0%m~%0%n~%0%o~%0%p~%0%q~%0%r~%0%s~%0%t~%0%u~%0%v~%0%w~%0%x~%0%y~%0%z}\"","v":"{1:MC:%0%a~%0%b~%0%c~%0%d~%0%e~%0%f~%0%g~%0%h~%0%i~%0%j~%0%k~%0%l~%0%m~%0%n~%0%o~%0%p~%0%q~%0%r~%0%s~%0%t~%0%u~%0%v~%0%w~%0%x~%0%y~%0%z}"},"","","%0%","=","",null,null,null,20,"{1:MC:%0%a~%0%b~%0%c~%0%d~%0%e~%0%f~%0%g~%0%h~%0%i~%0%j~%0%k~%0%l~%0%m~%0%n~%0%o~%0%p~%0%q~%0%r~%0%s~%0%t~%0%u~%0%v~%0%w~%0%x~%0%y~%0%z}","","","%0%","=",""]
[]
[null,null,null,null,null,null,6,null,null,null,null,null,null,null,null,null,6]
[null,null,null,null,null,null,"Type word here (lowecase only):",{"$f":"'Embedded Answer (Cloze) Strings'!$F$8","v":0},null,null,null,null,null,null,null,null,"Type word here (lowecase only):",{"$f":"'GIFT Import Strings'!$I$8","v":0}]
["Index","Original","String","Letter","Wrong","Right","Copy this code and paste as plain text into Moodle:",{"$f":"G124&G125&G126&G127&G128&G129&G130&G131&G132&G133&G134&G135&G136&G137&G138&G139&G140&G141&G142&G143","v":"{1:MC:%0%a~%0%b~%0%c~%0%d~%0%e~%0%f~%0%g~%0%h~%0%i~%0%j~%0%k~%0%l~%0%m~%0%n~%0%o~%0%p~%0%q~%0%r~%0%s~%0%t~%0%u~%0%v~%0%w~%0%x~%0%y~%0%z}"},null,null,"Index","Original","String","Letter","Wrong","Right","Copy this code and paste as plain text into Moodle:",{"$f":"Q124&Q125&Q126&Q127&Q128&Q129&Q130&Q131&Q132&Q133&Q134&Q135&Q136&Q137&Q138&Q139&Q140&Q141&Q142&Q143","v":"{1:MC:%0%a~%0%b~%0%c~%0%d~%0%e~%0%f~%0%g~%0%h~%0%i~%0%j~%0%k~%0%l~%0%m~%0%n~%0%o~%0%p~%0%q~%0%r~%0%s~%0%t~%0%u~%0%v~%0%w~%0%x~%0%y~%0%z}"}]
[1,{"$f":"\"{\"&IF('Embedded Answer (Cloze) Strings'!$D$8=\"\",1,'Embedded Answer (Cloze) Strings'!$D$8)&\":MC:%0%a~%0%b~%0%c~%0%d~%0%e~%0%f~%0%g~%0%h~%0%i~%0%j~%0%k~%0%l~%0%m~%0%n~%0%o~%0%p~%0%q~%0%r~%0%s~%0%t~%0%u~%0%v~%0%w~%0%x~%0%y~%0%z}\"","v":"{1:MC:%0%a~%0%b~%0%c~%0%d~%0%e~%0%f~%0%g~%0%h~%0%i~%0%j~%0%k~%0%l~%0%m~%0%n~%0%o~%0%p~%0%q~%0%r~%0%s~%0%t~%0%u~%0%v~%0%w~%0%x~%0%y~%0%z}"},{"$f":"IF(LEN($H$122)>=$A124,LEFT($H$122,$A124),\"\")","v":"0"},{"$f":"RIGHT(C124,1)","v":"0"},{"$f":"\"%0%\"&D124","v":"%0%0"},{"$f":"\"=\"&D124","v":"=0"},{"$f":"IF(D124=\"\",\"\",SUBSTITUTE(B124,E124,F124))","v":"{1:MC:%0%a~%0%b~%0%c~%0%d~%0%e~%0%f~%0%g~%0%h~%0%i~%0%j~%0%k~%0%l~%0%m~%0%n~%0%o~%0%p~%0%q~%0%r~%0%s~%0%t~%0%u~%0%v~%0%w~%0%x~%0%y~%0%z}"},null,null,null,1,"{1:MC:%0%a~%0%b~%0%c~%0%d~%0%e~%0%f~%0%g~%0%h~%0%i~%0%j~%0%k~%0%l~%0%m~%0%n~%0%o~%0%p~%0%q~%0%r~%0%s~%0%t~%0%u~%0%v~%0%w~%0%x~%0%y~%0%z}",{"$f":"IF(LEN($H$2)>=$A124,LEFT($H$2,$A124),\"\")","v":"0"},{"$f":"RIGHT(M124,1)","v":"0"},{"$f":"\"%0%\"&N124","v":"%0%0"},{"$f":"\"=\"&N124","v":"=0"},{"$f":"IF(N124=\"\",\"\",SUBSTITUTE(L124,O124,P124))","v":"{1:MC:%0%a~%0%b~%0%c~%0%d~%0%e~%0%f~%0%g~%0%h~%0%i~%0%j~%0%k~%0%l~%0%m~%0%n~%0%o~%0%p~%0%q~%0%r~%0%s~%0%t~%0%u~%0%v~%0%w~%0%x~%0%y~%0%z}"}]
[2,{"$f":"\"{\"&IF('Embedded Answer (Cloze) Strings'!$D$8=\"\",1,'Embedded Answer (Cloze) Strings'!$D$8)&\":MC:%0%a~%0%b~%0%c~%0%d~%0%e~%0%f~%0%g~%0%h~%0%i~%0%j~%0%k~%0%l~%0%m~%0%n~%0%o~%0%p~%0%q~%0%r~%0%s~%0%t~%0%u~%0%v~%0%w~%0%x~%0%y~%0%z}\"","v":"{1:MC:%0%a~%0%b~%0%c~%0%d~%0%e~%0%f~%0%g~%0%h~%0%i~%0%j~%0%k~%0%l~%0%m~%0%n~%0%o~%0%p~%0%q~%0%r~%0%s~%0%t~%0%u~%0%v~%0%w~%0%x~%0%y~%0%z}"},"",{"$f":"RIGHT(C125,1)","v":""},{"$f":"\"%0%\"&D125","v":"%0%"},"=","",null,null,null,2,"{1:MC:%0%a~%0%b~%0%c~%0%d~%0%e~%0%f~%0%g~%0%h~%0%i~%0%j~%0%k~%0%l~%0%m~%0%n~%0%o~%0%p~%0%q~%0%r~%0%s~%0%t~%0%u~%0%v~%0%w~%0%x~%0%y~%0%z}","",{"$f":"RIGHT(M125,1)","v":""},{"$f":"\"%0%\"&N125","v":"%0%"},{"$f":"\"=\"&N125","v":"="},{"$f":"IF(N125=\"\",\"\",SUBSTITUTE(L125,O125,P125))","v":""}]
[3,{"$f":"\"{\"&IF('Embedded Answer (Cloze) Strings'!$D$8=\"\",1,'Embedded Answer (Cloze) Strings'!$D$8)&\":MC:%0%a~%0%b~%0%c~%0%d~%0%e~%0%f~%0%g~%0%h~%0%i~%0%j~%0%k~%0%l~%0%m~%0%n~%0%o~%0%p~%0%q~%0%r~%0%s~%0%t~%0%u~%0%v~%0%w~%0%x~%0%y~%0%z}\"","v":"{1:MC:%0%a~%0%b~%0%c~%0%d~%0%e~%0%f~%0%g~%0%h~%0%i~%0%j~%0%k~%0%l~%0%m~%0%n~%0%o~%0%p~%0%q~%0%r~%0%s~%0%t~%0%u~%0%v~%0%w~%0%x~%0%y~%0%z}"},"","","%0%","=","",null,null,null,3,"{1:MC:%0%a~%0%b~%0%c~%0%d~%0%e~%0%f~%0%g~%0%h~%0%i~%0%j~%0%k~%0%l~%0%m~%0%n~%0%o~%0%p~%0%q~%0%r~%0%s~%0%t~%0%u~%0%v~%0%w~%0%x~%0%y~%0%z}","","","%0%","=",""]
[4,{"$f":"\"{\"&IF('Embedded Answer (Cloze) Strings'!$D$8=\"\",1,'Embedded Answer (Cloze) Strings'!$D$8)&\":MC:%0%a~%0%b~%0%c~%0%d~%0%e~%0%f~%0%g~%0%h~%0%i~%0%j~%0%k~%0%l~%0%m~%0%n~%0%o~%0%p~%0%q~%0%r~%0%s~%0%t~%0%u~%0%v~%0%w~%0%x~%0%y~%0%z}\"","v":"{1:MC:%0%a~%0%b~%0%c~%0%d~%0%e~%0%f~%0%g~%0%h~%0%i~%0%j~%0%k~%0%l~%0%m~%0%n~%0%o~%0%p~%0%q~%0%r~%0%s~%0%t~%0%u~%0%v~%0%w~%0%x~%0%y~%0%z}"},"","","%0%","=","",null,null,null,4,"{1:MC:%0%a~%0%b~%0%c~%0%d~%0%e~%0%f~%0%g~%0%h~%0%i~%0%j~%0%k~%0%l~%0%m~%0%n~%0%o~%0%p~%0%q~%0%r~%0%s~%0%t~%0%u~%0%v~%0%w~%0%x~%0%y~%0%z}","","","%0%","=",""]
[5,{"$f":"\"{\"&IF('Embedded Answer (Cloze) Strings'!$D$8=\"\",1,'Embedded Answer (Cloze) Strings'!$D$8)&\":MC:%0%a~%0%b~%0%c~%0%d~%0%e~%0%f~%0%g~%0%h~%0%i~%0%j~%0%k~%0%l~%0%m~%0%n~%0%o~%0%p~%0%q~%0%r~%0%s~%0%t~%0%u~%0%v~%0%w~%0%x~%0%y~%0%z}\"","v":"{1:MC:%0%a~%0%b~%0%c~%0%d~%0%e~%0%f~%0%g~%0%h~%0%i~%0%j~%0%k~%0%l~%0%m~%0%n~%0%o~%0%p~%0%q~%0%r~%0%s~%0%t~%0%u~%0%v~%0%w~%0%x~%0%y~%0%z}"},"","","%0%","=","",null,null,null,5,"{1:MC:%0%a~%0%b~%0%c~%0%d~%0%e~%0%f~%0%g~%0%h~%0%i~%0%j~%0%k~%0%l~%0%m~%0%n~%0%o~%0%p~%0%q~%0%r~%0%s~%0%t~%0%u~%0%v~%0%w~%0%x~%0%y~%0%z}","","","%0%","=",""]
[6,{"$f":"\"{\"&IF('Embedded Answer (Cloze) Strings'!$D$8=\"\",1,'Embedded Answer (Cloze) Strings'!$D$8)&\":MC:%0%a~%0%b~%0%c~%0%d~%0%e~%0%f~%0%g~%0%h~%0%i~%0%j~%0%k~%0%l~%0%m~%0%n~%0%o~%0%p~%0%q~%0%r~%0%s~%0%t~%0%u~%0%v~%0%w~%0%x~%0%y~%0%z}\"","v":"{1:MC:%0%a~%0%b~%0%c~%0%d~%0%e~%0%f~%0%g~%0%h~%0%i~%0%j~%0%k~%0%l~%0%m~%0%n~%0%o~%0%p~%0%q~%0%r~%0%s~%0%t~%0%u~%0%v~%0%w~%0%x~%0%y~%0%z}"},"","","%0%","=","",null,null,null,6,"{1:MC:%0%a~%0%b~%0%c~%0%d~%0%e~%0%f~%0%g~%0%h~%0%i~%0%j~%0%k~%0%l~%0%m~%0%n~%0%o~%0%p~%0%q~%0%r~%0%s~%0%t~%0%u~%0%v~%0%w~%0%x~%0%y~%0%z}","","","%0%","=",""]
[7,{"$f":"\"{\"&IF('Embedded Answer (Cloze) Strings'!$D$8=\"\",1,'Embedded Answer (Cloze) Strings'!$D$8)&\":MC:%0%a~%0%b~%0%c~%0%d~%0%e~%0%f~%0%g~%0%h~%0%i~%0%j~%0%k~%0%l~%0%m~%0%n~%0%o~%0%p~%0%q~%0%r~%0%s~%0%t~%0%u~%0%v~%0%w~%0%x~%0%y~%0%z}\"","v":"{1:MC:%0%a~%0%b~%0%c~%0%d~%0%e~%0%f~%0%g~%0%h~%0%i~%0%j~%0%k~%0%l~%0%m~%0%n~%0%o~%0%p~%0%q~%0%r~%0%s~%0%t~%0%u~%0%v~%0%w~%0%x~%0%y~%0%z}"},"","","%0%","=","",null,null,null,7,"{1:MC:%0%a~%0%b~%0%c~%0%d~%0%e~%0%f~%0%g~%0%h~%0%i~%0%j~%0%k~%0%l~%0%m~%0%n~%0%o~%0%p~%0%q~%0%r~%0%s~%0%t~%0%u~%0%v~%0%w~%0%x~%0%y~%0%z}","","","%0%","=",""]
[8,{"$f":"\"{\"&IF('Embedded Answer (Cloze) Strings'!$D$8=\"\",1,'Embedded Answer (Cloze) Strings'!$D$8)&\":MC:%0%a~%0%b~%0%c~%0%d~%0%e~%0%f~%0%g~%0%h~%0%i~%0%j~%0%k~%0%l~%0%m~%0%n~%0%o~%0%p~%0%q~%0%r~%0%s~%0%t~%0%u~%0%v~%0%w~%0%x~%0%y~%0%z}\"","v":"{1:MC:%0%a~%0%b~%0%c~%0%d~%0%e~%0%f~%0%g~%0%h~%0%i~%0%j~%0%k~%0%l~%0%m~%0%n~%0%o~%0%p~%0%q~%0%r~%0%s~%0%t~%0%u~%0%v~%0%w~%0%x~%0%y~%0%z}"},"","","%0%","=","",null,null,null,8,"{1:MC:%0%a~%0%b~%0%c~%0%d~%0%e~%0%f~%0%g~%0%h~%0%i~%0%j~%0%k~%0%l~%0%m~%0%n~%0%o~%0%p~%0%q~%0%r~%0%s~%0%t~%0%u~%0%v~%0%w~%0%x~%0%y~%0%z}","","","%0%","=",""]
[9,{"$f":"\"{\"&IF('Embedded Answer (Cloze) Strings'!$D$8=\"\",1,'Embedded Answer (Cloze) Strings'!$D$8)&\":MC:%0%a~%0%b~%0%c~%0%d~%0%e~%0%f~%0%g~%0%h~%0%i~%0%j~%0%k~%0%l~%0%m~%0%n~%0%o~%0%p~%0%q~%0%r~%0%s~%0%t~%0%u~%0%v~%0%w~%0%x~%0%y~%0%z}\"","v":"{1:MC:%0%a~%0%b~%0%c~%0%d~%0%e~%0%f~%0%g~%0%h~%0%i~%0%j~%0%k~%0%l~%0%m~%0%n~%0%o~%0%p~%0%q~%0%r~%0%s~%0%t~%0%u~%0%v~%0%w~%0%x~%0%y~%0%z}"},"","","%0%","=","",null,null,null,9,"{1:MC:%0%a~%0%b~%0%c~%0%d~%0%e~%0%f~%0%g~%0%h~%0%i~%0%j~%0%k~%0%l~%0%m~%0%n~%0%o~%0%p~%0%q~%0%r~%0%s~%0%t~%0%u~%0%v~%0%w~%0%x~%0%y~%0%z}","","","%0%","=",""]
[10,{"$f":"\"{\"&IF('Embedded Answer (Cloze) Strings'!$D$8=\"\",1,'Embedded Answer (Cloze) Strings'!$D$8)&\":MC:%0%a~%0%b~%0%c~%0%d~%0%e~%0%f~%0%g~%0%h~%0%i~%0%j~%0%k~%0%l~%0%m~%0%n~%0%o~%0%p~%0%q~%0%r~%0%s~%0%t~%0%u~%0%v~%0%w~%0%x~%0%y~%0%z}\"","v":"{1:MC:%0%a~%0%b~%0%c~%0%d~%0%e~%0%f~%0%g~%0%h~%0%i~%0%j~%0%k~%0%l~%0%m~%0%n~%0%o~%0%p~%0%q~%0%r~%0%s~%0%t~%0%u~%0%v~%0%w~%0%x~%0%y~%0%z}"},"","","%0%","=","",null,null,null,10,"{1:MC:%0%a~%0%b~%0%c~%0%d~%0%e~%0%f~%0%g~%0%h~%0%i~%0%j~%0%k~%0%l~%0%m~%0%n~%0%o~%0%p~%0%q~%0%r~%0%s~%0%t~%0%u~%0%v~%0%w~%0%x~%0%y~%0%z}","","","%0%","=",""]
[11,{"$f":"\"{\"&IF('Embedded Answer (Cloze) Strings'!$D$8=\"\",1,'Embedded Answer (Cloze) Strings'!$D$8)&\":MC:%0%a~%0%b~%0%c~%0%d~%0%e~%0%f~%0%g~%0%h~%0%i~%0%j~%0%k~%0%l~%0%m~%0%n~%0%o~%0%p~%0%q~%0%r~%0%s~%0%t~%0%u~%0%v~%0%w~%0%x~%0%y~%0%z}\"","v":"{1:MC:%0%a~%0%b~%0%c~%0%d~%0%e~%0%f~%0%g~%0%h~%0%i~%0%j~%0%k~%0%l~%0%m~%0%n~%0%o~%0%p~%0%q~%0%r~%0%s~%0%t~%0%u~%0%v~%0%w~%0%x~%0%y~%0%z}"},"","","%0%","=","",null,null,null,11,"{1:MC:%0%a~%0%b~%0%c~%0%d~%0%e~%0%f~%0%g~%0%h~%0%i~%0%j~%0%k~%0%l~%0%m~%0%n~%0%o~%0%p~%0%q~%0%r~%0%s~%0%t~%0%u~%0%v~%0%w~%0%x~%0%y~%0%z}","","","%0%","=",""]
[12,{"$f":"\"{\"&IF('Embedded Answer (Cloze) Strings'!$D$8=\"\",1,'Embedded Answer (Cloze) Strings'!$D$8)&\":MC:%0%a~%0%b~%0%c~%0%d~%0%e~%0%f~%0%g~%0%h~%0%i~%0%j~%0%k~%0%l~%0%m~%0%n~%0%o~%0%p~%0%q~%0%r~%0%s~%0%t~%0%u~%0%v~%0%w~%0%x~%0%y~%0%z}\"","v":"{1:MC:%0%a~%0%b~%0%c~%0%d~%0%e~%0%f~%0%g~%0%h~%0%i~%0%j~%0%k~%0%l~%0%m~%0%n~%0%o~%0%p~%0%q~%0%r~%0%s~%0%t~%0%u~%0%v~%0%w~%0%x~%0%y~%0%z}"},"","","%0%","=","",null,null,null,12,"{1:MC:%0%a~%0%b~%0%c~%0%d~%0%e~%0%f~%0%g~%0%h~%0%i~%0%j~%0%k~%0%l~%0%m~%0%n~%0%o~%0%p~%0%q~%0%r~%0%s~%0%t~%0%u~%0%v~%0%w~%0%x~%0%y~%0%z}","","","%0%","=",""]
[13,{"$f":"\"{\"&IF('Embedded Answer (Cloze) Strings'!$D$8=\"\",1,'Embedded Answer (Cloze) Strings'!$D$8)&\":MC:%0%a~%0%b~%0%c~%0%d~%0%e~%0%f~%0%g~%0%h~%0%i~%0%j~%0%k~%0%l~%0%m~%0%n~%0%o~%0%p~%0%q~%0%r~%0%s~%0%t~%0%u~%0%v~%0%w~%0%x~%0%y~%0%z}\"","v":"{1:MC:%0%a~%0%b~%0%c~%0%d~%0%e~%0%f~%0%g~%0%h~%0%i~%0%j~%0%k~%0%l~%0%m~%0%n~%0%o~%0%p~%0%q~%0%r~%0%s~%0%t~%0%u~%0%v~%0%w~%0%x~%0%y~%0%z}"},"","","%0%","=","",null,null,null,13,"{1:MC:%0%a~%0%b~%0%c~%0%d~%0%e~%0%f~%0%g~%0%h~%0%i~%0%j~%0%k~%0%l~%0%m~%0%n~%0%o~%0%p~%0%q~%0%r~%0%s~%0%t~%0%u~%0%v~%0%w~%0%x~%0%y~%0%z}","","","%0%","=",""]
[14,{"$f":"\"{\"&IF('Embedded Answer (Cloze) Strings'!$D$8=\"\",1,'Embedded Answer (Cloze) Strings'!$D$8)&\":MC:%0%a~%0%b~%0%c~%0%d~%0%e~%0%f~%0%g~%0%h~%0%i~%0%j~%0%k~%0%l~%0%m~%0%n~%0%o~%0%p~%0%q~%0%r~%0%s~%0%t~%0%u~%0%v~%0%w~%0%x~%0%y~%0%z}\"","v":"{1:MC:%0%a~%0%b~%0%c~%0%d~%0%e~%0%f~%0%g~%0%h~%0%i~%0%j~%0%k~%0%l~%0%m~%0%n~%0%o~%0%p~%0%q~%0%r~%0%s~%0%t~%0%u~%0%v~%0%w~%0%x~%0%y~%0%z}"},"","","%0%","=","",null,null,null,14,"{1:MC:%0%a~%0%b~%0%c~%0%d~%0%e~%0%f~%0%g~%0%h~%0%i~%0%j~%0%k~%0%l~%0%m~%0%n~%0%o~%0%p~%0%q~%0%r~%0%s~%0%t~%0%u~%0%v~%0%w~%0%x~%0%y~%0%z}","","","%0%","=",""]
[15,{"$f":"\"{\"&IF('Embedded Answer (Cloze) Strings'!$D$8=\"\",1,'Embedded Answer (Cloze) Strings'!$D$8)&\":MC:%0%a~%0%b~%0%c~%0%d~%0%e~%0%f~%0%g~%0%h~%0%i~%0%j~%0%k~%0%l~%0%m~%0%n~%0%o~%0%p~%0%q~%0%r~%0%s~%0%t~%0%u~%0%v~%0%w~%0%x~%0%y~%0%z}\"","v":"{1:MC:%0%a~%0%b~%0%c~%0%d~%0%e~%0%f~%0%g~%0%h~%0%i~%0%j~%0%k~%0%l~%0%m~%0%n~%0%o~%0%p~%0%q~%0%r~%0%s~%0%t~%0%u~%0%v~%0%w~%0%x~%0%y~%0%z}"},"","","%0%","=","",null,null,null,15,"{1:MC:%0%a~%0%b~%0%c~%0%d~%0%e~%0%f~%0%g~%0%h~%0%i~%0%j~%0%k~%0%l~%0%m~%0%n~%0%o~%0%p~%0%q~%0%r~%0%s~%0%t~%0%u~%0%v~%0%w~%0%x~%0%y~%0%z}","","","%0%","=",""]
[16,{"$f":"\"{\"&IF('Embedded Answer (Cloze) Strings'!$D$8=\"\",1,'Embedded Answer (Cloze) Strings'!$D$8)&\":MC:%0%a~%0%b~%0%c~%0%d~%0%e~%0%f~%0%g~%0%h~%0%i~%0%j~%0%k~%0%l~%0%m~%0%n~%0%o~%0%p~%0%q~%0%r~%0%s~%0%t~%0%u~%0%v~%0%w~%0%x~%0%y~%0%z}\"","v":"{1:MC:%0%a~%0%b~%0%c~%0%d~%0%e~%0%f~%0%g~%0%h~%0%i~%0%j~%0%k~%0%l~%0%m~%0%n~%0%o~%0%p~%0%q~%0%r~%0%s~%0%t~%0%u~%0%v~%0%w~%0%x~%0%y~%0%z}"},"","","%0%","=","",null,null,null,16,"{1:MC:%0%a~%0%b~%0%c~%0%d~%0%e~%0%f~%0%g~%0%h~%0%i~%0%j~%0%k~%0%l~%0%m~%0%n~%0%o~%0%p~%0%q~%0%r~%0%s~%0%t~%0%u~%0%v~%0%w~%0%x~%0%y~%0%z}","","","%0%","=",""]
[17,{"$f":"\"{\"&IF('Embedded Answer (Cloze) Strings'!$D$8=\"\",1,'Embedded Answer (Cloze) Strings'!$D$8)&\":MC:%0%a~%0%b~%0%c~%0%d~%0%e~%0%f~%0%g~%0%h~%0%i~%0%j~%0%k~%0%l~%0%m~%0%n~%0%o~%0%p~%0%q~%0%r~%0%s~%0%t~%0%u~%0%v~%0%w~%0%x~%0%y~%0%z}\"","v":"{1:MC:%0%a~%0%b~%0%c~%0%d~%0%e~%0%f~%0%g~%0%h~%0%i~%0%j~%0%k~%0%l~%0%m~%0%n~%0%o~%0%p~%0%q~%0%r~%0%s~%0%t~%0%u~%0%v~%0%w~%0%x~%0%y~%0%z}"},"","","%0%","=","",null,null,null,17,"{1:MC:%0%a~%0%b~%0%c~%0%d~%0%e~%0%f~%0%g~%0%h~%0%i~%0%j~%0%k~%0%l~%0%m~%0%n~%0%o~%0%p~%0%q~%0%r~%0%s~%0%t~%0%u~%0%v~%0%w~%0%x~%0%y~%0%z}","","","%0%","=",""]
[18,{"$f":"\"{\"&IF('Embedded Answer (Cloze) Strings'!$D$8=\"\",1,'Embedded Answer (Cloze) Strings'!$D$8)&\":MC:%0%a~%0%b~%0%c~%0%d~%0%e~%0%f~%0%g~%0%h~%0%i~%0%j~%0%k~%0%l~%0%m~%0%n~%0%o~%0%p~%0%q~%0%r~%0%s~%0%t~%0%u~%0%v~%0%w~%0%x~%0%y~%0%z}\"","v":"{1:MC:%0%a~%0%b~%0%c~%0%d~%0%e~%0%f~%0%g~%0%h~%0%i~%0%j~%0%k~%0%l~%0%m~%0%n~%0%o~%0%p~%0%q~%0%r~%0%s~%0%t~%0%u~%0%v~%0%w~%0%x~%0%y~%0%z}"},"","","%0%","=","",null,null,null,18,"{1:MC:%0%a~%0%b~%0%c~%0%d~%0%e~%0%f~%0%g~%0%h~%0%i~%0%j~%0%k~%0%l~%0%m~%0%n~%0%o~%0%p~%0%q~%0%r~%0%s~%0%t~%0%u~%0%v~%0%w~%0%x~%0%y~%0%z}","","","%0%","=",""]
[19,{"$f":"\"{\"&IF('Embedded Answer (Cloze) Strings'!$D$8=\"\",1,'Embedded Answer (Cloze) Strings'!$D$8)&\":MC:%0%a~%0%b~%0%c~%0%d~%0%e~%0%f~%0%g~%0%h~%0%i~%0%j~%0%k~%0%l~%0%m~%0%n~%0%o~%0%p~%0%q~%0%r~%0%s~%0%t~%0%u~%0%v~%0%w~%0%x~%0%y~%0%z}\"","v":"{1:MC:%0%a~%0%b~%0%c~%0%d~%0%e~%0%f~%0%g~%0%h~%0%i~%0%j~%0%k~%0%l~%0%m~%0%n~%0%o~%0%p~%0%q~%0%r~%0%s~%0%t~%0%u~%0%v~%0%w~%0%x~%0%y~%0%z}"},"","","%0%","=","",null,null,null,19,"{1:MC:%0%a~%0%b~%0%c~%0%d~%0%e~%0%f~%0%g~%0%h~%0%i~%0%j~%0%k~%0%l~%0%m~%0%n~%0%o~%0%p~%0%q~%0%r~%0%s~%0%t~%0%u~%0%v~%0%w~%0%x~%0%y~%0%z}","","","%0%","=",""]
[20,{"$f":"\"{\"&IF('Embedded Answer (Cloze) Strings'!$D$8=\"\",1,'Embedded Answer (Cloze) Strings'!$D$8)&\":MC:%0%a~%0%b~%0%c~%0%d~%0%e~%0%f~%0%g~%0%h~%0%i~%0%j~%0%k~%0%l~%0%m~%0%n~%0%o~%0%p~%0%q~%0%r~%0%s~%0%t~%0%u~%0%v~%0%w~%0%x~%0%y~%0%z}\"","v":"{1:MC:%0%a~%0%b~%0%c~%0%d~%0%e~%0%f~%0%g~%0%h~%0%i~%0%j~%0%k~%0%l~%0%m~%0%n~%0%o~%0%p~%0%q~%0%r~%0%s~%0%t~%0%u~%0%v~%0%w~%0%x~%0%y~%0%z}"},"","","%0%","=","",null,null,null,20,"{1:MC:%0%a~%0%b~%0%c~%0%d~%0%e~%0%f~%0%g~%0%h~%0%i~%0%j~%0%k~%0%l~%0%m~%0%n~%0%o~%0%p~%0%q~%0%r~%0%s~%0%t~%0%u~%0%v~%0%w~%0%x~%0%y~%0%z}","","","%0%","=",""]
[]
[null,null,null,null,null,null,7,null,null,null,null,null,null,null,null,null,7]
[null,null,null,null,null,null,"Type word here (lowecase only):",{"$f":"'Embedded Answer (Cloze) Strings'!$F$9","v":0},null,null,null,null,null,null,null,null,"Type word here (lowecase only):",{"$f":"'GIFT Import Strings'!$I$9","v":0}]
["Index","Original","String","Letter","Wrong","Right","Copy this code and paste as plain text into Moodle:",{"$f":"G148&G149&G150&G151&G152&G153&G154&G155&G156&G157&G158&G159&G160&G161&G162&G163&G164&G165&G166&G167","v":"{1:MC:%0%a~%0%b~%0%c~%0%d~%0%e~%0%f~%0%g~%0%h~%0%i~%0%j~%0%k~%0%l~%0%m~%0%n~%0%o~%0%p~%0%q~%0%r~%0%s~%0%t~%0%u~%0%v~%0%w~%0%x~%0%y~%0%z}"},null,null,"Index","Original","String","Letter","Wrong","Right","Copy this code and paste as plain text into Moodle:",{"$f":"Q148&Q149&Q150&Q151&Q152&Q153&Q154&Q155&Q156&Q157&Q158&Q159&Q160&Q161&Q162&Q163&Q164&Q165&Q166&Q167","v":"{1:MC:%0%a~%0%b~%0%c~%0%d~%0%e~%0%f~%0%g~%0%h~%0%i~%0%j~%0%k~%0%l~%0%m~%0%n~%0%o~%0%p~%0%q~%0%r~%0%s~%0%t~%0%u~%0%v~%0%w~%0%x~%0%y~%0%z}"}]
[1,{"$f":"\"{\"&IF('Embedded Answer (Cloze) Strings'!$D$9=\"\",1,'Embedded Answer (Cloze) Strings'!$D$9)&\":MC:%0%a~%0%b~%0%c~%0%d~%0%e~%0%f~%0%g~%0%h~%0%i~%0%j~%0%k~%0%l~%0%m~%0%n~%0%o~%0%p~%0%q~%0%r~%0%s~%0%t~%0%u~%0%v~%0%w~%0%x~%0%y~%0%z}\"","v":"{1:MC:%0%a~%0%b~%0%c~%0%d~%0%e~%0%f~%0%g~%0%h~%0%i~%0%j~%0%k~%0%l~%0%m~%0%n~%0%o~%0%p~%0%q~%0%r~%0%s~%0%t~%0%u~%0%v~%0%w~%0%x~%0%y~%0%z}"},{"$f":"IF(LEN($H$146)>=$A148,LEFT($H$146,$A148),\"\")","v":"0"},{"$f":"RIGHT(C148,1)","v":"0"},{"$f":"\"%0%\"&D148","v":"%0%0"},{"$f":"\"=\"&D148","v":"=0"},{"$f":"IF(D148=\"\",\"\",SUBSTITUTE(B148,E148,F148))","v":"{1:MC:%0%a~%0%b~%0%c~%0%d~%0%e~%0%f~%0%g~%0%h~%0%i~%0%j~%0%k~%0%l~%0%m~%0%n~%0%o~%0%p~%0%q~%0%r~%0%s~%0%t~%0%u~%0%v~%0%w~%0%x~%0%y~%0%z}"},null,null,null,1,"{1:MC:%0%a~%0%b~%0%c~%0%d~%0%e~%0%f~%0%g~%0%h~%0%i~%0%j~%0%k~%0%l~%0%m~%0%n~%0%o~%0%p~%0%q~%0%r~%0%s~%0%t~%0%u~%0%v~%0%w~%0%x~%0%y~%0%z}",{"$f":"IF(LEN($H$2)>=$A148,LEFT($H$2,$A148),\"\")","v":"0"},{"$f":"RIGHT(M148,1)","v":"0"},{"$f":"\"%0%\"&N148","v":"%0%0"},{"$f":"\"=\"&N148","v":"=0"},{"$f":"IF(N148=\"\",\"\",SUBSTITUTE(L148,O148,P148))","v":"{1:MC:%0%a~%0%b~%0%c~%0%d~%0%e~%0%f~%0%g~%0%h~%0%i~%0%j~%0%k~%0%l~%0%m~%0%n~%0%o~%0%p~%0%q~%0%r~%0%s~%0%t~%0%u~%0%v~%0%w~%0%x~%0%y~%0%z}"}]
[2,{"$f":"\"{\"&IF('Embedded Answer (Cloze) Strings'!$D$9=\"\",1,'Embedded Answer (Cloze) Strings'!$D$9)&\":MC:%0%a~%0%b~%0%c~%0%d~%0%e~%0%f~%0%g~%0%h~%0%i~%0%j~%0%k~%0%l~%0%m~%0%n~%0%o~%0%p~%0%q~%0%r~%0%s~%0%t~%0%u~%0%v~%0%w~%0%x~%0%y~%0%z}\"","v":"{1:MC:%0%a~%0%b~%0%c~%0%d~%0%e~%0%f~%0%g~%0%h~%0%i~%0%j~%0%k~%0%l~%0%m~%0%n~%0%o~%0%p~%0%q~%0%r~%0%s~%0%t~%0%u~%0%v~%0%w~%0%x~%0%y~%0%z}"},"",{"$f":"RIGHT(C149,1)","v":""},{"$f":"\"%0%\"&D149","v":"%0%"},"=","",null,null,null,2,"{1:MC:%0%a~%0%b~%0%c~%0%d~%0%e~%0%f~%0%g~%0%h~%0%i~%0%j~%0%k~%0%l~%0%m~%0%n~%0%o~%0%p~%0%q~%0%r~%0%s~%0%t~%0%u~%0%v~%0%w~%0%x~%0%y~%0%z}","",{"$f":"RIGHT(M149,1)","v":""},{"$f":"\"%0%\"&N149","v":"%0%"},{"$f":"\"=\"&N149","v":"="},{"$f":"IF(N149=\"\",\"\",SUBSTITUTE(L149,O149,P149))","v":""}]
[3,{"$f":"\"{\"&IF('Embedded Answer (Cloze) Strings'!$D$9=\"\",1,'Embedded Answer (Cloze) Strings'!$D$9)&\":MC:%0%a~%0%b~%0%c~%0%d~%0%e~%0%f~%0%g~%0%h~%0%i~%0%j~%0%k~%0%l~%0%m~%0%n~%0%o~%0%p~%0%q~%0%r~%0%s~%0%t~%0%u~%0%v~%0%w~%0%x~%0%y~%0%z}\"","v":"{1:MC:%0%a~%0%b~%0%c~%0%d~%0%e~%0%f~%0%g~%0%h~%0%i~%0%j~%0%k~%0%l~%0%m~%0%n~%0%o~%0%p~%0%q~%0%r~%0%s~%0%t~%0%u~%0%v~%0%w~%0%x~%0%y~%0%z}"},"","","%0%","=","",null,null,null,3,"{1:MC:%0%a~%0%b~%0%c~%0%d~%0%e~%0%f~%0%g~%0%h~%0%i~%0%j~%0%k~%0%l~%0%m~%0%n~%0%o~%0%p~%0%q~%0%r~%0%s~%0%t~%0%u~%0%v~%0%w~%0%x~%0%y~%0%z}","","","%0%","=",""]
[4,{"$f":"\"{\"&IF('Embedded Answer (Cloze) Strings'!$D$9=\"\",1,'Embedded Answer (Cloze) Strings'!$D$9)&\":MC:%0%a~%0%b~%0%c~%0%d~%0%e~%0%f~%0%g~%0%h~%0%i~%0%j~%0%k~%0%l~%0%m~%0%n~%0%o~%0%p~%0%q~%0%r~%0%s~%0%t~%0%u~%0%v~%0%w~%0%x~%0%y~%0%z}\"","v":"{1:MC:%0%a~%0%b~%0%c~%0%d~%0%e~%0%f~%0%g~%0%h~%0%i~%0%j~%0%k~%0%l~%0%m~%0%n~%0%o~%0%p~%0%q~%0%r~%0%s~%0%t~%0%u~%0%v~%0%w~%0%x~%0%y~%0%z}"},"","","%0%","=","",null,null,null,4,"{1:MC:%0%a~%0%b~%0%c~%0%d~%0%e~%0%f~%0%g~%0%h~%0%i~%0%j~%0%k~%0%l~%0%m~%0%n~%0%o~%0%p~%0%q~%0%r~%0%s~%0%t~%0%u~%0%v~%0%w~%0%x~%0%y~%0%z}","","","%0%","=",""]
[5,{"$f":"\"{\"&IF('Embedded Answer (Cloze) Strings'!$D$9=\"\",1,'Embedded Answer (Cloze) Strings'!$D$9)&\":MC:%0%a~%0%b~%0%c~%0%d~%0%e~%0%f~%0%g~%0%h~%0%i~%0%j~%0%k~%0%l~%0%m~%0%n~%0%o~%0%p~%0%q~%0%r~%0%s~%0%t~%0%u~%0%v~%0%w~%0%x~%0%y~%0%z}\"","v":"{1:MC:%0%a~%0%b~%0%c~%0%d~%0%e~%0%f~%0%g~%0%h~%0%i~%0%j~%0%k~%0%l~%0%m~%0%n~%0%o~%0%p~%0%q~%0%r~%0%s~%0%t~%0%u~%0%v~%0%w~%0%x~%0%y~%0%z}"},"","","%0%","=","",null,null,null,5,"{1:MC:%0%a~%0%b~%0%c~%0%d~%0%e~%0%f~%0%g~%0%h~%0%i~%0%j~%0%k~%0%l~%0%m~%0%n~%0%o~%0%p~%0%q~%0%r~%0%s~%0%t~%0%u~%0%v~%0%w~%0%x~%0%y~%0%z}","","","%0%","=",""]
[6,{"$f":"\"{\"&IF('Embedded Answer (Cloze) Strings'!$D$9=\"\",1,'Embedded Answer (Cloze) Strings'!$D$9)&\":MC:%0%a~%0%b~%0%c~%0%d~%0%e~%0%f~%0%g~%0%h~%0%i~%0%j~%0%k~%0%l~%0%m~%0%n~%0%o~%0%p~%0%q~%0%r~%0%s~%0%t~%0%u~%0%v~%0%w~%0%x~%0%y~%0%z}\"","v":"{1:MC:%0%a~%0%b~%0%c~%0%d~%0%e~%0%f~%0%g~%0%h~%0%i~%0%j~%0%k~%0%l~%0%m~%0%n~%0%o~%0%p~%0%q~%0%r~%0%s~%0%t~%0%u~%0%v~%0%w~%0%x~%0%y~%0%z}"},"","","%0%","=","",null,null,null,6,"{1:MC:%0%a~%0%b~%0%c~%0%d~%0%e~%0%f~%0%g~%0%h~%0%i~%0%j~%0%k~%0%l~%0%m~%0%n~%0%o~%0%p~%0%q~%0%r~%0%s~%0%t~%0%u~%0%v~%0%w~%0%x~%0%y~%0%z}","","","%0%","=",""]
[7,{"$f":"\"{\"&IF('Embedded Answer (Cloze) Strings'!$D$9=\"\",1,'Embedded Answer (Cloze) Strings'!$D$9)&\":MC:%0%a~%0%b~%0%c~%0%d~%0%e~%0%f~%0%g~%0%h~%0%i~%0%j~%0%k~%0%l~%0%m~%0%n~%0%o~%0%p~%0%q~%0%r~%0%s~%0%t~%0%u~%0%v~%0%w~%0%x~%0%y~%0%z}\"","v":"{1:MC:%0%a~%0%b~%0%c~%0%d~%0%e~%0%f~%0%g~%0%h~%0%i~%0%j~%0%k~%0%l~%0%m~%0%n~%0%o~%0%p~%0%q~%0%r~%0%s~%0%t~%0%u~%0%v~%0%w~%0%x~%0%y~%0%z}"},"","","%0%","=","",null,null,null,7,"{1:MC:%0%a~%0%b~%0%c~%0%d~%0%e~%0%f~%0%g~%0%h~%0%i~%0%j~%0%k~%0%l~%0%m~%0%n~%0%o~%0%p~%0%q~%0%r~%0%s~%0%t~%0%u~%0%v~%0%w~%0%x~%0%y~%0%z}","","","%0%","=",""]
[8,{"$f":"\"{\"&IF('Embedded Answer (Cloze) Strings'!$D$9=\"\",1,'Embedded Answer (Cloze) Strings'!$D$9)&\":MC:%0%a~%0%b~%0%c~%0%d~%0%e~%0%f~%0%g~%0%h~%0%i~%0%j~%0%k~%0%l~%0%m~%0%n~%0%o~%0%p~%0%q~%0%r~%0%s~%0%t~%0%u~%0%v~%0%w~%0%x~%0%y~%0%z}\"","v":"{1:MC:%0%a~%0%b~%0%c~%0%d~%0%e~%0%f~%0%g~%0%h~%0%i~%0%j~%0%k~%0%l~%0%m~%0%n~%0%o~%0%p~%0%q~%0%r~%0%s~%0%t~%0%u~%0%v~%0%w~%0%x~%0%y~%0%z}"},"","","%0%","=","",null,null,null,8,"{1:MC:%0%a~%0%b~%0%c~%0%d~%0%e~%0%f~%0%g~%0%h~%0%i~%0%j~%0%k~%0%l~%0%m~%0%n~%0%o~%0%p~%0%q~%0%r~%0%s~%0%t~%0%u~%0%v~%0%w~%0%x~%0%y~%0%z}","","","%0%","=",""]
[9,{"$f":"\"{\"&IF('Embedded Answer (Cloze) Strings'!$D$9=\"\",1,'Embedded Answer (Cloze) Strings'!$D$9)&\":MC:%0%a~%0%b~%0%c~%0%d~%0%e~%0%f~%0%g~%0%h~%0%i~%0%j~%0%k~%0%l~%0%m~%0%n~%0%o~%0%p~%0%q~%0%r~%0%s~%0%t~%0%u~%0%v~%0%w~%0%x~%0%y~%0%z}\"","v":"{1:MC:%0%a~%0%b~%0%c~%0%d~%0%e~%0%f~%0%g~%0%h~%0%i~%0%j~%0%k~%0%l~%0%m~%0%n~%0%o~%0%p~%0%q~%0%r~%0%s~%0%t~%0%u~%0%v~%0%w~%0%x~%0%y~%0%z}"},"","","%0%","=","",null,null,null,9,"{1:MC:%0%a~%0%b~%0%c~%0%d~%0%e~%0%f~%0%g~%0%h~%0%i~%0%j~%0%k~%0%l~%0%m~%0%n~%0%o~%0%p~%0%q~%0%r~%0%s~%0%t~%0%u~%0%v~%0%w~%0%x~%0%y~%0%z}","","","%0%","=",""]
[10,{"$f":"\"{\"&IF('Embedded Answer (Cloze) Strings'!$D$9=\"\",1,'Embedded Answer (Cloze) Strings'!$D$9)&\":MC:%0%a~%0%b~%0%c~%0%d~%0%e~%0%f~%0%g~%0%h~%0%i~%0%j~%0%k~%0%l~%0%m~%0%n~%0%o~%0%p~%0%q~%0%r~%0%s~%0%t~%0%u~%0%v~%0%w~%0%x~%0%y~%0%z}\"","v":"{1:MC:%0%a~%0%b~%0%c~%0%d~%0%e~%0%f~%0%g~%0%h~%0%i~%0%j~%0%k~%0%l~%0%m~%0%n~%0%o~%0%p~%0%q~%0%r~%0%s~%0%t~%0%u~%0%v~%0%w~%0%x~%0%y~%0%z}"},"","","%0%","=","",null,null,null,10,"{1:MC:%0%a~%0%b~%0%c~%0%d~%0%e~%0%f~%0%g~%0%h~%0%i~%0%j~%0%k~%0%l~%0%m~%0%n~%0%o~%0%p~%0%q~%0%r~%0%s~%0%t~%0%u~%0%v~%0%w~%0%x~%0%y~%0%z}","","","%0%","=",""]
[11,{"$f":"\"{\"&IF('Embedded Answer (Cloze) Strings'!$D$9=\"\",1,'Embedded Answer (Cloze) Strings'!$D$9)&\":MC:%0%a~%0%b~%0%c~%0%d~%0%e~%0%f~%0%g~%0%h~%0%i~%0%j~%0%k~%0%l~%0%m~%0%n~%0%o~%0%p~%0%q~%0%r~%0%s~%0%t~%0%u~%0%v~%0%w~%0%x~%0%y~%0%z}\"","v":"{1:MC:%0%a~%0%b~%0%c~%0%d~%0%e~%0%f~%0%g~%0%h~%0%i~%0%j~%0%k~%0%l~%0%m~%0%n~%0%o~%0%p~%0%q~%0%r~%0%s~%0%t~%0%u~%0%v~%0%w~%0%x~%0%y~%0%z}"},"","","%0%","=","",null,null,null,11,"{1:MC:%0%a~%0%b~%0%c~%0%d~%0%e~%0%f~%0%g~%0%h~%0%i~%0%j~%0%k~%0%l~%0%m~%0%n~%0%o~%0%p~%0%q~%0%r~%0%s~%0%t~%0%u~%0%v~%0%w~%0%x~%0%y~%0%z}","","","%0%","=",""]
[12,{"$f":"\"{\"&IF('Embedded Answer (Cloze) Strings'!$D$9=\"\",1,'Embedded Answer (Cloze) Strings'!$D$9)&\":MC:%0%a~%0%b~%0%c~%0%d~%0%e~%0%f~%0%g~%0%h~%0%i~%0%j~%0%k~%0%l~%0%m~%0%n~%0%o~%0%p~%0%q~%0%r~%0%s~%0%t~%0%u~%0%v~%0%w~%0%x~%0%y~%0%z}\"","v":"{1:MC:%0%a~%0%b~%0%c~%0%d~%0%e~%0%f~%0%g~%0%h~%0%i~%0%j~%0%k~%0%l~%0%m~%0%n~%0%o~%0%p~%0%q~%0%r~%0%s~%0%t~%0%u~%0%v~%0%w~%0%x~%0%y~%0%z}"},"","","%0%","=","",null,null,null,12,"{1:MC:%0%a~%0%b~%0%c~%0%d~%0%e~%0%f~%0%g~%0%h~%0%i~%0%j~%0%k~%0%l~%0%m~%0%n~%0%o~%0%p~%0%q~%0%r~%0%s~%0%t~%0%u~%0%v~%0%w~%0%x~%0%y~%0%z}","","","%0%","=",""]
[13,{"$f":"\"{\"&IF('Embedded Answer (Cloze) Strings'!$D$9=\"\",1,'Embedded Answer (Cloze) Strings'!$D$9)&\":MC:%0%a~%0%b~%0%c~%0%d~%0%e~%0%f~%0%g~%0%h~%0%i~%0%j~%0%k~%0%l~%0%m~%0%n~%0%o~%0%p~%0%q~%0%r~%0%s~%0%t~%0%u~%0%v~%0%w~%0%x~%0%y~%0%z}\"","v":"{1:MC:%0%a~%0%b~%0%c~%0%d~%0%e~%0%f~%0%g~%0%h~%0%i~%0%j~%0%k~%0%l~%0%m~%0%n~%0%o~%0%p~%0%q~%0%r~%0%s~%0%t~%0%u~%0%v~%0%w~%0%x~%0%y~%0%z}"},"","","%0%","=","",null,null,null,13,"{1:MC:%0%a~%0%b~%0%c~%0%d~%0%e~%0%f~%0%g~%0%h~%0%i~%0%j~%0%k~%0%l~%0%m~%0%n~%0%o~%0%p~%0%q~%0%r~%0%s~%0%t~%0%u~%0%v~%0%w~%0%x~%0%y~%0%z}","","","%0%","=",""]
[14,{"$f":"\"{\"&IF('Embedded Answer (Cloze) Strings'!$D$9=\"\",1,'Embedded Answer (Cloze) Strings'!$D$9)&\":MC:%0%a~%0%b~%0%c~%0%d~%0%e~%0%f~%0%g~%0%h~%0%i~%0%j~%0%k~%0%l~%0%m~%0%n~%0%o~%0%p~%0%q~%0%r~%0%s~%0%t~%0%u~%0%v~%0%w~%0%x~%0%y~%0%z}\"","v":"{1:MC:%0%a~%0%b~%0%c~%0%d~%0%e~%0%f~%0%g~%0%h~%0%i~%0%j~%0%k~%0%l~%0%m~%0%n~%0%o~%0%p~%0%q~%0%r~%0%s~%0%t~%0%u~%0%v~%0%w~%0%x~%0%y~%0%z}"},"","","%0%","=","",null,null,null,14,"{1:MC:%0%a~%0%b~%0%c~%0%d~%0%e~%0%f~%0%g~%0%h~%0%i~%0%j~%0%k~%0%l~%0%m~%0%n~%0%o~%0%p~%0%q~%0%r~%0%s~%0%t~%0%u~%0%v~%0%w~%0%x~%0%y~%0%z}","","","%0%","=",""]
[15,{"$f":"\"{\"&IF('Embedded Answer (Cloze) Strings'!$D$9=\"\",1,'Embedded Answer (Cloze) Strings'!$D$9)&\":MC:%0%a~%0%b~%0%c~%0%d~%0%e~%0%f~%0%g~%0%h~%0%i~%0%j~%0%k~%0%l~%0%m~%0%n~%0%o~%0%p~%0%q~%0%r~%0%s~%0%t~%0%u~%0%v~%0%w~%0%x~%0%y~%0%z}\"","v":"{1:MC:%0%a~%0%b~%0%c~%0%d~%0%e~%0%f~%0%g~%0%h~%0%i~%0%j~%0%k~%0%l~%0%m~%0%n~%0%o~%0%p~%0%q~%0%r~%0%s~%0%t~%0%u~%0%v~%0%w~%0%x~%0%y~%0%z}"},"","","%0%","=","",null,null,null,15,"{1:MC:%0%a~%0%b~%0%c~%0%d~%0%e~%0%f~%0%g~%0%h~%0%i~%0%j~%0%k~%0%l~%0%m~%0%n~%0%o~%0%p~%0%q~%0%r~%0%s~%0%t~%0%u~%0%v~%0%w~%0%x~%0%y~%0%z}","","","%0%","=",""]
[16,{"$f":"\"{\"&IF('Embedded Answer (Cloze) Strings'!$D$9=\"\",1,'Embedded Answer (Cloze) Strings'!$D$9)&\":MC:%0%a~%0%b~%0%c~%0%d~%0%e~%0%f~%0%g~%0%h~%0%i~%0%j~%0%k~%0%l~%0%m~%0%n~%0%o~%0%p~%0%q~%0%r~%0%s~%0%t~%0%u~%0%v~%0%w~%0%x~%0%y~%0%z}\"","v":"{1:MC:%0%a~%0%b~%0%c~%0%d~%0%e~%0%f~%0%g~%0%h~%0%i~%0%j~%0%k~%0%l~%0%m~%0%n~%0%o~%0%p~%0%q~%0%r~%0%s~%0%t~%0%u~%0%v~%0%w~%0%x~%0%y~%0%z}"},"","","%0%","=","",null,null,null,16,"{1:MC:%0%a~%0%b~%0%c~%0%d~%0%e~%0%f~%0%g~%0%h~%0%i~%0%j~%0%k~%0%l~%0%m~%0%n~%0%o~%0%p~%0%q~%0%r~%0%s~%0%t~%0%u~%0%v~%0%w~%0%x~%0%y~%0%z}","","","%0%","=",""]
[17,{"$f":"\"{\"&IF('Embedded Answer (Cloze) Strings'!$D$9=\"\",1,'Embedded Answer (Cloze) Strings'!$D$9)&\":MC:%0%a~%0%b~%0%c~%0%d~%0%e~%0%f~%0%g~%0%h~%0%i~%0%j~%0%k~%0%l~%0%m~%0%n~%0%o~%0%p~%0%q~%0%r~%0%s~%0%t~%0%u~%0%v~%0%w~%0%x~%0%y~%0%z}\"","v":"{1:MC:%0%a~%0%b~%0%c~%0%d~%0%e~%0%f~%0%g~%0%h~%0%i~%0%j~%0%k~%0%l~%0%m~%0%n~%0%o~%0%p~%0%q~%0%r~%0%s~%0%t~%0%u~%0%v~%0%w~%0%x~%0%y~%0%z}"},"","","%0%","=","",null,null,null,17,"{1:MC:%0%a~%0%b~%0%c~%0%d~%0%e~%0%f~%0%g~%0%h~%0%i~%0%j~%0%k~%0%l~%0%m~%0%n~%0%o~%0%p~%0%q~%0%r~%0%s~%0%t~%0%u~%0%v~%0%w~%0%x~%0%y~%0%z}","","","%0%","=",""]
[18,{"$f":"\"{\"&IF('Embedded Answer (Cloze) Strings'!$D$9=\"\",1,'Embedded Answer (Cloze) Strings'!$D$9)&\":MC:%0%a~%0%b~%0%c~%0%d~%0%e~%0%f~%0%g~%0%h~%0%i~%0%j~%0%k~%0%l~%0%m~%0%n~%0%o~%0%p~%0%q~%0%r~%0%s~%0%t~%0%u~%0%v~%0%w~%0%x~%0%y~%0%z}\"","v":"{1:MC:%0%a~%0%b~%0%c~%0%d~%0%e~%0%f~%0%g~%0%h~%0%i~%0%j~%0%k~%0%l~%0%m~%0%n~%0%o~%0%p~%0%q~%0%r~%0%s~%0%t~%0%u~%0%v~%0%w~%0%x~%0%y~%0%z}"},"","","%0%","=","",null,null,null,18,"{1:MC:%0%a~%0%b~%0%c~%0%d~%0%e~%0%f~%0%g~%0%h~%0%i~%0%j~%0%k~%0%l~%0%m~%0%n~%0%o~%0%p~%0%q~%0%r~%0%s~%0%t~%0%u~%0%v~%0%w~%0%x~%0%y~%0%z}","","","%0%","=",""]
[19,{"$f":"\"{\"&IF('Embedded Answer (Cloze) Strings'!$D$9=\"\",1,'Embedded Answer (Cloze) Strings'!$D$9)&\":MC:%0%a~%0%b~%0%c~%0%d~%0%e~%0%f~%0%g~%0%h~%0%i~%0%j~%0%k~%0%l~%0%m~%0%n~%0%o~%0%p~%0%q~%0%r~%0%s~%0%t~%0%u~%0%v~%0%w~%0%x~%0%y~%0%z}\"","v":"{1:MC:%0%a~%0%b~%0%c~%0%d~%0%e~%0%f~%0%g~%0%h~%0%i~%0%j~%0%k~%0%l~%0%m~%0%n~%0%o~%0%p~%0%q~%0%r~%0%s~%0%t~%0%u~%0%v~%0%w~%0%x~%0%y~%0%z}"},"","","%0%","=","",null,null,null,19,"{1:MC:%0%a~%0%b~%0%c~%0%d~%0%e~%0%f~%0%g~%0%h~%0%i~%0%j~%0%k~%0%l~%0%m~%0%n~%0%o~%0%p~%0%q~%0%r~%0%s~%0%t~%0%u~%0%v~%0%w~%0%x~%0%y~%0%z}","","","%0%","=",""]
[20,{"$f":"\"{\"&IF('Embedded Answer (Cloze) Strings'!$D$9=\"\",1,'Embedded Answer (Cloze) Strings'!$D$9)&\":MC:%0%a~%0%b~%0%c~%0%d~%0%e~%0%f~%0%g~%0%h~%0%i~%0%j~%0%k~%0%l~%0%m~%0%n~%0%o~%0%p~%0%q~%0%r~%0%s~%0%t~%0%u~%0%v~%0%w~%0%x~%0%y~%0%z}\"","v":"{1:MC:%0%a~%0%b~%0%c~%0%d~%0%e~%0%f~%0%g~%0%h~%0%i~%0%j~%0%k~%0%l~%0%m~%0%n~%0%o~%0%p~%0%q~%0%r~%0%s~%0%t~%0%u~%0%v~%0%w~%0%x~%0%y~%0%z}"},"","","%0%","=","",null,null,null,20,"{1:MC:%0%a~%0%b~%0%c~%0%d~%0%e~%0%f~%0%g~%0%h~%0%i~%0%j~%0%k~%0%l~%0%m~%0%n~%0%o~%0%p~%0%q~%0%r~%0%s~%0%t~%0%u~%0%v~%0%w~%0%x~%0%y~%0%z}","","","%0%","=",""]
[]
[null,null,null,null,null,null,8,null,null,null,null,null,null,null,null,null,8]
[null,null,null,null,null,null,"Type word here (lowecase only):",{"$f":"'Embedded Answer (Cloze) Strings'!$F$10","v":0},null,null,null,null,null,null,null,null,"Type word here (lowecase only):",{"$f":"'GIFT Import Strings'!$I$10","v":0}]
["Index","Original","String","Letter","Wrong","Right","Copy this code and paste as plain text into Moodle:",{"$f":"G172&G173&G174&G175&G176&G177&G178&G179&G180&G181&G182&G183&G184&G185&G186&G187&G188&G189&G190&G191","v":"{1:MC:%0%a~%0%b~%0%c~%0%d~%0%e~%0%f~%0%g~%0%h~%0%i~%0%j~%0%k~%0%l~%0%m~%0%n~%0%o~%0%p~%0%q~%0%r~%0%s~%0%t~%0%u~%0%v~%0%w~%0%x~%0%y~%0%z}"},null,null,"Index","Original","String","Letter","Wrong","Right","Copy this code and paste as plain text into Moodle:",{"$f":"Q172&Q173&Q174&Q175&Q176&Q177&Q178&Q179&Q180&Q181&Q182&Q183&Q184&Q185&Q186&Q187&Q188&Q189&Q190&Q191","v":"{1:MC:%0%a~%0%b~%0%c~%0%d~%0%e~%0%f~%0%g~%0%h~%0%i~%0%j~%0%k~%0%l~%0%m~%0%n~%0%o~%0%p~%0%q~%0%r~%0%s~%0%t~%0%u~%0%v~%0%w~%0%x~%0%y~%0%z}"}]
[1,{"$f":"\"{\"&IF('Embedded Answer (Cloze) Strings'!$D$10=\"\",1,'Embedded Answer (Cloze) Strings'!$D$10)&\":MC:%0%a~%0%b~%0%c~%0%d~%0%e~%0%f~%0%g~%0%h~%0%i~%0%j~%0%k~%0%l~%0%m~%0%n~%0%o~%0%p~%0%q~%0%r~%0%s~%0%t~%0%u~%0%v~%0%w~%0%x~%0%y~%0%z}\"","v":"{1:MC:%0%a~%0%b~%0%c~%0%d~%0%e~%0%f~%0%g~%0%h~%0%i~%0%j~%0%k~%0%l~%0%m~%0%n~%0%o~%0%p~%0%q~%0%r~%0%s~%0%t~%0%u~%0%v~%0%w~%0%x~%0%y~%0%z}"},{"$f":"IF(LEN($H$170)>=$A172,LEFT($H$170,$A172),\"\")","v":"0"},{"$f":"RIGHT(C172,1)","v":"0"},{"$f":"\"%0%\"&D172","v":"%0%0"},{"$f":"\"=\"&D172","v":"=0"},{"$f":"IF(D172=\"\",\"\",SUBSTITUTE(B172,E172,F172))","v":"{1:MC:%0%a~%0%b~%0%c~%0%d~%0%e~%0%f~%0%g~%0%h~%0%i~%0%j~%0%k~%0%l~%0%m~%0%n~%0%o~%0%p~%0%q~%0%r~%0%s~%0%t~%0%u~%0%v~%0%w~%0%x~%0%y~%0%z}"},null,null,null,1,"{1:MC:%0%a~%0%b~%0%c~%0%d~%0%e~%0%f~%0%g~%0%h~%0%i~%0%j~%0%k~%0%l~%0%m~%0%n~%0%o~%0%p~%0%q~%0%r~%0%s~%0%t~%0%u~%0%v~%0%w~%0%x~%0%y~%0%z}",{"$f":"IF(LEN($H$2)>=$A172,LEFT($H$2,$A172),\"\")","v":"0"},{"$f":"RIGHT(M172,1)","v":"0"},{"$f":"\"%0%\"&N172","v":"%0%0"},{"$f":"\"=\"&N172","v":"=0"},{"$f":"IF(N172=\"\",\"\",SUBSTITUTE(L172,O172,P172))","v":"{1:MC:%0%a~%0%b~%0%c~%0%d~%0%e~%0%f~%0%g~%0%h~%0%i~%0%j~%0%k~%0%l~%0%m~%0%n~%0%o~%0%p~%0%q~%0%r~%0%s~%0%t~%0%u~%0%v~%0%w~%0%x~%0%y~%0%z}"}]
[2,{"$f":"\"{\"&IF('Embedded Answer (Cloze) Strings'!$D$10=\"\",1,'Embedded Answer (Cloze) Strings'!$D$10)&\":MC:%0%a~%0%b~%0%c~%0%d~%0%e~%0%f~%0%g~%0%h~%0%i~%0%j~%0%k~%0%l~%0%m~%0%n~%0%o~%0%p~%0%q~%0%r~%0%s~%0%t~%0%u~%0%v~%0%w~%0%x~%0%y~%0%z}\"","v":"{1:MC:%0%a~%0%b~%0%c~%0%d~%0%e~%0%f~%0%g~%0%h~%0%i~%0%j~%0%k~%0%l~%0%m~%0%n~%0%o~%0%p~%0%q~%0%r~%0%s~%0%t~%0%u~%0%v~%0%w~%0%x~%0%y~%0%z}"},"",{"$f":"RIGHT(C173,1)","v":""},{"$f":"\"%0%\"&D173","v":"%0%"},"=","",null,null,null,2,"{1:MC:%0%a~%0%b~%0%c~%0%d~%0%e~%0%f~%0%g~%0%h~%0%i~%0%j~%0%k~%0%l~%0%m~%0%n~%0%o~%0%p~%0%q~%0%r~%0%s~%0%t~%0%u~%0%v~%0%w~%0%x~%0%y~%0%z}","",{"$f":"RIGHT(M173,1)","v":""},{"$f":"\"%0%\"&N173","v":"%0%"},{"$f":"\"=\"&N173","v":"="},{"$f":"IF(N173=\"\",\"\",SUBSTITUTE(L173,O173,P173))","v":""}]
[3,{"$f":"\"{\"&IF('Embedded Answer (Cloze) Strings'!$D$10=\"\",1,'Embedded Answer (Cloze) Strings'!$D$10)&\":MC:%0%a~%0%b~%0%c~%0%d~%0%e~%0%f~%0%g~%0%h~%0%i~%0%j~%0%k~%0%l~%0%m~%0%n~%0%o~%0%p~%0%q~%0%r~%0%s~%0%t~%0%u~%0%v~%0%w~%0%x~%0%y~%0%z}\"","v":"{1:MC:%0%a~%0%b~%0%c~%0%d~%0%e~%0%f~%0%g~%0%h~%0%i~%0%j~%0%k~%0%l~%0%m~%0%n~%0%o~%0%p~%0%q~%0%r~%0%s~%0%t~%0%u~%0%v~%0%w~%0%x~%0%y~%0%z}"},"","","%0%","=","",null,null,null,3,"{1:MC:%0%a~%0%b~%0%c~%0%d~%0%e~%0%f~%0%g~%0%h~%0%i~%0%j~%0%k~%0%l~%0%m~%0%n~%0%o~%0%p~%0%q~%0%r~%0%s~%0%t~%0%u~%0%v~%0%w~%0%x~%0%y~%0%z}","","","%0%","=",""]
[4,{"$f":"\"{\"&IF('Embedded Answer (Cloze) Strings'!$D$10=\"\",1,'Embedded Answer (Cloze) Strings'!$D$10)&\":MC:%0%a~%0%b~%0%c~%0%d~%0%e~%0%f~%0%g~%0%h~%0%i~%0%j~%0%k~%0%l~%0%m~%0%n~%0%o~%0%p~%0%q~%0%r~%0%s~%0%t~%0%u~%0%v~%0%w~%0%x~%0%y~%0%z}\"","v":"{1:MC:%0%a~%0%b~%0%c~%0%d~%0%e~%0%f~%0%g~%0%h~%0%i~%0%j~%0%k~%0%l~%0%m~%0%n~%0%o~%0%p~%0%q~%0%r~%0%s~%0%t~%0%u~%0%v~%0%w~%0%x~%0%y~%0%z}"},"","","%0%","=","",null,null,null,4,"{1:MC:%0%a~%0%b~%0%c~%0%d~%0%e~%0%f~%0%g~%0%h~%0%i~%0%j~%0%k~%0%l~%0%m~%0%n~%0%o~%0%p~%0%q~%0%r~%0%s~%0%t~%0%u~%0%v~%0%w~%0%x~%0%y~%0%z}","","","%0%","=",""]
[5,{"$f":"\"{\"&IF('Embedded Answer (Cloze) Strings'!$D$10=\"\",1,'Embedded Answer (Cloze) Strings'!$D$10)&\":MC:%0%a~%0%b~%0%c~%0%d~%0%e~%0%f~%0%g~%0%h~%0%i~%0%j~%0%k~%0%l~%0%m~%0%n~%0%o~%0%p~%0%q~%0%r~%0%s~%0%t~%0%u~%0%v~%0%w~%0%x~%0%y~%0%z}\"","v":"{1:MC:%0%a~%0%b~%0%c~%0%d~%0%e~%0%f~%0%g~%0%h~%0%i~%0%j~%0%k~%0%l~%0%m~%0%n~%0%o~%0%p~%0%q~%0%r~%0%s~%0%t~%0%u~%0%v~%0%w~%0%x~%0%y~%0%z}"},"","","%0%","=","",null,null,null,5,"{1:MC:%0%a~%0%b~%0%c~%0%d~%0%e~%0%f~%0%g~%0%h~%0%i~%0%j~%0%k~%0%l~%0%m~%0%n~%0%o~%0%p~%0%q~%0%r~%0%s~%0%t~%0%u~%0%v~%0%w~%0%x~%0%y~%0%z}","","","%0%","=",""]
[6,{"$f":"\"{\"&IF('Embedded Answer (Cloze) Strings'!$D$10=\"\",1,'Embedded Answer (Cloze) Strings'!$D$10)&\":MC:%0%a~%0%b~%0%c~%0%d~%0%e~%0%f~%0%g~%0%h~%0%i~%0%j~%0%k~%0%l~%0%m~%0%n~%0%o~%0%p~%0%q~%0%r~%0%s~%0%t~%0%u~%0%v~%0%w~%0%x~%0%y~%0%z}\"","v":"{1:MC:%0%a~%0%b~%0%c~%0%d~%0%e~%0%f~%0%g~%0%h~%0%i~%0%j~%0%k~%0%l~%0%m~%0%n~%0%o~%0%p~%0%q~%0%r~%0%s~%0%t~%0%u~%0%v~%0%w~%0%x~%0%y~%0%z}"},"","","%0%","=","",null,null,null,6,"{1:MC:%0%a~%0%b~%0%c~%0%d~%0%e~%0%f~%0%g~%0%h~%0%i~%0%j~%0%k~%0%l~%0%m~%0%n~%0%o~%0%p~%0%q~%0%r~%0%s~%0%t~%0%u~%0%v~%0%w~%0%x~%0%y~%0%z}","","","%0%","=",""]
[7,{"$f":"\"{\"&IF('Embedded Answer (Cloze) Strings'!$D$10=\"\",1,'Embedded Answer (Cloze) Strings'!$D$10)&\":MC:%0%a~%0%b~%0%c~%0%d~%0%e~%0%f~%0%g~%0%h~%0%i~%0%j~%0%k~%0%l~%0%m~%0%n~%0%o~%0%p~%0%q~%0%r~%0%s~%0%t~%0%u~%0%v~%0%w~%0%x~%0%y~%0%z}\"","v":"{1:MC:%0%a~%0%b~%0%c~%0%d~%0%e~%0%f~%0%g~%0%h~%0%i~%0%j~%0%k~%0%l~%0%m~%0%n~%0%o~%0%p~%0%q~%0%r~%0%s~%0%t~%0%u~%0%v~%0%w~%0%x~%0%y~%0%z}"},"","","%0%","=","",null,null,null,7,"{1:MC:%0%a~%0%b~%0%c~%0%d~%0%e~%0%f~%0%g~%0%h~%0%i~%0%j~%0%k~%0%l~%0%m~%0%n~%0%o~%0%p~%0%q~%0%r~%0%s~%0%t~%0%u~%0%v~%0%w~%0%x~%0%y~%0%z}","","","%0%","=",""]
[8,{"$f":"\"{\"&IF('Embedded Answer (Cloze) Strings'!$D$10=\"\",1,'Embedded Answer (Cloze) Strings'!$D$10)&\":MC:%0%a~%0%b~%0%c~%0%d~%0%e~%0%f~%0%g~%0%h~%0%i~%0%j~%0%k~%0%l~%0%m~%0%n~%0%o~%0%p~%0%q~%0%r~%0%s~%0%t~%0%u~%0%v~%0%w~%0%x~%0%y~%0%z}\"","v":"{1:MC:%0%a~%0%b~%0%c~%0%d~%0%e~%0%f~%0%g~%0%h~%0%i~%0%j~%0%k~%0%l~%0%m~%0%n~%0%o~%0%p~%0%q~%0%r~%0%s~%0%t~%0%u~%0%v~%0%w~%0%x~%0%y~%0%z}"},"","","%0%","=","",null,null,null,8,"{1:MC:%0%a~%0%b~%0%c~%0%d~%0%e~%0%f~%0%g~%0%h~%0%i~%0%j~%0%k~%0%l~%0%m~%0%n~%0%o~%0%p~%0%q~%0%r~%0%s~%0%t~%0%u~%0%v~%0%w~%0%x~%0%y~%0%z}","","","%0%","=",""]
[9,{"$f":"\"{\"&IF('Embedded Answer (Cloze) Strings'!$D$10=\"\",1,'Embedded Answer (Cloze) Strings'!$D$10)&\":MC:%0%a~%0%b~%0%c~%0%d~%0%e~%0%f~%0%g~%0%h~%0%i~%0%j~%0%k~%0%l~%0%m~%0%n~%0%o~%0%p~%0%q~%0%r~%0%s~%0%t~%0%u~%0%v~%0%w~%0%x~%0%y~%0%z}\"","v":"{1:MC:%0%a~%0%b~%0%c~%0%d~%0%e~%0%f~%0%g~%0%h~%0%i~%0%j~%0%k~%0%l~%0%m~%0%n~%0%o~%0%p~%0%q~%0%r~%0%s~%0%t~%0%u~%0%v~%0%w~%0%x~%0%y~%0%z}"},"","","%0%","=","",null,null,null,9,"{1:MC:%0%a~%0%b~%0%c~%0%d~%0%e~%0%f~%0%g~%0%h~%0%i~%0%j~%0%k~%0%l~%0%m~%0%n~%0%o~%0%p~%0%q~%0%r~%0%s~%0%t~%0%u~%0%v~%0%w~%0%x~%0%y~%0%z}","","","%0%","=",""]
[10,{"$f":"\"{\"&IF('Embedded Answer (Cloze) Strings'!$D$10=\"\",1,'Embedded Answer (Cloze) Strings'!$D$10)&\":MC:%0%a~%0%b~%0%c~%0%d~%0%e~%0%f~%0%g~%0%h~%0%i~%0%j~%0%k~%0%l~%0%m~%0%n~%0%o~%0%p~%0%q~%0%r~%0%s~%0%t~%0%u~%0%v~%0%w~%0%x~%0%y~%0%z}\"","v":"{1:MC:%0%a~%0%b~%0%c~%0%d~%0%e~%0%f~%0%g~%0%h~%0%i~%0%j~%0%k~%0%l~%0%m~%0%n~%0%o~%0%p~%0%q~%0%r~%0%s~%0%t~%0%u~%0%v~%0%w~%0%x~%0%y~%0%z}"},"","","%0%","=","",null,null,null,10,"{1:MC:%0%a~%0%b~%0%c~%0%d~%0%e~%0%f~%0%g~%0%h~%0%i~%0%j~%0%k~%0%l~%0%m~%0%n~%0%o~%0%p~%0%q~%0%r~%0%s~%0%t~%0%u~%0%v~%0%w~%0%x~%0%y~%0%z}","","","%0%","=",""]
[11,{"$f":"\"{\"&IF('Embedded Answer (Cloze) Strings'!$D$10=\"\",1,'Embedded Answer (Cloze) Strings'!$D$10)&\":MC:%0%a~%0%b~%0%c~%0%d~%0%e~%0%f~%0%g~%0%h~%0%i~%0%j~%0%k~%0%l~%0%m~%0%n~%0%o~%0%p~%0%q~%0%r~%0%s~%0%t~%0%u~%0%v~%0%w~%0%x~%0%y~%0%z}\"","v":"{1:MC:%0%a~%0%b~%0%c~%0%d~%0%e~%0%f~%0%g~%0%h~%0%i~%0%j~%0%k~%0%l~%0%m~%0%n~%0%o~%0%p~%0%q~%0%r~%0%s~%0%t~%0%u~%0%v~%0%w~%0%x~%0%y~%0%z}"},"","","%0%","=","",null,null,null,11,"{1:MC:%0%a~%0%b~%0%c~%0%d~%0%e~%0%f~%0%g~%0%h~%0%i~%0%j~%0%k~%0%l~%0%m~%0%n~%0%o~%0%p~%0%q~%0%r~%0%s~%0%t~%0%u~%0%v~%0%w~%0%x~%0%y~%0%z}","","","%0%","=",""]
[12,{"$f":"\"{\"&IF('Embedded Answer (Cloze) Strings'!$D$10=\"\",1,'Embedded Answer (Cloze) Strings'!$D$10)&\":MC:%0%a~%0%b~%0%c~%0%d~%0%e~%0%f~%0%g~%0%h~%0%i~%0%j~%0%k~%0%l~%0%m~%0%n~%0%o~%0%p~%0%q~%0%r~%0%s~%0%t~%0%u~%0%v~%0%w~%0%x~%0%y~%0%z}\"","v":"{1:MC:%0%a~%0%b~%0%c~%0%d~%0%e~%0%f~%0%g~%0%h~%0%i~%0%j~%0%k~%0%l~%0%m~%0%n~%0%o~%0%p~%0%q~%0%r~%0%s~%0%t~%0%u~%0%v~%0%w~%0%x~%0%y~%0%z}"},"","","%0%","=","",null,null,null,12,"{1:MC:%0%a~%0%b~%0%c~%0%d~%0%e~%0%f~%0%g~%0%h~%0%i~%0%j~%0%k~%0%l~%0%m~%0%n~%0%o~%0%p~%0%q~%0%r~%0%s~%0%t~%0%u~%0%v~%0%w~%0%x~%0%y~%0%z}","","","%0%","=",""]
[13,{"$f":"\"{\"&IF('Embedded Answer (Cloze) Strings'!$D$10=\"\",1,'Embedded Answer (Cloze) Strings'!$D$10)&\":MC:%0%a~%0%b~%0%c~%0%d~%0%e~%0%f~%0%g~%0%h~%0%i~%0%j~%0%k~%0%l~%0%m~%0%n~%0%o~%0%p~%0%q~%0%r~%0%s~%0%t~%0%u~%0%v~%0%w~%0%x~%0%y~%0%z}\"","v":"{1:MC:%0%a~%0%b~%0%c~%0%d~%0%e~%0%f~%0%g~%0%h~%0%i~%0%j~%0%k~%0%l~%0%m~%0%n~%0%o~%0%p~%0%q~%0%r~%0%s~%0%t~%0%u~%0%v~%0%w~%0%x~%0%y~%0%z}"},"","","%0%","=","",null,null,null,13,"{1:MC:%0%a~%0%b~%0%c~%0%d~%0%e~%0%f~%0%g~%0%h~%0%i~%0%j~%0%k~%0%l~%0%m~%0%n~%0%o~%0%p~%0%q~%0%r~%0%s~%0%t~%0%u~%0%v~%0%w~%0%x~%0%y~%0%z}","","","%0%","=",""]
[14,{"$f":"\"{\"&IF('Embedded Answer (Cloze) Strings'!$D$10=\"\",1,'Embedded Answer (Cloze) Strings'!$D$10)&\":MC:%0%a~%0%b~%0%c~%0%d~%0%e~%0%f~%0%g~%0%h~%0%i~%0%j~%0%k~%0%l~%0%m~%0%n~%0%o~%0%p~%0%q~%0%r~%0%s~%0%t~%0%u~%0%v~%0%w~%0%x~%0%y~%0%z}\"","v":"{1:MC:%0%a~%0%b~%0%c~%0%d~%0%e~%0%f~%0%g~%0%h~%0%i~%0%j~%0%k~%0%l~%0%m~%0%n~%0%o~%0%p~%0%q~%0%r~%0%s~%0%t~%0%u~%0%v~%0%w~%0%x~%0%y~%0%z}"},"","","%0%","=","",null,null,null,14,"{1:MC:%0%a~%0%b~%0%c~%0%d~%0%e~%0%f~%0%g~%0%h~%0%i~%0%j~%0%k~%0%l~%0%m~%0%n~%0%o~%0%p~%0%q~%0%r~%0%s~%0%t~%0%u~%0%v~%0%w~%0%x~%0%y~%0%z}","","","%0%","=",""]
[15,{"$f":"\"{\"&IF('Embedded Answer (Cloze) Strings'!$D$10=\"\",1,'Embedded Answer (Cloze) Strings'!$D$10)&\":MC:%0%a~%0%b~%0%c~%0%d~%0%e~%0%f~%0%g~%0%h~%0%i~%0%j~%0%k~%0%l~%0%m~%0%n~%0%o~%0%p~%0%q~%0%r~%0%s~%0%t~%0%u~%0%v~%0%w~%0%x~%0%y~%0%z}\"","v":"{1:MC:%0%a~%0%b~%0%c~%0%d~%0%e~%0%f~%0%g~%0%h~%0%i~%0%j~%0%k~%0%l~%0%m~%0%n~%0%o~%0%p~%0%q~%0%r~%0%s~%0%t~%0%u~%0%v~%0%w~%0%x~%0%y~%0%z}"},"","","%0%","=","",null,null,null,15,"{1:MC:%0%a~%0%b~%0%c~%0%d~%0%e~%0%f~%0%g~%0%h~%0%i~%0%j~%0%k~%0%l~%0%m~%0%n~%0%o~%0%p~%0%q~%0%r~%0%s~%0%t~%0%u~%0%v~%0%w~%0%x~%0%y~%0%z}","","","%0%","=",""]
[16,{"$f":"\"{\"&IF('Embedded Answer (Cloze) Strings'!$D$10=\"\",1,'Embedded Answer (Cloze) Strings'!$D$10)&\":MC:%0%a~%0%b~%0%c~%0%d~%0%e~%0%f~%0%g~%0%h~%0%i~%0%j~%0%k~%0%l~%0%m~%0%n~%0%o~%0%p~%0%q~%0%r~%0%s~%0%t~%0%u~%0%v~%0%w~%0%x~%0%y~%0%z}\"","v":"{1:MC:%0%a~%0%b~%0%c~%0%d~%0%e~%0%f~%0%g~%0%h~%0%i~%0%j~%0%k~%0%l~%0%m~%0%n~%0%o~%0%p~%0%q~%0%r~%0%s~%0%t~%0%u~%0%v~%0%w~%0%x~%0%y~%0%z}"},"","","%0%","=","",null,null,null,16,"{1:MC:%0%a~%0%b~%0%c~%0%d~%0%e~%0%f~%0%g~%0%h~%0%i~%0%j~%0%k~%0%l~%0%m~%0%n~%0%o~%0%p~%0%q~%0%r~%0%s~%0%t~%0%u~%0%v~%0%w~%0%x~%0%y~%0%z}","","","%0%","=",""]
[17,{"$f":"\"{\"&IF('Embedded Answer (Cloze) Strings'!$D$10=\"\",1,'Embedded Answer (Cloze) Strings'!$D$10)&\":MC:%0%a~%0%b~%0%c~%0%d~%0%e~%0%f~%0%g~%0%h~%0%i~%0%j~%0%k~%0%l~%0%m~%0%n~%0%o~%0%p~%0%q~%0%r~%0%s~%0%t~%0%u~%0%v~%0%w~%0%x~%0%y~%0%z}\"","v":"{1:MC:%0%a~%0%b~%0%c~%0%d~%0%e~%0%f~%0%g~%0%h~%0%i~%0%j~%0%k~%0%l~%0%m~%0%n~%0%o~%0%p~%0%q~%0%r~%0%s~%0%t~%0%u~%0%v~%0%w~%0%x~%0%y~%0%z}"},"","","%0%","=","",null,null,null,17,"{1:MC:%0%a~%0%b~%0%c~%0%d~%0%e~%0%f~%0%g~%0%h~%0%i~%0%j~%0%k~%0%l~%0%m~%0%n~%0%o~%0%p~%0%q~%0%r~%0%s~%0%t~%0%u~%0%v~%0%w~%0%x~%0%y~%0%z}","","","%0%","=",""]
[18,{"$f":"\"{\"&IF('Embedded Answer (Cloze) Strings'!$D$10=\"\",1,'Embedded Answer (Cloze) Strings'!$D$10)&\":MC:%0%a~%0%b~%0%c~%0%d~%0%e~%0%f~%0%g~%0%h~%0%i~%0%j~%0%k~%0%l~%0%m~%0%n~%0%o~%0%p~%0%q~%0%r~%0%s~%0%t~%0%u~%0%v~%0%w~%0%x~%0%y~%0%z}\"","v":"{1:MC:%0%a~%0%b~%0%c~%0%d~%0%e~%0%f~%0%g~%0%h~%0%i~%0%j~%0%k~%0%l~%0%m~%0%n~%0%o~%0%p~%0%q~%0%r~%0%s~%0%t~%0%u~%0%v~%0%w~%0%x~%0%y~%0%z}"},"","","%0%","=","",null,null,null,18,"{1:MC:%0%a~%0%b~%0%c~%0%d~%0%e~%0%f~%0%g~%0%h~%0%i~%0%j~%0%k~%0%l~%0%m~%0%n~%0%o~%0%p~%0%q~%0%r~%0%s~%0%t~%0%u~%0%v~%0%w~%0%x~%0%y~%0%z}","","","%0%","=",""]
[19,{"$f":"\"{\"&IF('Embedded Answer (Cloze) Strings'!$D$10=\"\",1,'Embedded Answer (Cloze) Strings'!$D$10)&\":MC:%0%a~%0%b~%0%c~%0%d~%0%e~%0%f~%0%g~%0%h~%0%i~%0%j~%0%k~%0%l~%0%m~%0%n~%0%o~%0%p~%0%q~%0%r~%0%s~%0%t~%0%u~%0%v~%0%w~%0%x~%0%y~%0%z}\"","v":"{1:MC:%0%a~%0%b~%0%c~%0%d~%0%e~%0%f~%0%g~%0%h~%0%i~%0%j~%0%k~%0%l~%0%m~%0%n~%0%o~%0%p~%0%q~%0%r~%0%s~%0%t~%0%u~%0%v~%0%w~%0%x~%0%y~%0%z}"},"","","%0%","=","",null,null,null,19,"{1:MC:%0%a~%0%b~%0%c~%0%d~%0%e~%0%f~%0%g~%0%h~%0%i~%0%j~%0%k~%0%l~%0%m~%0%n~%0%o~%0%p~%0%q~%0%r~%0%s~%0%t~%0%u~%0%v~%0%w~%0%x~%0%y~%0%z}","","","%0%","=",""]
[20,{"$f":"\"{\"&IF('Embedded Answer (Cloze) Strings'!$D$10=\"\",1,'Embedded Answer (Cloze) Strings'!$D$10)&\":MC:%0%a~%0%b~%0%c~%0%d~%0%e~%0%f~%0%g~%0%h~%0%i~%0%j~%0%k~%0%l~%0%m~%0%n~%0%o~%0%p~%0%q~%0%r~%0%s~%0%t~%0%u~%0%v~%0%w~%0%x~%0%y~%0%z}\"","v":"{1:MC:%0%a~%0%b~%0%c~%0%d~%0%e~%0%f~%0%g~%0%h~%0%i~%0%j~%0%k~%0%l~%0%m~%0%n~%0%o~%0%p~%0%q~%0%r~%0%s~%0%t~%0%u~%0%v~%0%w~%0%x~%0%y~%0%z}"},"","","%0%","=","",null,null,null,20,"{1:MC:%0%a~%0%b~%0%c~%0%d~%0%e~%0%f~%0%g~%0%h~%0%i~%0%j~%0%k~%0%l~%0%m~%0%n~%0%o~%0%p~%0%q~%0%r~%0%s~%0%t~%0%u~%0%v~%0%w~%0%x~%0%y~%0%z}","","","%0%","=",""]
[]
[null,null,null,null,null,null,9,null,null,null,null,null,null,null,null,null,9]
[null,null,null,null,null,null,"Type word here (lowecase only):",{"$f":"'Embedded Answer (Cloze) Strings'!$F$11","v":0},null,null,null,null,null,null,null,null,"Type word here (lowecase only):",{"$f":"'GIFT Import Strings'!$I$11","v":0}]
["Index","Original","String","Letter","Wrong","Right","Copy this code and paste as plain text into Moodle:",{"$f":"G196&G197&G198&G199&G200&G201&G202&G203&G204&G205&G206&G207&G208&G209&G210&G211&G212&G213&G214&G215","v":"{1:MC:%0%a~%0%b~%0%c~%0%d~%0%e~%0%f~%0%g~%0%h~%0%i~%0%j~%0%k~%0%l~%0%m~%0%n~%0%o~%0%p~%0%q~%0%r~%0%s~%0%t~%0%u~%0%v~%0%w~%0%x~%0%y~%0%z}"},null,null,"Index","Original","String","Letter","Wrong","Right","Copy this code and paste as plain text into Moodle:",{"$f":"Q196&Q197&Q198&Q199&Q200&Q201&Q202&Q203&Q204&Q205&Q206&Q207&Q208&Q209&Q210&Q211&Q212&Q213&Q214&Q215","v":"{1:MC:%0%a~%0%b~%0%c~%0%d~%0%e~%0%f~%0%g~%0%h~%0%i~%0%j~%0%k~%0%l~%0%m~%0%n~%0%o~%0%p~%0%q~%0%r~%0%s~%0%t~%0%u~%0%v~%0%w~%0%x~%0%y~%0%z}"}]
[1,{"$f":"\"{\"&IF('Embedded Answer (Cloze) Strings'!$D$11=\"\",1,'Embedded Answer (Cloze) Strings'!$D$11)&\":MC:%0%a~%0%b~%0%c~%0%d~%0%e~%0%f~%0%g~%0%h~%0%i~%0%j~%0%k~%0%l~%0%m~%0%n~%0%o~%0%p~%0%q~%0%r~%0%s~%0%t~%0%u~%0%v~%0%w~%0%x~%0%y~%0%z}\"","v":"{1:MC:%0%a~%0%b~%0%c~%0%d~%0%e~%0%f~%0%g~%0%h~%0%i~%0%j~%0%k~%0%l~%0%m~%0%n~%0%o~%0%p~%0%q~%0%r~%0%s~%0%t~%0%u~%0%v~%0%w~%0%x~%0%y~%0%z}"},{"$f":"IF(LEN($H$194)>=$A196,LEFT($H$194,$A196),\"\")","v":"0"},{"$f":"RIGHT(C196,1)","v":"0"},{"$f":"\"%0%\"&D196","v":"%0%0"},{"$f":"\"=\"&D196","v":"=0"},{"$f":"IF(D196=\"\",\"\",SUBSTITUTE(B196,E196,F196))","v":"{1:MC:%0%a~%0%b~%0%c~%0%d~%0%e~%0%f~%0%g~%0%h~%0%i~%0%j~%0%k~%0%l~%0%m~%0%n~%0%o~%0%p~%0%q~%0%r~%0%s~%0%t~%0%u~%0%v~%0%w~%0%x~%0%y~%0%z}"},null,null,null,1,"{1:MC:%0%a~%0%b~%0%c~%0%d~%0%e~%0%f~%0%g~%0%h~%0%i~%0%j~%0%k~%0%l~%0%m~%0%n~%0%o~%0%p~%0%q~%0%r~%0%s~%0%t~%0%u~%0%v~%0%w~%0%x~%0%y~%0%z}",{"$f":"IF(LEN($H$2)>=$A196,LEFT($H$2,$A196),\"\")","v":"0"},{"$f":"RIGHT(M196,1)","v":"0"},{"$f":"\"%0%\"&N196","v":"%0%0"},{"$f":"\"=\"&N196","v":"=0"},{"$f":"IF(N196=\"\",\"\",SUBSTITUTE(L196,O196,P196))","v":"{1:MC:%0%a~%0%b~%0%c~%0%d~%0%e~%0%f~%0%g~%0%h~%0%i~%0%j~%0%k~%0%l~%0%m~%0%n~%0%o~%0%p~%0%q~%0%r~%0%s~%0%t~%0%u~%0%v~%0%w~%0%x~%0%y~%0%z}"}]
[2,{"$f":"\"{\"&IF('Embedded Answer (Cloze) Strings'!$D$11=\"\",1,'Embedded Answer (Cloze) Strings'!$D$11)&\":MC:%0%a~%0%b~%0%c~%0%d~%0%e~%0%f~%0%g~%0%h~%0%i~%0%j~%0%k~%0%l~%0%m~%0%n~%0%o~%0%p~%0%q~%0%r~%0%s~%0%t~%0%u~%0%v~%0%w~%0%x~%0%y~%0%z}\"","v":"{1:MC:%0%a~%0%b~%0%c~%0%d~%0%e~%0%f~%0%g~%0%h~%0%i~%0%j~%0%k~%0%l~%0%m~%0%n~%0%o~%0%p~%0%q~%0%r~%0%s~%0%t~%0%u~%0%v~%0%w~%0%x~%0%y~%0%z}"},"",{"$f":"RIGHT(C197,1)","v":""},{"$f":"\"%0%\"&D197","v":"%0%"},"=","",null,null,null,2,"{1:MC:%0%a~%0%b~%0%c~%0%d~%0%e~%0%f~%0%g~%0%h~%0%i~%0%j~%0%k~%0%l~%0%m~%0%n~%0%o~%0%p~%0%q~%0%r~%0%s~%0%t~%0%u~%0%v~%0%w~%0%x~%0%y~%0%z}","",{"$f":"RIGHT(M197,1)","v":""},{"$f":"\"%0%\"&N197","v":"%0%"},{"$f":"\"=\"&N197","v":"="},{"$f":"IF(N197=\"\",\"\",SUBSTITUTE(L197,O197,P197))","v":""}]
[3,{"$f":"\"{\"&IF('Embedded Answer (Cloze) Strings'!$D$11=\"\",1,'Embedded Answer (Cloze) Strings'!$D$11)&\":MC:%0%a~%0%b~%0%c~%0%d~%0%e~%0%f~%0%g~%0%h~%0%i~%0%j~%0%k~%0%l~%0%m~%0%n~%0%o~%0%p~%0%q~%0%r~%0%s~%0%t~%0%u~%0%v~%0%w~%0%x~%0%y~%0%z}\"","v":"{1:MC:%0%a~%0%b~%0%c~%0%d~%0%e~%0%f~%0%g~%0%h~%0%i~%0%j~%0%k~%0%l~%0%m~%0%n~%0%o~%0%p~%0%q~%0%r~%0%s~%0%t~%0%u~%0%v~%0%w~%0%x~%0%y~%0%z}"},"","","%0%","=","",null,null,null,3,"{1:MC:%0%a~%0%b~%0%c~%0%d~%0%e~%0%f~%0%g~%0%h~%0%i~%0%j~%0%k~%0%l~%0%m~%0%n~%0%o~%0%p~%0%q~%0%r~%0%s~%0%t~%0%u~%0%v~%0%w~%0%x~%0%y~%0%z}","","","%0%","=",""]
[4,{"$f":"\"{\"&IF('Embedded Answer (Cloze) Strings'!$D$11=\"\",1,'Embedded Answer (Cloze) Strings'!$D$11)&\":MC:%0%a~%0%b~%0%c~%0%d~%0%e~%0%f~%0%g~%0%h~%0%i~%0%j~%0%k~%0%l~%0%m~%0%n~%0%o~%0%p~%0%q~%0%r~%0%s~%0%t~%0%u~%0%v~%0%w~%0%x~%0%y~%0%z}\"","v":"{1:MC:%0%a~%0%b~%0%c~%0%d~%0%e~%0%f~%0%g~%0%h~%0%i~%0%j~%0%k~%0%l~%0%m~%0%n~%0%o~%0%p~%0%q~%0%r~%0%s~%0%t~%0%u~%0%v~%0%w~%0%x~%0%y~%0%z}"},"","","%0%","=","",null,null,null,4,"{1:MC:%0%a~%0%b~%0%c~%0%d~%0%e~%0%f~%0%g~%0%h~%0%i~%0%j~%0%k~%0%l~%0%m~%0%n~%0%o~%0%p~%0%q~%0%r~%0%s~%0%t~%0%u~%0%v~%0%w~%0%x~%0%y~%0%z}","","","%0%","=",""]
[5,{"$f":"\"{\"&IF('Embedded Answer (Cloze) Strings'!$D$11=\"\",1,'Embedded Answer (Cloze) Strings'!$D$11)&\":MC:%0%a~%0%b~%0%c~%0%d~%0%e~%0%f~%0%g~%0%h~%0%i~%0%j~%0%k~%0%l~%0%m~%0%n~%0%o~%0%p~%0%q~%0%r~%0%s~%0%t~%0%u~%0%v~%0%w~%0%x~%0%y~%0%z}\"","v":"{1:MC:%0%a~%0%b~%0%c~%0%d~%0%e~%0%f~%0%g~%0%h~%0%i~%0%j~%0%k~%0%l~%0%m~%0%n~%0%o~%0%p~%0%q~%0%r~%0%s~%0%t~%0%u~%0%v~%0%w~%0%x~%0%y~%0%z}"},"","","%0%","=","",null,null,null,5,"{1:MC:%0%a~%0%b~%0%c~%0%d~%0%e~%0%f~%0%g~%0%h~%0%i~%0%j~%0%k~%0%l~%0%m~%0%n~%0%o~%0%p~%0%q~%0%r~%0%s~%0%t~%0%u~%0%v~%0%w~%0%x~%0%y~%0%z}","","","%0%","=",""]
[6,{"$f":"\"{\"&IF('Embedded Answer (Cloze) Strings'!$D$11=\"\",1,'Embedded Answer (Cloze) Strings'!$D$11)&\":MC:%0%a~%0%b~%0%c~%0%d~%0%e~%0%f~%0%g~%0%h~%0%i~%0%j~%0%k~%0%l~%0%m~%0%n~%0%o~%0%p~%0%q~%0%r~%0%s~%0%t~%0%u~%0%v~%0%w~%0%x~%0%y~%0%z}\"","v":"{1:MC:%0%a~%0%b~%0%c~%0%d~%0%e~%0%f~%0%g~%0%h~%0%i~%0%j~%0%k~%0%l~%0%m~%0%n~%0%o~%0%p~%0%q~%0%r~%0%s~%0%t~%0%u~%0%v~%0%w~%0%x~%0%y~%0%z}"},"","","%0%","=","",null,null,null,6,"{1:MC:%0%a~%0%b~%0%c~%0%d~%0%e~%0%f~%0%g~%0%h~%0%i~%0%j~%0%k~%0%l~%0%m~%0%n~%0%o~%0%p~%0%q~%0%r~%0%s~%0%t~%0%u~%0%v~%0%w~%0%x~%0%y~%0%z}","","","%0%","=",""]
[7,{"$f":"\"{\"&IF('Embedded Answer (Cloze) Strings'!$D$11=\"\",1,'Embedded Answer (Cloze) Strings'!$D$11)&\":MC:%0%a~%0%b~%0%c~%0%d~%0%e~%0%f~%0%g~%0%h~%0%i~%0%j~%0%k~%0%l~%0%m~%0%n~%0%o~%0%p~%0%q~%0%r~%0%s~%0%t~%0%u~%0%v~%0%w~%0%x~%0%y~%0%z}\"","v":"{1:MC:%0%a~%0%b~%0%c~%0%d~%0%e~%0%f~%0%g~%0%h~%0%i~%0%j~%0%k~%0%l~%0%m~%0%n~%0%o~%0%p~%0%q~%0%r~%0%s~%0%t~%0%u~%0%v~%0%w~%0%x~%0%y~%0%z}"},"","","%0%","=","",null,null,null,7,"{1:MC:%0%a~%0%b~%0%c~%0%d~%0%e~%0%f~%0%g~%0%h~%0%i~%0%j~%0%k~%0%l~%0%m~%0%n~%0%o~%0%p~%0%q~%0%r~%0%s~%0%t~%0%u~%0%v~%0%w~%0%x~%0%y~%0%z}","","","%0%","=",""]
[8,{"$f":"\"{\"&IF('Embedded Answer (Cloze) Strings'!$D$11=\"\",1,'Embedded Answer (Cloze) Strings'!$D$11)&\":MC:%0%a~%0%b~%0%c~%0%d~%0%e~%0%f~%0%g~%0%h~%0%i~%0%j~%0%k~%0%l~%0%m~%0%n~%0%o~%0%p~%0%q~%0%r~%0%s~%0%t~%0%u~%0%v~%0%w~%0%x~%0%y~%0%z}\"","v":"{1:MC:%0%a~%0%b~%0%c~%0%d~%0%e~%0%f~%0%g~%0%h~%0%i~%0%j~%0%k~%0%l~%0%m~%0%n~%0%o~%0%p~%0%q~%0%r~%0%s~%0%t~%0%u~%0%v~%0%w~%0%x~%0%y~%0%z}"},"","","%0%","=","",null,null,null,8,"{1:MC:%0%a~%0%b~%0%c~%0%d~%0%e~%0%f~%0%g~%0%h~%0%i~%0%j~%0%k~%0%l~%0%m~%0%n~%0%o~%0%p~%0%q~%0%r~%0%s~%0%t~%0%u~%0%v~%0%w~%0%x~%0%y~%0%z}","","","%0%","=",""]
[9,{"$f":"\"{\"&IF('Embedded Answer (Cloze) Strings'!$D$11=\"\",1,'Embedded Answer (Cloze) Strings'!$D$11)&\":MC:%0%a~%0%b~%0%c~%0%d~%0%e~%0%f~%0%g~%0%h~%0%i~%0%j~%0%k~%0%l~%0%m~%0%n~%0%o~%0%p~%0%q~%0%r~%0%s~%0%t~%0%u~%0%v~%0%w~%0%x~%0%y~%0%z}\"","v":"{1:MC:%0%a~%0%b~%0%c~%0%d~%0%e~%0%f~%0%g~%0%h~%0%i~%0%j~%0%k~%0%l~%0%m~%0%n~%0%o~%0%p~%0%q~%0%r~%0%s~%0%t~%0%u~%0%v~%0%w~%0%x~%0%y~%0%z}"},"","","%0%","=","",null,null,null,9,"{1:MC:%0%a~%0%b~%0%c~%0%d~%0%e~%0%f~%0%g~%0%h~%0%i~%0%j~%0%k~%0%l~%0%m~%0%n~%0%o~%0%p~%0%q~%0%r~%0%s~%0%t~%0%u~%0%v~%0%w~%0%x~%0%y~%0%z}","","","%0%","=",""]
[10,{"$f":"\"{\"&IF('Embedded Answer (Cloze) Strings'!$D$11=\"\",1,'Embedded Answer (Cloze) Strings'!$D$11)&\":MC:%0%a~%0%b~%0%c~%0%d~%0%e~%0%f~%0%g~%0%h~%0%i~%0%j~%0%k~%0%l~%0%m~%0%n~%0%o~%0%p~%0%q~%0%r~%0%s~%0%t~%0%u~%0%v~%0%w~%0%x~%0%y~%0%z}\"","v":"{1:MC:%0%a~%0%b~%0%c~%0%d~%0%e~%0%f~%0%g~%0%h~%0%i~%0%j~%0%k~%0%l~%0%m~%0%n~%0%o~%0%p~%0%q~%0%r~%0%s~%0%t~%0%u~%0%v~%0%w~%0%x~%0%y~%0%z}"},"","","%0%","=","",null,null,null,10,"{1:MC:%0%a~%0%b~%0%c~%0%d~%0%e~%0%f~%0%g~%0%h~%0%i~%0%j~%0%k~%0%l~%0%m~%0%n~%0%o~%0%p~%0%q~%0%r~%0%s~%0%t~%0%u~%0%v~%0%w~%0%x~%0%y~%0%z}","","","%0%","=",""]
[11,{"$f":"\"{\"&IF('Embedded Answer (Cloze) Strings'!$D$11=\"\",1,'Embedded Answer (Cloze) Strings'!$D$11)&\":MC:%0%a~%0%b~%0%c~%0%d~%0%e~%0%f~%0%g~%0%h~%0%i~%0%j~%0%k~%0%l~%0%m~%0%n~%0%o~%0%p~%0%q~%0%r~%0%s~%0%t~%0%u~%0%v~%0%w~%0%x~%0%y~%0%z}\"","v":"{1:MC:%0%a~%0%b~%0%c~%0%d~%0%e~%0%f~%0%g~%0%h~%0%i~%0%j~%0%k~%0%l~%0%m~%0%n~%0%o~%0%p~%0%q~%0%r~%0%s~%0%t~%0%u~%0%v~%0%w~%0%x~%0%y~%0%z}"},"","","%0%","=","",null,null,null,11,"{1:MC:%0%a~%0%b~%0%c~%0%d~%0%e~%0%f~%0%g~%0%h~%0%i~%0%j~%0%k~%0%l~%0%m~%0%n~%0%o~%0%p~%0%q~%0%r~%0%s~%0%t~%0%u~%0%v~%0%w~%0%x~%0%y~%0%z}","","","%0%","=",""]
[12,{"$f":"\"{\"&IF('Embedded Answer (Cloze) Strings'!$D$11=\"\",1,'Embedded Answer (Cloze) Strings'!$D$11)&\":MC:%0%a~%0%b~%0%c~%0%d~%0%e~%0%f~%0%g~%0%h~%0%i~%0%j~%0%k~%0%l~%0%m~%0%n~%0%o~%0%p~%0%q~%0%r~%0%s~%0%t~%0%u~%0%v~%0%w~%0%x~%0%y~%0%z}\"","v":"{1:MC:%0%a~%0%b~%0%c~%0%d~%0%e~%0%f~%0%g~%0%h~%0%i~%0%j~%0%k~%0%l~%0%m~%0%n~%0%o~%0%p~%0%q~%0%r~%0%s~%0%t~%0%u~%0%v~%0%w~%0%x~%0%y~%0%z}"},"","","%0%","=","",null,null,null,12,"{1:MC:%0%a~%0%b~%0%c~%0%d~%0%e~%0%f~%0%g~%0%h~%0%i~%0%j~%0%k~%0%l~%0%m~%0%n~%0%o~%0%p~%0%q~%0%r~%0%s~%0%t~%0%u~%0%v~%0%w~%0%x~%0%y~%0%z}","","","%0%","=",""]
[13,{"$f":"\"{\"&IF('Embedded Answer (Cloze) Strings'!$D$11=\"\",1,'Embedded Answer (Cloze) Strings'!$D$11)&\":MC:%0%a~%0%b~%0%c~%0%d~%0%e~%0%f~%0%g~%0%h~%0%i~%0%j~%0%k~%0%l~%0%m~%0%n~%0%o~%0%p~%0%q~%0%r~%0%s~%0%t~%0%u~%0%v~%0%w~%0%x~%0%y~%0%z}\"","v":"{1:MC:%0%a~%0%b~%0%c~%0%d~%0%e~%0%f~%0%g~%0%h~%0%i~%0%j~%0%k~%0%l~%0%m~%0%n~%0%o~%0%p~%0%q~%0%r~%0%s~%0%t~%0%u~%0%v~%0%w~%0%x~%0%y~%0%z}"},"","","%0%","=","",null,null,null,13,"{1:MC:%0%a~%0%b~%0%c~%0%d~%0%e~%0%f~%0%g~%0%h~%0%i~%0%j~%0%k~%0%l~%0%m~%0%n~%0%o~%0%p~%0%q~%0%r~%0%s~%0%t~%0%u~%0%v~%0%w~%0%x~%0%y~%0%z}","","","%0%","=",""]
[14,{"$f":"\"{\"&IF('Embedded Answer (Cloze) Strings'!$D$11=\"\",1,'Embedded Answer (Cloze) Strings'!$D$11)&\":MC:%0%a~%0%b~%0%c~%0%d~%0%e~%0%f~%0%g~%0%h~%0%i~%0%j~%0%k~%0%l~%0%m~%0%n~%0%o~%0%p~%0%q~%0%r~%0%s~%0%t~%0%u~%0%v~%0%w~%0%x~%0%y~%0%z}\"","v":"{1:MC:%0%a~%0%b~%0%c~%0%d~%0%e~%0%f~%0%g~%0%h~%0%i~%0%j~%0%k~%0%l~%0%m~%0%n~%0%o~%0%p~%0%q~%0%r~%0%s~%0%t~%0%u~%0%v~%0%w~%0%x~%0%y~%0%z}"},"","","%0%","=","",null,null,null,14,"{1:MC:%0%a~%0%b~%0%c~%0%d~%0%e~%0%f~%0%g~%0%h~%0%i~%0%j~%0%k~%0%l~%0%m~%0%n~%0%o~%0%p~%0%q~%0%r~%0%s~%0%t~%0%u~%0%v~%0%w~%0%x~%0%y~%0%z}","","","%0%","=",""]
[15,{"$f":"\"{\"&IF('Embedded Answer (Cloze) Strings'!$D$11=\"\",1,'Embedded Answer (Cloze) Strings'!$D$11)&\":MC:%0%a~%0%b~%0%c~%0%d~%0%e~%0%f~%0%g~%0%h~%0%i~%0%j~%0%k~%0%l~%0%m~%0%n~%0%o~%0%p~%0%q~%0%r~%0%s~%0%t~%0%u~%0%v~%0%w~%0%x~%0%y~%0%z}\"","v":"{1:MC:%0%a~%0%b~%0%c~%0%d~%0%e~%0%f~%0%g~%0%h~%0%i~%0%j~%0%k~%0%l~%0%m~%0%n~%0%o~%0%p~%0%q~%0%r~%0%s~%0%t~%0%u~%0%v~%0%w~%0%x~%0%y~%0%z}"},"","","%0%","=","",null,null,null,15,"{1:MC:%0%a~%0%b~%0%c~%0%d~%0%e~%0%f~%0%g~%0%h~%0%i~%0%j~%0%k~%0%l~%0%m~%0%n~%0%o~%0%p~%0%q~%0%r~%0%s~%0%t~%0%u~%0%v~%0%w~%0%x~%0%y~%0%z}","","","%0%","=",""]
[16,{"$f":"\"{\"&IF('Embedded Answer (Cloze) Strings'!$D$11=\"\",1,'Embedded Answer (Cloze) Strings'!$D$11)&\":MC:%0%a~%0%b~%0%c~%0%d~%0%e~%0%f~%0%g~%0%h~%0%i~%0%j~%0%k~%0%l~%0%m~%0%n~%0%o~%0%p~%0%q~%0%r~%0%s~%0%t~%0%u~%0%v~%0%w~%0%x~%0%y~%0%z}\"","v":"{1:MC:%0%a~%0%b~%0%c~%0%d~%0%e~%0%f~%0%g~%0%h~%0%i~%0%j~%0%k~%0%l~%0%m~%0%n~%0%o~%0%p~%0%q~%0%r~%0%s~%0%t~%0%u~%0%v~%0%w~%0%x~%0%y~%0%z}"},"","","%0%","=","",null,null,null,16,"{1:MC:%0%a~%0%b~%0%c~%0%d~%0%e~%0%f~%0%g~%0%h~%0%i~%0%j~%0%k~%0%l~%0%m~%0%n~%0%o~%0%p~%0%q~%0%r~%0%s~%0%t~%0%u~%0%v~%0%w~%0%x~%0%y~%0%z}","","","%0%","=",""]
[17,{"$f":"\"{\"&IF('Embedded Answer (Cloze) Strings'!$D$11=\"\",1,'Embedded Answer (Cloze) Strings'!$D$11)&\":MC:%0%a~%0%b~%0%c~%0%d~%0%e~%0%f~%0%g~%0%h~%0%i~%0%j~%0%k~%0%l~%0%m~%0%n~%0%o~%0%p~%0%q~%0%r~%0%s~%0%t~%0%u~%0%v~%0%w~%0%x~%0%y~%0%z}\"","v":"{1:MC:%0%a~%0%b~%0%c~%0%d~%0%e~%0%f~%0%g~%0%h~%0%i~%0%j~%0%k~%0%l~%0%m~%0%n~%0%o~%0%p~%0%q~%0%r~%0%s~%0%t~%0%u~%0%v~%0%w~%0%x~%0%y~%0%z}"},"","","%0%","=","",null,null,null,17,"{1:MC:%0%a~%0%b~%0%c~%0%d~%0%e~%0%f~%0%g~%0%h~%0%i~%0%j~%0%k~%0%l~%0%m~%0%n~%0%o~%0%p~%0%q~%0%r~%0%s~%0%t~%0%u~%0%v~%0%w~%0%x~%0%y~%0%z}","","","%0%","=",""]
[18,{"$f":"\"{\"&IF('Embedded Answer (Cloze) Strings'!$D$11=\"\",1,'Embedded Answer (Cloze) Strings'!$D$11)&\":MC:%0%a~%0%b~%0%c~%0%d~%0%e~%0%f~%0%g~%0%h~%0%i~%0%j~%0%k~%0%l~%0%m~%0%n~%0%o~%0%p~%0%q~%0%r~%0%s~%0%t~%0%u~%0%v~%0%w~%0%x~%0%y~%0%z}\"","v":"{1:MC:%0%a~%0%b~%0%c~%0%d~%0%e~%0%f~%0%g~%0%h~%0%i~%0%j~%0%k~%0%l~%0%m~%0%n~%0%o~%0%p~%0%q~%0%r~%0%s~%0%t~%0%u~%0%v~%0%w~%0%x~%0%y~%0%z}"},"","","%0%","=","",null,null,null,18,"{1:MC:%0%a~%0%b~%0%c~%0%d~%0%e~%0%f~%0%g~%0%h~%0%i~%0%j~%0%k~%0%l~%0%m~%0%n~%0%o~%0%p~%0%q~%0%r~%0%s~%0%t~%0%u~%0%v~%0%w~%0%x~%0%y~%0%z}","","","%0%","=",""]
[19,{"$f":"\"{\"&IF('Embedded Answer (Cloze) Strings'!$D$11=\"\",1,'Embedded Answer (Cloze) Strings'!$D$11)&\":MC:%0%a~%0%b~%0%c~%0%d~%0%e~%0%f~%0%g~%0%h~%0%i~%0%j~%0%k~%0%l~%0%m~%0%n~%0%o~%0%p~%0%q~%0%r~%0%s~%0%t~%0%u~%0%v~%0%w~%0%x~%0%y~%0%z}\"","v":"{1:MC:%0%a~%0%b~%0%c~%0%d~%0%e~%0%f~%0%g~%0%h~%0%i~%0%j~%0%k~%0%l~%0%m~%0%n~%0%o~%0%p~%0%q~%0%r~%0%s~%0%t~%0%u~%0%v~%0%w~%0%x~%0%y~%0%z}"},"","","%0%","=","",null,null,null,19,"{1:MC:%0%a~%0%b~%0%c~%0%d~%0%e~%0%f~%0%g~%0%h~%0%i~%0%j~%0%k~%0%l~%0%m~%0%n~%0%o~%0%p~%0%q~%0%r~%0%s~%0%t~%0%u~%0%v~%0%w~%0%x~%0%y~%0%z}","","","%0%","=",""]
[20,{"$f":"\"{\"&IF('Embedded Answer (Cloze) Strings'!$D$11=\"\",1,'Embedded Answer (Cloze) Strings'!$D$11)&\":MC:%0%a~%0%b~%0%c~%0%d~%0%e~%0%f~%0%g~%0%h~%0%i~%0%j~%0%k~%0%l~%0%m~%0%n~%0%o~%0%p~%0%q~%0%r~%0%s~%0%t~%0%u~%0%v~%0%w~%0%x~%0%y~%0%z}\"","v":"{1:MC:%0%a~%0%b~%0%c~%0%d~%0%e~%0%f~%0%g~%0%h~%0%i~%0%j~%0%k~%0%l~%0%m~%0%n~%0%o~%0%p~%0%q~%0%r~%0%s~%0%t~%0%u~%0%v~%0%w~%0%x~%0%y~%0%z}"},"","","%0%","=","",null,null,null,20,"{1:MC:%0%a~%0%b~%0%c~%0%d~%0%e~%0%f~%0%g~%0%h~%0%i~%0%j~%0%k~%0%l~%0%m~%0%n~%0%o~%0%p~%0%q~%0%r~%0%s~%0%t~%0%u~%0%v~%0%w~%0%x~%0%y~%0%z}","","","%0%","=",""]
[]
[null,null,null,null,null,null,10,null,null,null,null,null,null,null,null,null,10]
[null,null,null,null,null,null,"Type word here (lowecase only):",{"$f":"'Embedded Answer (Cloze) Strings'!$F$12","v":0},null,null,null,null,null,null,null,null,"Type word here (lowecase only):",{"$f":"'GIFT Import Strings'!$I$12","v":0}]
["Index","Original","String","Letter","Wrong","Right","Copy this code and paste as plain text into Moodle:",{"$f":"G220&G221&G222&G223&G224&G225&G226&G227&G228&G229&G230&G231&G232&G233&G234&G235&G236&G237&G238&G239","v":"{1:MC:%0%a~%0%b~%0%c~%0%d~%0%e~%0%f~%0%g~%0%h~%0%i~%0%j~%0%k~%0%l~%0%m~%0%n~%0%o~%0%p~%0%q~%0%r~%0%s~%0%t~%0%u~%0%v~%0%w~%0%x~%0%y~%0%z}"},null,null,"Index","Original","String","Letter","Wrong","Right","Copy this code and paste as plain text into Moodle:",{"$f":"Q220&Q221&Q222&Q223&Q224&Q225&Q226&Q227&Q228&Q229&Q230&Q231&Q232&Q233&Q234&Q235&Q236&Q237&Q238&Q239","v":"{1:MC:%0%a~%0%b~%0%c~%0%d~%0%e~%0%f~%0%g~%0%h~%0%i~%0%j~%0%k~%0%l~%0%m~%0%n~%0%o~%0%p~%0%q~%0%r~%0%s~%0%t~%0%u~%0%v~%0%w~%0%x~%0%y~%0%z}"}]
[1,{"$f":"\"{\"&IF('Embedded Answer (Cloze) Strings'!$D$12=\"\",1,'Embedded Answer (Cloze) Strings'!$D$12)&\":MC:%0%a~%0%b~%0%c~%0%d~%0%e~%0%f~%0%g~%0%h~%0%i~%0%j~%0%k~%0%l~%0%m~%0%n~%0%o~%0%p~%0%q~%0%r~%0%s~%0%t~%0%u~%0%v~%0%w~%0%x~%0%y~%0%z}\"","v":"{1:MC:%0%a~%0%b~%0%c~%0%d~%0%e~%0%f~%0%g~%0%h~%0%i~%0%j~%0%k~%0%l~%0%m~%0%n~%0%o~%0%p~%0%q~%0%r~%0%s~%0%t~%0%u~%0%v~%0%w~%0%x~%0%y~%0%z}"},{"$f":"IF(LEN($H$218)>=$A220,LEFT($H$218,$A220),\"\")","v":"0"},{"$f":"RIGHT(C220,1)","v":"0"},{"$f":"\"%0%\"&D220","v":"%0%0"},{"$f":"\"=\"&D220","v":"=0"},{"$f":"IF(D220=\"\",\"\",SUBSTITUTE(B220,E220,F220))","v":"{1:MC:%0%a~%0%b~%0%c~%0%d~%0%e~%0%f~%0%g~%0%h~%0%i~%0%j~%0%k~%0%l~%0%m~%0%n~%0%o~%0%p~%0%q~%0%r~%0%s~%0%t~%0%u~%0%v~%0%w~%0%x~%0%y~%0%z}"},null,null,null,1,"{1:MC:%0%a~%0%b~%0%c~%0%d~%0%e~%0%f~%0%g~%0%h~%0%i~%0%j~%0%k~%0%l~%0%m~%0%n~%0%o~%0%p~%0%q~%0%r~%0%s~%0%t~%0%u~%0%v~%0%w~%0%x~%0%y~%0%z}",{"$f":"IF(LEN($H$2)>=$A220,LEFT($H$2,$A220),\"\")","v":"0"},{"$f":"RIGHT(M220,1)","v":"0"},{"$f":"\"%0%\"&N220","v":"%0%0"},{"$f":"\"=\"&N220","v":"=0"},{"$f":"IF(N220=\"\",\"\",SUBSTITUTE(L220,O220,P220))","v":"{1:MC:%0%a~%0%b~%0%c~%0%d~%0%e~%0%f~%0%g~%0%h~%0%i~%0%j~%0%k~%0%l~%0%m~%0%n~%0%o~%0%p~%0%q~%0%r~%0%s~%0%t~%0%u~%0%v~%0%w~%0%x~%0%y~%0%z}"}]
[2,{"$f":"\"{\"&IF('Embedded Answer (Cloze) Strings'!$D$12=\"\",1,'Embedded Answer (Cloze) Strings'!$D$12)&\":MC:%0%a~%0%b~%0%c~%0%d~%0%e~%0%f~%0%g~%0%h~%0%i~%0%j~%0%k~%0%l~%0%m~%0%n~%0%o~%0%p~%0%q~%0%r~%0%s~%0%t~%0%u~%0%v~%0%w~%0%x~%0%y~%0%z}\"","v":"{1:MC:%0%a~%0%b~%0%c~%0%d~%0%e~%0%f~%0%g~%0%h~%0%i~%0%j~%0%k~%0%l~%0%m~%0%n~%0%o~%0%p~%0%q~%0%r~%0%s~%0%t~%0%u~%0%v~%0%w~%0%x~%0%y~%0%z}"},"",{"$f":"RIGHT(C221,1)","v":""},{"$f":"\"%0%\"&D221","v":"%0%"},"=","",null,null,null,2,"{1:MC:%0%a~%0%b~%0%c~%0%d~%0%e~%0%f~%0%g~%0%h~%0%i~%0%j~%0%k~%0%l~%0%m~%0%n~%0%o~%0%p~%0%q~%0%r~%0%s~%0%t~%0%u~%0%v~%0%w~%0%x~%0%y~%0%z}","",{"$f":"RIGHT(M221,1)","v":""},{"$f":"\"%0%\"&N221","v":"%0%"},{"$f":"\"=\"&N221","v":"="},{"$f":"IF(N221=\"\",\"\",SUBSTITUTE(L221,O221,P221))","v":""}]
[3,{"$f":"\"{\"&IF('Embedded Answer (Cloze) Strings'!$D$12=\"\",1,'Embedded Answer (Cloze) Strings'!$D$12)&\":MC:%0%a~%0%b~%0%c~%0%d~%0%e~%0%f~%0%g~%0%h~%0%i~%0%j~%0%k~%0%l~%0%m~%0%n~%0%o~%0%p~%0%q~%0%r~%0%s~%0%t~%0%u~%0%v~%0%w~%0%x~%0%y~%0%z}\"","v":"{1:MC:%0%a~%0%b~%0%c~%0%d~%0%e~%0%f~%0%g~%0%h~%0%i~%0%j~%0%k~%0%l~%0%m~%0%n~%0%o~%0%p~%0%q~%0%r~%0%s~%0%t~%0%u~%0%v~%0%w~%0%x~%0%y~%0%z}"},"","","%0%","=","",null,null,null,3,"{1:MC:%0%a~%0%b~%0%c~%0%d~%0%e~%0%f~%0%g~%0%h~%0%i~%0%j~%0%k~%0%l~%0%m~%0%n~%0%o~%0%p~%0%q~%0%r~%0%s~%0%t~%0%u~%0%v~%0%w~%0%x~%0%y~%0%z}","","","%0%","=",""]
[4,{"$f":"\"{\"&IF('Embedded Answer (Cloze) Strings'!$D$12=\"\",1,'Embedded Answer (Cloze) Strings'!$D$12)&\":MC:%0%a~%0%b~%0%c~%0%d~%0%e~%0%f~%0%g~%0%h~%0%i~%0%j~%0%k~%0%l~%0%m~%0%n~%0%o~%0%p~%0%q~%0%r~%0%s~%0%t~%0%u~%0%v~%0%w~%0%x~%0%y~%0%z}\"","v":"{1:MC:%0%a~%0%b~%0%c~%0%d~%0%e~%0%f~%0%g~%0%h~%0%i~%0%j~%0%k~%0%l~%0%m~%0%n~%0%o~%0%p~%0%q~%0%r~%0%s~%0%t~%0%u~%0%v~%0%w~%0%x~%0%y~%0%z}"},"","","%0%","=","",null,null,null,4,"{1:MC:%0%a~%0%b~%0%c~%0%d~%0%e~%0%f~%0%g~%0%h~%0%i~%0%j~%0%k~%0%l~%0%m~%0%n~%0%o~%0%p~%0%q~%0%r~%0%s~%0%t~%0%u~%0%v~%0%w~%0%x~%0%y~%0%z}","","","%0%","=",""]
[5,{"$f":"\"{\"&IF('Embedded Answer (Cloze) Strings'!$D$12=\"\",1,'Embedded Answer (Cloze) Strings'!$D$12)&\":MC:%0%a~%0%b~%0%c~%0%d~%0%e~%0%f~%0%g~%0%h~%0%i~%0%j~%0%k~%0%l~%0%m~%0%n~%0%o~%0%p~%0%q~%0%r~%0%s~%0%t~%0%u~%0%v~%0%w~%0%x~%0%y~%0%z}\"","v":"{1:MC:%0%a~%0%b~%0%c~%0%d~%0%e~%0%f~%0%g~%0%h~%0%i~%0%j~%0%k~%0%l~%0%m~%0%n~%0%o~%0%p~%0%q~%0%r~%0%s~%0%t~%0%u~%0%v~%0%w~%0%x~%0%y~%0%z}"},"","","%0%","=","",null,null,null,5,"{1:MC:%0%a~%0%b~%0%c~%0%d~%0%e~%0%f~%0%g~%0%h~%0%i~%0%j~%0%k~%0%l~%0%m~%0%n~%0%o~%0%p~%0%q~%0%r~%0%s~%0%t~%0%u~%0%v~%0%w~%0%x~%0%y~%0%z}","","","%0%","=",""]
[6,{"$f":"\"{\"&IF('Embedded Answer (Cloze) Strings'!$D$12=\"\",1,'Embedded Answer (Cloze) Strings'!$D$12)&\":MC:%0%a~%0%b~%0%c~%0%d~%0%e~%0%f~%0%g~%0%h~%0%i~%0%j~%0%k~%0%l~%0%m~%0%n~%0%o~%0%p~%0%q~%0%r~%0%s~%0%t~%0%u~%0%v~%0%w~%0%x~%0%y~%0%z}\"","v":"{1:MC:%0%a~%0%b~%0%c~%0%d~%0%e~%0%f~%0%g~%0%h~%0%i~%0%j~%0%k~%0%l~%0%m~%0%n~%0%o~%0%p~%0%q~%0%r~%0%s~%0%t~%0%u~%0%v~%0%w~%0%x~%0%y~%0%z}"},"","","%0%","=","",null,null,null,6,"{1:MC:%0%a~%0%b~%0%c~%0%d~%0%e~%0%f~%0%g~%0%h~%0%i~%0%j~%0%k~%0%l~%0%m~%0%n~%0%o~%0%p~%0%q~%0%r~%0%s~%0%t~%0%u~%0%v~%0%w~%0%x~%0%y~%0%z}","","","%0%","=",""]
[7,{"$f":"\"{\"&IF('Embedded Answer (Cloze) Strings'!$D$12=\"\",1,'Embedded Answer (Cloze) Strings'!$D$12)&\":MC:%0%a~%0%b~%0%c~%0%d~%0%e~%0%f~%0%g~%0%h~%0%i~%0%j~%0%k~%0%l~%0%m~%0%n~%0%o~%0%p~%0%q~%0%r~%0%s~%0%t~%0%u~%0%v~%0%w~%0%x~%0%y~%0%z}\"","v":"{1:MC:%0%a~%0%b~%0%c~%0%d~%0%e~%0%f~%0%g~%0%h~%0%i~%0%j~%0%k~%0%l~%0%m~%0%n~%0%o~%0%p~%0%q~%0%r~%0%s~%0%t~%0%u~%0%v~%0%w~%0%x~%0%y~%0%z}"},"","","%0%","=","",null,null,null,7,"{1:MC:%0%a~%0%b~%0%c~%0%d~%0%e~%0%f~%0%g~%0%h~%0%i~%0%j~%0%k~%0%l~%0%m~%0%n~%0%o~%0%p~%0%q~%0%r~%0%s~%0%t~%0%u~%0%v~%0%w~%0%x~%0%y~%0%z}","","","%0%","=",""]
[8,{"$f":"\"{\"&IF('Embedded Answer (Cloze) Strings'!$D$12=\"\",1,'Embedded Answer (Cloze) Strings'!$D$12)&\":MC:%0%a~%0%b~%0%c~%0%d~%0%e~%0%f~%0%g~%0%h~%0%i~%0%j~%0%k~%0%l~%0%m~%0%n~%0%o~%0%p~%0%q~%0%r~%0%s~%0%t~%0%u~%0%v~%0%w~%0%x~%0%y~%0%z}\"","v":"{1:MC:%0%a~%0%b~%0%c~%0%d~%0%e~%0%f~%0%g~%0%h~%0%i~%0%j~%0%k~%0%l~%0%m~%0%n~%0%o~%0%p~%0%q~%0%r~%0%s~%0%t~%0%u~%0%v~%0%w~%0%x~%0%y~%0%z}"},"","","%0%","=","",null,null,null,8,"{1:MC:%0%a~%0%b~%0%c~%0%d~%0%e~%0%f~%0%g~%0%h~%0%i~%0%j~%0%k~%0%l~%0%m~%0%n~%0%o~%0%p~%0%q~%0%r~%0%s~%0%t~%0%u~%0%v~%0%w~%0%x~%0%y~%0%z}","","","%0%","=",""]
[9,{"$f":"\"{\"&IF('Embedded Answer (Cloze) Strings'!$D$12=\"\",1,'Embedded Answer (Cloze) Strings'!$D$12)&\":MC:%0%a~%0%b~%0%c~%0%d~%0%e~%0%f~%0%g~%0%h~%0%i~%0%j~%0%k~%0%l~%0%m~%0%n~%0%o~%0%p~%0%q~%0%r~%0%s~%0%t~%0%u~%0%v~%0%w~%0%x~%0%y~%0%z}\"","v":"{1:MC:%0%a~%0%b~%0%c~%0%d~%0%e~%0%f~%0%g~%0%h~%0%i~%0%j~%0%k~%0%l~%0%m~%0%n~%0%o~%0%p~%0%q~%0%r~%0%s~%0%t~%0%u~%0%v~%0%w~%0%x~%0%y~%0%z}"},"","","%0%","=","",null,null,null,9,"{1:MC:%0%a~%0%b~%0%c~%0%d~%0%e~%0%f~%0%g~%0%h~%0%i~%0%j~%0%k~%0%l~%0%m~%0%n~%0%o~%0%p~%0%q~%0%r~%0%s~%0%t~%0%u~%0%v~%0%w~%0%x~%0%y~%0%z}","","","%0%","=",""]
[10,{"$f":"\"{\"&IF('Embedded Answer (Cloze) Strings'!$D$12=\"\",1,'Embedded Answer (Cloze) Strings'!$D$12)&\":MC:%0%a~%0%b~%0%c~%0%d~%0%e~%0%f~%0%g~%0%h~%0%i~%0%j~%0%k~%0%l~%0%m~%0%n~%0%o~%0%p~%0%q~%0%r~%0%s~%0%t~%0%u~%0%v~%0%w~%0%x~%0%y~%0%z}\"","v":"{1:MC:%0%a~%0%b~%0%c~%0%d~%0%e~%0%f~%0%g~%0%h~%0%i~%0%j~%0%k~%0%l~%0%m~%0%n~%0%o~%0%p~%0%q~%0%r~%0%s~%0%t~%0%u~%0%v~%0%w~%0%x~%0%y~%0%z}"},"","","%0%","=","",null,null,null,10,"{1:MC:%0%a~%0%b~%0%c~%0%d~%0%e~%0%f~%0%g~%0%h~%0%i~%0%j~%0%k~%0%l~%0%m~%0%n~%0%o~%0%p~%0%q~%0%r~%0%s~%0%t~%0%u~%0%v~%0%w~%0%x~%0%y~%0%z}","","","%0%","=",""]
[11,{"$f":"\"{\"&IF('Embedded Answer (Cloze) Strings'!$D$12=\"\",1,'Embedded Answer (Cloze) Strings'!$D$12)&\":MC:%0%a~%0%b~%0%c~%0%d~%0%e~%0%f~%0%g~%0%h~%0%i~%0%j~%0%k~%0%l~%0%m~%0%n~%0%o~%0%p~%0%q~%0%r~%0%s~%0%t~%0%u~%0%v~%0%w~%0%x~%0%y~%0%z}\"","v":"{1:MC:%0%a~%0%b~%0%c~%0%d~%0%e~%0%f~%0%g~%0%h~%0%i~%0%j~%0%k~%0%l~%0%m~%0%n~%0%o~%0%p~%0%q~%0%r~%0%s~%0%t~%0%u~%0%v~%0%w~%0%x~%0%y~%0%z}"},"","","%0%","=","",null,null,null,11,"{1:MC:%0%a~%0%b~%0%c~%0%d~%0%e~%0%f~%0%g~%0%h~%0%i~%0%j~%0%k~%0%l~%0%m~%0%n~%0%o~%0%p~%0%q~%0%r~%0%s~%0%t~%0%u~%0%v~%0%w~%0%x~%0%y~%0%z}","","","%0%","=",""]
[12,{"$f":"\"{\"&IF('Embedded Answer (Cloze) Strings'!$D$12=\"\",1,'Embedded Answer (Cloze) Strings'!$D$12)&\":MC:%0%a~%0%b~%0%c~%0%d~%0%e~%0%f~%0%g~%0%h~%0%i~%0%j~%0%k~%0%l~%0%m~%0%n~%0%o~%0%p~%0%q~%0%r~%0%s~%0%t~%0%u~%0%v~%0%w~%0%x~%0%y~%0%z}\"","v":"{1:MC:%0%a~%0%b~%0%c~%0%d~%0%e~%0%f~%0%g~%0%h~%0%i~%0%j~%0%k~%0%l~%0%m~%0%n~%0%o~%0%p~%0%q~%0%r~%0%s~%0%t~%0%u~%0%v~%0%w~%0%x~%0%y~%0%z}"},"","","%0%","=","",null,null,null,12,"{1:MC:%0%a~%0%b~%0%c~%0%d~%0%e~%0%f~%0%g~%0%h~%0%i~%0%j~%0%k~%0%l~%0%m~%0%n~%0%o~%0%p~%0%q~%0%r~%0%s~%0%t~%0%u~%0%v~%0%w~%0%x~%0%y~%0%z}","","","%0%","=",""]
[13,{"$f":"\"{\"&IF('Embedded Answer (Cloze) Strings'!$D$12=\"\",1,'Embedded Answer (Cloze) Strings'!$D$12)&\":MC:%0%a~%0%b~%0%c~%0%d~%0%e~%0%f~%0%g~%0%h~%0%i~%0%j~%0%k~%0%l~%0%m~%0%n~%0%o~%0%p~%0%q~%0%r~%0%s~%0%t~%0%u~%0%v~%0%w~%0%x~%0%y~%0%z}\"","v":"{1:MC:%0%a~%0%b~%0%c~%0%d~%0%e~%0%f~%0%g~%0%h~%0%i~%0%j~%0%k~%0%l~%0%m~%0%n~%0%o~%0%p~%0%q~%0%r~%0%s~%0%t~%0%u~%0%v~%0%w~%0%x~%0%y~%0%z}"},"","","%0%","=","",null,null,null,13,"{1:MC:%0%a~%0%b~%0%c~%0%d~%0%e~%0%f~%0%g~%0%h~%0%i~%0%j~%0%k~%0%l~%0%m~%0%n~%0%o~%0%p~%0%q~%0%r~%0%s~%0%t~%0%u~%0%v~%0%w~%0%x~%0%y~%0%z}","","","%0%","=",""]
[14,{"$f":"\"{\"&IF('Embedded Answer (Cloze) Strings'!$D$12=\"\",1,'Embedded Answer (Cloze) Strings'!$D$12)&\":MC:%0%a~%0%b~%0%c~%0%d~%0%e~%0%f~%0%g~%0%h~%0%i~%0%j~%0%k~%0%l~%0%m~%0%n~%0%o~%0%p~%0%q~%0%r~%0%s~%0%t~%0%u~%0%v~%0%w~%0%x~%0%y~%0%z}\"","v":"{1:MC:%0%a~%0%b~%0%c~%0%d~%0%e~%0%f~%0%g~%0%h~%0%i~%0%j~%0%k~%0%l~%0%m~%0%n~%0%o~%0%p~%0%q~%0%r~%0%s~%0%t~%0%u~%0%v~%0%w~%0%x~%0%y~%0%z}"},"","","%0%","=","",null,null,null,14,"{1:MC:%0%a~%0%b~%0%c~%0%d~%0%e~%0%f~%0%g~%0%h~%0%i~%0%j~%0%k~%0%l~%0%m~%0%n~%0%o~%0%p~%0%q~%0%r~%0%s~%0%t~%0%u~%0%v~%0%w~%0%x~%0%y~%0%z}","","","%0%","=",""]
[15,{"$f":"\"{\"&IF('Embedded Answer (Cloze) Strings'!$D$12=\"\",1,'Embedded Answer (Cloze) Strings'!$D$12)&\":MC:%0%a~%0%b~%0%c~%0%d~%0%e~%0%f~%0%g~%0%h~%0%i~%0%j~%0%k~%0%l~%0%m~%0%n~%0%o~%0%p~%0%q~%0%r~%0%s~%0%t~%0%u~%0%v~%0%w~%0%x~%0%y~%0%z}\"","v":"{1:MC:%0%a~%0%b~%0%c~%0%d~%0%e~%0%f~%0%g~%0%h~%0%i~%0%j~%0%k~%0%l~%0%m~%0%n~%0%o~%0%p~%0%q~%0%r~%0%s~%0%t~%0%u~%0%v~%0%w~%0%x~%0%y~%0%z}"},"","","%0%","=","",null,null,null,15,"{1:MC:%0%a~%0%b~%0%c~%0%d~%0%e~%0%f~%0%g~%0%h~%0%i~%0%j~%0%k~%0%l~%0%m~%0%n~%0%o~%0%p~%0%q~%0%r~%0%s~%0%t~%0%u~%0%v~%0%w~%0%x~%0%y~%0%z}","","","%0%","=",""]
[16,{"$f":"\"{\"&IF('Embedded Answer (Cloze) Strings'!$D$12=\"\",1,'Embedded Answer (Cloze) Strings'!$D$12)&\":MC:%0%a~%0%b~%0%c~%0%d~%0%e~%0%f~%0%g~%0%h~%0%i~%0%j~%0%k~%0%l~%0%m~%0%n~%0%o~%0%p~%0%q~%0%r~%0%s~%0%t~%0%u~%0%v~%0%w~%0%x~%0%y~%0%z}\"","v":"{1:MC:%0%a~%0%b~%0%c~%0%d~%0%e~%0%f~%0%g~%0%h~%0%i~%0%j~%0%k~%0%l~%0%m~%0%n~%0%o~%0%p~%0%q~%0%r~%0%s~%0%t~%0%u~%0%v~%0%w~%0%x~%0%y~%0%z}"},"","","%0%","=","",null,null,null,16,"{1:MC:%0%a~%0%b~%0%c~%0%d~%0%e~%0%f~%0%g~%0%h~%0%i~%0%j~%0%k~%0%l~%0%m~%0%n~%0%o~%0%p~%0%q~%0%r~%0%s~%0%t~%0%u~%0%v~%0%w~%0%x~%0%y~%0%z}","","","%0%","=",""]
[17,{"$f":"\"{\"&IF('Embedded Answer (Cloze) Strings'!$D$12=\"\",1,'Embedded Answer (Cloze) Strings'!$D$12)&\":MC:%0%a~%0%b~%0%c~%0%d~%0%e~%0%f~%0%g~%0%h~%0%i~%0%j~%0%k~%0%l~%0%m~%0%n~%0%o~%0%p~%0%q~%0%r~%0%s~%0%t~%0%u~%0%v~%0%w~%0%x~%0%y~%0%z}\"","v":"{1:MC:%0%a~%0%b~%0%c~%0%d~%0%e~%0%f~%0%g~%0%h~%0%i~%0%j~%0%k~%0%l~%0%m~%0%n~%0%o~%0%p~%0%q~%0%r~%0%s~%0%t~%0%u~%0%v~%0%w~%0%x~%0%y~%0%z}"},"","","%0%","=","",null,null,null,17,"{1:MC:%0%a~%0%b~%0%c~%0%d~%0%e~%0%f~%0%g~%0%h~%0%i~%0%j~%0%k~%0%l~%0%m~%0%n~%0%o~%0%p~%0%q~%0%r~%0%s~%0%t~%0%u~%0%v~%0%w~%0%x~%0%y~%0%z}","","","%0%","=",""]
[18,{"$f":"\"{\"&IF('Embedded Answer (Cloze) Strings'!$D$12=\"\",1,'Embedded Answer (Cloze) Strings'!$D$12)&\":MC:%0%a~%0%b~%0%c~%0%d~%0%e~%0%f~%0%g~%0%h~%0%i~%0%j~%0%k~%0%l~%0%m~%0%n~%0%o~%0%p~%0%q~%0%r~%0%s~%0%t~%0%u~%0%v~%0%w~%0%x~%0%y~%0%z}\"","v":"{1:MC:%0%a~%0%b~%0%c~%0%d~%0%e~%0%f~%0%g~%0%h~%0%i~%0%j~%0%k~%0%l~%0%m~%0%n~%0%o~%0%p~%0%q~%0%r~%0%s~%0%t~%0%u~%0%v~%0%w~%0%x~%0%y~%0%z}"},"","","%0%","=","",null,null,null,18,"{1:MC:%0%a~%0%b~%0%c~%0%d~%0%e~%0%f~%0%g~%0%h~%0%i~%0%j~%0%k~%0%l~%0%m~%0%n~%0%o~%0%p~%0%q~%0%r~%0%s~%0%t~%0%u~%0%v~%0%w~%0%x~%0%y~%0%z}","","","%0%","=",""]
[19,{"$f":"\"{\"&IF('Embedded Answer (Cloze) Strings'!$D$12=\"\",1,'Embedded Answer (Cloze) Strings'!$D$12)&\":MC:%0%a~%0%b~%0%c~%0%d~%0%e~%0%f~%0%g~%0%h~%0%i~%0%j~%0%k~%0%l~%0%m~%0%n~%0%o~%0%p~%0%q~%0%r~%0%s~%0%t~%0%u~%0%v~%0%w~%0%x~%0%y~%0%z}\"","v":"{1:MC:%0%a~%0%b~%0%c~%0%d~%0%e~%0%f~%0%g~%0%h~%0%i~%0%j~%0%k~%0%l~%0%m~%0%n~%0%o~%0%p~%0%q~%0%r~%0%s~%0%t~%0%u~%0%v~%0%w~%0%x~%0%y~%0%z}"},"","","%0%","=","",null,null,null,19,"{1:MC:%0%a~%0%b~%0%c~%0%d~%0%e~%0%f~%0%g~%0%h~%0%i~%0%j~%0%k~%0%l~%0%m~%0%n~%0%o~%0%p~%0%q~%0%r~%0%s~%0%t~%0%u~%0%v~%0%w~%0%x~%0%y~%0%z}","","","%0%","=",""]
[20,{"$f":"\"{\"&IF('Embedded Answer (Cloze) Strings'!$D$12=\"\",1,'Embedded Answer (Cloze) Strings'!$D$12)&\":MC:%0%a~%0%b~%0%c~%0%d~%0%e~%0%f~%0%g~%0%h~%0%i~%0%j~%0%k~%0%l~%0%m~%0%n~%0%o~%0%p~%0%q~%0%r~%0%s~%0%t~%0%u~%0%v~%0%w~%0%x~%0%y~%0%z}\"","v":"{1:MC:%0%a~%0%b~%0%c~%0%d~%0%e~%0%f~%0%g~%0%h~%0%i~%0%j~%0%k~%0%l~%0%m~%0%n~%0%o~%0%p~%0%q~%0%r~%0%s~%0%t~%0%u~%0%v~%0%w~%0%x~%0%y~%0%z}"},"","","%0%","=","",null,null,null,20,"{1:MC:%0%a~%0%b~%0%c~%0%d~%0%e~%0%f~%0%g~%0%h~%0%i~%0%j~%0%k~%0%l~%0%m~%0%n~%0%o~%0%p~%0%q~%0%r~%0%s~%0%t~%0%u~%0%v~%0%w~%0%x~%0%y~%0%z}","","","%0%","=",""]
[]
[null,null,null,null,null,null,11,null,null,null,null,null,null,null,null,null,11]
[null,null,null,null,null,null,"Type word here (lowecase only):",{"$f":"'Embedded Answer (Cloze) Strings'!$F$13","v":0},null,null,null,null,null,null,null,null,"Type word here (lowecase only):",{"$f":"'GIFT Import Strings'!$I$13","v":0}]
["Index","Original","String","Letter","Wrong","Right","Copy this code and paste as plain text into Moodle:",{"$f":"G244&G245&G246&G247&G248&G249&G250&G251&G252&G253&G254&G255&G256&G257&G258&G259&G260&G261&G262&G263","v":"{1:MC:%0%a~%0%b~%0%c~%0%d~%0%e~%0%f~%0%g~%0%h~%0%i~%0%j~%0%k~%0%l~%0%m~%0%n~%0%o~%0%p~%0%q~%0%r~%0%s~%0%t~%0%u~%0%v~%0%w~%0%x~%0%y~%0%z}"},null,null,"Index","Original","String","Letter","Wrong","Right","Copy this code and paste as plain text into Moodle:",{"$f":"Q244&Q245&Q246&Q247&Q248&Q249&Q250&Q251&Q252&Q253&Q254&Q255&Q256&Q257&Q258&Q259&Q260&Q261&Q262&Q263","v":"{1:MC:%0%a~%0%b~%0%c~%0%d~%0%e~%0%f~%0%g~%0%h~%0%i~%0%j~%0%k~%0%l~%0%m~%0%n~%0%o~%0%p~%0%q~%0%r~%0%s~%0%t~%0%u~%0%v~%0%w~%0%x~%0%y~%0%z}"}]
[1,{"$f":"\"{\"&IF('Embedded Answer (Cloze) Strings'!$D$13=\"\",1,'Embedded Answer (Cloze) Strings'!$D$13)&\":MC:%0%a~%0%b~%0%c~%0%d~%0%e~%0%f~%0%g~%0%h~%0%i~%0%j~%0%k~%0%l~%0%m~%0%n~%0%o~%0%p~%0%q~%0%r~%0%s~%0%t~%0%u~%0%v~%0%w~%0%x~%0%y~%0%z}\"","v":"{1:MC:%0%a~%0%b~%0%c~%0%d~%0%e~%0%f~%0%g~%0%h~%0%i~%0%j~%0%k~%0%l~%0%m~%0%n~%0%o~%0%p~%0%q~%0%r~%0%s~%0%t~%0%u~%0%v~%0%w~%0%x~%0%y~%0%z}"},{"$f":"IF(LEN($H$242)>=$A244,LEFT($H$242,$A244),\"\")","v":"0"},{"$f":"RIGHT(C244,1)","v":"0"},{"$f":"\"%0%\"&D244","v":"%0%0"},{"$f":"\"=\"&D244","v":"=0"},{"$f":"IF(D244=\"\",\"\",SUBSTITUTE(B244,E244,F244))","v":"{1:MC:%0%a~%0%b~%0%c~%0%d~%0%e~%0%f~%0%g~%0%h~%0%i~%0%j~%0%k~%0%l~%0%m~%0%n~%0%o~%0%p~%0%q~%0%r~%0%s~%0%t~%0%u~%0%v~%0%w~%0%x~%0%y~%0%z}"},null,null,null,1,"{1:MC:%0%a~%0%b~%0%c~%0%d~%0%e~%0%f~%0%g~%0%h~%0%i~%0%j~%0%k~%0%l~%0%m~%0%n~%0%o~%0%p~%0%q~%0%r~%0%s~%0%t~%0%u~%0%v~%0%w~%0%x~%0%y~%0%z}",{"$f":"IF(LEN($H$2)>=$A244,LEFT($H$2,$A244),\"\")","v":"0"},{"$f":"RIGHT(M244,1)","v":"0"},{"$f":"\"%0%\"&N244","v":"%0%0"},{"$f":"\"=\"&N244","v":"=0"},{"$f":"IF(N244=\"\",\"\",SUBSTITUTE(L244,O244,P244))","v":"{1:MC:%0%a~%0%b~%0%c~%0%d~%0%e~%0%f~%0%g~%0%h~%0%i~%0%j~%0%k~%0%l~%0%m~%0%n~%0%o~%0%p~%0%q~%0%r~%0%s~%0%t~%0%u~%0%v~%0%w~%0%x~%0%y~%0%z}"}]
[2,{"$f":"\"{\"&IF('Embedded Answer (Cloze) Strings'!$D$13=\"\",1,'Embedded Answer (Cloze) Strings'!$D$13)&\":MC:%0%a~%0%b~%0%c~%0%d~%0%e~%0%f~%0%g~%0%h~%0%i~%0%j~%0%k~%0%l~%0%m~%0%n~%0%o~%0%p~%0%q~%0%r~%0%s~%0%t~%0%u~%0%v~%0%w~%0%x~%0%y~%0%z}\"","v":"{1:MC:%0%a~%0%b~%0%c~%0%d~%0%e~%0%f~%0%g~%0%h~%0%i~%0%j~%0%k~%0%l~%0%m~%0%n~%0%o~%0%p~%0%q~%0%r~%0%s~%0%t~%0%u~%0%v~%0%w~%0%x~%0%y~%0%z}"},"",{"$f":"RIGHT(C245,1)","v":""},{"$f":"\"%0%\"&D245","v":"%0%"},"=","",null,null,null,2,"{1:MC:%0%a~%0%b~%0%c~%0%d~%0%e~%0%f~%0%g~%0%h~%0%i~%0%j~%0%k~%0%l~%0%m~%0%n~%0%o~%0%p~%0%q~%0%r~%0%s~%0%t~%0%u~%0%v~%0%w~%0%x~%0%y~%0%z}","",{"$f":"RIGHT(M245,1)","v":""},{"$f":"\"%0%\"&N245","v":"%0%"},{"$f":"\"=\"&N245","v":"="},{"$f":"IF(N245=\"\",\"\",SUBSTITUTE(L245,O245,P245))","v":""}]
[3,{"$f":"\"{\"&IF('Embedded Answer (Cloze) Strings'!$D$13=\"\",1,'Embedded Answer (Cloze) Strings'!$D$13)&\":MC:%0%a~%0%b~%0%c~%0%d~%0%e~%0%f~%0%g~%0%h~%0%i~%0%j~%0%k~%0%l~%0%m~%0%n~%0%o~%0%p~%0%q~%0%r~%0%s~%0%t~%0%u~%0%v~%0%w~%0%x~%0%y~%0%z}\"","v":"{1:MC:%0%a~%0%b~%0%c~%0%d~%0%e~%0%f~%0%g~%0%h~%0%i~%0%j~%0%k~%0%l~%0%m~%0%n~%0%o~%0%p~%0%q~%0%r~%0%s~%0%t~%0%u~%0%v~%0%w~%0%x~%0%y~%0%z}"},"","","%0%","=","",null,null,null,3,"{1:MC:%0%a~%0%b~%0%c~%0%d~%0%e~%0%f~%0%g~%0%h~%0%i~%0%j~%0%k~%0%l~%0%m~%0%n~%0%o~%0%p~%0%q~%0%r~%0%s~%0%t~%0%u~%0%v~%0%w~%0%x~%0%y~%0%z}","","","%0%","=",""]
[4,{"$f":"\"{\"&IF('Embedded Answer (Cloze) Strings'!$D$13=\"\",1,'Embedded Answer (Cloze) Strings'!$D$13)&\":MC:%0%a~%0%b~%0%c~%0%d~%0%e~%0%f~%0%g~%0%h~%0%i~%0%j~%0%k~%0%l~%0%m~%0%n~%0%o~%0%p~%0%q~%0%r~%0%s~%0%t~%0%u~%0%v~%0%w~%0%x~%0%y~%0%z}\"","v":"{1:MC:%0%a~%0%b~%0%c~%0%d~%0%e~%0%f~%0%g~%0%h~%0%i~%0%j~%0%k~%0%l~%0%m~%0%n~%0%o~%0%p~%0%q~%0%r~%0%s~%0%t~%0%u~%0%v~%0%w~%0%x~%0%y~%0%z}"},"","","%0%","=","",null,null,null,4,"{1:MC:%0%a~%0%b~%0%c~%0%d~%0%e~%0%f~%0%g~%0%h~%0%i~%0%j~%0%k~%0%l~%0%m~%0%n~%0%o~%0%p~%0%q~%0%r~%0%s~%0%t~%0%u~%0%v~%0%w~%0%x~%0%y~%0%z}","","","%0%","=",""]
[5,{"$f":"\"{\"&IF('Embedded Answer (Cloze) Strings'!$D$13=\"\",1,'Embedded Answer (Cloze) Strings'!$D$13)&\":MC:%0%a~%0%b~%0%c~%0%d~%0%e~%0%f~%0%g~%0%h~%0%i~%0%j~%0%k~%0%l~%0%m~%0%n~%0%o~%0%p~%0%q~%0%r~%0%s~%0%t~%0%u~%0%v~%0%w~%0%x~%0%y~%0%z}\"","v":"{1:MC:%0%a~%0%b~%0%c~%0%d~%0%e~%0%f~%0%g~%0%h~%0%i~%0%j~%0%k~%0%l~%0%m~%0%n~%0%o~%0%p~%0%q~%0%r~%0%s~%0%t~%0%u~%0%v~%0%w~%0%x~%0%y~%0%z}"},"","","%0%","=","",null,null,null,5,"{1:MC:%0%a~%0%b~%0%c~%0%d~%0%e~%0%f~%0%g~%0%h~%0%i~%0%j~%0%k~%0%l~%0%m~%0%n~%0%o~%0%p~%0%q~%0%r~%0%s~%0%t~%0%u~%0%v~%0%w~%0%x~%0%y~%0%z}","","","%0%","=",""]
[6,{"$f":"\"{\"&IF('Embedded Answer (Cloze) Strings'!$D$13=\"\",1,'Embedded Answer (Cloze) Strings'!$D$13)&\":MC:%0%a~%0%b~%0%c~%0%d~%0%e~%0%f~%0%g~%0%h~%0%i~%0%j~%0%k~%0%l~%0%m~%0%n~%0%o~%0%p~%0%q~%0%r~%0%s~%0%t~%0%u~%0%v~%0%w~%0%x~%0%y~%0%z}\"","v":"{1:MC:%0%a~%0%b~%0%c~%0%d~%0%e~%0%f~%0%g~%0%h~%0%i~%0%j~%0%k~%0%l~%0%m~%0%n~%0%o~%0%p~%0%q~%0%r~%0%s~%0%t~%0%u~%0%v~%0%w~%0%x~%0%y~%0%z}"},"","","%0%","=","",null,null,null,6,"{1:MC:%0%a~%0%b~%0%c~%0%d~%0%e~%0%f~%0%g~%0%h~%0%i~%0%j~%0%k~%0%l~%0%m~%0%n~%0%o~%0%p~%0%q~%0%r~%0%s~%0%t~%0%u~%0%v~%0%w~%0%x~%0%y~%0%z}","","","%0%","=",""]
[7,{"$f":"\"{\"&IF('Embedded Answer (Cloze) Strings'!$D$13=\"\",1,'Embedded Answer (Cloze) Strings'!$D$13)&\":MC:%0%a~%0%b~%0%c~%0%d~%0%e~%0%f~%0%g~%0%h~%0%i~%0%j~%0%k~%0%l~%0%m~%0%n~%0%o~%0%p~%0%q~%0%r~%0%s~%0%t~%0%u~%0%v~%0%w~%0%x~%0%y~%0%z}\"","v":"{1:MC:%0%a~%0%b~%0%c~%0%d~%0%e~%0%f~%0%g~%0%h~%0%i~%0%j~%0%k~%0%l~%0%m~%0%n~%0%o~%0%p~%0%q~%0%r~%0%s~%0%t~%0%u~%0%v~%0%w~%0%x~%0%y~%0%z}"},"","","%0%","=","",null,null,null,7,"{1:MC:%0%a~%0%b~%0%c~%0%d~%0%e~%0%f~%0%g~%0%h~%0%i~%0%j~%0%k~%0%l~%0%m~%0%n~%0%o~%0%p~%0%q~%0%r~%0%s~%0%t~%0%u~%0%v~%0%w~%0%x~%0%y~%0%z}","","","%0%","=",""]
[8,{"$f":"\"{\"&IF('Embedded Answer (Cloze) Strings'!$D$13=\"\",1,'Embedded Answer (Cloze) Strings'!$D$13)&\":MC:%0%a~%0%b~%0%c~%0%d~%0%e~%0%f~%0%g~%0%h~%0%i~%0%j~%0%k~%0%l~%0%m~%0%n~%0%o~%0%p~%0%q~%0%r~%0%s~%0%t~%0%u~%0%v~%0%w~%0%x~%0%y~%0%z}\"","v":"{1:MC:%0%a~%0%b~%0%c~%0%d~%0%e~%0%f~%0%g~%0%h~%0%i~%0%j~%0%k~%0%l~%0%m~%0%n~%0%o~%0%p~%0%q~%0%r~%0%s~%0%t~%0%u~%0%v~%0%w~%0%x~%0%y~%0%z}"},"","","%0%","=","",null,null,null,8,"{1:MC:%0%a~%0%b~%0%c~%0%d~%0%e~%0%f~%0%g~%0%h~%0%i~%0%j~%0%k~%0%l~%0%m~%0%n~%0%o~%0%p~%0%q~%0%r~%0%s~%0%t~%0%u~%0%v~%0%w~%0%x~%0%y~%0%z}","","","%0%","=",""]
[9,{"$f":"\"{\"&IF('Embedded Answer (Cloze) Strings'!$D$13=\"\",1,'Embedded Answer (Cloze) Strings'!$D$13)&\":MC:%0%a~%0%b~%0%c~%0%d~%0%e~%0%f~%0%g~%0%h~%0%i~%0%j~%0%k~%0%l~%0%m~%0%n~%0%o~%0%p~%0%q~%0%r~%0%s~%0%t~%0%u~%0%v~%0%w~%0%x~%0%y~%0%z}\"","v":"{1:MC:%0%a~%0%b~%0%c~%0%d~%0%e~%0%f~%0%g~%0%h~%0%i~%0%j~%0%k~%0%l~%0%m~%0%n~%0%o~%0%p~%0%q~%0%r~%0%s~%0%t~%0%u~%0%v~%0%w~%0%x~%0%y~%0%z}"},"","","%0%","=","",null,null,null,9,"{1:MC:%0%a~%0%b~%0%c~%0%d~%0%e~%0%f~%0%g~%0%h~%0%i~%0%j~%0%k~%0%l~%0%m~%0%n~%0%o~%0%p~%0%q~%0%r~%0%s~%0%t~%0%u~%0%v~%0%w~%0%x~%0%y~%0%z}","","","%0%","=",""]
[10,{"$f":"\"{\"&IF('Embedded Answer (Cloze) Strings'!$D$13=\"\",1,'Embedded Answer (Cloze) Strings'!$D$13)&\":MC:%0%a~%0%b~%0%c~%0%d~%0%e~%0%f~%0%g~%0%h~%0%i~%0%j~%0%k~%0%l~%0%m~%0%n~%0%o~%0%p~%0%q~%0%r~%0%s~%0%t~%0%u~%0%v~%0%w~%0%x~%0%y~%0%z}\"","v":"{1:MC:%0%a~%0%b~%0%c~%0%d~%0%e~%0%f~%0%g~%0%h~%0%i~%0%j~%0%k~%0%l~%0%m~%0%n~%0%o~%0%p~%0%q~%0%r~%0%s~%0%t~%0%u~%0%v~%0%w~%0%x~%0%y~%0%z}"},"","","%0%","=","",null,null,null,10,"{1:MC:%0%a~%0%b~%0%c~%0%d~%0%e~%0%f~%0%g~%0%h~%0%i~%0%j~%0%k~%0%l~%0%m~%0%n~%0%o~%0%p~%0%q~%0%r~%0%s~%0%t~%0%u~%0%v~%0%w~%0%x~%0%y~%0%z}","","","%0%","=",""]
[11,{"$f":"\"{\"&IF('Embedded Answer (Cloze) Strings'!$D$13=\"\",1,'Embedded Answer (Cloze) Strings'!$D$13)&\":MC:%0%a~%0%b~%0%c~%0%d~%0%e~%0%f~%0%g~%0%h~%0%i~%0%j~%0%k~%0%l~%0%m~%0%n~%0%o~%0%p~%0%q~%0%r~%0%s~%0%t~%0%u~%0%v~%0%w~%0%x~%0%y~%0%z}\"","v":"{1:MC:%0%a~%0%b~%0%c~%0%d~%0%e~%0%f~%0%g~%0%h~%0%i~%0%j~%0%k~%0%l~%0%m~%0%n~%0%o~%0%p~%0%q~%0%r~%0%s~%0%t~%0%u~%0%v~%0%w~%0%x~%0%y~%0%z}"},"","","%0%","=","",null,null,null,11,"{1:MC:%0%a~%0%b~%0%c~%0%d~%0%e~%0%f~%0%g~%0%h~%0%i~%0%j~%0%k~%0%l~%0%m~%0%n~%0%o~%0%p~%0%q~%0%r~%0%s~%0%t~%0%u~%0%v~%0%w~%0%x~%0%y~%0%z}","","","%0%","=",""]
[12,{"$f":"\"{\"&IF('Embedded Answer (Cloze) Strings'!$D$13=\"\",1,'Embedded Answer (Cloze) Strings'!$D$13)&\":MC:%0%a~%0%b~%0%c~%0%d~%0%e~%0%f~%0%g~%0%h~%0%i~%0%j~%0%k~%0%l~%0%m~%0%n~%0%o~%0%p~%0%q~%0%r~%0%s~%0%t~%0%u~%0%v~%0%w~%0%x~%0%y~%0%z}\"","v":"{1:MC:%0%a~%0%b~%0%c~%0%d~%0%e~%0%f~%0%g~%0%h~%0%i~%0%j~%0%k~%0%l~%0%m~%0%n~%0%o~%0%p~%0%q~%0%r~%0%s~%0%t~%0%u~%0%v~%0%w~%0%x~%0%y~%0%z}"},"","","%0%","=","",null,null,null,12,"{1:MC:%0%a~%0%b~%0%c~%0%d~%0%e~%0%f~%0%g~%0%h~%0%i~%0%j~%0%k~%0%l~%0%m~%0%n~%0%o~%0%p~%0%q~%0%r~%0%s~%0%t~%0%u~%0%v~%0%w~%0%x~%0%y~%0%z}","","","%0%","=",""]
[13,{"$f":"\"{\"&IF('Embedded Answer (Cloze) Strings'!$D$13=\"\",1,'Embedded Answer (Cloze) Strings'!$D$13)&\":MC:%0%a~%0%b~%0%c~%0%d~%0%e~%0%f~%0%g~%0%h~%0%i~%0%j~%0%k~%0%l~%0%m~%0%n~%0%o~%0%p~%0%q~%0%r~%0%s~%0%t~%0%u~%0%v~%0%w~%0%x~%0%y~%0%z}\"","v":"{1:MC:%0%a~%0%b~%0%c~%0%d~%0%e~%0%f~%0%g~%0%h~%0%i~%0%j~%0%k~%0%l~%0%m~%0%n~%0%o~%0%p~%0%q~%0%r~%0%s~%0%t~%0%u~%0%v~%0%w~%0%x~%0%y~%0%z}"},"","","%0%","=","",null,null,null,13,"{1:MC:%0%a~%0%b~%0%c~%0%d~%0%e~%0%f~%0%g~%0%h~%0%i~%0%j~%0%k~%0%l~%0%m~%0%n~%0%o~%0%p~%0%q~%0%r~%0%s~%0%t~%0%u~%0%v~%0%w~%0%x~%0%y~%0%z}","","","%0%","=",""]
[14,{"$f":"\"{\"&IF('Embedded Answer (Cloze) Strings'!$D$13=\"\",1,'Embedded Answer (Cloze) Strings'!$D$13)&\":MC:%0%a~%0%b~%0%c~%0%d~%0%e~%0%f~%0%g~%0%h~%0%i~%0%j~%0%k~%0%l~%0%m~%0%n~%0%o~%0%p~%0%q~%0%r~%0%s~%0%t~%0%u~%0%v~%0%w~%0%x~%0%y~%0%z}\"","v":"{1:MC:%0%a~%0%b~%0%c~%0%d~%0%e~%0%f~%0%g~%0%h~%0%i~%0%j~%0%k~%0%l~%0%m~%0%n~%0%o~%0%p~%0%q~%0%r~%0%s~%0%t~%0%u~%0%v~%0%w~%0%x~%0%y~%0%z}"},"","","%0%","=","",null,null,null,14,"{1:MC:%0%a~%0%b~%0%c~%0%d~%0%e~%0%f~%0%g~%0%h~%0%i~%0%j~%0%k~%0%l~%0%m~%0%n~%0%o~%0%p~%0%q~%0%r~%0%s~%0%t~%0%u~%0%v~%0%w~%0%x~%0%y~%0%z}","","","%0%","=",""]
[15,{"$f":"\"{\"&IF('Embedded Answer (Cloze) Strings'!$D$13=\"\",1,'Embedded Answer (Cloze) Strings'!$D$13)&\":MC:%0%a~%0%b~%0%c~%0%d~%0%e~%0%f~%0%g~%0%h~%0%i~%0%j~%0%k~%0%l~%0%m~%0%n~%0%o~%0%p~%0%q~%0%r~%0%s~%0%t~%0%u~%0%v~%0%w~%0%x~%0%y~%0%z}\"","v":"{1:MC:%0%a~%0%b~%0%c~%0%d~%0%e~%0%f~%0%g~%0%h~%0%i~%0%j~%0%k~%0%l~%0%m~%0%n~%0%o~%0%p~%0%q~%0%r~%0%s~%0%t~%0%u~%0%v~%0%w~%0%x~%0%y~%0%z}"},"","","%0%","=","",null,null,null,15,"{1:MC:%0%a~%0%b~%0%c~%0%d~%0%e~%0%f~%0%g~%0%h~%0%i~%0%j~%0%k~%0%l~%0%m~%0%n~%0%o~%0%p~%0%q~%0%r~%0%s~%0%t~%0%u~%0%v~%0%w~%0%x~%0%y~%0%z}","","","%0%","=",""]
[16,{"$f":"\"{\"&IF('Embedded Answer (Cloze) Strings'!$D$13=\"\",1,'Embedded Answer (Cloze) Strings'!$D$13)&\":MC:%0%a~%0%b~%0%c~%0%d~%0%e~%0%f~%0%g~%0%h~%0%i~%0%j~%0%k~%0%l~%0%m~%0%n~%0%o~%0%p~%0%q~%0%r~%0%s~%0%t~%0%u~%0%v~%0%w~%0%x~%0%y~%0%z}\"","v":"{1:MC:%0%a~%0%b~%0%c~%0%d~%0%e~%0%f~%0%g~%0%h~%0%i~%0%j~%0%k~%0%l~%0%m~%0%n~%0%o~%0%p~%0%q~%0%r~%0%s~%0%t~%0%u~%0%v~%0%w~%0%x~%0%y~%0%z}"},"","","%0%","=","",null,null,null,16,"{1:MC:%0%a~%0%b~%0%c~%0%d~%0%e~%0%f~%0%g~%0%h~%0%i~%0%j~%0%k~%0%l~%0%m~%0%n~%0%o~%0%p~%0%q~%0%r~%0%s~%0%t~%0%u~%0%v~%0%w~%0%x~%0%y~%0%z}","","","%0%","=",""]
[17,{"$f":"\"{\"&IF('Embedded Answer (Cloze) Strings'!$D$13=\"\",1,'Embedded Answer (Cloze) Strings'!$D$13)&\":MC:%0%a~%0%b~%0%c~%0%d~%0%e~%0%f~%0%g~%0%h~%0%i~%0%j~%0%k~%0%l~%0%m~%0%n~%0%o~%0%p~%0%q~%0%r~%0%s~%0%t~%0%u~%0%v~%0%w~%0%x~%0%y~%0%z}\"","v":"{1:MC:%0%a~%0%b~%0%c~%0%d~%0%e~%0%f~%0%g~%0%h~%0%i~%0%j~%0%k~%0%l~%0%m~%0%n~%0%o~%0%p~%0%q~%0%r~%0%s~%0%t~%0%u~%0%v~%0%w~%0%x~%0%y~%0%z}"},"","","%0%","=","",null,null,null,17,"{1:MC:%0%a~%0%b~%0%c~%0%d~%0%e~%0%f~%0%g~%0%h~%0%i~%0%j~%0%k~%0%l~%0%m~%0%n~%0%o~%0%p~%0%q~%0%r~%0%s~%0%t~%0%u~%0%v~%0%w~%0%x~%0%y~%0%z}","","","%0%","=",""]
[18,{"$f":"\"{\"&IF('Embedded Answer (Cloze) Strings'!$D$13=\"\",1,'Embedded Answer (Cloze) Strings'!$D$13)&\":MC:%0%a~%0%b~%0%c~%0%d~%0%e~%0%f~%0%g~%0%h~%0%i~%0%j~%0%k~%0%l~%0%m~%0%n~%0%o~%0%p~%0%q~%0%r~%0%s~%0%t~%0%u~%0%v~%0%w~%0%x~%0%y~%0%z}\"","v":"{1:MC:%0%a~%0%b~%0%c~%0%d~%0%e~%0%f~%0%g~%0%h~%0%i~%0%j~%0%k~%0%l~%0%m~%0%n~%0%o~%0%p~%0%q~%0%r~%0%s~%0%t~%0%u~%0%v~%0%w~%0%x~%0%y~%0%z}"},"","","%0%","=","",null,null,null,18,"{1:MC:%0%a~%0%b~%0%c~%0%d~%0%e~%0%f~%0%g~%0%h~%0%i~%0%j~%0%k~%0%l~%0%m~%0%n~%0%o~%0%p~%0%q~%0%r~%0%s~%0%t~%0%u~%0%v~%0%w~%0%x~%0%y~%0%z}","","","%0%","=",""]
[19,{"$f":"\"{\"&IF('Embedded Answer (Cloze) Strings'!$D$13=\"\",1,'Embedded Answer (Cloze) Strings'!$D$13)&\":MC:%0%a~%0%b~%0%c~%0%d~%0%e~%0%f~%0%g~%0%h~%0%i~%0%j~%0%k~%0%l~%0%m~%0%n~%0%o~%0%p~%0%q~%0%r~%0%s~%0%t~%0%u~%0%v~%0%w~%0%x~%0%y~%0%z}\"","v":"{1:MC:%0%a~%0%b~%0%c~%0%d~%0%e~%0%f~%0%g~%0%h~%0%i~%0%j~%0%k~%0%l~%0%m~%0%n~%0%o~%0%p~%0%q~%0%r~%0%s~%0%t~%0%u~%0%v~%0%w~%0%x~%0%y~%0%z}"},"","","%0%","=","",null,null,null,19,"{1:MC:%0%a~%0%b~%0%c~%0%d~%0%e~%0%f~%0%g~%0%h~%0%i~%0%j~%0%k~%0%l~%0%m~%0%n~%0%o~%0%p~%0%q~%0%r~%0%s~%0%t~%0%u~%0%v~%0%w~%0%x~%0%y~%0%z}","","","%0%","=",""]
[20,{"$f":"\"{\"&IF('Embedded Answer (Cloze) Strings'!$D$13=\"\",1,'Embedded Answer (Cloze) Strings'!$D$13)&\":MC:%0%a~%0%b~%0%c~%0%d~%0%e~%0%f~%0%g~%0%h~%0%i~%0%j~%0%k~%0%l~%0%m~%0%n~%0%o~%0%p~%0%q~%0%r~%0%s~%0%t~%0%u~%0%v~%0%w~%0%x~%0%y~%0%z}\"","v":"{1:MC:%0%a~%0%b~%0%c~%0%d~%0%e~%0%f~%0%g~%0%h~%0%i~%0%j~%0%k~%0%l~%0%m~%0%n~%0%o~%0%p~%0%q~%0%r~%0%s~%0%t~%0%u~%0%v~%0%w~%0%x~%0%y~%0%z}"},"","","%0%","=","",null,null,null,20,"{1:MC:%0%a~%0%b~%0%c~%0%d~%0%e~%0%f~%0%g~%0%h~%0%i~%0%j~%0%k~%0%l~%0%m~%0%n~%0%o~%0%p~%0%q~%0%r~%0%s~%0%t~%0%u~%0%v~%0%w~%0%x~%0%y~%0%z}","","","%0%","=",""]
[]
[null,null,null,null,null,null,12,null,null,null,null,null,null,null,null,null,12]
[null,null,null,null,null,null,"Type word here (lowecase only):",{"$f":"'Embedded Answer (Cloze) Strings'!$F$14","v":0},null,null,null,null,null,null,null,null,"Type word here (lowecase only):",{"$f":"'GIFT Import Strings'!$I$14","v":0}]
["Index","Original","String","Letter","Wrong","Right","Copy this code and paste as plain text into Moodle:",{"$f":"G268&G269&G270&G271&G272&G273&G274&G275&G276&G277&G278&G279&G280&G281&G282&G283&G284&G285&G286&G287","v":"{1:MC:%0%a~%0%b~%0%c~%0%d~%0%e~%0%f~%0%g~%0%h~%0%i~%0%j~%0%k~%0%l~%0%m~%0%n~%0%o~%0%p~%0%q~%0%r~%0%s~%0%t~%0%u~%0%v~%0%w~%0%x~%0%y~%0%z}"},null,null,"Index","Original","String","Letter","Wrong","Right","Copy this code and paste as plain text into Moodle:",{"$f":"Q268&Q269&Q270&Q271&Q272&Q273&Q274&Q275&Q276&Q277&Q278&Q279&Q280&Q281&Q282&Q283&Q284&Q285&Q286&Q287","v":"{1:MC:%0%a~%0%b~%0%c~%0%d~%0%e~%0%f~%0%g~%0%h~%0%i~%0%j~%0%k~%0%l~%0%m~%0%n~%0%o~%0%p~%0%q~%0%r~%0%s~%0%t~%0%u~%0%v~%0%w~%0%x~%0%y~%0%z}"}]
[1,{"$f":"\"{\"&IF('Embedded Answer (Cloze) Strings'!$D$14=\"\",1,'Embedded Answer (Cloze) Strings'!$D$14)&\":MC:%0%a~%0%b~%0%c~%0%d~%0%e~%0%f~%0%g~%0%h~%0%i~%0%j~%0%k~%0%l~%0%m~%0%n~%0%o~%0%p~%0%q~%0%r~%0%s~%0%t~%0%u~%0%v~%0%w~%0%x~%0%y~%0%z}\"","v":"{1:MC:%0%a~%0%b~%0%c~%0%d~%0%e~%0%f~%0%g~%0%h~%0%i~%0%j~%0%k~%0%l~%0%m~%0%n~%0%o~%0%p~%0%q~%0%r~%0%s~%0%t~%0%u~%0%v~%0%w~%0%x~%0%y~%0%z}"},{"$f":"IF(LEN($H$266)>=$A268,LEFT($H$266,$A268),\"\")","v":"0"},{"$f":"RIGHT(C268,1)","v":"0"},{"$f":"\"%0%\"&D268","v":"%0%0"},{"$f":"\"=\"&D268","v":"=0"},{"$f":"IF(D268=\"\",\"\",SUBSTITUTE(B268,E268,F268))","v":"{1:MC:%0%a~%0%b~%0%c~%0%d~%0%e~%0%f~%0%g~%0%h~%0%i~%0%j~%0%k~%0%l~%0%m~%0%n~%0%o~%0%p~%0%q~%0%r~%0%s~%0%t~%0%u~%0%v~%0%w~%0%x~%0%y~%0%z}"},null,null,null,1,"{1:MC:%0%a~%0%b~%0%c~%0%d~%0%e~%0%f~%0%g~%0%h~%0%i~%0%j~%0%k~%0%l~%0%m~%0%n~%0%o~%0%p~%0%q~%0%r~%0%s~%0%t~%0%u~%0%v~%0%w~%0%x~%0%y~%0%z}",{"$f":"IF(LEN($H$2)>=$A268,LEFT($H$2,$A268),\"\")","v":"0"},{"$f":"RIGHT(M268,1)","v":"0"},{"$f":"\"%0%\"&N268","v":"%0%0"},{"$f":"\"=\"&N268","v":"=0"},{"$f":"IF(N268=\"\",\"\",SUBSTITUTE(L268,O268,P268))","v":"{1:MC:%0%a~%0%b~%0%c~%0%d~%0%e~%0%f~%0%g~%0%h~%0%i~%0%j~%0%k~%0%l~%0%m~%0%n~%0%o~%0%p~%0%q~%0%r~%0%s~%0%t~%0%u~%0%v~%0%w~%0%x~%0%y~%0%z}"}]
[2,{"$f":"\"{\"&IF('Embedded Answer (Cloze) Strings'!$D$14=\"\",1,'Embedded Answer (Cloze) Strings'!$D$14)&\":MC:%0%a~%0%b~%0%c~%0%d~%0%e~%0%f~%0%g~%0%h~%0%i~%0%j~%0%k~%0%l~%0%m~%0%n~%0%o~%0%p~%0%q~%0%r~%0%s~%0%t~%0%u~%0%v~%0%w~%0%x~%0%y~%0%z}\"","v":"{1:MC:%0%a~%0%b~%0%c~%0%d~%0%e~%0%f~%0%g~%0%h~%0%i~%0%j~%0%k~%0%l~%0%m~%0%n~%0%o~%0%p~%0%q~%0%r~%0%s~%0%t~%0%u~%0%v~%0%w~%0%x~%0%y~%0%z}"},"",{"$f":"RIGHT(C269,1)","v":""},{"$f":"\"%0%\"&D269","v":"%0%"},"=","",null,null,null,2,"{1:MC:%0%a~%0%b~%0%c~%0%d~%0%e~%0%f~%0%g~%0%h~%0%i~%0%j~%0%k~%0%l~%0%m~%0%n~%0%o~%0%p~%0%q~%0%r~%0%s~%0%t~%0%u~%0%v~%0%w~%0%x~%0%y~%0%z}","",{"$f":"RIGHT(M269,1)","v":""},{"$f":"\"%0%\"&N269","v":"%0%"},{"$f":"\"=\"&N269","v":"="},{"$f":"IF(N269=\"\",\"\",SUBSTITUTE(L269,O269,P269))","v":""}]
[3,{"$f":"\"{\"&IF('Embedded Answer (Cloze) Strings'!$D$14=\"\",1,'Embedded Answer (Cloze) Strings'!$D$14)&\":MC:%0%a~%0%b~%0%c~%0%d~%0%e~%0%f~%0%g~%0%h~%0%i~%0%j~%0%k~%0%l~%0%m~%0%n~%0%o~%0%p~%0%q~%0%r~%0%s~%0%t~%0%u~%0%v~%0%w~%0%x~%0%y~%0%z}\"","v":"{1:MC:%0%a~%0%b~%0%c~%0%d~%0%e~%0%f~%0%g~%0%h~%0%i~%0%j~%0%k~%0%l~%0%m~%0%n~%0%o~%0%p~%0%q~%0%r~%0%s~%0%t~%0%u~%0%v~%0%w~%0%x~%0%y~%0%z}"},"","","%0%","=","",null,null,null,3,"{1:MC:%0%a~%0%b~%0%c~%0%d~%0%e~%0%f~%0%g~%0%h~%0%i~%0%j~%0%k~%0%l~%0%m~%0%n~%0%o~%0%p~%0%q~%0%r~%0%s~%0%t~%0%u~%0%v~%0%w~%0%x~%0%y~%0%z}","","","%0%","=",""]
[4,{"$f":"\"{\"&IF('Embedded Answer (Cloze) Strings'!$D$14=\"\",1,'Embedded Answer (Cloze) Strings'!$D$14)&\":MC:%0%a~%0%b~%0%c~%0%d~%0%e~%0%f~%0%g~%0%h~%0%i~%0%j~%0%k~%0%l~%0%m~%0%n~%0%o~%0%p~%0%q~%0%r~%0%s~%0%t~%0%u~%0%v~%0%w~%0%x~%0%y~%0%z}\"","v":"{1:MC:%0%a~%0%b~%0%c~%0%d~%0%e~%0%f~%0%g~%0%h~%0%i~%0%j~%0%k~%0%l~%0%m~%0%n~%0%o~%0%p~%0%q~%0%r~%0%s~%0%t~%0%u~%0%v~%0%w~%0%x~%0%y~%0%z}"},"","","%0%","=","",null,null,null,4,"{1:MC:%0%a~%0%b~%0%c~%0%d~%0%e~%0%f~%0%g~%0%h~%0%i~%0%j~%0%k~%0%l~%0%m~%0%n~%0%o~%0%p~%0%q~%0%r~%0%s~%0%t~%0%u~%0%v~%0%w~%0%x~%0%y~%0%z}","","","%0%","=",""]
[5,{"$f":"\"{\"&IF('Embedded Answer (Cloze) Strings'!$D$14=\"\",1,'Embedded Answer (Cloze) Strings'!$D$14)&\":MC:%0%a~%0%b~%0%c~%0%d~%0%e~%0%f~%0%g~%0%h~%0%i~%0%j~%0%k~%0%l~%0%m~%0%n~%0%o~%0%p~%0%q~%0%r~%0%s~%0%t~%0%u~%0%v~%0%w~%0%x~%0%y~%0%z}\"","v":"{1:MC:%0%a~%0%b~%0%c~%0%d~%0%e~%0%f~%0%g~%0%h~%0%i~%0%j~%0%k~%0%l~%0%m~%0%n~%0%o~%0%p~%0%q~%0%r~%0%s~%0%t~%0%u~%0%v~%0%w~%0%x~%0%y~%0%z}"},"","","%0%","=","",null,null,null,5,"{1:MC:%0%a~%0%b~%0%c~%0%d~%0%e~%0%f~%0%g~%0%h~%0%i~%0%j~%0%k~%0%l~%0%m~%0%n~%0%o~%0%p~%0%q~%0%r~%0%s~%0%t~%0%u~%0%v~%0%w~%0%x~%0%y~%0%z}","","","%0%","=",""]
[6,{"$f":"\"{\"&IF('Embedded Answer (Cloze) Strings'!$D$14=\"\",1,'Embedded Answer (Cloze) Strings'!$D$14)&\":MC:%0%a~%0%b~%0%c~%0%d~%0%e~%0%f~%0%g~%0%h~%0%i~%0%j~%0%k~%0%l~%0%m~%0%n~%0%o~%0%p~%0%q~%0%r~%0%s~%0%t~%0%u~%0%v~%0%w~%0%x~%0%y~%0%z}\"","v":"{1:MC:%0%a~%0%b~%0%c~%0%d~%0%e~%0%f~%0%g~%0%h~%0%i~%0%j~%0%k~%0%l~%0%m~%0%n~%0%o~%0%p~%0%q~%0%r~%0%s~%0%t~%0%u~%0%v~%0%w~%0%x~%0%y~%0%z}"},"","","%0%","=","",null,null,null,6,"{1:MC:%0%a~%0%b~%0%c~%0%d~%0%e~%0%f~%0%g~%0%h~%0%i~%0%j~%0%k~%0%l~%0%m~%0%n~%0%o~%0%p~%0%q~%0%r~%0%s~%0%t~%0%u~%0%v~%0%w~%0%x~%0%y~%0%z}","","","%0%","=",""]
[7,{"$f":"\"{\"&IF('Embedded Answer (Cloze) Strings'!$D$14=\"\",1,'Embedded Answer (Cloze) Strings'!$D$14)&\":MC:%0%a~%0%b~%0%c~%0%d~%0%e~%0%f~%0%g~%0%h~%0%i~%0%j~%0%k~%0%l~%0%m~%0%n~%0%o~%0%p~%0%q~%0%r~%0%s~%0%t~%0%u~%0%v~%0%w~%0%x~%0%y~%0%z}\"","v":"{1:MC:%0%a~%0%b~%0%c~%0%d~%0%e~%0%f~%0%g~%0%h~%0%i~%0%j~%0%k~%0%l~%0%m~%0%n~%0%o~%0%p~%0%q~%0%r~%0%s~%0%t~%0%u~%0%v~%0%w~%0%x~%0%y~%0%z}"},"","","%0%","=","",null,null,null,7,"{1:MC:%0%a~%0%b~%0%c~%0%d~%0%e~%0%f~%0%g~%0%h~%0%i~%0%j~%0%k~%0%l~%0%m~%0%n~%0%o~%0%p~%0%q~%0%r~%0%s~%0%t~%0%u~%0%v~%0%w~%0%x~%0%y~%0%z}","","","%0%","=",""]
[8,{"$f":"\"{\"&IF('Embedded Answer (Cloze) Strings'!$D$14=\"\",1,'Embedded Answer (Cloze) Strings'!$D$14)&\":MC:%0%a~%0%b~%0%c~%0%d~%0%e~%0%f~%0%g~%0%h~%0%i~%0%j~%0%k~%0%l~%0%m~%0%n~%0%o~%0%p~%0%q~%0%r~%0%s~%0%t~%0%u~%0%v~%0%w~%0%x~%0%y~%0%z}\"","v":"{1:MC:%0%a~%0%b~%0%c~%0%d~%0%e~%0%f~%0%g~%0%h~%0%i~%0%j~%0%k~%0%l~%0%m~%0%n~%0%o~%0%p~%0%q~%0%r~%0%s~%0%t~%0%u~%0%v~%0%w~%0%x~%0%y~%0%z}"},"","","%0%","=","",null,null,null,8,"{1:MC:%0%a~%0%b~%0%c~%0%d~%0%e~%0%f~%0%g~%0%h~%0%i~%0%j~%0%k~%0%l~%0%m~%0%n~%0%o~%0%p~%0%q~%0%r~%0%s~%0%t~%0%u~%0%v~%0%w~%0%x~%0%y~%0%z}","","","%0%","=",""]
[9,{"$f":"\"{\"&IF('Embedded Answer (Cloze) Strings'!$D$14=\"\",1,'Embedded Answer (Cloze) Strings'!$D$14)&\":MC:%0%a~%0%b~%0%c~%0%d~%0%e~%0%f~%0%g~%0%h~%0%i~%0%j~%0%k~%0%l~%0%m~%0%n~%0%o~%0%p~%0%q~%0%r~%0%s~%0%t~%0%u~%0%v~%0%w~%0%x~%0%y~%0%z}\"","v":"{1:MC:%0%a~%0%b~%0%c~%0%d~%0%e~%0%f~%0%g~%0%h~%0%i~%0%j~%0%k~%0%l~%0%m~%0%n~%0%o~%0%p~%0%q~%0%r~%0%s~%0%t~%0%u~%0%v~%0%w~%0%x~%0%y~%0%z}"},"","","%0%","=","",null,null,null,9,"{1:MC:%0%a~%0%b~%0%c~%0%d~%0%e~%0%f~%0%g~%0%h~%0%i~%0%j~%0%k~%0%l~%0%m~%0%n~%0%o~%0%p~%0%q~%0%r~%0%s~%0%t~%0%u~%0%v~%0%w~%0%x~%0%y~%0%z}","","","%0%","=",""]
[10,{"$f":"\"{\"&IF('Embedded Answer (Cloze) Strings'!$D$14=\"\",1,'Embedded Answer (Cloze) Strings'!$D$14)&\":MC:%0%a~%0%b~%0%c~%0%d~%0%e~%0%f~%0%g~%0%h~%0%i~%0%j~%0%k~%0%l~%0%m~%0%n~%0%o~%0%p~%0%q~%0%r~%0%s~%0%t~%0%u~%0%v~%0%w~%0%x~%0%y~%0%z}\"","v":"{1:MC:%0%a~%0%b~%0%c~%0%d~%0%e~%0%f~%0%g~%0%h~%0%i~%0%j~%0%k~%0%l~%0%m~%0%n~%0%o~%0%p~%0%q~%0%r~%0%s~%0%t~%0%u~%0%v~%0%w~%0%x~%0%y~%0%z}"},"","","%0%","=","",null,null,null,10,"{1:MC:%0%a~%0%b~%0%c~%0%d~%0%e~%0%f~%0%g~%0%h~%0%i~%0%j~%0%k~%0%l~%0%m~%0%n~%0%o~%0%p~%0%q~%0%r~%0%s~%0%t~%0%u~%0%v~%0%w~%0%x~%0%y~%0%z}","","","%0%","=",""]
[11,{"$f":"\"{\"&IF('Embedded Answer (Cloze) Strings'!$D$14=\"\",1,'Embedded Answer (Cloze) Strings'!$D$14)&\":MC:%0%a~%0%b~%0%c~%0%d~%0%e~%0%f~%0%g~%0%h~%0%i~%0%j~%0%k~%0%l~%0%m~%0%n~%0%o~%0%p~%0%q~%0%r~%0%s~%0%t~%0%u~%0%v~%0%w~%0%x~%0%y~%0%z}\"","v":"{1:MC:%0%a~%0%b~%0%c~%0%d~%0%e~%0%f~%0%g~%0%h~%0%i~%0%j~%0%k~%0%l~%0%m~%0%n~%0%o~%0%p~%0%q~%0%r~%0%s~%0%t~%0%u~%0%v~%0%w~%0%x~%0%y~%0%z}"},"","","%0%","=","",null,null,null,11,"{1:MC:%0%a~%0%b~%0%c~%0%d~%0%e~%0%f~%0%g~%0%h~%0%i~%0%j~%0%k~%0%l~%0%m~%0%n~%0%o~%0%p~%0%q~%0%r~%0%s~%0%t~%0%u~%0%v~%0%w~%0%x~%0%y~%0%z}","","","%0%","=",""]
[12,{"$f":"\"{\"&IF('Embedded Answer (Cloze) Strings'!$D$14=\"\",1,'Embedded Answer (Cloze) Strings'!$D$14)&\":MC:%0%a~%0%b~%0%c~%0%d~%0%e~%0%f~%0%g~%0%h~%0%i~%0%j~%0%k~%0%l~%0%m~%0%n~%0%o~%0%p~%0%q~%0%r~%0%s~%0%t~%0%u~%0%v~%0%w~%0%x~%0%y~%0%z}\"","v":"{1:MC:%0%a~%0%b~%0%c~%0%d~%0%e~%0%f~%0%g~%0%h~%0%i~%0%j~%0%k~%0%l~%0%m~%0%n~%0%o~%0%p~%0%q~%0%r~%0%s~%0%t~%0%u~%0%v~%0%w~%0%x~%0%y~%0%z}"},"","","%0%","=","",null,null,null,12,"{1:MC:%0%a~%0%b~%0%c~%0%d~%0%e~%0%f~%0%g~%0%h~%0%i~%0%j~%0%k~%0%l~%0%m~%0%n~%0%o~%0%p~%0%q~%0%r~%0%s~%0%t~%0%u~%0%v~%0%w~%0%x~%0%y~%0%z}","","","%0%","=",""]
[13,{"$f":"\"{\"&IF('Embedded Answer (Cloze) Strings'!$D$14=\"\",1,'Embedded Answer (Cloze) Strings'!$D$14)&\":MC:%0%a~%0%b~%0%c~%0%d~%0%e~%0%f~%0%g~%0%h~%0%i~%0%j~%0%k~%0%l~%0%m~%0%n~%0%o~%0%p~%0%q~%0%r~%0%s~%0%t~%0%u~%0%v~%0%w~%0%x~%0%y~%0%z}\"","v":"{1:MC:%0%a~%0%b~%0%c~%0%d~%0%e~%0%f~%0%g~%0%h~%0%i~%0%j~%0%k~%0%l~%0%m~%0%n~%0%o~%0%p~%0%q~%0%r~%0%s~%0%t~%0%u~%0%v~%0%w~%0%x~%0%y~%0%z}"},"","","%0%","=","",null,null,null,13,"{1:MC:%0%a~%0%b~%0%c~%0%d~%0%e~%0%f~%0%g~%0%h~%0%i~%0%j~%0%k~%0%l~%0%m~%0%n~%0%o~%0%p~%0%q~%0%r~%0%s~%0%t~%0%u~%0%v~%0%w~%0%x~%0%y~%0%z}","","","%0%","=",""]
[14,{"$f":"\"{\"&IF('Embedded Answer (Cloze) Strings'!$D$14=\"\",1,'Embedded Answer (Cloze) Strings'!$D$14)&\":MC:%0%a~%0%b~%0%c~%0%d~%0%e~%0%f~%0%g~%0%h~%0%i~%0%j~%0%k~%0%l~%0%m~%0%n~%0%o~%0%p~%0%q~%0%r~%0%s~%0%t~%0%u~%0%v~%0%w~%0%x~%0%y~%0%z}\"","v":"{1:MC:%0%a~%0%b~%0%c~%0%d~%0%e~%0%f~%0%g~%0%h~%0%i~%0%j~%0%k~%0%l~%0%m~%0%n~%0%o~%0%p~%0%q~%0%r~%0%s~%0%t~%0%u~%0%v~%0%w~%0%x~%0%y~%0%z}"},"","","%0%","=","",null,null,null,14,"{1:MC:%0%a~%0%b~%0%c~%0%d~%0%e~%0%f~%0%g~%0%h~%0%i~%0%j~%0%k~%0%l~%0%m~%0%n~%0%o~%0%p~%0%q~%0%r~%0%s~%0%t~%0%u~%0%v~%0%w~%0%x~%0%y~%0%z}","","","%0%","=",""]
[15,{"$f":"\"{\"&IF('Embedded Answer (Cloze) Strings'!$D$14=\"\",1,'Embedded Answer (Cloze) Strings'!$D$14)&\":MC:%0%a~%0%b~%0%c~%0%d~%0%e~%0%f~%0%g~%0%h~%0%i~%0%j~%0%k~%0%l~%0%m~%0%n~%0%o~%0%p~%0%q~%0%r~%0%s~%0%t~%0%u~%0%v~%0%w~%0%x~%0%y~%0%z}\"","v":"{1:MC:%0%a~%0%b~%0%c~%0%d~%0%e~%0%f~%0%g~%0%h~%0%i~%0%j~%0%k~%0%l~%0%m~%0%n~%0%o~%0%p~%0%q~%0%r~%0%s~%0%t~%0%u~%0%v~%0%w~%0%x~%0%y~%0%z}"},"","","%0%","=","",null,null,null,15,"{1:MC:%0%a~%0%b~%0%c~%0%d~%0%e~%0%f~%0%g~%0%h~%0%i~%0%j~%0%k~%0%l~%0%m~%0%n~%0%o~%0%p~%0%q~%0%r~%0%s~%0%t~%0%u~%0%v~%0%w~%0%x~%0%y~%0%z}","","","%0%","=",""]
[16,{"$f":"\"{\"&IF('Embedded Answer (Cloze) Strings'!$D$14=\"\",1,'Embedded Answer (Cloze) Strings'!$D$14)&\":MC:%0%a~%0%b~%0%c~%0%d~%0%e~%0%f~%0%g~%0%h~%0%i~%0%j~%0%k~%0%l~%0%m~%0%n~%0%o~%0%p~%0%q~%0%r~%0%s~%0%t~%0%u~%0%v~%0%w~%0%x~%0%y~%0%z}\"","v":"{1:MC:%0%a~%0%b~%0%c~%0%d~%0%e~%0%f~%0%g~%0%h~%0%i~%0%j~%0%k~%0%l~%0%m~%0%n~%0%o~%0%p~%0%q~%0%r~%0%s~%0%t~%0%u~%0%v~%0%w~%0%x~%0%y~%0%z}"},"","","%0%","=","",null,null,null,16,"{1:MC:%0%a~%0%b~%0%c~%0%d~%0%e~%0%f~%0%g~%0%h~%0%i~%0%j~%0%k~%0%l~%0%m~%0%n~%0%o~%0%p~%0%q~%0%r~%0%s~%0%t~%0%u~%0%v~%0%w~%0%x~%0%y~%0%z}","","","%0%","=",""]
[17,{"$f":"\"{\"&IF('Embedded Answer (Cloze) Strings'!$D$14=\"\",1,'Embedded Answer (Cloze) Strings'!$D$14)&\":MC:%0%a~%0%b~%0%c~%0%d~%0%e~%0%f~%0%g~%0%h~%0%i~%0%j~%0%k~%0%l~%0%m~%0%n~%0%o~%0%p~%0%q~%0%r~%0%s~%0%t~%0%u~%0%v~%0%w~%0%x~%0%y~%0%z}\"","v":"{1:MC:%0%a~%0%b~%0%c~%0%d~%0%e~%0%f~%0%g~%0%h~%0%i~%0%j~%0%k~%0%l~%0%m~%0%n~%0%o~%0%p~%0%q~%0%r~%0%s~%0%t~%0%u~%0%v~%0%w~%0%x~%0%y~%0%z}"},"","","%0%","=","",null,null,null,17,"{1:MC:%0%a~%0%b~%0%c~%0%d~%0%e~%0%f~%0%g~%0%h~%0%i~%0%j~%0%k~%0%l~%0%m~%0%n~%0%o~%0%p~%0%q~%0%r~%0%s~%0%t~%0%u~%0%v~%0%w~%0%x~%0%y~%0%z}","","","%0%","=",""]
[18,{"$f":"\"{\"&IF('Embedded Answer (Cloze) Strings'!$D$14=\"\",1,'Embedded Answer (Cloze) Strings'!$D$14)&\":MC:%0%a~%0%b~%0%c~%0%d~%0%e~%0%f~%0%g~%0%h~%0%i~%0%j~%0%k~%0%l~%0%m~%0%n~%0%o~%0%p~%0%q~%0%r~%0%s~%0%t~%0%u~%0%v~%0%w~%0%x~%0%y~%0%z}\"","v":"{1:MC:%0%a~%0%b~%0%c~%0%d~%0%e~%0%f~%0%g~%0%h~%0%i~%0%j~%0%k~%0%l~%0%m~%0%n~%0%o~%0%p~%0%q~%0%r~%0%s~%0%t~%0%u~%0%v~%0%w~%0%x~%0%y~%0%z}"},"","","%0%","=","",null,null,null,18,"{1:MC:%0%a~%0%b~%0%c~%0%d~%0%e~%0%f~%0%g~%0%h~%0%i~%0%j~%0%k~%0%l~%0%m~%0%n~%0%o~%0%p~%0%q~%0%r~%0%s~%0%t~%0%u~%0%v~%0%w~%0%x~%0%y~%0%z}","","","%0%","=",""]
[19,{"$f":"\"{\"&IF('Embedded Answer (Cloze) Strings'!$D$14=\"\",1,'Embedded Answer (Cloze) Strings'!$D$14)&\":MC:%0%a~%0%b~%0%c~%0%d~%0%e~%0%f~%0%g~%0%h~%0%i~%0%j~%0%k~%0%l~%0%m~%0%n~%0%o~%0%p~%0%q~%0%r~%0%s~%0%t~%0%u~%0%v~%0%w~%0%x~%0%y~%0%z}\"","v":"{1:MC:%0%a~%0%b~%0%c~%0%d~%0%e~%0%f~%0%g~%0%h~%0%i~%0%j~%0%k~%0%l~%0%m~%0%n~%0%o~%0%p~%0%q~%0%r~%0%s~%0%t~%0%u~%0%v~%0%w~%0%x~%0%y~%0%z}"},"","","%0%","=","",null,null,null,19,"{1:MC:%0%a~%0%b~%0%c~%0%d~%0%e~%0%f~%0%g~%0%h~%0%i~%0%j~%0%k~%0%l~%0%m~%0%n~%0%o~%0%p~%0%q~%0%r~%0%s~%0%t~%0%u~%0%v~%0%w~%0%x~%0%y~%0%z}","","","%0%","=",""]
[20,{"$f":"\"{\"&IF('Embedded Answer (Cloze) Strings'!$D$14=\"\",1,'Embedded Answer (Cloze) Strings'!$D$14)&\":MC:%0%a~%0%b~%0%c~%0%d~%0%e~%0%f~%0%g~%0%h~%0%i~%0%j~%0%k~%0%l~%0%m~%0%n~%0%o~%0%p~%0%q~%0%r~%0%s~%0%t~%0%u~%0%v~%0%w~%0%x~%0%y~%0%z}\"","v":"{1:MC:%0%a~%0%b~%0%c~%0%d~%0%e~%0%f~%0%g~%0%h~%0%i~%0%j~%0%k~%0%l~%0%m~%0%n~%0%o~%0%p~%0%q~%0%r~%0%s~%0%t~%0%u~%0%v~%0%w~%0%x~%0%y~%0%z}"},"","","%0%","=","",null,null,null,20,"{1:MC:%0%a~%0%b~%0%c~%0%d~%0%e~%0%f~%0%g~%0%h~%0%i~%0%j~%0%k~%0%l~%0%m~%0%n~%0%o~%0%p~%0%q~%0%r~%0%s~%0%t~%0%u~%0%v~%0%w~%0%x~%0%y~%0%z}","","","%0%","=",""]
[]
[null,null,null,null,null,null,13,null,null,null,null,null,null,null,null,null,13]
[null,null,null,null,null,null,"Type word here (lowecase only):",{"$f":"'Embedded Answer (Cloze) Strings'!$F$15","v":0},null,null,null,null,null,null,null,null,"Type word here (lowecase only):",{"$f":"'GIFT Import Strings'!$I$15","v":0}]
["Index","Original","String","Letter","Wrong","Right","Copy this code and paste as plain text into Moodle:",{"$f":"G292&G293&G294&G295&G296&G297&G298&G299&G300&G301&G302&G303&G304&G305&G306&G307&G308&G309&G310&G311","v":"{1:MC:%0%a~%0%b~%0%c~%0%d~%0%e~%0%f~%0%g~%0%h~%0%i~%0%j~%0%k~%0%l~%0%m~%0%n~%0%o~%0%p~%0%q~%0%r~%0%s~%0%t~%0%u~%0%v~%0%w~%0%x~%0%y~%0%z}"},null,null,"Index","Original","String","Letter","Wrong","Right","Copy this code and paste as plain text into Moodle:",{"$f":"Q292&Q293&Q294&Q295&Q296&Q297&Q298&Q299&Q300&Q301&Q302&Q303&Q304&Q305&Q306&Q307&Q308&Q309&Q310&Q311","v":"{1:MC:%0%a~%0%b~%0%c~%0%d~%0%e~%0%f~%0%g~%0%h~%0%i~%0%j~%0%k~%0%l~%0%m~%0%n~%0%o~%0%p~%0%q~%0%r~%0%s~%0%t~%0%u~%0%v~%0%w~%0%x~%0%y~%0%z}"}]
[1,{"$f":"\"{\"&IF('Embedded Answer (Cloze) Strings'!$D$15=\"\",1,'Embedded Answer (Cloze) Strings'!$D$15)&\":MC:%0%a~%0%b~%0%c~%0%d~%0%e~%0%f~%0%g~%0%h~%0%i~%0%j~%0%k~%0%l~%0%m~%0%n~%0%o~%0%p~%0%q~%0%r~%0%s~%0%t~%0%u~%0%v~%0%w~%0%x~%0%y~%0%z}\"","v":"{1:MC:%0%a~%0%b~%0%c~%0%d~%0%e~%0%f~%0%g~%0%h~%0%i~%0%j~%0%k~%0%l~%0%m~%0%n~%0%o~%0%p~%0%q~%0%r~%0%s~%0%t~%0%u~%0%v~%0%w~%0%x~%0%y~%0%z}"},{"$f":"IF(LEN($H$290)>=$A292,LEFT($H$290,$A292),\"\")","v":"0"},{"$f":"RIGHT(C292,1)","v":"0"},{"$f":"\"%0%\"&D292","v":"%0%0"},{"$f":"\"=\"&D292","v":"=0"},{"$f":"IF(D292=\"\",\"\",SUBSTITUTE(B292,E292,F292))","v":"{1:MC:%0%a~%0%b~%0%c~%0%d~%0%e~%0%f~%0%g~%0%h~%0%i~%0%j~%0%k~%0%l~%0%m~%0%n~%0%o~%0%p~%0%q~%0%r~%0%s~%0%t~%0%u~%0%v~%0%w~%0%x~%0%y~%0%z}"},null,null,null,1,"{1:MC:%0%a~%0%b~%0%c~%0%d~%0%e~%0%f~%0%g~%0%h~%0%i~%0%j~%0%k~%0%l~%0%m~%0%n~%0%o~%0%p~%0%q~%0%r~%0%s~%0%t~%0%u~%0%v~%0%w~%0%x~%0%y~%0%z}",{"$f":"IF(LEN($H$2)>=$A292,LEFT($H$2,$A292),\"\")","v":"0"},{"$f":"RIGHT(M292,1)","v":"0"},{"$f":"\"%0%\"&N292","v":"%0%0"},{"$f":"\"=\"&N292","v":"=0"},{"$f":"IF(N292=\"\",\"\",SUBSTITUTE(L292,O292,P292))","v":"{1:MC:%0%a~%0%b~%0%c~%0%d~%0%e~%0%f~%0%g~%0%h~%0%i~%0%j~%0%k~%0%l~%0%m~%0%n~%0%o~%0%p~%0%q~%0%r~%0%s~%0%t~%0%u~%0%v~%0%w~%0%x~%0%y~%0%z}"}]
[2,{"$f":"\"{\"&IF('Embedded Answer (Cloze) Strings'!$D$15=\"\",1,'Embedded Answer (Cloze) Strings'!$D$15)&\":MC:%0%a~%0%b~%0%c~%0%d~%0%e~%0%f~%0%g~%0%h~%0%i~%0%j~%0%k~%0%l~%0%m~%0%n~%0%o~%0%p~%0%q~%0%r~%0%s~%0%t~%0%u~%0%v~%0%w~%0%x~%0%y~%0%z}\"","v":"{1:MC:%0%a~%0%b~%0%c~%0%d~%0%e~%0%f~%0%g~%0%h~%0%i~%0%j~%0%k~%0%l~%0%m~%0%n~%0%o~%0%p~%0%q~%0%r~%0%s~%0%t~%0%u~%0%v~%0%w~%0%x~%0%y~%0%z}"},"",{"$f":"RIGHT(C293,1)","v":""},{"$f":"\"%0%\"&D293","v":"%0%"},"=","",null,null,null,2,"{1:MC:%0%a~%0%b~%0%c~%0%d~%0%e~%0%f~%0%g~%0%h~%0%i~%0%j~%0%k~%0%l~%0%m~%0%n~%0%o~%0%p~%0%q~%0%r~%0%s~%0%t~%0%u~%0%v~%0%w~%0%x~%0%y~%0%z}","",{"$f":"RIGHT(M293,1)","v":""},{"$f":"\"%0%\"&N293","v":"%0%"},{"$f":"\"=\"&N293","v":"="},{"$f":"IF(N293=\"\",\"\",SUBSTITUTE(L293,O293,P293))","v":""}]
[3,{"$f":"\"{\"&IF('Embedded Answer (Cloze) Strings'!$D$15=\"\",1,'Embedded Answer (Cloze) Strings'!$D$15)&\":MC:%0%a~%0%b~%0%c~%0%d~%0%e~%0%f~%0%g~%0%h~%0%i~%0%j~%0%k~%0%l~%0%m~%0%n~%0%o~%0%p~%0%q~%0%r~%0%s~%0%t~%0%u~%0%v~%0%w~%0%x~%0%y~%0%z}\"","v":"{1:MC:%0%a~%0%b~%0%c~%0%d~%0%e~%0%f~%0%g~%0%h~%0%i~%0%j~%0%k~%0%l~%0%m~%0%n~%0%o~%0%p~%0%q~%0%r~%0%s~%0%t~%0%u~%0%v~%0%w~%0%x~%0%y~%0%z}"},"","","%0%","=","",null,null,null,3,"{1:MC:%0%a~%0%b~%0%c~%0%d~%0%e~%0%f~%0%g~%0%h~%0%i~%0%j~%0%k~%0%l~%0%m~%0%n~%0%o~%0%p~%0%q~%0%r~%0%s~%0%t~%0%u~%0%v~%0%w~%0%x~%0%y~%0%z}","","","%0%","=",""]
[4,{"$f":"\"{\"&IF('Embedded Answer (Cloze) Strings'!$D$15=\"\",1,'Embedded Answer (Cloze) Strings'!$D$15)&\":MC:%0%a~%0%b~%0%c~%0%d~%0%e~%0%f~%0%g~%0%h~%0%i~%0%j~%0%k~%0%l~%0%m~%0%n~%0%o~%0%p~%0%q~%0%r~%0%s~%0%t~%0%u~%0%v~%0%w~%0%x~%0%y~%0%z}\"","v":"{1:MC:%0%a~%0%b~%0%c~%0%d~%0%e~%0%f~%0%g~%0%h~%0%i~%0%j~%0%k~%0%l~%0%m~%0%n~%0%o~%0%p~%0%q~%0%r~%0%s~%0%t~%0%u~%0%v~%0%w~%0%x~%0%y~%0%z}"},"","","%0%","=","",null,null,null,4,"{1:MC:%0%a~%0%b~%0%c~%0%d~%0%e~%0%f~%0%g~%0%h~%0%i~%0%j~%0%k~%0%l~%0%m~%0%n~%0%o~%0%p~%0%q~%0%r~%0%s~%0%t~%0%u~%0%v~%0%w~%0%x~%0%y~%0%z}","","","%0%","=",""]
[5,{"$f":"\"{\"&IF('Embedded Answer (Cloze) Strings'!$D$15=\"\",1,'Embedded Answer (Cloze) Strings'!$D$15)&\":MC:%0%a~%0%b~%0%c~%0%d~%0%e~%0%f~%0%g~%0%h~%0%i~%0%j~%0%k~%0%l~%0%m~%0%n~%0%o~%0%p~%0%q~%0%r~%0%s~%0%t~%0%u~%0%v~%0%w~%0%x~%0%y~%0%z}\"","v":"{1:MC:%0%a~%0%b~%0%c~%0%d~%0%e~%0%f~%0%g~%0%h~%0%i~%0%j~%0%k~%0%l~%0%m~%0%n~%0%o~%0%p~%0%q~%0%r~%0%s~%0%t~%0%u~%0%v~%0%w~%0%x~%0%y~%0%z}"},"","","%0%","=","",null,null,null,5,"{1:MC:%0%a~%0%b~%0%c~%0%d~%0%e~%0%f~%0%g~%0%h~%0%i~%0%j~%0%k~%0%l~%0%m~%0%n~%0%o~%0%p~%0%q~%0%r~%0%s~%0%t~%0%u~%0%v~%0%w~%0%x~%0%y~%0%z}","","","%0%","=",""]
[6,{"$f":"\"{\"&IF('Embedded Answer (Cloze) Strings'!$D$15=\"\",1,'Embedded Answer (Cloze) Strings'!$D$15)&\":MC:%0%a~%0%b~%0%c~%0%d~%0%e~%0%f~%0%g~%0%h~%0%i~%0%j~%0%k~%0%l~%0%m~%0%n~%0%o~%0%p~%0%q~%0%r~%0%s~%0%t~%0%u~%0%v~%0%w~%0%x~%0%y~%0%z}\"","v":"{1:MC:%0%a~%0%b~%0%c~%0%d~%0%e~%0%f~%0%g~%0%h~%0%i~%0%j~%0%k~%0%l~%0%m~%0%n~%0%o~%0%p~%0%q~%0%r~%0%s~%0%t~%0%u~%0%v~%0%w~%0%x~%0%y~%0%z}"},"","","%0%","=","",null,null,null,6,"{1:MC:%0%a~%0%b~%0%c~%0%d~%0%e~%0%f~%0%g~%0%h~%0%i~%0%j~%0%k~%0%l~%0%m~%0%n~%0%o~%0%p~%0%q~%0%r~%0%s~%0%t~%0%u~%0%v~%0%w~%0%x~%0%y~%0%z}","","","%0%","=",""]
[7,{"$f":"\"{\"&IF('Embedded Answer (Cloze) Strings'!$D$15=\"\",1,'Embedded Answer (Cloze) Strings'!$D$15)&\":MC:%0%a~%0%b~%0%c~%0%d~%0%e~%0%f~%0%g~%0%h~%0%i~%0%j~%0%k~%0%l~%0%m~%0%n~%0%o~%0%p~%0%q~%0%r~%0%s~%0%t~%0%u~%0%v~%0%w~%0%x~%0%y~%0%z}\"","v":"{1:MC:%0%a~%0%b~%0%c~%0%d~%0%e~%0%f~%0%g~%0%h~%0%i~%0%j~%0%k~%0%l~%0%m~%0%n~%0%o~%0%p~%0%q~%0%r~%0%s~%0%t~%0%u~%0%v~%0%w~%0%x~%0%y~%0%z}"},"","","%0%","=","",null,null,null,7,"{1:MC:%0%a~%0%b~%0%c~%0%d~%0%e~%0%f~%0%g~%0%h~%0%i~%0%j~%0%k~%0%l~%0%m~%0%n~%0%o~%0%p~%0%q~%0%r~%0%s~%0%t~%0%u~%0%v~%0%w~%0%x~%0%y~%0%z}","","","%0%","=",""]
[8,{"$f":"\"{\"&IF('Embedded Answer (Cloze) Strings'!$D$15=\"\",1,'Embedded Answer (Cloze) Strings'!$D$15)&\":MC:%0%a~%0%b~%0%c~%0%d~%0%e~%0%f~%0%g~%0%h~%0%i~%0%j~%0%k~%0%l~%0%m~%0%n~%0%o~%0%p~%0%q~%0%r~%0%s~%0%t~%0%u~%0%v~%0%w~%0%x~%0%y~%0%z}\"","v":"{1:MC:%0%a~%0%b~%0%c~%0%d~%0%e~%0%f~%0%g~%0%h~%0%i~%0%j~%0%k~%0%l~%0%m~%0%n~%0%o~%0%p~%0%q~%0%r~%0%s~%0%t~%0%u~%0%v~%0%w~%0%x~%0%y~%0%z}"},"","","%0%","=","",null,null,null,8,"{1:MC:%0%a~%0%b~%0%c~%0%d~%0%e~%0%f~%0%g~%0%h~%0%i~%0%j~%0%k~%0%l~%0%m~%0%n~%0%o~%0%p~%0%q~%0%r~%0%s~%0%t~%0%u~%0%v~%0%w~%0%x~%0%y~%0%z}","","","%0%","=",""]
[9,{"$f":"\"{\"&IF('Embedded Answer (Cloze) Strings'!$D$15=\"\",1,'Embedded Answer (Cloze) Strings'!$D$15)&\":MC:%0%a~%0%b~%0%c~%0%d~%0%e~%0%f~%0%g~%0%h~%0%i~%0%j~%0%k~%0%l~%0%m~%0%n~%0%o~%0%p~%0%q~%0%r~%0%s~%0%t~%0%u~%0%v~%0%w~%0%x~%0%y~%0%z}\"","v":"{1:MC:%0%a~%0%b~%0%c~%0%d~%0%e~%0%f~%0%g~%0%h~%0%i~%0%j~%0%k~%0%l~%0%m~%0%n~%0%o~%0%p~%0%q~%0%r~%0%s~%0%t~%0%u~%0%v~%0%w~%0%x~%0%y~%0%z}"},"","","%0%","=","",null,null,null,9,"{1:MC:%0%a~%0%b~%0%c~%0%d~%0%e~%0%f~%0%g~%0%h~%0%i~%0%j~%0%k~%0%l~%0%m~%0%n~%0%o~%0%p~%0%q~%0%r~%0%s~%0%t~%0%u~%0%v~%0%w~%0%x~%0%y~%0%z}","","","%0%","=",""]
[10,{"$f":"\"{\"&IF('Embedded Answer (Cloze) Strings'!$D$15=\"\",1,'Embedded Answer (Cloze) Strings'!$D$15)&\":MC:%0%a~%0%b~%0%c~%0%d~%0%e~%0%f~%0%g~%0%h~%0%i~%0%j~%0%k~%0%l~%0%m~%0%n~%0%o~%0%p~%0%q~%0%r~%0%s~%0%t~%0%u~%0%v~%0%w~%0%x~%0%y~%0%z}\"","v":"{1:MC:%0%a~%0%b~%0%c~%0%d~%0%e~%0%f~%0%g~%0%h~%0%i~%0%j~%0%k~%0%l~%0%m~%0%n~%0%o~%0%p~%0%q~%0%r~%0%s~%0%t~%0%u~%0%v~%0%w~%0%x~%0%y~%0%z}"},"","","%0%","=","",null,null,null,10,"{1:MC:%0%a~%0%b~%0%c~%0%d~%0%e~%0%f~%0%g~%0%h~%0%i~%0%j~%0%k~%0%l~%0%m~%0%n~%0%o~%0%p~%0%q~%0%r~%0%s~%0%t~%0%u~%0%v~%0%w~%0%x~%0%y~%0%z}","","","%0%","=",""]
[11,{"$f":"\"{\"&IF('Embedded Answer (Cloze) Strings'!$D$15=\"\",1,'Embedded Answer (Cloze) Strings'!$D$15)&\":MC:%0%a~%0%b~%0%c~%0%d~%0%e~%0%f~%0%g~%0%h~%0%i~%0%j~%0%k~%0%l~%0%m~%0%n~%0%o~%0%p~%0%q~%0%r~%0%s~%0%t~%0%u~%0%v~%0%w~%0%x~%0%y~%0%z}\"","v":"{1:MC:%0%a~%0%b~%0%c~%0%d~%0%e~%0%f~%0%g~%0%h~%0%i~%0%j~%0%k~%0%l~%0%m~%0%n~%0%o~%0%p~%0%q~%0%r~%0%s~%0%t~%0%u~%0%v~%0%w~%0%x~%0%y~%0%z}"},"","","%0%","=","",null,null,null,11,"{1:MC:%0%a~%0%b~%0%c~%0%d~%0%e~%0%f~%0%g~%0%h~%0%i~%0%j~%0%k~%0%l~%0%m~%0%n~%0%o~%0%p~%0%q~%0%r~%0%s~%0%t~%0%u~%0%v~%0%w~%0%x~%0%y~%0%z}","","","%0%","=",""]
[12,{"$f":"\"{\"&IF('Embedded Answer (Cloze) Strings'!$D$15=\"\",1,'Embedded Answer (Cloze) Strings'!$D$15)&\":MC:%0%a~%0%b~%0%c~%0%d~%0%e~%0%f~%0%g~%0%h~%0%i~%0%j~%0%k~%0%l~%0%m~%0%n~%0%o~%0%p~%0%q~%0%r~%0%s~%0%t~%0%u~%0%v~%0%w~%0%x~%0%y~%0%z}\"","v":"{1:MC:%0%a~%0%b~%0%c~%0%d~%0%e~%0%f~%0%g~%0%h~%0%i~%0%j~%0%k~%0%l~%0%m~%0%n~%0%o~%0%p~%0%q~%0%r~%0%s~%0%t~%0%u~%0%v~%0%w~%0%x~%0%y~%0%z}"},"","","%0%","=","",null,null,null,12,"{1:MC:%0%a~%0%b~%0%c~%0%d~%0%e~%0%f~%0%g~%0%h~%0%i~%0%j~%0%k~%0%l~%0%m~%0%n~%0%o~%0%p~%0%q~%0%r~%0%s~%0%t~%0%u~%0%v~%0%w~%0%x~%0%y~%0%z}","","","%0%","=",""]
[13,{"$f":"\"{\"&IF('Embedded Answer (Cloze) Strings'!$D$15=\"\",1,'Embedded Answer (Cloze) Strings'!$D$15)&\":MC:%0%a~%0%b~%0%c~%0%d~%0%e~%0%f~%0%g~%0%h~%0%i~%0%j~%0%k~%0%l~%0%m~%0%n~%0%o~%0%p~%0%q~%0%r~%0%s~%0%t~%0%u~%0%v~%0%w~%0%x~%0%y~%0%z}\"","v":"{1:MC:%0%a~%0%b~%0%c~%0%d~%0%e~%0%f~%0%g~%0%h~%0%i~%0%j~%0%k~%0%l~%0%m~%0%n~%0%o~%0%p~%0%q~%0%r~%0%s~%0%t~%0%u~%0%v~%0%w~%0%x~%0%y~%0%z}"},"","","%0%","=","",null,null,null,13,"{1:MC:%0%a~%0%b~%0%c~%0%d~%0%e~%0%f~%0%g~%0%h~%0%i~%0%j~%0%k~%0%l~%0%m~%0%n~%0%o~%0%p~%0%q~%0%r~%0%s~%0%t~%0%u~%0%v~%0%w~%0%x~%0%y~%0%z}","","","%0%","=",""]
[14,{"$f":"\"{\"&IF('Embedded Answer (Cloze) Strings'!$D$15=\"\",1,'Embedded Answer (Cloze) Strings'!$D$15)&\":MC:%0%a~%0%b~%0%c~%0%d~%0%e~%0%f~%0%g~%0%h~%0%i~%0%j~%0%k~%0%l~%0%m~%0%n~%0%o~%0%p~%0%q~%0%r~%0%s~%0%t~%0%u~%0%v~%0%w~%0%x~%0%y~%0%z}\"","v":"{1:MC:%0%a~%0%b~%0%c~%0%d~%0%e~%0%f~%0%g~%0%h~%0%i~%0%j~%0%k~%0%l~%0%m~%0%n~%0%o~%0%p~%0%q~%0%r~%0%s~%0%t~%0%u~%0%v~%0%w~%0%x~%0%y~%0%z}"},"","","%0%","=","",null,null,null,14,"{1:MC:%0%a~%0%b~%0%c~%0%d~%0%e~%0%f~%0%g~%0%h~%0%i~%0%j~%0%k~%0%l~%0%m~%0%n~%0%o~%0%p~%0%q~%0%r~%0%s~%0%t~%0%u~%0%v~%0%w~%0%x~%0%y~%0%z}","","","%0%","=",""]
[15,{"$f":"\"{\"&IF('Embedded Answer (Cloze) Strings'!$D$15=\"\",1,'Embedded Answer (Cloze) Strings'!$D$15)&\":MC:%0%a~%0%b~%0%c~%0%d~%0%e~%0%f~%0%g~%0%h~%0%i~%0%j~%0%k~%0%l~%0%m~%0%n~%0%o~%0%p~%0%q~%0%r~%0%s~%0%t~%0%u~%0%v~%0%w~%0%x~%0%y~%0%z}\"","v":"{1:MC:%0%a~%0%b~%0%c~%0%d~%0%e~%0%f~%0%g~%0%h~%0%i~%0%j~%0%k~%0%l~%0%m~%0%n~%0%o~%0%p~%0%q~%0%r~%0%s~%0%t~%0%u~%0%v~%0%w~%0%x~%0%y~%0%z}"},"","","%0%","=","",null,null,null,15,"{1:MC:%0%a~%0%b~%0%c~%0%d~%0%e~%0%f~%0%g~%0%h~%0%i~%0%j~%0%k~%0%l~%0%m~%0%n~%0%o~%0%p~%0%q~%0%r~%0%s~%0%t~%0%u~%0%v~%0%w~%0%x~%0%y~%0%z}","","","%0%","=",""]
[16,{"$f":"\"{\"&IF('Embedded Answer (Cloze) Strings'!$D$15=\"\",1,'Embedded Answer (Cloze) Strings'!$D$15)&\":MC:%0%a~%0%b~%0%c~%0%d~%0%e~%0%f~%0%g~%0%h~%0%i~%0%j~%0%k~%0%l~%0%m~%0%n~%0%o~%0%p~%0%q~%0%r~%0%s~%0%t~%0%u~%0%v~%0%w~%0%x~%0%y~%0%z}\"","v":"{1:MC:%0%a~%0%b~%0%c~%0%d~%0%e~%0%f~%0%g~%0%h~%0%i~%0%j~%0%k~%0%l~%0%m~%0%n~%0%o~%0%p~%0%q~%0%r~%0%s~%0%t~%0%u~%0%v~%0%w~%0%x~%0%y~%0%z}"},"","","%0%","=","",null,null,null,16,"{1:MC:%0%a~%0%b~%0%c~%0%d~%0%e~%0%f~%0%g~%0%h~%0%i~%0%j~%0%k~%0%l~%0%m~%0%n~%0%o~%0%p~%0%q~%0%r~%0%s~%0%t~%0%u~%0%v~%0%w~%0%x~%0%y~%0%z}","","","%0%","=",""]
[17,{"$f":"\"{\"&IF('Embedded Answer (Cloze) Strings'!$D$15=\"\",1,'Embedded Answer (Cloze) Strings'!$D$15)&\":MC:%0%a~%0%b~%0%c~%0%d~%0%e~%0%f~%0%g~%0%h~%0%i~%0%j~%0%k~%0%l~%0%m~%0%n~%0%o~%0%p~%0%q~%0%r~%0%s~%0%t~%0%u~%0%v~%0%w~%0%x~%0%y~%0%z}\"","v":"{1:MC:%0%a~%0%b~%0%c~%0%d~%0%e~%0%f~%0%g~%0%h~%0%i~%0%j~%0%k~%0%l~%0%m~%0%n~%0%o~%0%p~%0%q~%0%r~%0%s~%0%t~%0%u~%0%v~%0%w~%0%x~%0%y~%0%z}"},"","","%0%","=","",null,null,null,17,"{1:MC:%0%a~%0%b~%0%c~%0%d~%0%e~%0%f~%0%g~%0%h~%0%i~%0%j~%0%k~%0%l~%0%m~%0%n~%0%o~%0%p~%0%q~%0%r~%0%s~%0%t~%0%u~%0%v~%0%w~%0%x~%0%y~%0%z}","","","%0%","=",""]
[18,{"$f":"\"{\"&IF('Embedded Answer (Cloze) Strings'!$D$15=\"\",1,'Embedded Answer (Cloze) Strings'!$D$15)&\":MC:%0%a~%0%b~%0%c~%0%d~%0%e~%0%f~%0%g~%0%h~%0%i~%0%j~%0%k~%0%l~%0%m~%0%n~%0%o~%0%p~%0%q~%0%r~%0%s~%0%t~%0%u~%0%v~%0%w~%0%x~%0%y~%0%z}\"","v":"{1:MC:%0%a~%0%b~%0%c~%0%d~%0%e~%0%f~%0%g~%0%h~%0%i~%0%j~%0%k~%0%l~%0%m~%0%n~%0%o~%0%p~%0%q~%0%r~%0%s~%0%t~%0%u~%0%v~%0%w~%0%x~%0%y~%0%z}"},"","","%0%","=","",null,null,null,18,"{1:MC:%0%a~%0%b~%0%c~%0%d~%0%e~%0%f~%0%g~%0%h~%0%i~%0%j~%0%k~%0%l~%0%m~%0%n~%0%o~%0%p~%0%q~%0%r~%0%s~%0%t~%0%u~%0%v~%0%w~%0%x~%0%y~%0%z}","","","%0%","=",""]
[19,{"$f":"\"{\"&IF('Embedded Answer (Cloze) Strings'!$D$15=\"\",1,'Embedded Answer (Cloze) Strings'!$D$15)&\":MC:%0%a~%0%b~%0%c~%0%d~%0%e~%0%f~%0%g~%0%h~%0%i~%0%j~%0%k~%0%l~%0%m~%0%n~%0%o~%0%p~%0%q~%0%r~%0%s~%0%t~%0%u~%0%v~%0%w~%0%x~%0%y~%0%z}\"","v":"{1:MC:%0%a~%0%b~%0%c~%0%d~%0%e~%0%f~%0%g~%0%h~%0%i~%0%j~%0%k~%0%l~%0%m~%0%n~%0%o~%0%p~%0%q~%0%r~%0%s~%0%t~%0%u~%0%v~%0%w~%0%x~%0%y~%0%z}"},"","","%0%","=","",null,null,null,19,"{1:MC:%0%a~%0%b~%0%c~%0%d~%0%e~%0%f~%0%g~%0%h~%0%i~%0%j~%0%k~%0%l~%0%m~%0%n~%0%o~%0%p~%0%q~%0%r~%0%s~%0%t~%0%u~%0%v~%0%w~%0%x~%0%y~%0%z}","","","%0%","=",""]
[20,{"$f":"\"{\"&IF('Embedded Answer (Cloze) Strings'!$D$15=\"\",1,'Embedded Answer (Cloze) Strings'!$D$15)&\":MC:%0%a~%0%b~%0%c~%0%d~%0%e~%0%f~%0%g~%0%h~%0%i~%0%j~%0%k~%0%l~%0%m~%0%n~%0%o~%0%p~%0%q~%0%r~%0%s~%0%t~%0%u~%0%v~%0%w~%0%x~%0%y~%0%z}\"","v":"{1:MC:%0%a~%0%b~%0%c~%0%d~%0%e~%0%f~%0%g~%0%h~%0%i~%0%j~%0%k~%0%l~%0%m~%0%n~%0%o~%0%p~%0%q~%0%r~%0%s~%0%t~%0%u~%0%v~%0%w~%0%x~%0%y~%0%z}"},"","","%0%","=","",null,null,null,20,"{1:MC:%0%a~%0%b~%0%c~%0%d~%0%e~%0%f~%0%g~%0%h~%0%i~%0%j~%0%k~%0%l~%0%m~%0%n~%0%o~%0%p~%0%q~%0%r~%0%s~%0%t~%0%u~%0%v~%0%w~%0%x~%0%y~%0%z}","","","%0%","=",""]
[]
[null,null,null,null,null,null,14,null,null,null,null,null,null,null,null,null,14]
[null,null,null,null,null,null,"Type word here (lowecase only):",{"$f":"'Embedded Answer (Cloze) Strings'!$F$16","v":0},null,null,null,null,null,null,null,null,"Type word here (lowecase only):",{"$f":"'GIFT Import Strings'!$I$16","v":0}]
["Index","Original","String","Letter","Wrong","Right","Copy this code and paste as plain text into Moodle:",{"$f":"G316&G317&G318&G319&G320&G321&G322&G323&G324&G325&G326&G327&G328&G329&G330&G331&G332&G333&G334&G335","v":"{1:MC:%0%a~%0%b~%0%c~%0%d~%0%e~%0%f~%0%g~%0%h~%0%i~%0%j~%0%k~%0%l~%0%m~%0%n~%0%o~%0%p~%0%q~%0%r~%0%s~%0%t~%0%u~%0%v~%0%w~%0%x~%0%y~%0%z}"},null,null,"Index","Original","String","Letter","Wrong","Right","Copy this code and paste as plain text into Moodle:",{"$f":"Q316&Q317&Q318&Q319&Q320&Q321&Q322&Q323&Q324&Q325&Q326&Q327&Q328&Q329&Q330&Q331&Q332&Q333&Q334&Q335","v":"{1:MC:%0%a~%0%b~%0%c~%0%d~%0%e~%0%f~%0%g~%0%h~%0%i~%0%j~%0%k~%0%l~%0%m~%0%n~%0%o~%0%p~%0%q~%0%r~%0%s~%0%t~%0%u~%0%v~%0%w~%0%x~%0%y~%0%z}"}]
[1,{"$f":"\"{\"&IF('Embedded Answer (Cloze) Strings'!$D$16=\"\",1,'Embedded Answer (Cloze) Strings'!$D$16)&\":MC:%0%a~%0%b~%0%c~%0%d~%0%e~%0%f~%0%g~%0%h~%0%i~%0%j~%0%k~%0%l~%0%m~%0%n~%0%o~%0%p~%0%q~%0%r~%0%s~%0%t~%0%u~%0%v~%0%w~%0%x~%0%y~%0%z}\"","v":"{1:MC:%0%a~%0%b~%0%c~%0%d~%0%e~%0%f~%0%g~%0%h~%0%i~%0%j~%0%k~%0%l~%0%m~%0%n~%0%o~%0%p~%0%q~%0%r~%0%s~%0%t~%0%u~%0%v~%0%w~%0%x~%0%y~%0%z}"},{"$f":"IF(LEN($H$314)>=$A316,LEFT($H$314,$A316),\"\")","v":"0"},{"$f":"RIGHT(C316,1)","v":"0"},{"$f":"\"%0%\"&D316","v":"%0%0"},{"$f":"\"=\"&D316","v":"=0"},{"$f":"IF(D316=\"\",\"\",SUBSTITUTE(B316,E316,F316))","v":"{1:MC:%0%a~%0%b~%0%c~%0%d~%0%e~%0%f~%0%g~%0%h~%0%i~%0%j~%0%k~%0%l~%0%m~%0%n~%0%o~%0%p~%0%q~%0%r~%0%s~%0%t~%0%u~%0%v~%0%w~%0%x~%0%y~%0%z}"},null,null,null,1,"{1:MC:%0%a~%0%b~%0%c~%0%d~%0%e~%0%f~%0%g~%0%h~%0%i~%0%j~%0%k~%0%l~%0%m~%0%n~%0%o~%0%p~%0%q~%0%r~%0%s~%0%t~%0%u~%0%v~%0%w~%0%x~%0%y~%0%z}",{"$f":"IF(LEN($H$2)>=$A316,LEFT($H$2,$A316),\"\")","v":"0"},{"$f":"RIGHT(M316,1)","v":"0"},{"$f":"\"%0%\"&N316","v":"%0%0"},{"$f":"\"=\"&N316","v":"=0"},{"$f":"IF(N316=\"\",\"\",SUBSTITUTE(L316,O316,P316))","v":"{1:MC:%0%a~%0%b~%0%c~%0%d~%0%e~%0%f~%0%g~%0%h~%0%i~%0%j~%0%k~%0%l~%0%m~%0%n~%0%o~%0%p~%0%q~%0%r~%0%s~%0%t~%0%u~%0%v~%0%w~%0%x~%0%y~%0%z}"}]
[2,{"$f":"\"{\"&IF('Embedded Answer (Cloze) Strings'!$D$16=\"\",1,'Embedded Answer (Cloze) Strings'!$D$16)&\":MC:%0%a~%0%b~%0%c~%0%d~%0%e~%0%f~%0%g~%0%h~%0%i~%0%j~%0%k~%0%l~%0%m~%0%n~%0%o~%0%p~%0%q~%0%r~%0%s~%0%t~%0%u~%0%v~%0%w~%0%x~%0%y~%0%z}\"","v":"{1:MC:%0%a~%0%b~%0%c~%0%d~%0%e~%0%f~%0%g~%0%h~%0%i~%0%j~%0%k~%0%l~%0%m~%0%n~%0%o~%0%p~%0%q~%0%r~%0%s~%0%t~%0%u~%0%v~%0%w~%0%x~%0%y~%0%z}"},"",{"$f":"RIGHT(C317,1)","v":""},{"$f":"\"%0%\"&D317","v":"%0%"},"=","",null,null,null,2,"{1:MC:%0%a~%0%b~%0%c~%0%d~%0%e~%0%f~%0%g~%0%h~%0%i~%0%j~%0%k~%0%l~%0%m~%0%n~%0%o~%0%p~%0%q~%0%r~%0%s~%0%t~%0%u~%0%v~%0%w~%0%x~%0%y~%0%z}","",{"$f":"RIGHT(M317,1)","v":""},{"$f":"\"%0%\"&N317","v":"%0%"},{"$f":"\"=\"&N317","v":"="},{"$f":"IF(N317=\"\",\"\",SUBSTITUTE(L317,O317,P317))","v":""}]
[3,{"$f":"\"{\"&IF('Embedded Answer (Cloze) Strings'!$D$16=\"\",1,'Embedded Answer (Cloze) Strings'!$D$16)&\":MC:%0%a~%0%b~%0%c~%0%d~%0%e~%0%f~%0%g~%0%h~%0%i~%0%j~%0%k~%0%l~%0%m~%0%n~%0%o~%0%p~%0%q~%0%r~%0%s~%0%t~%0%u~%0%v~%0%w~%0%x~%0%y~%0%z}\"","v":"{1:MC:%0%a~%0%b~%0%c~%0%d~%0%e~%0%f~%0%g~%0%h~%0%i~%0%j~%0%k~%0%l~%0%m~%0%n~%0%o~%0%p~%0%q~%0%r~%0%s~%0%t~%0%u~%0%v~%0%w~%0%x~%0%y~%0%z}"},"","","%0%","=","",null,null,null,3,"{1:MC:%0%a~%0%b~%0%c~%0%d~%0%e~%0%f~%0%g~%0%h~%0%i~%0%j~%0%k~%0%l~%0%m~%0%n~%0%o~%0%p~%0%q~%0%r~%0%s~%0%t~%0%u~%0%v~%0%w~%0%x~%0%y~%0%z}","","","%0%","=",""]
[4,{"$f":"\"{\"&IF('Embedded Answer (Cloze) Strings'!$D$16=\"\",1,'Embedded Answer (Cloze) Strings'!$D$16)&\":MC:%0%a~%0%b~%0%c~%0%d~%0%e~%0%f~%0%g~%0%h~%0%i~%0%j~%0%k~%0%l~%0%m~%0%n~%0%o~%0%p~%0%q~%0%r~%0%s~%0%t~%0%u~%0%v~%0%w~%0%x~%0%y~%0%z}\"","v":"{1:MC:%0%a~%0%b~%0%c~%0%d~%0%e~%0%f~%0%g~%0%h~%0%i~%0%j~%0%k~%0%l~%0%m~%0%n~%0%o~%0%p~%0%q~%0%r~%0%s~%0%t~%0%u~%0%v~%0%w~%0%x~%0%y~%0%z}"},"","","%0%","=","",null,null,null,4,"{1:MC:%0%a~%0%b~%0%c~%0%d~%0%e~%0%f~%0%g~%0%h~%0%i~%0%j~%0%k~%0%l~%0%m~%0%n~%0%o~%0%p~%0%q~%0%r~%0%s~%0%t~%0%u~%0%v~%0%w~%0%x~%0%y~%0%z}","","","%0%","=",""]
[5,{"$f":"\"{\"&IF('Embedded Answer (Cloze) Strings'!$D$16=\"\",1,'Embedded Answer (Cloze) Strings'!$D$16)&\":MC:%0%a~%0%b~%0%c~%0%d~%0%e~%0%f~%0%g~%0%h~%0%i~%0%j~%0%k~%0%l~%0%m~%0%n~%0%o~%0%p~%0%q~%0%r~%0%s~%0%t~%0%u~%0%v~%0%w~%0%x~%0%y~%0%z}\"","v":"{1:MC:%0%a~%0%b~%0%c~%0%d~%0%e~%0%f~%0%g~%0%h~%0%i~%0%j~%0%k~%0%l~%0%m~%0%n~%0%o~%0%p~%0%q~%0%r~%0%s~%0%t~%0%u~%0%v~%0%w~%0%x~%0%y~%0%z}"},"","","%0%","=","",null,null,null,5,"{1:MC:%0%a~%0%b~%0%c~%0%d~%0%e~%0%f~%0%g~%0%h~%0%i~%0%j~%0%k~%0%l~%0%m~%0%n~%0%o~%0%p~%0%q~%0%r~%0%s~%0%t~%0%u~%0%v~%0%w~%0%x~%0%y~%0%z}","","","%0%","=",""]
[6,{"$f":"\"{\"&IF('Embedded Answer (Cloze) Strings'!$D$16=\"\",1,'Embedded Answer (Cloze) Strings'!$D$16)&\":MC:%0%a~%0%b~%0%c~%0%d~%0%e~%0%f~%0%g~%0%h~%0%i~%0%j~%0%k~%0%l~%0%m~%0%n~%0%o~%0%p~%0%q~%0%r~%0%s~%0%t~%0%u~%0%v~%0%w~%0%x~%0%y~%0%z}\"","v":"{1:MC:%0%a~%0%b~%0%c~%0%d~%0%e~%0%f~%0%g~%0%h~%0%i~%0%j~%0%k~%0%l~%0%m~%0%n~%0%o~%0%p~%0%q~%0%r~%0%s~%0%t~%0%u~%0%v~%0%w~%0%x~%0%y~%0%z}"},"","","%0%","=","",null,null,null,6,"{1:MC:%0%a~%0%b~%0%c~%0%d~%0%e~%0%f~%0%g~%0%h~%0%i~%0%j~%0%k~%0%l~%0%m~%0%n~%0%o~%0%p~%0%q~%0%r~%0%s~%0%t~%0%u~%0%v~%0%w~%0%x~%0%y~%0%z}","","","%0%","=",""]
[7,{"$f":"\"{\"&IF('Embedded Answer (Cloze) Strings'!$D$16=\"\",1,'Embedded Answer (Cloze) Strings'!$D$16)&\":MC:%0%a~%0%b~%0%c~%0%d~%0%e~%0%f~%0%g~%0%h~%0%i~%0%j~%0%k~%0%l~%0%m~%0%n~%0%o~%0%p~%0%q~%0%r~%0%s~%0%t~%0%u~%0%v~%0%w~%0%x~%0%y~%0%z}\"","v":"{1:MC:%0%a~%0%b~%0%c~%0%d~%0%e~%0%f~%0%g~%0%h~%0%i~%0%j~%0%k~%0%l~%0%m~%0%n~%0%o~%0%p~%0%q~%0%r~%0%s~%0%t~%0%u~%0%v~%0%w~%0%x~%0%y~%0%z}"},"","","%0%","=","",null,null,null,7,"{1:MC:%0%a~%0%b~%0%c~%0%d~%0%e~%0%f~%0%g~%0%h~%0%i~%0%j~%0%k~%0%l~%0%m~%0%n~%0%o~%0%p~%0%q~%0%r~%0%s~%0%t~%0%u~%0%v~%0%w~%0%x~%0%y~%0%z}","","","%0%","=",""]
[8,{"$f":"\"{\"&IF('Embedded Answer (Cloze) Strings'!$D$16=\"\",1,'Embedded Answer (Cloze) Strings'!$D$16)&\":MC:%0%a~%0%b~%0%c~%0%d~%0%e~%0%f~%0%g~%0%h~%0%i~%0%j~%0%k~%0%l~%0%m~%0%n~%0%o~%0%p~%0%q~%0%r~%0%s~%0%t~%0%u~%0%v~%0%w~%0%x~%0%y~%0%z}\"","v":"{1:MC:%0%a~%0%b~%0%c~%0%d~%0%e~%0%f~%0%g~%0%h~%0%i~%0%j~%0%k~%0%l~%0%m~%0%n~%0%o~%0%p~%0%q~%0%r~%0%s~%0%t~%0%u~%0%v~%0%w~%0%x~%0%y~%0%z}"},"","","%0%","=","",null,null,null,8,"{1:MC:%0%a~%0%b~%0%c~%0%d~%0%e~%0%f~%0%g~%0%h~%0%i~%0%j~%0%k~%0%l~%0%m~%0%n~%0%o~%0%p~%0%q~%0%r~%0%s~%0%t~%0%u~%0%v~%0%w~%0%x~%0%y~%0%z}","","","%0%","=",""]
[9,{"$f":"\"{\"&IF('Embedded Answer (Cloze) Strings'!$D$16=\"\",1,'Embedded Answer (Cloze) Strings'!$D$16)&\":MC:%0%a~%0%b~%0%c~%0%d~%0%e~%0%f~%0%g~%0%h~%0%i~%0%j~%0%k~%0%l~%0%m~%0%n~%0%o~%0%p~%0%q~%0%r~%0%s~%0%t~%0%u~%0%v~%0%w~%0%x~%0%y~%0%z}\"","v":"{1:MC:%0%a~%0%b~%0%c~%0%d~%0%e~%0%f~%0%g~%0%h~%0%i~%0%j~%0%k~%0%l~%0%m~%0%n~%0%o~%0%p~%0%q~%0%r~%0%s~%0%t~%0%u~%0%v~%0%w~%0%x~%0%y~%0%z}"},"","","%0%","=","",null,null,null,9,"{1:MC:%0%a~%0%b~%0%c~%0%d~%0%e~%0%f~%0%g~%0%h~%0%i~%0%j~%0%k~%0%l~%0%m~%0%n~%0%o~%0%p~%0%q~%0%r~%0%s~%0%t~%0%u~%0%v~%0%w~%0%x~%0%y~%0%z}","","","%0%","=",""]
[10,{"$f":"\"{\"&IF('Embedded Answer (Cloze) Strings'!$D$16=\"\",1,'Embedded Answer (Cloze) Strings'!$D$16)&\":MC:%0%a~%0%b~%0%c~%0%d~%0%e~%0%f~%0%g~%0%h~%0%i~%0%j~%0%k~%0%l~%0%m~%0%n~%0%o~%0%p~%0%q~%0%r~%0%s~%0%t~%0%u~%0%v~%0%w~%0%x~%0%y~%0%z}\"","v":"{1:MC:%0%a~%0%b~%0%c~%0%d~%0%e~%0%f~%0%g~%0%h~%0%i~%0%j~%0%k~%0%l~%0%m~%0%n~%0%o~%0%p~%0%q~%0%r~%0%s~%0%t~%0%u~%0%v~%0%w~%0%x~%0%y~%0%z}"},"","","%0%","=","",null,null,null,10,"{1:MC:%0%a~%0%b~%0%c~%0%d~%0%e~%0%f~%0%g~%0%h~%0%i~%0%j~%0%k~%0%l~%0%m~%0%n~%0%o~%0%p~%0%q~%0%r~%0%s~%0%t~%0%u~%0%v~%0%w~%0%x~%0%y~%0%z}","","","%0%","=",""]
[11,{"$f":"\"{\"&IF('Embedded Answer (Cloze) Strings'!$D$16=\"\",1,'Embedded Answer (Cloze) Strings'!$D$16)&\":MC:%0%a~%0%b~%0%c~%0%d~%0%e~%0%f~%0%g~%0%h~%0%i~%0%j~%0%k~%0%l~%0%m~%0%n~%0%o~%0%p~%0%q~%0%r~%0%s~%0%t~%0%u~%0%v~%0%w~%0%x~%0%y~%0%z}\"","v":"{1:MC:%0%a~%0%b~%0%c~%0%d~%0%e~%0%f~%0%g~%0%h~%0%i~%0%j~%0%k~%0%l~%0%m~%0%n~%0%o~%0%p~%0%q~%0%r~%0%s~%0%t~%0%u~%0%v~%0%w~%0%x~%0%y~%0%z}"},"","","%0%","=","",null,null,null,11,"{1:MC:%0%a~%0%b~%0%c~%0%d~%0%e~%0%f~%0%g~%0%h~%0%i~%0%j~%0%k~%0%l~%0%m~%0%n~%0%o~%0%p~%0%q~%0%r~%0%s~%0%t~%0%u~%0%v~%0%w~%0%x~%0%y~%0%z}","","","%0%","=",""]
[12,{"$f":"\"{\"&IF('Embedded Answer (Cloze) Strings'!$D$16=\"\",1,'Embedded Answer (Cloze) Strings'!$D$16)&\":MC:%0%a~%0%b~%0%c~%0%d~%0%e~%0%f~%0%g~%0%h~%0%i~%0%j~%0%k~%0%l~%0%m~%0%n~%0%o~%0%p~%0%q~%0%r~%0%s~%0%t~%0%u~%0%v~%0%w~%0%x~%0%y~%0%z}\"","v":"{1:MC:%0%a~%0%b~%0%c~%0%d~%0%e~%0%f~%0%g~%0%h~%0%i~%0%j~%0%k~%0%l~%0%m~%0%n~%0%o~%0%p~%0%q~%0%r~%0%s~%0%t~%0%u~%0%v~%0%w~%0%x~%0%y~%0%z}"},"","","%0%","=","",null,null,null,12,"{1:MC:%0%a~%0%b~%0%c~%0%d~%0%e~%0%f~%0%g~%0%h~%0%i~%0%j~%0%k~%0%l~%0%m~%0%n~%0%o~%0%p~%0%q~%0%r~%0%s~%0%t~%0%u~%0%v~%0%w~%0%x~%0%y~%0%z}","","","%0%","=",""]
[13,{"$f":"\"{\"&IF('Embedded Answer (Cloze) Strings'!$D$16=\"\",1,'Embedded Answer (Cloze) Strings'!$D$16)&\":MC:%0%a~%0%b~%0%c~%0%d~%0%e~%0%f~%0%g~%0%h~%0%i~%0%j~%0%k~%0%l~%0%m~%0%n~%0%o~%0%p~%0%q~%0%r~%0%s~%0%t~%0%u~%0%v~%0%w~%0%x~%0%y~%0%z}\"","v":"{1:MC:%0%a~%0%b~%0%c~%0%d~%0%e~%0%f~%0%g~%0%h~%0%i~%0%j~%0%k~%0%l~%0%m~%0%n~%0%o~%0%p~%0%q~%0%r~%0%s~%0%t~%0%u~%0%v~%0%w~%0%x~%0%y~%0%z}"},"","","%0%","=","",null,null,null,13,"{1:MC:%0%a~%0%b~%0%c~%0%d~%0%e~%0%f~%0%g~%0%h~%0%i~%0%j~%0%k~%0%l~%0%m~%0%n~%0%o~%0%p~%0%q~%0%r~%0%s~%0%t~%0%u~%0%v~%0%w~%0%x~%0%y~%0%z}","","","%0%","=",""]
[14,{"$f":"\"{\"&IF('Embedded Answer (Cloze) Strings'!$D$16=\"\",1,'Embedded Answer (Cloze) Strings'!$D$16)&\":MC:%0%a~%0%b~%0%c~%0%d~%0%e~%0%f~%0%g~%0%h~%0%i~%0%j~%0%k~%0%l~%0%m~%0%n~%0%o~%0%p~%0%q~%0%r~%0%s~%0%t~%0%u~%0%v~%0%w~%0%x~%0%y~%0%z}\"","v":"{1:MC:%0%a~%0%b~%0%c~%0%d~%0%e~%0%f~%0%g~%0%h~%0%i~%0%j~%0%k~%0%l~%0%m~%0%n~%0%o~%0%p~%0%q~%0%r~%0%s~%0%t~%0%u~%0%v~%0%w~%0%x~%0%y~%0%z}"},"","","%0%","=","",null,null,null,14,"{1:MC:%0%a~%0%b~%0%c~%0%d~%0%e~%0%f~%0%g~%0%h~%0%i~%0%j~%0%k~%0%l~%0%m~%0%n~%0%o~%0%p~%0%q~%0%r~%0%s~%0%t~%0%u~%0%v~%0%w~%0%x~%0%y~%0%z}","","","%0%","=",""]
[15,{"$f":"\"{\"&IF('Embedded Answer (Cloze) Strings'!$D$16=\"\",1,'Embedded Answer (Cloze) Strings'!$D$16)&\":MC:%0%a~%0%b~%0%c~%0%d~%0%e~%0%f~%0%g~%0%h~%0%i~%0%j~%0%k~%0%l~%0%m~%0%n~%0%o~%0%p~%0%q~%0%r~%0%s~%0%t~%0%u~%0%v~%0%w~%0%x~%0%y~%0%z}\"","v":"{1:MC:%0%a~%0%b~%0%c~%0%d~%0%e~%0%f~%0%g~%0%h~%0%i~%0%j~%0%k~%0%l~%0%m~%0%n~%0%o~%0%p~%0%q~%0%r~%0%s~%0%t~%0%u~%0%v~%0%w~%0%x~%0%y~%0%z}"},"","","%0%","=","",null,null,null,15,"{1:MC:%0%a~%0%b~%0%c~%0%d~%0%e~%0%f~%0%g~%0%h~%0%i~%0%j~%0%k~%0%l~%0%m~%0%n~%0%o~%0%p~%0%q~%0%r~%0%s~%0%t~%0%u~%0%v~%0%w~%0%x~%0%y~%0%z}","","","%0%","=",""]
[16,{"$f":"\"{\"&IF('Embedded Answer (Cloze) Strings'!$D$16=\"\",1,'Embedded Answer (Cloze) Strings'!$D$16)&\":MC:%0%a~%0%b~%0%c~%0%d~%0%e~%0%f~%0%g~%0%h~%0%i~%0%j~%0%k~%0%l~%0%m~%0%n~%0%o~%0%p~%0%q~%0%r~%0%s~%0%t~%0%u~%0%v~%0%w~%0%x~%0%y~%0%z}\"","v":"{1:MC:%0%a~%0%b~%0%c~%0%d~%0%e~%0%f~%0%g~%0%h~%0%i~%0%j~%0%k~%0%l~%0%m~%0%n~%0%o~%0%p~%0%q~%0%r~%0%s~%0%t~%0%u~%0%v~%0%w~%0%x~%0%y~%0%z}"},"","","%0%","=","",null,null,null,16,"{1:MC:%0%a~%0%b~%0%c~%0%d~%0%e~%0%f~%0%g~%0%h~%0%i~%0%j~%0%k~%0%l~%0%m~%0%n~%0%o~%0%p~%0%q~%0%r~%0%s~%0%t~%0%u~%0%v~%0%w~%0%x~%0%y~%0%z}","","","%0%","=",""]
[17,{"$f":"\"{\"&IF('Embedded Answer (Cloze) Strings'!$D$16=\"\",1,'Embedded Answer (Cloze) Strings'!$D$16)&\":MC:%0%a~%0%b~%0%c~%0%d~%0%e~%0%f~%0%g~%0%h~%0%i~%0%j~%0%k~%0%l~%0%m~%0%n~%0%o~%0%p~%0%q~%0%r~%0%s~%0%t~%0%u~%0%v~%0%w~%0%x~%0%y~%0%z}\"","v":"{1:MC:%0%a~%0%b~%0%c~%0%d~%0%e~%0%f~%0%g~%0%h~%0%i~%0%j~%0%k~%0%l~%0%m~%0%n~%0%o~%0%p~%0%q~%0%r~%0%s~%0%t~%0%u~%0%v~%0%w~%0%x~%0%y~%0%z}"},"","","%0%","=","",null,null,null,17,"{1:MC:%0%a~%0%b~%0%c~%0%d~%0%e~%0%f~%0%g~%0%h~%0%i~%0%j~%0%k~%0%l~%0%m~%0%n~%0%o~%0%p~%0%q~%0%r~%0%s~%0%t~%0%u~%0%v~%0%w~%0%x~%0%y~%0%z}","","","%0%","=",""]
[18,{"$f":"\"{\"&IF('Embedded Answer (Cloze) Strings'!$D$16=\"\",1,'Embedded Answer (Cloze) Strings'!$D$16)&\":MC:%0%a~%0%b~%0%c~%0%d~%0%e~%0%f~%0%g~%0%h~%0%i~%0%j~%0%k~%0%l~%0%m~%0%n~%0%o~%0%p~%0%q~%0%r~%0%s~%0%t~%0%u~%0%v~%0%w~%0%x~%0%y~%0%z}\"","v":"{1:MC:%0%a~%0%b~%0%c~%0%d~%0%e~%0%f~%0%g~%0%h~%0%i~%0%j~%0%k~%0%l~%0%m~%0%n~%0%o~%0%p~%0%q~%0%r~%0%s~%0%t~%0%u~%0%v~%0%w~%0%x~%0%y~%0%z}"},"","","%0%","=","",null,null,null,18,"{1:MC:%0%a~%0%b~%0%c~%0%d~%0%e~%0%f~%0%g~%0%h~%0%i~%0%j~%0%k~%0%l~%0%m~%0%n~%0%o~%0%p~%0%q~%0%r~%0%s~%0%t~%0%u~%0%v~%0%w~%0%x~%0%y~%0%z}","","","%0%","=",""]
[19,{"$f":"\"{\"&IF('Embedded Answer (Cloze) Strings'!$D$16=\"\",1,'Embedded Answer (Cloze) Strings'!$D$16)&\":MC:%0%a~%0%b~%0%c~%0%d~%0%e~%0%f~%0%g~%0%h~%0%i~%0%j~%0%k~%0%l~%0%m~%0%n~%0%o~%0%p~%0%q~%0%r~%0%s~%0%t~%0%u~%0%v~%0%w~%0%x~%0%y~%0%z}\"","v":"{1:MC:%0%a~%0%b~%0%c~%0%d~%0%e~%0%f~%0%g~%0%h~%0%i~%0%j~%0%k~%0%l~%0%m~%0%n~%0%o~%0%p~%0%q~%0%r~%0%s~%0%t~%0%u~%0%v~%0%w~%0%x~%0%y~%0%z}"},"","","%0%","=","",null,null,null,19,"{1:MC:%0%a~%0%b~%0%c~%0%d~%0%e~%0%f~%0%g~%0%h~%0%i~%0%j~%0%k~%0%l~%0%m~%0%n~%0%o~%0%p~%0%q~%0%r~%0%s~%0%t~%0%u~%0%v~%0%w~%0%x~%0%y~%0%z}","","","%0%","=",""]
[20,{"$f":"\"{\"&IF('Embedded Answer (Cloze) Strings'!$D$16=\"\",1,'Embedded Answer (Cloze) Strings'!$D$16)&\":MC:%0%a~%0%b~%0%c~%0%d~%0%e~%0%f~%0%g~%0%h~%0%i~%0%j~%0%k~%0%l~%0%m~%0%n~%0%o~%0%p~%0%q~%0%r~%0%s~%0%t~%0%u~%0%v~%0%w~%0%x~%0%y~%0%z}\"","v":"{1:MC:%0%a~%0%b~%0%c~%0%d~%0%e~%0%f~%0%g~%0%h~%0%i~%0%j~%0%k~%0%l~%0%m~%0%n~%0%o~%0%p~%0%q~%0%r~%0%s~%0%t~%0%u~%0%v~%0%w~%0%x~%0%y~%0%z}"},"","","%0%","=","",null,null,null,20,"{1:MC:%0%a~%0%b~%0%c~%0%d~%0%e~%0%f~%0%g~%0%h~%0%i~%0%j~%0%k~%0%l~%0%m~%0%n~%0%o~%0%p~%0%q~%0%r~%0%s~%0%t~%0%u~%0%v~%0%w~%0%x~%0%y~%0%z}","","","%0%","=",""]
[]
[null,null,null,null,null,null,15,null,null,null,null,null,null,null,null,null,15]
[null,null,null,null,null,null,"Type word here (lowecase only):",{"$f":"'Embedded Answer (Cloze) Strings'!$F$17","v":0},null,null,null,null,null,null,null,null,"Type word here (lowecase only):",{"$f":"'GIFT Import Strings'!$I$17","v":0}]
["Index","Original","String","Letter","Wrong","Right","Copy this code and paste as plain text into Moodle:",{"$f":"G340&G341&G342&G343&G344&G345&G346&G347&G348&G349&G350&G351&G352&G353&G354&G355&G356&G357&G358&G359","v":"{1:MC:%0%a~%0%b~%0%c~%0%d~%0%e~%0%f~%0%g~%0%h~%0%i~%0%j~%0%k~%0%l~%0%m~%0%n~%0%o~%0%p~%0%q~%0%r~%0%s~%0%t~%0%u~%0%v~%0%w~%0%x~%0%y~%0%z}"},null,null,"Index","Original","String","Letter","Wrong","Right","Copy this code and paste as plain text into Moodle:",{"$f":"Q340&Q341&Q342&Q343&Q344&Q345&Q346&Q347&Q348&Q349&Q350&Q351&Q352&Q353&Q354&Q355&Q356&Q357&Q358&Q359","v":"{1:MC:%0%a~%0%b~%0%c~%0%d~%0%e~%0%f~%0%g~%0%h~%0%i~%0%j~%0%k~%0%l~%0%m~%0%n~%0%o~%0%p~%0%q~%0%r~%0%s~%0%t~%0%u~%0%v~%0%w~%0%x~%0%y~%0%z}"}]
[1,{"$f":"\"{\"&IF('Embedded Answer (Cloze) Strings'!$D$17=\"\",1,'Embedded Answer (Cloze) Strings'!$D$17)&\":MC:%0%a~%0%b~%0%c~%0%d~%0%e~%0%f~%0%g~%0%h~%0%i~%0%j~%0%k~%0%l~%0%m~%0%n~%0%o~%0%p~%0%q~%0%r~%0%s~%0%t~%0%u~%0%v~%0%w~%0%x~%0%y~%0%z}\"","v":"{1:MC:%0%a~%0%b~%0%c~%0%d~%0%e~%0%f~%0%g~%0%h~%0%i~%0%j~%0%k~%0%l~%0%m~%0%n~%0%o~%0%p~%0%q~%0%r~%0%s~%0%t~%0%u~%0%v~%0%w~%0%x~%0%y~%0%z}"},{"$f":"IF(LEN($H$338)>=$A340,LEFT($H$338,$A340),\"\")","v":"0"},{"$f":"RIGHT(C340,1)","v":"0"},{"$f":"\"%0%\"&D340","v":"%0%0"},{"$f":"\"=\"&D340","v":"=0"},{"$f":"IF(D340=\"\",\"\",SUBSTITUTE(B340,E340,F340))","v":"{1:MC:%0%a~%0%b~%0%c~%0%d~%0%e~%0%f~%0%g~%0%h~%0%i~%0%j~%0%k~%0%l~%0%m~%0%n~%0%o~%0%p~%0%q~%0%r~%0%s~%0%t~%0%u~%0%v~%0%w~%0%x~%0%y~%0%z}"},null,null,null,1,"{1:MC:%0%a~%0%b~%0%c~%0%d~%0%e~%0%f~%0%g~%0%h~%0%i~%0%j~%0%k~%0%l~%0%m~%0%n~%0%o~%0%p~%0%q~%0%r~%0%s~%0%t~%0%u~%0%v~%0%w~%0%x~%0%y~%0%z}",{"$f":"IF(LEN($H$2)>=$A340,LEFT($H$2,$A340),\"\")","v":"0"},{"$f":"RIGHT(M340,1)","v":"0"},{"$f":"\"%0%\"&N340","v":"%0%0"},{"$f":"\"=\"&N340","v":"=0"},{"$f":"IF(N340=\"\",\"\",SUBSTITUTE(L340,O340,P340))","v":"{1:MC:%0%a~%0%b~%0%c~%0%d~%0%e~%0%f~%0%g~%0%h~%0%i~%0%j~%0%k~%0%l~%0%m~%0%n~%0%o~%0%p~%0%q~%0%r~%0%s~%0%t~%0%u~%0%v~%0%w~%0%x~%0%y~%0%z}"}]
[2,{"$f":"\"{\"&IF('Embedded Answer (Cloze) Strings'!$D$17=\"\",1,'Embedded Answer (Cloze) Strings'!$D$17)&\":MC:%0%a~%0%b~%0%c~%0%d~%0%e~%0%f~%0%g~%0%h~%0%i~%0%j~%0%k~%0%l~%0%m~%0%n~%0%o~%0%p~%0%q~%0%r~%0%s~%0%t~%0%u~%0%v~%0%w~%0%x~%0%y~%0%z}\"","v":"{1:MC:%0%a~%0%b~%0%c~%0%d~%0%e~%0%f~%0%g~%0%h~%0%i~%0%j~%0%k~%0%l~%0%m~%0%n~%0%o~%0%p~%0%q~%0%r~%0%s~%0%t~%0%u~%0%v~%0%w~%0%x~%0%y~%0%z}"},"",{"$f":"RIGHT(C341,1)","v":""},{"$f":"\"%0%\"&D341","v":"%0%"},"=","",null,null,null,2,"{1:MC:%0%a~%0%b~%0%c~%0%d~%0%e~%0%f~%0%g~%0%h~%0%i~%0%j~%0%k~%0%l~%0%m~%0%n~%0%o~%0%p~%0%q~%0%r~%0%s~%0%t~%0%u~%0%v~%0%w~%0%x~%0%y~%0%z}","",{"$f":"RIGHT(M341,1)","v":""},{"$f":"\"%0%\"&N341","v":"%0%"},{"$f":"\"=\"&N341","v":"="},{"$f":"IF(N341=\"\",\"\",SUBSTITUTE(L341,O341,P341))","v":""}]
[3,{"$f":"\"{\"&IF('Embedded Answer (Cloze) Strings'!$D$17=\"\",1,'Embedded Answer (Cloze) Strings'!$D$17)&\":MC:%0%a~%0%b~%0%c~%0%d~%0%e~%0%f~%0%g~%0%h~%0%i~%0%j~%0%k~%0%l~%0%m~%0%n~%0%o~%0%p~%0%q~%0%r~%0%s~%0%t~%0%u~%0%v~%0%w~%0%x~%0%y~%0%z}\"","v":"{1:MC:%0%a~%0%b~%0%c~%0%d~%0%e~%0%f~%0%g~%0%h~%0%i~%0%j~%0%k~%0%l~%0%m~%0%n~%0%o~%0%p~%0%q~%0%r~%0%s~%0%t~%0%u~%0%v~%0%w~%0%x~%0%y~%0%z}"},"","","%0%","=","",null,null,null,3,"{1:MC:%0%a~%0%b~%0%c~%0%d~%0%e~%0%f~%0%g~%0%h~%0%i~%0%j~%0%k~%0%l~%0%m~%0%n~%0%o~%0%p~%0%q~%0%r~%0%s~%0%t~%0%u~%0%v~%0%w~%0%x~%0%y~%0%z}","","","%0%","=",""]
[4,{"$f":"\"{\"&IF('Embedded Answer (Cloze) Strings'!$D$17=\"\",1,'Embedded Answer (Cloze) Strings'!$D$17)&\":MC:%0%a~%0%b~%0%c~%0%d~%0%e~%0%f~%0%g~%0%h~%0%i~%0%j~%0%k~%0%l~%0%m~%0%n~%0%o~%0%p~%0%q~%0%r~%0%s~%0%t~%0%u~%0%v~%0%w~%0%x~%0%y~%0%z}\"","v":"{1:MC:%0%a~%0%b~%0%c~%0%d~%0%e~%0%f~%0%g~%0%h~%0%i~%0%j~%0%k~%0%l~%0%m~%0%n~%0%o~%0%p~%0%q~%0%r~%0%s~%0%t~%0%u~%0%v~%0%w~%0%x~%0%y~%0%z}"},"","","%0%","=","",null,null,null,4,"{1:MC:%0%a~%0%b~%0%c~%0%d~%0%e~%0%f~%0%g~%0%h~%0%i~%0%j~%0%k~%0%l~%0%m~%0%n~%0%o~%0%p~%0%q~%0%r~%0%s~%0%t~%0%u~%0%v~%0%w~%0%x~%0%y~%0%z}","","","%0%","=",""]
[5,{"$f":"\"{\"&IF('Embedded Answer (Cloze) Strings'!$D$17=\"\",1,'Embedded Answer (Cloze) Strings'!$D$17)&\":MC:%0%a~%0%b~%0%c~%0%d~%0%e~%0%f~%0%g~%0%h~%0%i~%0%j~%0%k~%0%l~%0%m~%0%n~%0%o~%0%p~%0%q~%0%r~%0%s~%0%t~%0%u~%0%v~%0%w~%0%x~%0%y~%0%z}\"","v":"{1:MC:%0%a~%0%b~%0%c~%0%d~%0%e~%0%f~%0%g~%0%h~%0%i~%0%j~%0%k~%0%l~%0%m~%0%n~%0%o~%0%p~%0%q~%0%r~%0%s~%0%t~%0%u~%0%v~%0%w~%0%x~%0%y~%0%z}"},"","","%0%","=","",null,null,null,5,"{1:MC:%0%a~%0%b~%0%c~%0%d~%0%e~%0%f~%0%g~%0%h~%0%i~%0%j~%0%k~%0%l~%0%m~%0%n~%0%o~%0%p~%0%q~%0%r~%0%s~%0%t~%0%u~%0%v~%0%w~%0%x~%0%y~%0%z}","","","%0%","=",""]
[6,{"$f":"\"{\"&IF('Embedded Answer (Cloze) Strings'!$D$17=\"\",1,'Embedded Answer (Cloze) Strings'!$D$17)&\":MC:%0%a~%0%b~%0%c~%0%d~%0%e~%0%f~%0%g~%0%h~%0%i~%0%j~%0%k~%0%l~%0%m~%0%n~%0%o~%0%p~%0%q~%0%r~%0%s~%0%t~%0%u~%0%v~%0%w~%0%x~%0%y~%0%z}\"","v":"{1:MC:%0%a~%0%b~%0%c~%0%d~%0%e~%0%f~%0%g~%0%h~%0%i~%0%j~%0%k~%0%l~%0%m~%0%n~%0%o~%0%p~%0%q~%0%r~%0%s~%0%t~%0%u~%0%v~%0%w~%0%x~%0%y~%0%z}"},"","","%0%","=","",null,null,null,6,"{1:MC:%0%a~%0%b~%0%c~%0%d~%0%e~%0%f~%0%g~%0%h~%0%i~%0%j~%0%k~%0%l~%0%m~%0%n~%0%o~%0%p~%0%q~%0%r~%0%s~%0%t~%0%u~%0%v~%0%w~%0%x~%0%y~%0%z}","","","%0%","=",""]
[7,{"$f":"\"{\"&IF('Embedded Answer (Cloze) Strings'!$D$17=\"\",1,'Embedded Answer (Cloze) Strings'!$D$17)&\":MC:%0%a~%0%b~%0%c~%0%d~%0%e~%0%f~%0%g~%0%h~%0%i~%0%j~%0%k~%0%l~%0%m~%0%n~%0%o~%0%p~%0%q~%0%r~%0%s~%0%t~%0%u~%0%v~%0%w~%0%x~%0%y~%0%z}\"","v":"{1:MC:%0%a~%0%b~%0%c~%0%d~%0%e~%0%f~%0%g~%0%h~%0%i~%0%j~%0%k~%0%l~%0%m~%0%n~%0%o~%0%p~%0%q~%0%r~%0%s~%0%t~%0%u~%0%v~%0%w~%0%x~%0%y~%0%z}"},"","","%0%","=","",null,null,null,7,"{1:MC:%0%a~%0%b~%0%c~%0%d~%0%e~%0%f~%0%g~%0%h~%0%i~%0%j~%0%k~%0%l~%0%m~%0%n~%0%o~%0%p~%0%q~%0%r~%0%s~%0%t~%0%u~%0%v~%0%w~%0%x~%0%y~%0%z}","","","%0%","=",""]
[8,{"$f":"\"{\"&IF('Embedded Answer (Cloze) Strings'!$D$17=\"\",1,'Embedded Answer (Cloze) Strings'!$D$17)&\":MC:%0%a~%0%b~%0%c~%0%d~%0%e~%0%f~%0%g~%0%h~%0%i~%0%j~%0%k~%0%l~%0%m~%0%n~%0%o~%0%p~%0%q~%0%r~%0%s~%0%t~%0%u~%0%v~%0%w~%0%x~%0%y~%0%z}\"","v":"{1:MC:%0%a~%0%b~%0%c~%0%d~%0%e~%0%f~%0%g~%0%h~%0%i~%0%j~%0%k~%0%l~%0%m~%0%n~%0%o~%0%p~%0%q~%0%r~%0%s~%0%t~%0%u~%0%v~%0%w~%0%x~%0%y~%0%z}"},"","","%0%","=","",null,null,null,8,"{1:MC:%0%a~%0%b~%0%c~%0%d~%0%e~%0%f~%0%g~%0%h~%0%i~%0%j~%0%k~%0%l~%0%m~%0%n~%0%o~%0%p~%0%q~%0%r~%0%s~%0%t~%0%u~%0%v~%0%w~%0%x~%0%y~%0%z}","","","%0%","=",""]
[9,{"$f":"\"{\"&IF('Embedded Answer (Cloze) Strings'!$D$17=\"\",1,'Embedded Answer (Cloze) Strings'!$D$17)&\":MC:%0%a~%0%b~%0%c~%0%d~%0%e~%0%f~%0%g~%0%h~%0%i~%0%j~%0%k~%0%l~%0%m~%0%n~%0%o~%0%p~%0%q~%0%r~%0%s~%0%t~%0%u~%0%v~%0%w~%0%x~%0%y~%0%z}\"","v":"{1:MC:%0%a~%0%b~%0%c~%0%d~%0%e~%0%f~%0%g~%0%h~%0%i~%0%j~%0%k~%0%l~%0%m~%0%n~%0%o~%0%p~%0%q~%0%r~%0%s~%0%t~%0%u~%0%v~%0%w~%0%x~%0%y~%0%z}"},"","","%0%","=","",null,null,null,9,"{1:MC:%0%a~%0%b~%0%c~%0%d~%0%e~%0%f~%0%g~%0%h~%0%i~%0%j~%0%k~%0%l~%0%m~%0%n~%0%o~%0%p~%0%q~%0%r~%0%s~%0%t~%0%u~%0%v~%0%w~%0%x~%0%y~%0%z}","","","%0%","=",""]
[10,{"$f":"\"{\"&IF('Embedded Answer (Cloze) Strings'!$D$17=\"\",1,'Embedded Answer (Cloze) Strings'!$D$17)&\":MC:%0%a~%0%b~%0%c~%0%d~%0%e~%0%f~%0%g~%0%h~%0%i~%0%j~%0%k~%0%l~%0%m~%0%n~%0%o~%0%p~%0%q~%0%r~%0%s~%0%t~%0%u~%0%v~%0%w~%0%x~%0%y~%0%z}\"","v":"{1:MC:%0%a~%0%b~%0%c~%0%d~%0%e~%0%f~%0%g~%0%h~%0%i~%0%j~%0%k~%0%l~%0%m~%0%n~%0%o~%0%p~%0%q~%0%r~%0%s~%0%t~%0%u~%0%v~%0%w~%0%x~%0%y~%0%z}"},"","","%0%","=","",null,null,null,10,"{1:MC:%0%a~%0%b~%0%c~%0%d~%0%e~%0%f~%0%g~%0%h~%0%i~%0%j~%0%k~%0%l~%0%m~%0%n~%0%o~%0%p~%0%q~%0%r~%0%s~%0%t~%0%u~%0%v~%0%w~%0%x~%0%y~%0%z}","","","%0%","=",""]
[11,{"$f":"\"{\"&IF('Embedded Answer (Cloze) Strings'!$D$17=\"\",1,'Embedded Answer (Cloze) Strings'!$D$17)&\":MC:%0%a~%0%b~%0%c~%0%d~%0%e~%0%f~%0%g~%0%h~%0%i~%0%j~%0%k~%0%l~%0%m~%0%n~%0%o~%0%p~%0%q~%0%r~%0%s~%0%t~%0%u~%0%v~%0%w~%0%x~%0%y~%0%z}\"","v":"{1:MC:%0%a~%0%b~%0%c~%0%d~%0%e~%0%f~%0%g~%0%h~%0%i~%0%j~%0%k~%0%l~%0%m~%0%n~%0%o~%0%p~%0%q~%0%r~%0%s~%0%t~%0%u~%0%v~%0%w~%0%x~%0%y~%0%z}"},"","","%0%","=","",null,null,null,11,"{1:MC:%0%a~%0%b~%0%c~%0%d~%0%e~%0%f~%0%g~%0%h~%0%i~%0%j~%0%k~%0%l~%0%m~%0%n~%0%o~%0%p~%0%q~%0%r~%0%s~%0%t~%0%u~%0%v~%0%w~%0%x~%0%y~%0%z}","","","%0%","=",""]
[12,{"$f":"\"{\"&IF('Embedded Answer (Cloze) Strings'!$D$17=\"\",1,'Embedded Answer (Cloze) Strings'!$D$17)&\":MC:%0%a~%0%b~%0%c~%0%d~%0%e~%0%f~%0%g~%0%h~%0%i~%0%j~%0%k~%0%l~%0%m~%0%n~%0%o~%0%p~%0%q~%0%r~%0%s~%0%t~%0%u~%0%v~%0%w~%0%x~%0%y~%0%z}\"","v":"{1:MC:%0%a~%0%b~%0%c~%0%d~%0%e~%0%f~%0%g~%0%h~%0%i~%0%j~%0%k~%0%l~%0%m~%0%n~%0%o~%0%p~%0%q~%0%r~%0%s~%0%t~%0%u~%0%v~%0%w~%0%x~%0%y~%0%z}"},"","","%0%","=","",null,null,null,12,"{1:MC:%0%a~%0%b~%0%c~%0%d~%0%e~%0%f~%0%g~%0%h~%0%i~%0%j~%0%k~%0%l~%0%m~%0%n~%0%o~%0%p~%0%q~%0%r~%0%s~%0%t~%0%u~%0%v~%0%w~%0%x~%0%y~%0%z}","","","%0%","=",""]
[13,{"$f":"\"{\"&IF('Embedded Answer (Cloze) Strings'!$D$17=\"\",1,'Embedded Answer (Cloze) Strings'!$D$17)&\":MC:%0%a~%0%b~%0%c~%0%d~%0%e~%0%f~%0%g~%0%h~%0%i~%0%j~%0%k~%0%l~%0%m~%0%n~%0%o~%0%p~%0%q~%0%r~%0%s~%0%t~%0%u~%0%v~%0%w~%0%x~%0%y~%0%z}\"","v":"{1:MC:%0%a~%0%b~%0%c~%0%d~%0%e~%0%f~%0%g~%0%h~%0%i~%0%j~%0%k~%0%l~%0%m~%0%n~%0%o~%0%p~%0%q~%0%r~%0%s~%0%t~%0%u~%0%v~%0%w~%0%x~%0%y~%0%z}"},"","","%0%","=","",null,null,null,13,"{1:MC:%0%a~%0%b~%0%c~%0%d~%0%e~%0%f~%0%g~%0%h~%0%i~%0%j~%0%k~%0%l~%0%m~%0%n~%0%o~%0%p~%0%q~%0%r~%0%s~%0%t~%0%u~%0%v~%0%w~%0%x~%0%y~%0%z}","","","%0%","=",""]
[14,{"$f":"\"{\"&IF('Embedded Answer (Cloze) Strings'!$D$17=\"\",1,'Embedded Answer (Cloze) Strings'!$D$17)&\":MC:%0%a~%0%b~%0%c~%0%d~%0%e~%0%f~%0%g~%0%h~%0%i~%0%j~%0%k~%0%l~%0%m~%0%n~%0%o~%0%p~%0%q~%0%r~%0%s~%0%t~%0%u~%0%v~%0%w~%0%x~%0%y~%0%z}\"","v":"{1:MC:%0%a~%0%b~%0%c~%0%d~%0%e~%0%f~%0%g~%0%h~%0%i~%0%j~%0%k~%0%l~%0%m~%0%n~%0%o~%0%p~%0%q~%0%r~%0%s~%0%t~%0%u~%0%v~%0%w~%0%x~%0%y~%0%z}"},"","","%0%","=","",null,null,null,14,"{1:MC:%0%a~%0%b~%0%c~%0%d~%0%e~%0%f~%0%g~%0%h~%0%i~%0%j~%0%k~%0%l~%0%m~%0%n~%0%o~%0%p~%0%q~%0%r~%0%s~%0%t~%0%u~%0%v~%0%w~%0%x~%0%y~%0%z}","","","%0%","=",""]
[15,{"$f":"\"{\"&IF('Embedded Answer (Cloze) Strings'!$D$17=\"\",1,'Embedded Answer (Cloze) Strings'!$D$17)&\":MC:%0%a~%0%b~%0%c~%0%d~%0%e~%0%f~%0%g~%0%h~%0%i~%0%j~%0%k~%0%l~%0%m~%0%n~%0%o~%0%p~%0%q~%0%r~%0%s~%0%t~%0%u~%0%v~%0%w~%0%x~%0%y~%0%z}\"","v":"{1:MC:%0%a~%0%b~%0%c~%0%d~%0%e~%0%f~%0%g~%0%h~%0%i~%0%j~%0%k~%0%l~%0%m~%0%n~%0%o~%0%p~%0%q~%0%r~%0%s~%0%t~%0%u~%0%v~%0%w~%0%x~%0%y~%0%z}"},"","","%0%","=","",null,null,null,15,"{1:MC:%0%a~%0%b~%0%c~%0%d~%0%e~%0%f~%0%g~%0%h~%0%i~%0%j~%0%k~%0%l~%0%m~%0%n~%0%o~%0%p~%0%q~%0%r~%0%s~%0%t~%0%u~%0%v~%0%w~%0%x~%0%y~%0%z}","","","%0%","=",""]
[16,{"$f":"\"{\"&IF('Embedded Answer (Cloze) Strings'!$D$17=\"\",1,'Embedded Answer (Cloze) Strings'!$D$17)&\":MC:%0%a~%0%b~%0%c~%0%d~%0%e~%0%f~%0%g~%0%h~%0%i~%0%j~%0%k~%0%l~%0%m~%0%n~%0%o~%0%p~%0%q~%0%r~%0%s~%0%t~%0%u~%0%v~%0%w~%0%x~%0%y~%0%z}\"","v":"{1:MC:%0%a~%0%b~%0%c~%0%d~%0%e~%0%f~%0%g~%0%h~%0%i~%0%j~%0%k~%0%l~%0%m~%0%n~%0%o~%0%p~%0%q~%0%r~%0%s~%0%t~%0%u~%0%v~%0%w~%0%x~%0%y~%0%z}"},"","","%0%","=","",null,null,null,16,"{1:MC:%0%a~%0%b~%0%c~%0%d~%0%e~%0%f~%0%g~%0%h~%0%i~%0%j~%0%k~%0%l~%0%m~%0%n~%0%o~%0%p~%0%q~%0%r~%0%s~%0%t~%0%u~%0%v~%0%w~%0%x~%0%y~%0%z}","","","%0%","=",""]
[17,{"$f":"\"{\"&IF('Embedded Answer (Cloze) Strings'!$D$17=\"\",1,'Embedded Answer (Cloze) Strings'!$D$17)&\":MC:%0%a~%0%b~%0%c~%0%d~%0%e~%0%f~%0%g~%0%h~%0%i~%0%j~%0%k~%0%l~%0%m~%0%n~%0%o~%0%p~%0%q~%0%r~%0%s~%0%t~%0%u~%0%v~%0%w~%0%x~%0%y~%0%z}\"","v":"{1:MC:%0%a~%0%b~%0%c~%0%d~%0%e~%0%f~%0%g~%0%h~%0%i~%0%j~%0%k~%0%l~%0%m~%0%n~%0%o~%0%p~%0%q~%0%r~%0%s~%0%t~%0%u~%0%v~%0%w~%0%x~%0%y~%0%z}"},"","","%0%","=","",null,null,null,17,"{1:MC:%0%a~%0%b~%0%c~%0%d~%0%e~%0%f~%0%g~%0%h~%0%i~%0%j~%0%k~%0%l~%0%m~%0%n~%0%o~%0%p~%0%q~%0%r~%0%s~%0%t~%0%u~%0%v~%0%w~%0%x~%0%y~%0%z}","","","%0%","=",""]
[18,{"$f":"\"{\"&IF('Embedded Answer (Cloze) Strings'!$D$17=\"\",1,'Embedded Answer (Cloze) Strings'!$D$17)&\":MC:%0%a~%0%b~%0%c~%0%d~%0%e~%0%f~%0%g~%0%h~%0%i~%0%j~%0%k~%0%l~%0%m~%0%n~%0%o~%0%p~%0%q~%0%r~%0%s~%0%t~%0%u~%0%v~%0%w~%0%x~%0%y~%0%z}\"","v":"{1:MC:%0%a~%0%b~%0%c~%0%d~%0%e~%0%f~%0%g~%0%h~%0%i~%0%j~%0%k~%0%l~%0%m~%0%n~%0%o~%0%p~%0%q~%0%r~%0%s~%0%t~%0%u~%0%v~%0%w~%0%x~%0%y~%0%z}"},"","","%0%","=","",null,null,null,18,"{1:MC:%0%a~%0%b~%0%c~%0%d~%0%e~%0%f~%0%g~%0%h~%0%i~%0%j~%0%k~%0%l~%0%m~%0%n~%0%o~%0%p~%0%q~%0%r~%0%s~%0%t~%0%u~%0%v~%0%w~%0%x~%0%y~%0%z}","","","%0%","=",""]
[19,{"$f":"\"{\"&IF('Embedded Answer (Cloze) Strings'!$D$17=\"\",1,'Embedded Answer (Cloze) Strings'!$D$17)&\":MC:%0%a~%0%b~%0%c~%0%d~%0%e~%0%f~%0%g~%0%h~%0%i~%0%j~%0%k~%0%l~%0%m~%0%n~%0%o~%0%p~%0%q~%0%r~%0%s~%0%t~%0%u~%0%v~%0%w~%0%x~%0%y~%0%z}\"","v":"{1:MC:%0%a~%0%b~%0%c~%0%d~%0%e~%0%f~%0%g~%0%h~%0%i~%0%j~%0%k~%0%l~%0%m~%0%n~%0%o~%0%p~%0%q~%0%r~%0%s~%0%t~%0%u~%0%v~%0%w~%0%x~%0%y~%0%z}"},"","","%0%","=","",null,null,null,19,"{1:MC:%0%a~%0%b~%0%c~%0%d~%0%e~%0%f~%0%g~%0%h~%0%i~%0%j~%0%k~%0%l~%0%m~%0%n~%0%o~%0%p~%0%q~%0%r~%0%s~%0%t~%0%u~%0%v~%0%w~%0%x~%0%y~%0%z}","","","%0%","=",""]
[20,{"$f":"\"{\"&IF('Embedded Answer (Cloze) Strings'!$D$17=\"\",1,'Embedded Answer (Cloze) Strings'!$D$17)&\":MC:%0%a~%0%b~%0%c~%0%d~%0%e~%0%f~%0%g~%0%h~%0%i~%0%j~%0%k~%0%l~%0%m~%0%n~%0%o~%0%p~%0%q~%0%r~%0%s~%0%t~%0%u~%0%v~%0%w~%0%x~%0%y~%0%z}\"","v":"{1:MC:%0%a~%0%b~%0%c~%0%d~%0%e~%0%f~%0%g~%0%h~%0%i~%0%j~%0%k~%0%l~%0%m~%0%n~%0%o~%0%p~%0%q~%0%r~%0%s~%0%t~%0%u~%0%v~%0%w~%0%x~%0%y~%0%z}"},"","","%0%","=","",null,null,null,20,"{1:MC:%0%a~%0%b~%0%c~%0%d~%0%e~%0%f~%0%g~%0%h~%0%i~%0%j~%0%k~%0%l~%0%m~%0%n~%0%o~%0%p~%0%q~%0%r~%0%s~%0%t~%0%u~%0%v~%0%w~%0%x~%0%y~%0%z}","","","%0%","=",""]
[]
[null,null,null,null,null,null,16,null,null,null,null,null,null,null,null,null,16]
[null,null,null,null,null,null,"Type word here (lowecase only):",{"$f":"'Embedded Answer (Cloze) Strings'!$F$18","v":0},null,null,null,null,null,null,null,null,"Type word here (lowecase only):",{"$f":"'GIFT Import Strings'!$I$18","v":0}]
["Index","Original","String","Letter","Wrong","Right","Copy this code and paste as plain text into Moodle:",{"$f":"G364&G365&G366&G367&G368&G369&G370&G371&G372&G373&G374&G375&G376&G377&G378&G379&G380&G381&G382&G383","v":"{1:MC:%0%a~%0%b~%0%c~%0%d~%0%e~%0%f~%0%g~%0%h~%0%i~%0%j~%0%k~%0%l~%0%m~%0%n~%0%o~%0%p~%0%q~%0%r~%0%s~%0%t~%0%u~%0%v~%0%w~%0%x~%0%y~%0%z}"},null,null,"Index","Original","String","Letter","Wrong","Right","Copy this code and paste as plain text into Moodle:",{"$f":"Q364&Q365&Q366&Q367&Q368&Q369&Q370&Q371&Q372&Q373&Q374&Q375&Q376&Q377&Q378&Q379&Q380&Q381&Q382&Q383","v":"{1:MC:%0%a~%0%b~%0%c~%0%d~%0%e~%0%f~%0%g~%0%h~%0%i~%0%j~%0%k~%0%l~%0%m~%0%n~%0%o~%0%p~%0%q~%0%r~%0%s~%0%t~%0%u~%0%v~%0%w~%0%x~%0%y~%0%z}"}]
[1,{"$f":"\"{\"&IF('Embedded Answer (Cloze) Strings'!$D$18=\"\",1,'Embedded Answer (Cloze) Strings'!$D$18)&\":MC:%0%a~%0%b~%0%c~%0%d~%0%e~%0%f~%0%g~%0%h~%0%i~%0%j~%0%k~%0%l~%0%m~%0%n~%0%o~%0%p~%0%q~%0%r~%0%s~%0%t~%0%u~%0%v~%0%w~%0%x~%0%y~%0%z}\"","v":"{1:MC:%0%a~%0%b~%0%c~%0%d~%0%e~%0%f~%0%g~%0%h~%0%i~%0%j~%0%k~%0%l~%0%m~%0%n~%0%o~%0%p~%0%q~%0%r~%0%s~%0%t~%0%u~%0%v~%0%w~%0%x~%0%y~%0%z}"},{"$f":"IF(LEN($H$362)>=$A364,LEFT($H$362,$A364),\"\")","v":"0"},{"$f":"RIGHT(C364,1)","v":"0"},{"$f":"\"%0%\"&D364","v":"%0%0"},{"$f":"\"=\"&D364","v":"=0"},{"$f":"IF(D364=\"\",\"\",SUBSTITUTE(B364,E364,F364))","v":"{1:MC:%0%a~%0%b~%0%c~%0%d~%0%e~%0%f~%0%g~%0%h~%0%i~%0%j~%0%k~%0%l~%0%m~%0%n~%0%o~%0%p~%0%q~%0%r~%0%s~%0%t~%0%u~%0%v~%0%w~%0%x~%0%y~%0%z}"},null,null,null,1,"{1:MC:%0%a~%0%b~%0%c~%0%d~%0%e~%0%f~%0%g~%0%h~%0%i~%0%j~%0%k~%0%l~%0%m~%0%n~%0%o~%0%p~%0%q~%0%r~%0%s~%0%t~%0%u~%0%v~%0%w~%0%x~%0%y~%0%z}",{"$f":"IF(LEN($H$2)>=$A364,LEFT($H$2,$A364),\"\")","v":"0"},{"$f":"RIGHT(M364,1)","v":"0"},{"$f":"\"%0%\"&N364","v":"%0%0"},{"$f":"\"=\"&N364","v":"=0"},{"$f":"IF(N364=\"\",\"\",SUBSTITUTE(L364,O364,P364))","v":"{1:MC:%0%a~%0%b~%0%c~%0%d~%0%e~%0%f~%0%g~%0%h~%0%i~%0%j~%0%k~%0%l~%0%m~%0%n~%0%o~%0%p~%0%q~%0%r~%0%s~%0%t~%0%u~%0%v~%0%w~%0%x~%0%y~%0%z}"}]
[2,{"$f":"\"{\"&IF('Embedded Answer (Cloze) Strings'!$D$18=\"\",1,'Embedded Answer (Cloze) Strings'!$D$18)&\":MC:%0%a~%0%b~%0%c~%0%d~%0%e~%0%f~%0%g~%0%h~%0%i~%0%j~%0%k~%0%l~%0%m~%0%n~%0%o~%0%p~%0%q~%0%r~%0%s~%0%t~%0%u~%0%v~%0%w~%0%x~%0%y~%0%z}\"","v":"{1:MC:%0%a~%0%b~%0%c~%0%d~%0%e~%0%f~%0%g~%0%h~%0%i~%0%j~%0%k~%0%l~%0%m~%0%n~%0%o~%0%p~%0%q~%0%r~%0%s~%0%t~%0%u~%0%v~%0%w~%0%x~%0%y~%0%z}"},"",{"$f":"RIGHT(C365,1)","v":""},{"$f":"\"%0%\"&D365","v":"%0%"},"=","",null,null,null,2,"{1:MC:%0%a~%0%b~%0%c~%0%d~%0%e~%0%f~%0%g~%0%h~%0%i~%0%j~%0%k~%0%l~%0%m~%0%n~%0%o~%0%p~%0%q~%0%r~%0%s~%0%t~%0%u~%0%v~%0%w~%0%x~%0%y~%0%z}","",{"$f":"RIGHT(M365,1)","v":""},{"$f":"\"%0%\"&N365","v":"%0%"},{"$f":"\"=\"&N365","v":"="},{"$f":"IF(N365=\"\",\"\",SUBSTITUTE(L365,O365,P365))","v":""}]
[3,{"$f":"\"{\"&IF('Embedded Answer (Cloze) Strings'!$D$18=\"\",1,'Embedded Answer (Cloze) Strings'!$D$18)&\":MC:%0%a~%0%b~%0%c~%0%d~%0%e~%0%f~%0%g~%0%h~%0%i~%0%j~%0%k~%0%l~%0%m~%0%n~%0%o~%0%p~%0%q~%0%r~%0%s~%0%t~%0%u~%0%v~%0%w~%0%x~%0%y~%0%z}\"","v":"{1:MC:%0%a~%0%b~%0%c~%0%d~%0%e~%0%f~%0%g~%0%h~%0%i~%0%j~%0%k~%0%l~%0%m~%0%n~%0%o~%0%p~%0%q~%0%r~%0%s~%0%t~%0%u~%0%v~%0%w~%0%x~%0%y~%0%z}"},"","","%0%","=","",null,null,null,3,"{1:MC:%0%a~%0%b~%0%c~%0%d~%0%e~%0%f~%0%g~%0%h~%0%i~%0%j~%0%k~%0%l~%0%m~%0%n~%0%o~%0%p~%0%q~%0%r~%0%s~%0%t~%0%u~%0%v~%0%w~%0%x~%0%y~%0%z}","","","%0%","=",""]
[4,{"$f":"\"{\"&IF('Embedded Answer (Cloze) Strings'!$D$18=\"\",1,'Embedded Answer (Cloze) Strings'!$D$18)&\":MC:%0%a~%0%b~%0%c~%0%d~%0%e~%0%f~%0%g~%0%h~%0%i~%0%j~%0%k~%0%l~%0%m~%0%n~%0%o~%0%p~%0%q~%0%r~%0%s~%0%t~%0%u~%0%v~%0%w~%0%x~%0%y~%0%z}\"","v":"{1:MC:%0%a~%0%b~%0%c~%0%d~%0%e~%0%f~%0%g~%0%h~%0%i~%0%j~%0%k~%0%l~%0%m~%0%n~%0%o~%0%p~%0%q~%0%r~%0%s~%0%t~%0%u~%0%v~%0%w~%0%x~%0%y~%0%z}"},"","","%0%","=","",null,null,null,4,"{1:MC:%0%a~%0%b~%0%c~%0%d~%0%e~%0%f~%0%g~%0%h~%0%i~%0%j~%0%k~%0%l~%0%m~%0%n~%0%o~%0%p~%0%q~%0%r~%0%s~%0%t~%0%u~%0%v~%0%w~%0%x~%0%y~%0%z}","","","%0%","=",""]
[5,{"$f":"\"{\"&IF('Embedded Answer (Cloze) Strings'!$D$18=\"\",1,'Embedded Answer (Cloze) Strings'!$D$18)&\":MC:%0%a~%0%b~%0%c~%0%d~%0%e~%0%f~%0%g~%0%h~%0%i~%0%j~%0%k~%0%l~%0%m~%0%n~%0%o~%0%p~%0%q~%0%r~%0%s~%0%t~%0%u~%0%v~%0%w~%0%x~%0%y~%0%z}\"","v":"{1:MC:%0%a~%0%b~%0%c~%0%d~%0%e~%0%f~%0%g~%0%h~%0%i~%0%j~%0%k~%0%l~%0%m~%0%n~%0%o~%0%p~%0%q~%0%r~%0%s~%0%t~%0%u~%0%v~%0%w~%0%x~%0%y~%0%z}"},"","","%0%","=","",null,null,null,5,"{1:MC:%0%a~%0%b~%0%c~%0%d~%0%e~%0%f~%0%g~%0%h~%0%i~%0%j~%0%k~%0%l~%0%m~%0%n~%0%o~%0%p~%0%q~%0%r~%0%s~%0%t~%0%u~%0%v~%0%w~%0%x~%0%y~%0%z}","","","%0%","=",""]
[6,{"$f":"\"{\"&IF('Embedded Answer (Cloze) Strings'!$D$18=\"\",1,'Embedded Answer (Cloze) Strings'!$D$18)&\":MC:%0%a~%0%b~%0%c~%0%d~%0%e~%0%f~%0%g~%0%h~%0%i~%0%j~%0%k~%0%l~%0%m~%0%n~%0%o~%0%p~%0%q~%0%r~%0%s~%0%t~%0%u~%0%v~%0%w~%0%x~%0%y~%0%z}\"","v":"{1:MC:%0%a~%0%b~%0%c~%0%d~%0%e~%0%f~%0%g~%0%h~%0%i~%0%j~%0%k~%0%l~%0%m~%0%n~%0%o~%0%p~%0%q~%0%r~%0%s~%0%t~%0%u~%0%v~%0%w~%0%x~%0%y~%0%z}"},"","","%0%","=","",null,null,null,6,"{1:MC:%0%a~%0%b~%0%c~%0%d~%0%e~%0%f~%0%g~%0%h~%0%i~%0%j~%0%k~%0%l~%0%m~%0%n~%0%o~%0%p~%0%q~%0%r~%0%s~%0%t~%0%u~%0%v~%0%w~%0%x~%0%y~%0%z}","","","%0%","=",""]
[7,{"$f":"\"{\"&IF('Embedded Answer (Cloze) Strings'!$D$18=\"\",1,'Embedded Answer (Cloze) Strings'!$D$18)&\":MC:%0%a~%0%b~%0%c~%0%d~%0%e~%0%f~%0%g~%0%h~%0%i~%0%j~%0%k~%0%l~%0%m~%0%n~%0%o~%0%p~%0%q~%0%r~%0%s~%0%t~%0%u~%0%v~%0%w~%0%x~%0%y~%0%z}\"","v":"{1:MC:%0%a~%0%b~%0%c~%0%d~%0%e~%0%f~%0%g~%0%h~%0%i~%0%j~%0%k~%0%l~%0%m~%0%n~%0%o~%0%p~%0%q~%0%r~%0%s~%0%t~%0%u~%0%v~%0%w~%0%x~%0%y~%0%z}"},"","","%0%","=","",null,null,null,7,"{1:MC:%0%a~%0%b~%0%c~%0%d~%0%e~%0%f~%0%g~%0%h~%0%i~%0%j~%0%k~%0%l~%0%m~%0%n~%0%o~%0%p~%0%q~%0%r~%0%s~%0%t~%0%u~%0%v~%0%w~%0%x~%0%y~%0%z}","","","%0%","=",""]
[8,{"$f":"\"{\"&IF('Embedded Answer (Cloze) Strings'!$D$18=\"\",1,'Embedded Answer (Cloze) Strings'!$D$18)&\":MC:%0%a~%0%b~%0%c~%0%d~%0%e~%0%f~%0%g~%0%h~%0%i~%0%j~%0%k~%0%l~%0%m~%0%n~%0%o~%0%p~%0%q~%0%r~%0%s~%0%t~%0%u~%0%v~%0%w~%0%x~%0%y~%0%z}\"","v":"{1:MC:%0%a~%0%b~%0%c~%0%d~%0%e~%0%f~%0%g~%0%h~%0%i~%0%j~%0%k~%0%l~%0%m~%0%n~%0%o~%0%p~%0%q~%0%r~%0%s~%0%t~%0%u~%0%v~%0%w~%0%x~%0%y~%0%z}"},"","","%0%","=","",null,null,null,8,"{1:MC:%0%a~%0%b~%0%c~%0%d~%0%e~%0%f~%0%g~%0%h~%0%i~%0%j~%0%k~%0%l~%0%m~%0%n~%0%o~%0%p~%0%q~%0%r~%0%s~%0%t~%0%u~%0%v~%0%w~%0%x~%0%y~%0%z}","","","%0%","=",""]
[9,{"$f":"\"{\"&IF('Embedded Answer (Cloze) Strings'!$D$18=\"\",1,'Embedded Answer (Cloze) Strings'!$D$18)&\":MC:%0%a~%0%b~%0%c~%0%d~%0%e~%0%f~%0%g~%0%h~%0%i~%0%j~%0%k~%0%l~%0%m~%0%n~%0%o~%0%p~%0%q~%0%r~%0%s~%0%t~%0%u~%0%v~%0%w~%0%x~%0%y~%0%z}\"","v":"{1:MC:%0%a~%0%b~%0%c~%0%d~%0%e~%0%f~%0%g~%0%h~%0%i~%0%j~%0%k~%0%l~%0%m~%0%n~%0%o~%0%p~%0%q~%0%r~%0%s~%0%t~%0%u~%0%v~%0%w~%0%x~%0%y~%0%z}"},"","","%0%","=","",null,null,null,9,"{1:MC:%0%a~%0%b~%0%c~%0%d~%0%e~%0%f~%0%g~%0%h~%0%i~%0%j~%0%k~%0%l~%0%m~%0%n~%0%o~%0%p~%0%q~%0%r~%0%s~%0%t~%0%u~%0%v~%0%w~%0%x~%0%y~%0%z}","","","%0%","=",""]
[10,{"$f":"\"{\"&IF('Embedded Answer (Cloze) Strings'!$D$18=\"\",1,'Embedded Answer (Cloze) Strings'!$D$18)&\":MC:%0%a~%0%b~%0%c~%0%d~%0%e~%0%f~%0%g~%0%h~%0%i~%0%j~%0%k~%0%l~%0%m~%0%n~%0%o~%0%p~%0%q~%0%r~%0%s~%0%t~%0%u~%0%v~%0%w~%0%x~%0%y~%0%z}\"","v":"{1:MC:%0%a~%0%b~%0%c~%0%d~%0%e~%0%f~%0%g~%0%h~%0%i~%0%j~%0%k~%0%l~%0%m~%0%n~%0%o~%0%p~%0%q~%0%r~%0%s~%0%t~%0%u~%0%v~%0%w~%0%x~%0%y~%0%z}"},"","","%0%","=","",null,null,null,10,"{1:MC:%0%a~%0%b~%0%c~%0%d~%0%e~%0%f~%0%g~%0%h~%0%i~%0%j~%0%k~%0%l~%0%m~%0%n~%0%o~%0%p~%0%q~%0%r~%0%s~%0%t~%0%u~%0%v~%0%w~%0%x~%0%y~%0%z}","","","%0%","=",""]
[11,{"$f":"\"{\"&IF('Embedded Answer (Cloze) Strings'!$D$18=\"\",1,'Embedded Answer (Cloze) Strings'!$D$18)&\":MC:%0%a~%0%b~%0%c~%0%d~%0%e~%0%f~%0%g~%0%h~%0%i~%0%j~%0%k~%0%l~%0%m~%0%n~%0%o~%0%p~%0%q~%0%r~%0%s~%0%t~%0%u~%0%v~%0%w~%0%x~%0%y~%0%z}\"","v":"{1:MC:%0%a~%0%b~%0%c~%0%d~%0%e~%0%f~%0%g~%0%h~%0%i~%0%j~%0%k~%0%l~%0%m~%0%n~%0%o~%0%p~%0%q~%0%r~%0%s~%0%t~%0%u~%0%v~%0%w~%0%x~%0%y~%0%z}"},"","","%0%","=","",null,null,null,11,"{1:MC:%0%a~%0%b~%0%c~%0%d~%0%e~%0%f~%0%g~%0%h~%0%i~%0%j~%0%k~%0%l~%0%m~%0%n~%0%o~%0%p~%0%q~%0%r~%0%s~%0%t~%0%u~%0%v~%0%w~%0%x~%0%y~%0%z}","","","%0%","=",""]
[12,{"$f":"\"{\"&IF('Embedded Answer (Cloze) Strings'!$D$18=\"\",1,'Embedded Answer (Cloze) Strings'!$D$18)&\":MC:%0%a~%0%b~%0%c~%0%d~%0%e~%0%f~%0%g~%0%h~%0%i~%0%j~%0%k~%0%l~%0%m~%0%n~%0%o~%0%p~%0%q~%0%r~%0%s~%0%t~%0%u~%0%v~%0%w~%0%x~%0%y~%0%z}\"","v":"{1:MC:%0%a~%0%b~%0%c~%0%d~%0%e~%0%f~%0%g~%0%h~%0%i~%0%j~%0%k~%0%l~%0%m~%0%n~%0%o~%0%p~%0%q~%0%r~%0%s~%0%t~%0%u~%0%v~%0%w~%0%x~%0%y~%0%z}"},"","","%0%","=","",null,null,null,12,"{1:MC:%0%a~%0%b~%0%c~%0%d~%0%e~%0%f~%0%g~%0%h~%0%i~%0%j~%0%k~%0%l~%0%m~%0%n~%0%o~%0%p~%0%q~%0%r~%0%s~%0%t~%0%u~%0%v~%0%w~%0%x~%0%y~%0%z}","","","%0%","=",""]
[13,{"$f":"\"{\"&IF('Embedded Answer (Cloze) Strings'!$D$18=\"\",1,'Embedded Answer (Cloze) Strings'!$D$18)&\":MC:%0%a~%0%b~%0%c~%0%d~%0%e~%0%f~%0%g~%0%h~%0%i~%0%j~%0%k~%0%l~%0%m~%0%n~%0%o~%0%p~%0%q~%0%r~%0%s~%0%t~%0%u~%0%v~%0%w~%0%x~%0%y~%0%z}\"","v":"{1:MC:%0%a~%0%b~%0%c~%0%d~%0%e~%0%f~%0%g~%0%h~%0%i~%0%j~%0%k~%0%l~%0%m~%0%n~%0%o~%0%p~%0%q~%0%r~%0%s~%0%t~%0%u~%0%v~%0%w~%0%x~%0%y~%0%z}"},"","","%0%","=","",null,null,null,13,"{1:MC:%0%a~%0%b~%0%c~%0%d~%0%e~%0%f~%0%g~%0%h~%0%i~%0%j~%0%k~%0%l~%0%m~%0%n~%0%o~%0%p~%0%q~%0%r~%0%s~%0%t~%0%u~%0%v~%0%w~%0%x~%0%y~%0%z}","","","%0%","=",""]
[14,{"$f":"\"{\"&IF('Embedded Answer (Cloze) Strings'!$D$18=\"\",1,'Embedded Answer (Cloze) Strings'!$D$18)&\":MC:%0%a~%0%b~%0%c~%0%d~%0%e~%0%f~%0%g~%0%h~%0%i~%0%j~%0%k~%0%l~%0%m~%0%n~%0%o~%0%p~%0%q~%0%r~%0%s~%0%t~%0%u~%0%v~%0%w~%0%x~%0%y~%0%z}\"","v":"{1:MC:%0%a~%0%b~%0%c~%0%d~%0%e~%0%f~%0%g~%0%h~%0%i~%0%j~%0%k~%0%l~%0%m~%0%n~%0%o~%0%p~%0%q~%0%r~%0%s~%0%t~%0%u~%0%v~%0%w~%0%x~%0%y~%0%z}"},"","","%0%","=","",null,null,null,14,"{1:MC:%0%a~%0%b~%0%c~%0%d~%0%e~%0%f~%0%g~%0%h~%0%i~%0%j~%0%k~%0%l~%0%m~%0%n~%0%o~%0%p~%0%q~%0%r~%0%s~%0%t~%0%u~%0%v~%0%w~%0%x~%0%y~%0%z}","","","%0%","=",""]
[15,{"$f":"\"{\"&IF('Embedded Answer (Cloze) Strings'!$D$18=\"\",1,'Embedded Answer (Cloze) Strings'!$D$18)&\":MC:%0%a~%0%b~%0%c~%0%d~%0%e~%0%f~%0%g~%0%h~%0%i~%0%j~%0%k~%0%l~%0%m~%0%n~%0%o~%0%p~%0%q~%0%r~%0%s~%0%t~%0%u~%0%v~%0%w~%0%x~%0%y~%0%z}\"","v":"{1:MC:%0%a~%0%b~%0%c~%0%d~%0%e~%0%f~%0%g~%0%h~%0%i~%0%j~%0%k~%0%l~%0%m~%0%n~%0%o~%0%p~%0%q~%0%r~%0%s~%0%t~%0%u~%0%v~%0%w~%0%x~%0%y~%0%z}"},"","","%0%","=","",null,null,null,15,"{1:MC:%0%a~%0%b~%0%c~%0%d~%0%e~%0%f~%0%g~%0%h~%0%i~%0%j~%0%k~%0%l~%0%m~%0%n~%0%o~%0%p~%0%q~%0%r~%0%s~%0%t~%0%u~%0%v~%0%w~%0%x~%0%y~%0%z}","","","%0%","=",""]
[16,{"$f":"\"{\"&IF('Embedded Answer (Cloze) Strings'!$D$18=\"\",1,'Embedded Answer (Cloze) Strings'!$D$18)&\":MC:%0%a~%0%b~%0%c~%0%d~%0%e~%0%f~%0%g~%0%h~%0%i~%0%j~%0%k~%0%l~%0%m~%0%n~%0%o~%0%p~%0%q~%0%r~%0%s~%0%t~%0%u~%0%v~%0%w~%0%x~%0%y~%0%z}\"","v":"{1:MC:%0%a~%0%b~%0%c~%0%d~%0%e~%0%f~%0%g~%0%h~%0%i~%0%j~%0%k~%0%l~%0%m~%0%n~%0%o~%0%p~%0%q~%0%r~%0%s~%0%t~%0%u~%0%v~%0%w~%0%x~%0%y~%0%z}"},"","","%0%","=","",null,null,null,16,"{1:MC:%0%a~%0%b~%0%c~%0%d~%0%e~%0%f~%0%g~%0%h~%0%i~%0%j~%0%k~%0%l~%0%m~%0%n~%0%o~%0%p~%0%q~%0%r~%0%s~%0%t~%0%u~%0%v~%0%w~%0%x~%0%y~%0%z}","","","%0%","=",""]
[17,{"$f":"\"{\"&IF('Embedded Answer (Cloze) Strings'!$D$18=\"\",1,'Embedded Answer (Cloze) Strings'!$D$18)&\":MC:%0%a~%0%b~%0%c~%0%d~%0%e~%0%f~%0%g~%0%h~%0%i~%0%j~%0%k~%0%l~%0%m~%0%n~%0%o~%0%p~%0%q~%0%r~%0%s~%0%t~%0%u~%0%v~%0%w~%0%x~%0%y~%0%z}\"","v":"{1:MC:%0%a~%0%b~%0%c~%0%d~%0%e~%0%f~%0%g~%0%h~%0%i~%0%j~%0%k~%0%l~%0%m~%0%n~%0%o~%0%p~%0%q~%0%r~%0%s~%0%t~%0%u~%0%v~%0%w~%0%x~%0%y~%0%z}"},"","","%0%","=","",null,null,null,17,"{1:MC:%0%a~%0%b~%0%c~%0%d~%0%e~%0%f~%0%g~%0%h~%0%i~%0%j~%0%k~%0%l~%0%m~%0%n~%0%o~%0%p~%0%q~%0%r~%0%s~%0%t~%0%u~%0%v~%0%w~%0%x~%0%y~%0%z}","","","%0%","=",""]
[18,{"$f":"\"{\"&IF('Embedded Answer (Cloze) Strings'!$D$18=\"\",1,'Embedded Answer (Cloze) Strings'!$D$18)&\":MC:%0%a~%0%b~%0%c~%0%d~%0%e~%0%f~%0%g~%0%h~%0%i~%0%j~%0%k~%0%l~%0%m~%0%n~%0%o~%0%p~%0%q~%0%r~%0%s~%0%t~%0%u~%0%v~%0%w~%0%x~%0%y~%0%z}\"","v":"{1:MC:%0%a~%0%b~%0%c~%0%d~%0%e~%0%f~%0%g~%0%h~%0%i~%0%j~%0%k~%0%l~%0%m~%0%n~%0%o~%0%p~%0%q~%0%r~%0%s~%0%t~%0%u~%0%v~%0%w~%0%x~%0%y~%0%z}"},"","","%0%","=","",null,null,null,18,"{1:MC:%0%a~%0%b~%0%c~%0%d~%0%e~%0%f~%0%g~%0%h~%0%i~%0%j~%0%k~%0%l~%0%m~%0%n~%0%o~%0%p~%0%q~%0%r~%0%s~%0%t~%0%u~%0%v~%0%w~%0%x~%0%y~%0%z}","","","%0%","=",""]
[19,{"$f":"\"{\"&IF('Embedded Answer (Cloze) Strings'!$D$18=\"\",1,'Embedded Answer (Cloze) Strings'!$D$18)&\":MC:%0%a~%0%b~%0%c~%0%d~%0%e~%0%f~%0%g~%0%h~%0%i~%0%j~%0%k~%0%l~%0%m~%0%n~%0%o~%0%p~%0%q~%0%r~%0%s~%0%t~%0%u~%0%v~%0%w~%0%x~%0%y~%0%z}\"","v":"{1:MC:%0%a~%0%b~%0%c~%0%d~%0%e~%0%f~%0%g~%0%h~%0%i~%0%j~%0%k~%0%l~%0%m~%0%n~%0%o~%0%p~%0%q~%0%r~%0%s~%0%t~%0%u~%0%v~%0%w~%0%x~%0%y~%0%z}"},"","","%0%","=","",null,null,null,19,"{1:MC:%0%a~%0%b~%0%c~%0%d~%0%e~%0%f~%0%g~%0%h~%0%i~%0%j~%0%k~%0%l~%0%m~%0%n~%0%o~%0%p~%0%q~%0%r~%0%s~%0%t~%0%u~%0%v~%0%w~%0%x~%0%y~%0%z}","","","%0%","=",""]
[20,{"$f":"\"{\"&IF('Embedded Answer (Cloze) Strings'!$D$18=\"\",1,'Embedded Answer (Cloze) Strings'!$D$18)&\":MC:%0%a~%0%b~%0%c~%0%d~%0%e~%0%f~%0%g~%0%h~%0%i~%0%j~%0%k~%0%l~%0%m~%0%n~%0%o~%0%p~%0%q~%0%r~%0%s~%0%t~%0%u~%0%v~%0%w~%0%x~%0%y~%0%z}\"","v":"{1:MC:%0%a~%0%b~%0%c~%0%d~%0%e~%0%f~%0%g~%0%h~%0%i~%0%j~%0%k~%0%l~%0%m~%0%n~%0%o~%0%p~%0%q~%0%r~%0%s~%0%t~%0%u~%0%v~%0%w~%0%x~%0%y~%0%z}"},"","","%0%","=","",null,null,null,20,"{1:MC:%0%a~%0%b~%0%c~%0%d~%0%e~%0%f~%0%g~%0%h~%0%i~%0%j~%0%k~%0%l~%0%m~%0%n~%0%o~%0%p~%0%q~%0%r~%0%s~%0%t~%0%u~%0%v~%0%w~%0%x~%0%y~%0%z}","","","%0%","=",""]
[]
[null,null,null,null,null,null,17,null,null,null,null,null,null,null,null,null,17]
[null,null,null,null,null,null,"Type word here (lowecase only):",{"$f":"'Embedded Answer (Cloze) Strings'!$F$19","v":0},null,null,null,null,null,null,null,null,"Type word here (lowecase only):",{"$f":"'GIFT Import Strings'!$I$19","v":0}]
["Index","Original","String","Letter","Wrong","Right","Copy this code and paste as plain text into Moodle:",{"$f":"G388&G389&G390&G391&G392&G393&G394&G395&G396&G397&G398&G399&G400&G401&G402&G403&G404&G405&G406&G407","v":"{1:MC:%0%a~%0%b~%0%c~%0%d~%0%e~%0%f~%0%g~%0%h~%0%i~%0%j~%0%k~%0%l~%0%m~%0%n~%0%o~%0%p~%0%q~%0%r~%0%s~%0%t~%0%u~%0%v~%0%w~%0%x~%0%y~%0%z}"},null,null,"Index","Original","String","Letter","Wrong","Right","Copy this code and paste as plain text into Moodle:",{"$f":"Q388&Q389&Q390&Q391&Q392&Q393&Q394&Q395&Q396&Q397&Q398&Q399&Q400&Q401&Q402&Q403&Q404&Q405&Q406&Q407","v":"{1:MC:%0%a~%0%b~%0%c~%0%d~%0%e~%0%f~%0%g~%0%h~%0%i~%0%j~%0%k~%0%l~%0%m~%0%n~%0%o~%0%p~%0%q~%0%r~%0%s~%0%t~%0%u~%0%v~%0%w~%0%x~%0%y~%0%z}"}]
[1,{"$f":"\"{\"&IF('Embedded Answer (Cloze) Strings'!$D$19=\"\",1,'Embedded Answer (Cloze) Strings'!$D$19)&\":MC:%0%a~%0%b~%0%c~%0%d~%0%e~%0%f~%0%g~%0%h~%0%i~%0%j~%0%k~%0%l~%0%m~%0%n~%0%o~%0%p~%0%q~%0%r~%0%s~%0%t~%0%u~%0%v~%0%w~%0%x~%0%y~%0%z}\"","v":"{1:MC:%0%a~%0%b~%0%c~%0%d~%0%e~%0%f~%0%g~%0%h~%0%i~%0%j~%0%k~%0%l~%0%m~%0%n~%0%o~%0%p~%0%q~%0%r~%0%s~%0%t~%0%u~%0%v~%0%w~%0%x~%0%y~%0%z}"},{"$f":"IF(LEN($H$386)>=$A388,LEFT($H$386,$A388),\"\")","v":"0"},{"$f":"RIGHT(C388,1)","v":"0"},{"$f":"\"%0%\"&D388","v":"%0%0"},{"$f":"\"=\"&D388","v":"=0"},{"$f":"IF(D388=\"\",\"\",SUBSTITUTE(B388,E388,F388))","v":"{1:MC:%0%a~%0%b~%0%c~%0%d~%0%e~%0%f~%0%g~%0%h~%0%i~%0%j~%0%k~%0%l~%0%m~%0%n~%0%o~%0%p~%0%q~%0%r~%0%s~%0%t~%0%u~%0%v~%0%w~%0%x~%0%y~%0%z}"},null,null,null,1,"{1:MC:%0%a~%0%b~%0%c~%0%d~%0%e~%0%f~%0%g~%0%h~%0%i~%0%j~%0%k~%0%l~%0%m~%0%n~%0%o~%0%p~%0%q~%0%r~%0%s~%0%t~%0%u~%0%v~%0%w~%0%x~%0%y~%0%z}",{"$f":"IF(LEN($H$2)>=$A388,LEFT($H$2,$A388),\"\")","v":"0"},{"$f":"RIGHT(M388,1)","v":"0"},{"$f":"\"%0%\"&N388","v":"%0%0"},{"$f":"\"=\"&N388","v":"=0"},{"$f":"IF(N388=\"\",\"\",SUBSTITUTE(L388,O388,P388))","v":"{1:MC:%0%a~%0%b~%0%c~%0%d~%0%e~%0%f~%0%g~%0%h~%0%i~%0%j~%0%k~%0%l~%0%m~%0%n~%0%o~%0%p~%0%q~%0%r~%0%s~%0%t~%0%u~%0%v~%0%w~%0%x~%0%y~%0%z}"}]
[2,{"$f":"\"{\"&IF('Embedded Answer (Cloze) Strings'!$D$19=\"\",1,'Embedded Answer (Cloze) Strings'!$D$19)&\":MC:%0%a~%0%b~%0%c~%0%d~%0%e~%0%f~%0%g~%0%h~%0%i~%0%j~%0%k~%0%l~%0%m~%0%n~%0%o~%0%p~%0%q~%0%r~%0%s~%0%t~%0%u~%0%v~%0%w~%0%x~%0%y~%0%z}\"","v":"{1:MC:%0%a~%0%b~%0%c~%0%d~%0%e~%0%f~%0%g~%0%h~%0%i~%0%j~%0%k~%0%l~%0%m~%0%n~%0%o~%0%p~%0%q~%0%r~%0%s~%0%t~%0%u~%0%v~%0%w~%0%x~%0%y~%0%z}"},"",{"$f":"RIGHT(C389,1)","v":""},{"$f":"\"%0%\"&D389","v":"%0%"},"=","",null,null,null,2,"{1:MC:%0%a~%0%b~%0%c~%0%d~%0%e~%0%f~%0%g~%0%h~%0%i~%0%j~%0%k~%0%l~%0%m~%0%n~%0%o~%0%p~%0%q~%0%r~%0%s~%0%t~%0%u~%0%v~%0%w~%0%x~%0%y~%0%z}","",{"$f":"RIGHT(M389,1)","v":""},{"$f":"\"%0%\"&N389","v":"%0%"},{"$f":"\"=\"&N389","v":"="},{"$f":"IF(N389=\"\",\"\",SUBSTITUTE(L389,O389,P389))","v":""}]
[3,{"$f":"\"{\"&IF('Embedded Answer (Cloze) Strings'!$D$19=\"\",1,'Embedded Answer (Cloze) Strings'!$D$19)&\":MC:%0%a~%0%b~%0%c~%0%d~%0%e~%0%f~%0%g~%0%h~%0%i~%0%j~%0%k~%0%l~%0%m~%0%n~%0%o~%0%p~%0%q~%0%r~%0%s~%0%t~%0%u~%0%v~%0%w~%0%x~%0%y~%0%z}\"","v":"{1:MC:%0%a~%0%b~%0%c~%0%d~%0%e~%0%f~%0%g~%0%h~%0%i~%0%j~%0%k~%0%l~%0%m~%0%n~%0%o~%0%p~%0%q~%0%r~%0%s~%0%t~%0%u~%0%v~%0%w~%0%x~%0%y~%0%z}"},"","","%0%","=","",null,null,null,3,"{1:MC:%0%a~%0%b~%0%c~%0%d~%0%e~%0%f~%0%g~%0%h~%0%i~%0%j~%0%k~%0%l~%0%m~%0%n~%0%o~%0%p~%0%q~%0%r~%0%s~%0%t~%0%u~%0%v~%0%w~%0%x~%0%y~%0%z}","","","%0%","=",""]
[4,{"$f":"\"{\"&IF('Embedded Answer (Cloze) Strings'!$D$19=\"\",1,'Embedded Answer (Cloze) Strings'!$D$19)&\":MC:%0%a~%0%b~%0%c~%0%d~%0%e~%0%f~%0%g~%0%h~%0%i~%0%j~%0%k~%0%l~%0%m~%0%n~%0%o~%0%p~%0%q~%0%r~%0%s~%0%t~%0%u~%0%v~%0%w~%0%x~%0%y~%0%z}\"","v":"{1:MC:%0%a~%0%b~%0%c~%0%d~%0%e~%0%f~%0%g~%0%h~%0%i~%0%j~%0%k~%0%l~%0%m~%0%n~%0%o~%0%p~%0%q~%0%r~%0%s~%0%t~%0%u~%0%v~%0%w~%0%x~%0%y~%0%z}"},"","","%0%","=","",null,null,null,4,"{1:MC:%0%a~%0%b~%0%c~%0%d~%0%e~%0%f~%0%g~%0%h~%0%i~%0%j~%0%k~%0%l~%0%m~%0%n~%0%o~%0%p~%0%q~%0%r~%0%s~%0%t~%0%u~%0%v~%0%w~%0%x~%0%y~%0%z}","","","%0%","=",""]
[5,{"$f":"\"{\"&IF('Embedded Answer (Cloze) Strings'!$D$19=\"\",1,'Embedded Answer (Cloze) Strings'!$D$19)&\":MC:%0%a~%0%b~%0%c~%0%d~%0%e~%0%f~%0%g~%0%h~%0%i~%0%j~%0%k~%0%l~%0%m~%0%n~%0%o~%0%p~%0%q~%0%r~%0%s~%0%t~%0%u~%0%v~%0%w~%0%x~%0%y~%0%z}\"","v":"{1:MC:%0%a~%0%b~%0%c~%0%d~%0%e~%0%f~%0%g~%0%h~%0%i~%0%j~%0%k~%0%l~%0%m~%0%n~%0%o~%0%p~%0%q~%0%r~%0%s~%0%t~%0%u~%0%v~%0%w~%0%x~%0%y~%0%z}"},"","","%0%","=","",null,null,null,5,"{1:MC:%0%a~%0%b~%0%c~%0%d~%0%e~%0%f~%0%g~%0%h~%0%i~%0%j~%0%k~%0%l~%0%m~%0%n~%0%o~%0%p~%0%q~%0%r~%0%s~%0%t~%0%u~%0%v~%0%w~%0%x~%0%y~%0%z}","","","%0%","=",""]
[6,{"$f":"\"{\"&IF('Embedded Answer (Cloze) Strings'!$D$19=\"\",1,'Embedded Answer (Cloze) Strings'!$D$19)&\":MC:%0%a~%0%b~%0%c~%0%d~%0%e~%0%f~%0%g~%0%h~%0%i~%0%j~%0%k~%0%l~%0%m~%0%n~%0%o~%0%p~%0%q~%0%r~%0%s~%0%t~%0%u~%0%v~%0%w~%0%x~%0%y~%0%z}\"","v":"{1:MC:%0%a~%0%b~%0%c~%0%d~%0%e~%0%f~%0%g~%0%h~%0%i~%0%j~%0%k~%0%l~%0%m~%0%n~%0%o~%0%p~%0%q~%0%r~%0%s~%0%t~%0%u~%0%v~%0%w~%0%x~%0%y~%0%z}"},"","","%0%","=","",null,null,null,6,"{1:MC:%0%a~%0%b~%0%c~%0%d~%0%e~%0%f~%0%g~%0%h~%0%i~%0%j~%0%k~%0%l~%0%m~%0%n~%0%o~%0%p~%0%q~%0%r~%0%s~%0%t~%0%u~%0%v~%0%w~%0%x~%0%y~%0%z}","","","%0%","=",""]
[7,{"$f":"\"{\"&IF('Embedded Answer (Cloze) Strings'!$D$19=\"\",1,'Embedded Answer (Cloze) Strings'!$D$19)&\":MC:%0%a~%0%b~%0%c~%0%d~%0%e~%0%f~%0%g~%0%h~%0%i~%0%j~%0%k~%0%l~%0%m~%0%n~%0%o~%0%p~%0%q~%0%r~%0%s~%0%t~%0%u~%0%v~%0%w~%0%x~%0%y~%0%z}\"","v":"{1:MC:%0%a~%0%b~%0%c~%0%d~%0%e~%0%f~%0%g~%0%h~%0%i~%0%j~%0%k~%0%l~%0%m~%0%n~%0%o~%0%p~%0%q~%0%r~%0%s~%0%t~%0%u~%0%v~%0%w~%0%x~%0%y~%0%z}"},"","","%0%","=","",null,null,null,7,"{1:MC:%0%a~%0%b~%0%c~%0%d~%0%e~%0%f~%0%g~%0%h~%0%i~%0%j~%0%k~%0%l~%0%m~%0%n~%0%o~%0%p~%0%q~%0%r~%0%s~%0%t~%0%u~%0%v~%0%w~%0%x~%0%y~%0%z}","","","%0%","=",""]
[8,{"$f":"\"{\"&IF('Embedded Answer (Cloze) Strings'!$D$19=\"\",1,'Embedded Answer (Cloze) Strings'!$D$19)&\":MC:%0%a~%0%b~%0%c~%0%d~%0%e~%0%f~%0%g~%0%h~%0%i~%0%j~%0%k~%0%l~%0%m~%0%n~%0%o~%0%p~%0%q~%0%r~%0%s~%0%t~%0%u~%0%v~%0%w~%0%x~%0%y~%0%z}\"","v":"{1:MC:%0%a~%0%b~%0%c~%0%d~%0%e~%0%f~%0%g~%0%h~%0%i~%0%j~%0%k~%0%l~%0%m~%0%n~%0%o~%0%p~%0%q~%0%r~%0%s~%0%t~%0%u~%0%v~%0%w~%0%x~%0%y~%0%z}"},"","","%0%","=","",null,null,null,8,"{1:MC:%0%a~%0%b~%0%c~%0%d~%0%e~%0%f~%0%g~%0%h~%0%i~%0%j~%0%k~%0%l~%0%m~%0%n~%0%o~%0%p~%0%q~%0%r~%0%s~%0%t~%0%u~%0%v~%0%w~%0%x~%0%y~%0%z}","","","%0%","=",""]
[9,{"$f":"\"{\"&IF('Embedded Answer (Cloze) Strings'!$D$19=\"\",1,'Embedded Answer (Cloze) Strings'!$D$19)&\":MC:%0%a~%0%b~%0%c~%0%d~%0%e~%0%f~%0%g~%0%h~%0%i~%0%j~%0%k~%0%l~%0%m~%0%n~%0%o~%0%p~%0%q~%0%r~%0%s~%0%t~%0%u~%0%v~%0%w~%0%x~%0%y~%0%z}\"","v":"{1:MC:%0%a~%0%b~%0%c~%0%d~%0%e~%0%f~%0%g~%0%h~%0%i~%0%j~%0%k~%0%l~%0%m~%0%n~%0%o~%0%p~%0%q~%0%r~%0%s~%0%t~%0%u~%0%v~%0%w~%0%x~%0%y~%0%z}"},"","","%0%","=","",null,null,null,9,"{1:MC:%0%a~%0%b~%0%c~%0%d~%0%e~%0%f~%0%g~%0%h~%0%i~%0%j~%0%k~%0%l~%0%m~%0%n~%0%o~%0%p~%0%q~%0%r~%0%s~%0%t~%0%u~%0%v~%0%w~%0%x~%0%y~%0%z}","","","%0%","=",""]
[10,{"$f":"\"{\"&IF('Embedded Answer (Cloze) Strings'!$D$19=\"\",1,'Embedded Answer (Cloze) Strings'!$D$19)&\":MC:%0%a~%0%b~%0%c~%0%d~%0%e~%0%f~%0%g~%0%h~%0%i~%0%j~%0%k~%0%l~%0%m~%0%n~%0%o~%0%p~%0%q~%0%r~%0%s~%0%t~%0%u~%0%v~%0%w~%0%x~%0%y~%0%z}\"","v":"{1:MC:%0%a~%0%b~%0%c~%0%d~%0%e~%0%f~%0%g~%0%h~%0%i~%0%j~%0%k~%0%l~%0%m~%0%n~%0%o~%0%p~%0%q~%0%r~%0%s~%0%t~%0%u~%0%v~%0%w~%0%x~%0%y~%0%z}"},"","","%0%","=","",null,null,null,10,"{1:MC:%0%a~%0%b~%0%c~%0%d~%0%e~%0%f~%0%g~%0%h~%0%i~%0%j~%0%k~%0%l~%0%m~%0%n~%0%o~%0%p~%0%q~%0%r~%0%s~%0%t~%0%u~%0%v~%0%w~%0%x~%0%y~%0%z}","","","%0%","=",""]
[11,{"$f":"\"{\"&IF('Embedded Answer (Cloze) Strings'!$D$19=\"\",1,'Embedded Answer (Cloze) Strings'!$D$19)&\":MC:%0%a~%0%b~%0%c~%0%d~%0%e~%0%f~%0%g~%0%h~%0%i~%0%j~%0%k~%0%l~%0%m~%0%n~%0%o~%0%p~%0%q~%0%r~%0%s~%0%t~%0%u~%0%v~%0%w~%0%x~%0%y~%0%z}\"","v":"{1:MC:%0%a~%0%b~%0%c~%0%d~%0%e~%0%f~%0%g~%0%h~%0%i~%0%j~%0%k~%0%l~%0%m~%0%n~%0%o~%0%p~%0%q~%0%r~%0%s~%0%t~%0%u~%0%v~%0%w~%0%x~%0%y~%0%z}"},"","","%0%","=","",null,null,null,11,"{1:MC:%0%a~%0%b~%0%c~%0%d~%0%e~%0%f~%0%g~%0%h~%0%i~%0%j~%0%k~%0%l~%0%m~%0%n~%0%o~%0%p~%0%q~%0%r~%0%s~%0%t~%0%u~%0%v~%0%w~%0%x~%0%y~%0%z}","","","%0%","=",""]
[12,{"$f":"\"{\"&IF('Embedded Answer (Cloze) Strings'!$D$19=\"\",1,'Embedded Answer (Cloze) Strings'!$D$19)&\":MC:%0%a~%0%b~%0%c~%0%d~%0%e~%0%f~%0%g~%0%h~%0%i~%0%j~%0%k~%0%l~%0%m~%0%n~%0%o~%0%p~%0%q~%0%r~%0%s~%0%t~%0%u~%0%v~%0%w~%0%x~%0%y~%0%z}\"","v":"{1:MC:%0%a~%0%b~%0%c~%0%d~%0%e~%0%f~%0%g~%0%h~%0%i~%0%j~%0%k~%0%l~%0%m~%0%n~%0%o~%0%p~%0%q~%0%r~%0%s~%0%t~%0%u~%0%v~%0%w~%0%x~%0%y~%0%z}"},"","","%0%","=","",null,null,null,12,"{1:MC:%0%a~%0%b~%0%c~%0%d~%0%e~%0%f~%0%g~%0%h~%0%i~%0%j~%0%k~%0%l~%0%m~%0%n~%0%o~%0%p~%0%q~%0%r~%0%s~%0%t~%0%u~%0%v~%0%w~%0%x~%0%y~%0%z}","","","%0%","=",""]
[13,{"$f":"\"{\"&IF('Embedded Answer (Cloze) Strings'!$D$19=\"\",1,'Embedded Answer (Cloze) Strings'!$D$19)&\":MC:%0%a~%0%b~%0%c~%0%d~%0%e~%0%f~%0%g~%0%h~%0%i~%0%j~%0%k~%0%l~%0%m~%0%n~%0%o~%0%p~%0%q~%0%r~%0%s~%0%t~%0%u~%0%v~%0%w~%0%x~%0%y~%0%z}\"","v":"{1:MC:%0%a~%0%b~%0%c~%0%d~%0%e~%0%f~%0%g~%0%h~%0%i~%0%j~%0%k~%0%l~%0%m~%0%n~%0%o~%0%p~%0%q~%0%r~%0%s~%0%t~%0%u~%0%v~%0%w~%0%x~%0%y~%0%z}"},"","","%0%","=","",null,null,null,13,"{1:MC:%0%a~%0%b~%0%c~%0%d~%0%e~%0%f~%0%g~%0%h~%0%i~%0%j~%0%k~%0%l~%0%m~%0%n~%0%o~%0%p~%0%q~%0%r~%0%s~%0%t~%0%u~%0%v~%0%w~%0%x~%0%y~%0%z}","","","%0%","=",""]
[14,{"$f":"\"{\"&IF('Embedded Answer (Cloze) Strings'!$D$19=\"\",1,'Embedded Answer (Cloze) Strings'!$D$19)&\":MC:%0%a~%0%b~%0%c~%0%d~%0%e~%0%f~%0%g~%0%h~%0%i~%0%j~%0%k~%0%l~%0%m~%0%n~%0%o~%0%p~%0%q~%0%r~%0%s~%0%t~%0%u~%0%v~%0%w~%0%x~%0%y~%0%z}\"","v":"{1:MC:%0%a~%0%b~%0%c~%0%d~%0%e~%0%f~%0%g~%0%h~%0%i~%0%j~%0%k~%0%l~%0%m~%0%n~%0%o~%0%p~%0%q~%0%r~%0%s~%0%t~%0%u~%0%v~%0%w~%0%x~%0%y~%0%z}"},"","","%0%","=","",null,null,null,14,"{1:MC:%0%a~%0%b~%0%c~%0%d~%0%e~%0%f~%0%g~%0%h~%0%i~%0%j~%0%k~%0%l~%0%m~%0%n~%0%o~%0%p~%0%q~%0%r~%0%s~%0%t~%0%u~%0%v~%0%w~%0%x~%0%y~%0%z}","","","%0%","=",""]
[15,{"$f":"\"{\"&IF('Embedded Answer (Cloze) Strings'!$D$19=\"\",1,'Embedded Answer (Cloze) Strings'!$D$19)&\":MC:%0%a~%0%b~%0%c~%0%d~%0%e~%0%f~%0%g~%0%h~%0%i~%0%j~%0%k~%0%l~%0%m~%0%n~%0%o~%0%p~%0%q~%0%r~%0%s~%0%t~%0%u~%0%v~%0%w~%0%x~%0%y~%0%z}\"","v":"{1:MC:%0%a~%0%b~%0%c~%0%d~%0%e~%0%f~%0%g~%0%h~%0%i~%0%j~%0%k~%0%l~%0%m~%0%n~%0%o~%0%p~%0%q~%0%r~%0%s~%0%t~%0%u~%0%v~%0%w~%0%x~%0%y~%0%z}"},"","","%0%","=","",null,null,null,15,"{1:MC:%0%a~%0%b~%0%c~%0%d~%0%e~%0%f~%0%g~%0%h~%0%i~%0%j~%0%k~%0%l~%0%m~%0%n~%0%o~%0%p~%0%q~%0%r~%0%s~%0%t~%0%u~%0%v~%0%w~%0%x~%0%y~%0%z}","","","%0%","=",""]
[16,{"$f":"\"{\"&IF('Embedded Answer (Cloze) Strings'!$D$19=\"\",1,'Embedded Answer (Cloze) Strings'!$D$19)&\":MC:%0%a~%0%b~%0%c~%0%d~%0%e~%0%f~%0%g~%0%h~%0%i~%0%j~%0%k~%0%l~%0%m~%0%n~%0%o~%0%p~%0%q~%0%r~%0%s~%0%t~%0%u~%0%v~%0%w~%0%x~%0%y~%0%z}\"","v":"{1:MC:%0%a~%0%b~%0%c~%0%d~%0%e~%0%f~%0%g~%0%h~%0%i~%0%j~%0%k~%0%l~%0%m~%0%n~%0%o~%0%p~%0%q~%0%r~%0%s~%0%t~%0%u~%0%v~%0%w~%0%x~%0%y~%0%z}"},"","","%0%","=","",null,null,null,16,"{1:MC:%0%a~%0%b~%0%c~%0%d~%0%e~%0%f~%0%g~%0%h~%0%i~%0%j~%0%k~%0%l~%0%m~%0%n~%0%o~%0%p~%0%q~%0%r~%0%s~%0%t~%0%u~%0%v~%0%w~%0%x~%0%y~%0%z}","","","%0%","=",""]
[17,{"$f":"\"{\"&IF('Embedded Answer (Cloze) Strings'!$D$19=\"\",1,'Embedded Answer (Cloze) Strings'!$D$19)&\":MC:%0%a~%0%b~%0%c~%0%d~%0%e~%0%f~%0%g~%0%h~%0%i~%0%j~%0%k~%0%l~%0%m~%0%n~%0%o~%0%p~%0%q~%0%r~%0%s~%0%t~%0%u~%0%v~%0%w~%0%x~%0%y~%0%z}\"","v":"{1:MC:%0%a~%0%b~%0%c~%0%d~%0%e~%0%f~%0%g~%0%h~%0%i~%0%j~%0%k~%0%l~%0%m~%0%n~%0%o~%0%p~%0%q~%0%r~%0%s~%0%t~%0%u~%0%v~%0%w~%0%x~%0%y~%0%z}"},"","","%0%","=","",null,null,null,17,"{1:MC:%0%a~%0%b~%0%c~%0%d~%0%e~%0%f~%0%g~%0%h~%0%i~%0%j~%0%k~%0%l~%0%m~%0%n~%0%o~%0%p~%0%q~%0%r~%0%s~%0%t~%0%u~%0%v~%0%w~%0%x~%0%y~%0%z}","","","%0%","=",""]
[18,{"$f":"\"{\"&IF('Embedded Answer (Cloze) Strings'!$D$19=\"\",1,'Embedded Answer (Cloze) Strings'!$D$19)&\":MC:%0%a~%0%b~%0%c~%0%d~%0%e~%0%f~%0%g~%0%h~%0%i~%0%j~%0%k~%0%l~%0%m~%0%n~%0%o~%0%p~%0%q~%0%r~%0%s~%0%t~%0%u~%0%v~%0%w~%0%x~%0%y~%0%z}\"","v":"{1:MC:%0%a~%0%b~%0%c~%0%d~%0%e~%0%f~%0%g~%0%h~%0%i~%0%j~%0%k~%0%l~%0%m~%0%n~%0%o~%0%p~%0%q~%0%r~%0%s~%0%t~%0%u~%0%v~%0%w~%0%x~%0%y~%0%z}"},"","","%0%","=","",null,null,null,18,"{1:MC:%0%a~%0%b~%0%c~%0%d~%0%e~%0%f~%0%g~%0%h~%0%i~%0%j~%0%k~%0%l~%0%m~%0%n~%0%o~%0%p~%0%q~%0%r~%0%s~%0%t~%0%u~%0%v~%0%w~%0%x~%0%y~%0%z}","","","%0%","=",""]
[19,{"$f":"\"{\"&IF('Embedded Answer (Cloze) Strings'!$D$19=\"\",1,'Embedded Answer (Cloze) Strings'!$D$19)&\":MC:%0%a~%0%b~%0%c~%0%d~%0%e~%0%f~%0%g~%0%h~%0%i~%0%j~%0%k~%0%l~%0%m~%0%n~%0%o~%0%p~%0%q~%0%r~%0%s~%0%t~%0%u~%0%v~%0%w~%0%x~%0%y~%0%z}\"","v":"{1:MC:%0%a~%0%b~%0%c~%0%d~%0%e~%0%f~%0%g~%0%h~%0%i~%0%j~%0%k~%0%l~%0%m~%0%n~%0%o~%0%p~%0%q~%0%r~%0%s~%0%t~%0%u~%0%v~%0%w~%0%x~%0%y~%0%z}"},"","","%0%","=","",null,null,null,19,"{1:MC:%0%a~%0%b~%0%c~%0%d~%0%e~%0%f~%0%g~%0%h~%0%i~%0%j~%0%k~%0%l~%0%m~%0%n~%0%o~%0%p~%0%q~%0%r~%0%s~%0%t~%0%u~%0%v~%0%w~%0%x~%0%y~%0%z}","","","%0%","=",""]
[20,{"$f":"\"{\"&IF('Embedded Answer (Cloze) Strings'!$D$19=\"\",1,'Embedded Answer (Cloze) Strings'!$D$19)&\":MC:%0%a~%0%b~%0%c~%0%d~%0%e~%0%f~%0%g~%0%h~%0%i~%0%j~%0%k~%0%l~%0%m~%0%n~%0%o~%0%p~%0%q~%0%r~%0%s~%0%t~%0%u~%0%v~%0%w~%0%x~%0%y~%0%z}\"","v":"{1:MC:%0%a~%0%b~%0%c~%0%d~%0%e~%0%f~%0%g~%0%h~%0%i~%0%j~%0%k~%0%l~%0%m~%0%n~%0%o~%0%p~%0%q~%0%r~%0%s~%0%t~%0%u~%0%v~%0%w~%0%x~%0%y~%0%z}"},"","","%0%","=","",null,null,null,20,"{1:MC:%0%a~%0%b~%0%c~%0%d~%0%e~%0%f~%0%g~%0%h~%0%i~%0%j~%0%k~%0%l~%0%m~%0%n~%0%o~%0%p~%0%q~%0%r~%0%s~%0%t~%0%u~%0%v~%0%w~%0%x~%0%y~%0%z}","","","%0%","=",""]
[]
[null,null,null,null,null,null,18,null,null,null,null,null,null,null,null,null,18]
[null,null,null,null,null,null,"Type word here (lowecase only):",{"$f":"'Embedded Answer (Cloze) Strings'!$F$20","v":0},null,null,null,null,null,null,null,null,"Type word here (lowecase only):",{"$f":"'GIFT Import Strings'!$I$20","v":0}]
["Index","Original",{"$f":"IF(LEN($H409)>=$A411,LEFT($H409,$A411),\"\")","v":""},"Letter","Wrong","Right","Copy this code and paste as plain text into Moodle:",{"$f":"G412&G413&G414&G415&G416&G417&G418&G419&G420&G421&G422&G423&G424&G425&G426&G427&G428&G429&G430&G431","v":"{1:MC:%0%a~%0%b~%0%c~%0%d~%0%e~%0%f~%0%g~%0%h~%0%i~%0%j~%0%k~%0%l~%0%m~%0%n~%0%o~%0%p~%0%q~%0%r~%0%s~%0%t~%0%u~%0%v~%0%w~%0%x~%0%y~%0%z}"},null,null,"Index","Original","String","Letter","Wrong","Right","Copy this code and paste as plain text into Moodle:",{"$f":"Q412&Q413&Q414&Q415&Q416&Q417&Q418&Q419&Q420&Q421&Q422&Q423&Q424&Q425&Q426&Q427&Q428&Q429&Q430&Q431","v":"{1:MC:%0%a~%0%b~%0%c~%0%d~%0%e~%0%f~%0%g~%0%h~%0%i~%0%j~%0%k~%0%l~%0%m~%0%n~%0%o~%0%p~%0%q~%0%r~%0%s~%0%t~%0%u~%0%v~%0%w~%0%x~%0%y~%0%z}"}]
[1,{"$f":"\"{\"&IF('Embedded Answer (Cloze) Strings'!$D$20=\"\",1,'Embedded Answer (Cloze) Strings'!$D$20)&\":MC:%0%a~%0%b~%0%c~%0%d~%0%e~%0%f~%0%g~%0%h~%0%i~%0%j~%0%k~%0%l~%0%m~%0%n~%0%o~%0%p~%0%q~%0%r~%0%s~%0%t~%0%u~%0%v~%0%w~%0%x~%0%y~%0%z}\"","v":"{1:MC:%0%a~%0%b~%0%c~%0%d~%0%e~%0%f~%0%g~%0%h~%0%i~%0%j~%0%k~%0%l~%0%m~%0%n~%0%o~%0%p~%0%q~%0%r~%0%s~%0%t~%0%u~%0%v~%0%w~%0%x~%0%y~%0%z}"},{"$f":"IF(LEN($H$410)>=$A412,LEFT($H$410,$A412),\"\")","v":"0"},{"$f":"RIGHT(C412,1)","v":"0"},{"$f":"\"%0%\"&D412","v":"%0%0"},{"$f":"\"=\"&D412","v":"=0"},{"$f":"IF(D412=\"\",\"\",SUBSTITUTE(B412,E412,F412))","v":"{1:MC:%0%a~%0%b~%0%c~%0%d~%0%e~%0%f~%0%g~%0%h~%0%i~%0%j~%0%k~%0%l~%0%m~%0%n~%0%o~%0%p~%0%q~%0%r~%0%s~%0%t~%0%u~%0%v~%0%w~%0%x~%0%y~%0%z}"},null,null,null,1,"{1:MC:%0%a~%0%b~%0%c~%0%d~%0%e~%0%f~%0%g~%0%h~%0%i~%0%j~%0%k~%0%l~%0%m~%0%n~%0%o~%0%p~%0%q~%0%r~%0%s~%0%t~%0%u~%0%v~%0%w~%0%x~%0%y~%0%z}",{"$f":"IF(LEN($H$2)>=$A412,LEFT($H$2,$A412),\"\")","v":"0"},{"$f":"RIGHT(M412,1)","v":"0"},{"$f":"\"%0%\"&N412","v":"%0%0"},{"$f":"\"=\"&N412","v":"=0"},{"$f":"IF(N412=\"\",\"\",SUBSTITUTE(L412,O412,P412))","v":"{1:MC:%0%a~%0%b~%0%c~%0%d~%0%e~%0%f~%0%g~%0%h~%0%i~%0%j~%0%k~%0%l~%0%m~%0%n~%0%o~%0%p~%0%q~%0%r~%0%s~%0%t~%0%u~%0%v~%0%w~%0%x~%0%y~%0%z}"}]
[2,{"$f":"\"{\"&IF('Embedded Answer (Cloze) Strings'!$D$20=\"\",1,'Embedded Answer (Cloze) Strings'!$D$20)&\":MC:%0%a~%0%b~%0%c~%0%d~%0%e~%0%f~%0%g~%0%h~%0%i~%0%j~%0%k~%0%l~%0%m~%0%n~%0%o~%0%p~%0%q~%0%r~%0%s~%0%t~%0%u~%0%v~%0%w~%0%x~%0%y~%0%z}\"","v":"{1:MC:%0%a~%0%b~%0%c~%0%d~%0%e~%0%f~%0%g~%0%h~%0%i~%0%j~%0%k~%0%l~%0%m~%0%n~%0%o~%0%p~%0%q~%0%r~%0%s~%0%t~%0%u~%0%v~%0%w~%0%x~%0%y~%0%z}"},"",{"$f":"RIGHT(C413,1)","v":""},{"$f":"\"%0%\"&D413","v":"%0%"},"=","",null,null,null,2,"{1:MC:%0%a~%0%b~%0%c~%0%d~%0%e~%0%f~%0%g~%0%h~%0%i~%0%j~%0%k~%0%l~%0%m~%0%n~%0%o~%0%p~%0%q~%0%r~%0%s~%0%t~%0%u~%0%v~%0%w~%0%x~%0%y~%0%z}","",{"$f":"RIGHT(M413,1)","v":""},{"$f":"\"%0%\"&N413","v":"%0%"},{"$f":"\"=\"&N413","v":"="},{"$f":"IF(N413=\"\",\"\",SUBSTITUTE(L413,O413,P413))","v":""}]
[3,{"$f":"\"{\"&IF('Embedded Answer (Cloze) Strings'!$D$20=\"\",1,'Embedded Answer (Cloze) Strings'!$D$20)&\":MC:%0%a~%0%b~%0%c~%0%d~%0%e~%0%f~%0%g~%0%h~%0%i~%0%j~%0%k~%0%l~%0%m~%0%n~%0%o~%0%p~%0%q~%0%r~%0%s~%0%t~%0%u~%0%v~%0%w~%0%x~%0%y~%0%z}\"","v":"{1:MC:%0%a~%0%b~%0%c~%0%d~%0%e~%0%f~%0%g~%0%h~%0%i~%0%j~%0%k~%0%l~%0%m~%0%n~%0%o~%0%p~%0%q~%0%r~%0%s~%0%t~%0%u~%0%v~%0%w~%0%x~%0%y~%0%z}"},"","","%0%","=","",null,null,null,3,"{1:MC:%0%a~%0%b~%0%c~%0%d~%0%e~%0%f~%0%g~%0%h~%0%i~%0%j~%0%k~%0%l~%0%m~%0%n~%0%o~%0%p~%0%q~%0%r~%0%s~%0%t~%0%u~%0%v~%0%w~%0%x~%0%y~%0%z}","","","%0%","=",""]
[4,{"$f":"\"{\"&IF('Embedded Answer (Cloze) Strings'!$D$20=\"\",1,'Embedded Answer (Cloze) Strings'!$D$20)&\":MC:%0%a~%0%b~%0%c~%0%d~%0%e~%0%f~%0%g~%0%h~%0%i~%0%j~%0%k~%0%l~%0%m~%0%n~%0%o~%0%p~%0%q~%0%r~%0%s~%0%t~%0%u~%0%v~%0%w~%0%x~%0%y~%0%z}\"","v":"{1:MC:%0%a~%0%b~%0%c~%0%d~%0%e~%0%f~%0%g~%0%h~%0%i~%0%j~%0%k~%0%l~%0%m~%0%n~%0%o~%0%p~%0%q~%0%r~%0%s~%0%t~%0%u~%0%v~%0%w~%0%x~%0%y~%0%z}"},"","","%0%","=","",null,null,null,4,"{1:MC:%0%a~%0%b~%0%c~%0%d~%0%e~%0%f~%0%g~%0%h~%0%i~%0%j~%0%k~%0%l~%0%m~%0%n~%0%o~%0%p~%0%q~%0%r~%0%s~%0%t~%0%u~%0%v~%0%w~%0%x~%0%y~%0%z}","","","%0%","=",""]
[5,{"$f":"\"{\"&IF('Embedded Answer (Cloze) Strings'!$D$20=\"\",1,'Embedded Answer (Cloze) Strings'!$D$20)&\":MC:%0%a~%0%b~%0%c~%0%d~%0%e~%0%f~%0%g~%0%h~%0%i~%0%j~%0%k~%0%l~%0%m~%0%n~%0%o~%0%p~%0%q~%0%r~%0%s~%0%t~%0%u~%0%v~%0%w~%0%x~%0%y~%0%z}\"","v":"{1:MC:%0%a~%0%b~%0%c~%0%d~%0%e~%0%f~%0%g~%0%h~%0%i~%0%j~%0%k~%0%l~%0%m~%0%n~%0%o~%0%p~%0%q~%0%r~%0%s~%0%t~%0%u~%0%v~%0%w~%0%x~%0%y~%0%z}"},"","","%0%","=","",null,null,null,5,"{1:MC:%0%a~%0%b~%0%c~%0%d~%0%e~%0%f~%0%g~%0%h~%0%i~%0%j~%0%k~%0%l~%0%m~%0%n~%0%o~%0%p~%0%q~%0%r~%0%s~%0%t~%0%u~%0%v~%0%w~%0%x~%0%y~%0%z}","","","%0%","=",""]
[6,{"$f":"\"{\"&IF('Embedded Answer (Cloze) Strings'!$D$20=\"\",1,'Embedded Answer (Cloze) Strings'!$D$20)&\":MC:%0%a~%0%b~%0%c~%0%d~%0%e~%0%f~%0%g~%0%h~%0%i~%0%j~%0%k~%0%l~%0%m~%0%n~%0%o~%0%p~%0%q~%0%r~%0%s~%0%t~%0%u~%0%v~%0%w~%0%x~%0%y~%0%z}\"","v":"{1:MC:%0%a~%0%b~%0%c~%0%d~%0%e~%0%f~%0%g~%0%h~%0%i~%0%j~%0%k~%0%l~%0%m~%0%n~%0%o~%0%p~%0%q~%0%r~%0%s~%0%t~%0%u~%0%v~%0%w~%0%x~%0%y~%0%z}"},"","","%0%","=","",null,null,null,6,"{1:MC:%0%a~%0%b~%0%c~%0%d~%0%e~%0%f~%0%g~%0%h~%0%i~%0%j~%0%k~%0%l~%0%m~%0%n~%0%o~%0%p~%0%q~%0%r~%0%s~%0%t~%0%u~%0%v~%0%w~%0%x~%0%y~%0%z}","","","%0%","=",""]
[7,{"$f":"\"{\"&IF('Embedded Answer (Cloze) Strings'!$D$20=\"\",1,'Embedded Answer (Cloze) Strings'!$D$20)&\":MC:%0%a~%0%b~%0%c~%0%d~%0%e~%0%f~%0%g~%0%h~%0%i~%0%j~%0%k~%0%l~%0%m~%0%n~%0%o~%0%p~%0%q~%0%r~%0%s~%0%t~%0%u~%0%v~%0%w~%0%x~%0%y~%0%z}\"","v":"{1:MC:%0%a~%0%b~%0%c~%0%d~%0%e~%0%f~%0%g~%0%h~%0%i~%0%j~%0%k~%0%l~%0%m~%0%n~%0%o~%0%p~%0%q~%0%r~%0%s~%0%t~%0%u~%0%v~%0%w~%0%x~%0%y~%0%z}"},"","","%0%","=","",null,null,null,7,"{1:MC:%0%a~%0%b~%0%c~%0%d~%0%e~%0%f~%0%g~%0%h~%0%i~%0%j~%0%k~%0%l~%0%m~%0%n~%0%o~%0%p~%0%q~%0%r~%0%s~%0%t~%0%u~%0%v~%0%w~%0%x~%0%y~%0%z}","","","%0%","=",""]
[8,{"$f":"\"{\"&IF('Embedded Answer (Cloze) Strings'!$D$20=\"\",1,'Embedded Answer (Cloze) Strings'!$D$20)&\":MC:%0%a~%0%b~%0%c~%0%d~%0%e~%0%f~%0%g~%0%h~%0%i~%0%j~%0%k~%0%l~%0%m~%0%n~%0%o~%0%p~%0%q~%0%r~%0%s~%0%t~%0%u~%0%v~%0%w~%0%x~%0%y~%0%z}\"","v":"{1:MC:%0%a~%0%b~%0%c~%0%d~%0%e~%0%f~%0%g~%0%h~%0%i~%0%j~%0%k~%0%l~%0%m~%0%n~%0%o~%0%p~%0%q~%0%r~%0%s~%0%t~%0%u~%0%v~%0%w~%0%x~%0%y~%0%z}"},"","","%0%","=","",null,null,null,8,"{1:MC:%0%a~%0%b~%0%c~%0%d~%0%e~%0%f~%0%g~%0%h~%0%i~%0%j~%0%k~%0%l~%0%m~%0%n~%0%o~%0%p~%0%q~%0%r~%0%s~%0%t~%0%u~%0%v~%0%w~%0%x~%0%y~%0%z}","","","%0%","=",""]
[9,{"$f":"\"{\"&IF('Embedded Answer (Cloze) Strings'!$D$20=\"\",1,'Embedded Answer (Cloze) Strings'!$D$20)&\":MC:%0%a~%0%b~%0%c~%0%d~%0%e~%0%f~%0%g~%0%h~%0%i~%0%j~%0%k~%0%l~%0%m~%0%n~%0%o~%0%p~%0%q~%0%r~%0%s~%0%t~%0%u~%0%v~%0%w~%0%x~%0%y~%0%z}\"","v":"{1:MC:%0%a~%0%b~%0%c~%0%d~%0%e~%0%f~%0%g~%0%h~%0%i~%0%j~%0%k~%0%l~%0%m~%0%n~%0%o~%0%p~%0%q~%0%r~%0%s~%0%t~%0%u~%0%v~%0%w~%0%x~%0%y~%0%z}"},"","","%0%","=","",null,null,null,9,"{1:MC:%0%a~%0%b~%0%c~%0%d~%0%e~%0%f~%0%g~%0%h~%0%i~%0%j~%0%k~%0%l~%0%m~%0%n~%0%o~%0%p~%0%q~%0%r~%0%s~%0%t~%0%u~%0%v~%0%w~%0%x~%0%y~%0%z}","","","%0%","=",""]
[10,{"$f":"\"{\"&IF('Embedded Answer (Cloze) Strings'!$D$20=\"\",1,'Embedded Answer (Cloze) Strings'!$D$20)&\":MC:%0%a~%0%b~%0%c~%0%d~%0%e~%0%f~%0%g~%0%h~%0%i~%0%j~%0%k~%0%l~%0%m~%0%n~%0%o~%0%p~%0%q~%0%r~%0%s~%0%t~%0%u~%0%v~%0%w~%0%x~%0%y~%0%z}\"","v":"{1:MC:%0%a~%0%b~%0%c~%0%d~%0%e~%0%f~%0%g~%0%h~%0%i~%0%j~%0%k~%0%l~%0%m~%0%n~%0%o~%0%p~%0%q~%0%r~%0%s~%0%t~%0%u~%0%v~%0%w~%0%x~%0%y~%0%z}"},"","","%0%","=","",null,null,null,10,"{1:MC:%0%a~%0%b~%0%c~%0%d~%0%e~%0%f~%0%g~%0%h~%0%i~%0%j~%0%k~%0%l~%0%m~%0%n~%0%o~%0%p~%0%q~%0%r~%0%s~%0%t~%0%u~%0%v~%0%w~%0%x~%0%y~%0%z}","","","%0%","=",""]
[11,{"$f":"\"{\"&IF('Embedded Answer (Cloze) Strings'!$D$20=\"\",1,'Embedded Answer (Cloze) Strings'!$D$20)&\":MC:%0%a~%0%b~%0%c~%0%d~%0%e~%0%f~%0%g~%0%h~%0%i~%0%j~%0%k~%0%l~%0%m~%0%n~%0%o~%0%p~%0%q~%0%r~%0%s~%0%t~%0%u~%0%v~%0%w~%0%x~%0%y~%0%z}\"","v":"{1:MC:%0%a~%0%b~%0%c~%0%d~%0%e~%0%f~%0%g~%0%h~%0%i~%0%j~%0%k~%0%l~%0%m~%0%n~%0%o~%0%p~%0%q~%0%r~%0%s~%0%t~%0%u~%0%v~%0%w~%0%x~%0%y~%0%z}"},"","","%0%","=","",null,null,null,11,"{1:MC:%0%a~%0%b~%0%c~%0%d~%0%e~%0%f~%0%g~%0%h~%0%i~%0%j~%0%k~%0%l~%0%m~%0%n~%0%o~%0%p~%0%q~%0%r~%0%s~%0%t~%0%u~%0%v~%0%w~%0%x~%0%y~%0%z}","","","%0%","=",""]
[12,{"$f":"\"{\"&IF('Embedded Answer (Cloze) Strings'!$D$20=\"\",1,'Embedded Answer (Cloze) Strings'!$D$20)&\":MC:%0%a~%0%b~%0%c~%0%d~%0%e~%0%f~%0%g~%0%h~%0%i~%0%j~%0%k~%0%l~%0%m~%0%n~%0%o~%0%p~%0%q~%0%r~%0%s~%0%t~%0%u~%0%v~%0%w~%0%x~%0%y~%0%z}\"","v":"{1:MC:%0%a~%0%b~%0%c~%0%d~%0%e~%0%f~%0%g~%0%h~%0%i~%0%j~%0%k~%0%l~%0%m~%0%n~%0%o~%0%p~%0%q~%0%r~%0%s~%0%t~%0%u~%0%v~%0%w~%0%x~%0%y~%0%z}"},"","","%0%","=","",null,null,null,12,"{1:MC:%0%a~%0%b~%0%c~%0%d~%0%e~%0%f~%0%g~%0%h~%0%i~%0%j~%0%k~%0%l~%0%m~%0%n~%0%o~%0%p~%0%q~%0%r~%0%s~%0%t~%0%u~%0%v~%0%w~%0%x~%0%y~%0%z}","","","%0%","=",""]
[13,{"$f":"\"{\"&IF('Embedded Answer (Cloze) Strings'!$D$20=\"\",1,'Embedded Answer (Cloze) Strings'!$D$20)&\":MC:%0%a~%0%b~%0%c~%0%d~%0%e~%0%f~%0%g~%0%h~%0%i~%0%j~%0%k~%0%l~%0%m~%0%n~%0%o~%0%p~%0%q~%0%r~%0%s~%0%t~%0%u~%0%v~%0%w~%0%x~%0%y~%0%z}\"","v":"{1:MC:%0%a~%0%b~%0%c~%0%d~%0%e~%0%f~%0%g~%0%h~%0%i~%0%j~%0%k~%0%l~%0%m~%0%n~%0%o~%0%p~%0%q~%0%r~%0%s~%0%t~%0%u~%0%v~%0%w~%0%x~%0%y~%0%z}"},"","","%0%","=","",null,null,null,13,"{1:MC:%0%a~%0%b~%0%c~%0%d~%0%e~%0%f~%0%g~%0%h~%0%i~%0%j~%0%k~%0%l~%0%m~%0%n~%0%o~%0%p~%0%q~%0%r~%0%s~%0%t~%0%u~%0%v~%0%w~%0%x~%0%y~%0%z}","","","%0%","=",""]
[14,{"$f":"\"{\"&IF('Embedded Answer (Cloze) Strings'!$D$20=\"\",1,'Embedded Answer (Cloze) Strings'!$D$20)&\":MC:%0%a~%0%b~%0%c~%0%d~%0%e~%0%f~%0%g~%0%h~%0%i~%0%j~%0%k~%0%l~%0%m~%0%n~%0%o~%0%p~%0%q~%0%r~%0%s~%0%t~%0%u~%0%v~%0%w~%0%x~%0%y~%0%z}\"","v":"{1:MC:%0%a~%0%b~%0%c~%0%d~%0%e~%0%f~%0%g~%0%h~%0%i~%0%j~%0%k~%0%l~%0%m~%0%n~%0%o~%0%p~%0%q~%0%r~%0%s~%0%t~%0%u~%0%v~%0%w~%0%x~%0%y~%0%z}"},"","","%0%","=","",null,null,null,14,"{1:MC:%0%a~%0%b~%0%c~%0%d~%0%e~%0%f~%0%g~%0%h~%0%i~%0%j~%0%k~%0%l~%0%m~%0%n~%0%o~%0%p~%0%q~%0%r~%0%s~%0%t~%0%u~%0%v~%0%w~%0%x~%0%y~%0%z}","","","%0%","=",""]
[15,{"$f":"\"{\"&IF('Embedded Answer (Cloze) Strings'!$D$20=\"\",1,'Embedded Answer (Cloze) Strings'!$D$20)&\":MC:%0%a~%0%b~%0%c~%0%d~%0%e~%0%f~%0%g~%0%h~%0%i~%0%j~%0%k~%0%l~%0%m~%0%n~%0%o~%0%p~%0%q~%0%r~%0%s~%0%t~%0%u~%0%v~%0%w~%0%x~%0%y~%0%z}\"","v":"{1:MC:%0%a~%0%b~%0%c~%0%d~%0%e~%0%f~%0%g~%0%h~%0%i~%0%j~%0%k~%0%l~%0%m~%0%n~%0%o~%0%p~%0%q~%0%r~%0%s~%0%t~%0%u~%0%v~%0%w~%0%x~%0%y~%0%z}"},"","","%0%","=","",null,null,null,15,"{1:MC:%0%a~%0%b~%0%c~%0%d~%0%e~%0%f~%0%g~%0%h~%0%i~%0%j~%0%k~%0%l~%0%m~%0%n~%0%o~%0%p~%0%q~%0%r~%0%s~%0%t~%0%u~%0%v~%0%w~%0%x~%0%y~%0%z}","","","%0%","=",""]
[16,{"$f":"\"{\"&IF('Embedded Answer (Cloze) Strings'!$D$20=\"\",1,'Embedded Answer (Cloze) Strings'!$D$20)&\":MC:%0%a~%0%b~%0%c~%0%d~%0%e~%0%f~%0%g~%0%h~%0%i~%0%j~%0%k~%0%l~%0%m~%0%n~%0%o~%0%p~%0%q~%0%r~%0%s~%0%t~%0%u~%0%v~%0%w~%0%x~%0%y~%0%z}\"","v":"{1:MC:%0%a~%0%b~%0%c~%0%d~%0%e~%0%f~%0%g~%0%h~%0%i~%0%j~%0%k~%0%l~%0%m~%0%n~%0%o~%0%p~%0%q~%0%r~%0%s~%0%t~%0%u~%0%v~%0%w~%0%x~%0%y~%0%z}"},"","","%0%","=","",null,null,null,16,"{1:MC:%0%a~%0%b~%0%c~%0%d~%0%e~%0%f~%0%g~%0%h~%0%i~%0%j~%0%k~%0%l~%0%m~%0%n~%0%o~%0%p~%0%q~%0%r~%0%s~%0%t~%0%u~%0%v~%0%w~%0%x~%0%y~%0%z}","","","%0%","=",""]
[17,{"$f":"\"{\"&IF('Embedded Answer (Cloze) Strings'!$D$20=\"\",1,'Embedded Answer (Cloze) Strings'!$D$20)&\":MC:%0%a~%0%b~%0%c~%0%d~%0%e~%0%f~%0%g~%0%h~%0%i~%0%j~%0%k~%0%l~%0%m~%0%n~%0%o~%0%p~%0%q~%0%r~%0%s~%0%t~%0%u~%0%v~%0%w~%0%x~%0%y~%0%z}\"","v":"{1:MC:%0%a~%0%b~%0%c~%0%d~%0%e~%0%f~%0%g~%0%h~%0%i~%0%j~%0%k~%0%l~%0%m~%0%n~%0%o~%0%p~%0%q~%0%r~%0%s~%0%t~%0%u~%0%v~%0%w~%0%x~%0%y~%0%z}"},"","","%0%","=","",null,null,null,17,"{1:MC:%0%a~%0%b~%0%c~%0%d~%0%e~%0%f~%0%g~%0%h~%0%i~%0%j~%0%k~%0%l~%0%m~%0%n~%0%o~%0%p~%0%q~%0%r~%0%s~%0%t~%0%u~%0%v~%0%w~%0%x~%0%y~%0%z}","","","%0%","=",""]
[18,{"$f":"\"{\"&IF('Embedded Answer (Cloze) Strings'!$D$20=\"\",1,'Embedded Answer (Cloze) Strings'!$D$20)&\":MC:%0%a~%0%b~%0%c~%0%d~%0%e~%0%f~%0%g~%0%h~%0%i~%0%j~%0%k~%0%l~%0%m~%0%n~%0%o~%0%p~%0%q~%0%r~%0%s~%0%t~%0%u~%0%v~%0%w~%0%x~%0%y~%0%z}\"","v":"{1:MC:%0%a~%0%b~%0%c~%0%d~%0%e~%0%f~%0%g~%0%h~%0%i~%0%j~%0%k~%0%l~%0%m~%0%n~%0%o~%0%p~%0%q~%0%r~%0%s~%0%t~%0%u~%0%v~%0%w~%0%x~%0%y~%0%z}"},"","","%0%","=","",null,null,null,18,"{1:MC:%0%a~%0%b~%0%c~%0%d~%0%e~%0%f~%0%g~%0%h~%0%i~%0%j~%0%k~%0%l~%0%m~%0%n~%0%o~%0%p~%0%q~%0%r~%0%s~%0%t~%0%u~%0%v~%0%w~%0%x~%0%y~%0%z}","","","%0%","=",""]
[19,{"$f":"\"{\"&IF('Embedded Answer (Cloze) Strings'!$D$20=\"\",1,'Embedded Answer (Cloze) Strings'!$D$20)&\":MC:%0%a~%0%b~%0%c~%0%d~%0%e~%0%f~%0%g~%0%h~%0%i~%0%j~%0%k~%0%l~%0%m~%0%n~%0%o~%0%p~%0%q~%0%r~%0%s~%0%t~%0%u~%0%v~%0%w~%0%x~%0%y~%0%z}\"","v":"{1:MC:%0%a~%0%b~%0%c~%0%d~%0%e~%0%f~%0%g~%0%h~%0%i~%0%j~%0%k~%0%l~%0%m~%0%n~%0%o~%0%p~%0%q~%0%r~%0%s~%0%t~%0%u~%0%v~%0%w~%0%x~%0%y~%0%z}"},"","","%0%","=","",null,null,null,19,"{1:MC:%0%a~%0%b~%0%c~%0%d~%0%e~%0%f~%0%g~%0%h~%0%i~%0%j~%0%k~%0%l~%0%m~%0%n~%0%o~%0%p~%0%q~%0%r~%0%s~%0%t~%0%u~%0%v~%0%w~%0%x~%0%y~%0%z}","","","%0%","=",""]
[20,{"$f":"\"{\"&IF('Embedded Answer (Cloze) Strings'!$D$20=\"\",1,'Embedded Answer (Cloze) Strings'!$D$20)&\":MC:%0%a~%0%b~%0%c~%0%d~%0%e~%0%f~%0%g~%0%h~%0%i~%0%j~%0%k~%0%l~%0%m~%0%n~%0%o~%0%p~%0%q~%0%r~%0%s~%0%t~%0%u~%0%v~%0%w~%0%x~%0%y~%0%z}\"","v":"{1:MC:%0%a~%0%b~%0%c~%0%d~%0%e~%0%f~%0%g~%0%h~%0%i~%0%j~%0%k~%0%l~%0%m~%0%n~%0%o~%0%p~%0%q~%0%r~%0%s~%0%t~%0%u~%0%v~%0%w~%0%x~%0%y~%0%z}"},"","","%0%","=","",null,null,null,20,"{1:MC:%0%a~%0%b~%0%c~%0%d~%0%e~%0%f~%0%g~%0%h~%0%i~%0%j~%0%k~%0%l~%0%m~%0%n~%0%o~%0%p~%0%q~%0%r~%0%s~%0%t~%0%u~%0%v~%0%w~%0%x~%0%y~%0%z}","","","%0%","=",""]
[]
[null,null,null,null,null,null,19,null,null,null,null,null,null,null,null,null,19]
[null,null,null,null,null,null,"Type word here (lowecase only):",{"$f":"'Embedded Answer (Cloze) Strings'!$F$21","v":0},null,null,null,null,null,null,null,null,"Type word here (lowecase only):",{"$f":"'GIFT Import Strings'!$I$21","v":0}]
["Index","Original","String","Letter","Wrong","Right","Copy this code and paste as plain text into Moodle:",{"$f":"G436&G437&G438&G439&G440&G441&G442&G443&G444&G445&G446&G447&G448&G449&G450&G451&G452&G453&G454&G455","v":"{1:MC:%0%a~%0%b~%0%c~%0%d~%0%e~%0%f~%0%g~%0%h~%0%i~%0%j~%0%k~%0%l~%0%m~%0%n~%0%o~%0%p~%0%q~%0%r~%0%s~%0%t~%0%u~%0%v~%0%w~%0%x~%0%y~%0%z}"},null,null,"Index","Original","String","Letter","Wrong","Right","Copy this code and paste as plain text into Moodle:",{"$f":"Q436&Q437&Q438&Q439&Q440&Q441&Q442&Q443&Q444&Q445&Q446&Q447&Q448&Q449&Q450&Q451&Q452&Q453&Q454&Q455","v":"{1:MC:%0%a~%0%b~%0%c~%0%d~%0%e~%0%f~%0%g~%0%h~%0%i~%0%j~%0%k~%0%l~%0%m~%0%n~%0%o~%0%p~%0%q~%0%r~%0%s~%0%t~%0%u~%0%v~%0%w~%0%x~%0%y~%0%z}"}]
[1,{"$f":"\"{\"&IF('Embedded Answer (Cloze) Strings'!$D$21=\"\",1,'Embedded Answer (Cloze) Strings'!$D$21)&\":MC:%0%a~%0%b~%0%c~%0%d~%0%e~%0%f~%0%g~%0%h~%0%i~%0%j~%0%k~%0%l~%0%m~%0%n~%0%o~%0%p~%0%q~%0%r~%0%s~%0%t~%0%u~%0%v~%0%w~%0%x~%0%y~%0%z}\"","v":"{1:MC:%0%a~%0%b~%0%c~%0%d~%0%e~%0%f~%0%g~%0%h~%0%i~%0%j~%0%k~%0%l~%0%m~%0%n~%0%o~%0%p~%0%q~%0%r~%0%s~%0%t~%0%u~%0%v~%0%w~%0%x~%0%y~%0%z}"},{"$f":"IF(LEN($H$434)>=$A436,LEFT($H$434,$A436),\"\")","v":"0"},{"$f":"RIGHT(C436,1)","v":"0"},{"$f":"\"%0%\"&D436","v":"%0%0"},{"$f":"\"=\"&D436","v":"=0"},{"$f":"IF(D436=\"\",\"\",SUBSTITUTE(B436,E436,F436))","v":"{1:MC:%0%a~%0%b~%0%c~%0%d~%0%e~%0%f~%0%g~%0%h~%0%i~%0%j~%0%k~%0%l~%0%m~%0%n~%0%o~%0%p~%0%q~%0%r~%0%s~%0%t~%0%u~%0%v~%0%w~%0%x~%0%y~%0%z}"},null,null,null,1,"{1:MC:%0%a~%0%b~%0%c~%0%d~%0%e~%0%f~%0%g~%0%h~%0%i~%0%j~%0%k~%0%l~%0%m~%0%n~%0%o~%0%p~%0%q~%0%r~%0%s~%0%t~%0%u~%0%v~%0%w~%0%x~%0%y~%0%z}",{"$f":"IF(LEN($H$2)>=$A436,LEFT($H$2,$A436),\"\")","v":"0"},{"$f":"RIGHT(M436,1)","v":"0"},{"$f":"\"%0%\"&N436","v":"%0%0"},{"$f":"\"=\"&N436","v":"=0"},{"$f":"IF(N436=\"\",\"\",SUBSTITUTE(L436,O436,P436))","v":"{1:MC:%0%a~%0%b~%0%c~%0%d~%0%e~%0%f~%0%g~%0%h~%0%i~%0%j~%0%k~%0%l~%0%m~%0%n~%0%o~%0%p~%0%q~%0%r~%0%s~%0%t~%0%u~%0%v~%0%w~%0%x~%0%y~%0%z}"}]
[2,{"$f":"\"{\"&IF('Embedded Answer (Cloze) Strings'!$D$21=\"\",1,'Embedded Answer (Cloze) Strings'!$D$21)&\":MC:%0%a~%0%b~%0%c~%0%d~%0%e~%0%f~%0%g~%0%h~%0%i~%0%j~%0%k~%0%l~%0%m~%0%n~%0%o~%0%p~%0%q~%0%r~%0%s~%0%t~%0%u~%0%v~%0%w~%0%x~%0%y~%0%z}\"","v":"{1:MC:%0%a~%0%b~%0%c~%0%d~%0%e~%0%f~%0%g~%0%h~%0%i~%0%j~%0%k~%0%l~%0%m~%0%n~%0%o~%0%p~%0%q~%0%r~%0%s~%0%t~%0%u~%0%v~%0%w~%0%x~%0%y~%0%z}"},"",{"$f":"RIGHT(C437,1)","v":""},{"$f":"\"%0%\"&D437","v":"%0%"},"=","",null,null,null,2,"{1:MC:%0%a~%0%b~%0%c~%0%d~%0%e~%0%f~%0%g~%0%h~%0%i~%0%j~%0%k~%0%l~%0%m~%0%n~%0%o~%0%p~%0%q~%0%r~%0%s~%0%t~%0%u~%0%v~%0%w~%0%x~%0%y~%0%z}","",{"$f":"RIGHT(M437,1)","v":""},{"$f":"\"%0%\"&N437","v":"%0%"},{"$f":"\"=\"&N437","v":"="},{"$f":"IF(N437=\"\",\"\",SUBSTITUTE(L437,O437,P437))","v":""}]
[3,{"$f":"\"{\"&IF('Embedded Answer (Cloze) Strings'!$D$21=\"\",1,'Embedded Answer (Cloze) Strings'!$D$21)&\":MC:%0%a~%0%b~%0%c~%0%d~%0%e~%0%f~%0%g~%0%h~%0%i~%0%j~%0%k~%0%l~%0%m~%0%n~%0%o~%0%p~%0%q~%0%r~%0%s~%0%t~%0%u~%0%v~%0%w~%0%x~%0%y~%0%z}\"","v":"{1:MC:%0%a~%0%b~%0%c~%0%d~%0%e~%0%f~%0%g~%0%h~%0%i~%0%j~%0%k~%0%l~%0%m~%0%n~%0%o~%0%p~%0%q~%0%r~%0%s~%0%t~%0%u~%0%v~%0%w~%0%x~%0%y~%0%z}"},"","","%0%","=","",null,null,null,3,"{1:MC:%0%a~%0%b~%0%c~%0%d~%0%e~%0%f~%0%g~%0%h~%0%i~%0%j~%0%k~%0%l~%0%m~%0%n~%0%o~%0%p~%0%q~%0%r~%0%s~%0%t~%0%u~%0%v~%0%w~%0%x~%0%y~%0%z}","","","%0%","=",""]
[4,{"$f":"\"{\"&IF('Embedded Answer (Cloze) Strings'!$D$21=\"\",1,'Embedded Answer (Cloze) Strings'!$D$21)&\":MC:%0%a~%0%b~%0%c~%0%d~%0%e~%0%f~%0%g~%0%h~%0%i~%0%j~%0%k~%0%l~%0%m~%0%n~%0%o~%0%p~%0%q~%0%r~%0%s~%0%t~%0%u~%0%v~%0%w~%0%x~%0%y~%0%z}\"","v":"{1:MC:%0%a~%0%b~%0%c~%0%d~%0%e~%0%f~%0%g~%0%h~%0%i~%0%j~%0%k~%0%l~%0%m~%0%n~%0%o~%0%p~%0%q~%0%r~%0%s~%0%t~%0%u~%0%v~%0%w~%0%x~%0%y~%0%z}"},"","","%0%","=","",null,null,null,4,"{1:MC:%0%a~%0%b~%0%c~%0%d~%0%e~%0%f~%0%g~%0%h~%0%i~%0%j~%0%k~%0%l~%0%m~%0%n~%0%o~%0%p~%0%q~%0%r~%0%s~%0%t~%0%u~%0%v~%0%w~%0%x~%0%y~%0%z}","","","%0%","=",""]
[5,{"$f":"\"{\"&IF('Embedded Answer (Cloze) Strings'!$D$21=\"\",1,'Embedded Answer (Cloze) Strings'!$D$21)&\":MC:%0%a~%0%b~%0%c~%0%d~%0%e~%0%f~%0%g~%0%h~%0%i~%0%j~%0%k~%0%l~%0%m~%0%n~%0%o~%0%p~%0%q~%0%r~%0%s~%0%t~%0%u~%0%v~%0%w~%0%x~%0%y~%0%z}\"","v":"{1:MC:%0%a~%0%b~%0%c~%0%d~%0%e~%0%f~%0%g~%0%h~%0%i~%0%j~%0%k~%0%l~%0%m~%0%n~%0%o~%0%p~%0%q~%0%r~%0%s~%0%t~%0%u~%0%v~%0%w~%0%x~%0%y~%0%z}"},"","","%0%","=","",null,null,null,5,"{1:MC:%0%a~%0%b~%0%c~%0%d~%0%e~%0%f~%0%g~%0%h~%0%i~%0%j~%0%k~%0%l~%0%m~%0%n~%0%o~%0%p~%0%q~%0%r~%0%s~%0%t~%0%u~%0%v~%0%w~%0%x~%0%y~%0%z}","","","%0%","=",""]
[6,{"$f":"\"{\"&IF('Embedded Answer (Cloze) Strings'!$D$21=\"\",1,'Embedded Answer (Cloze) Strings'!$D$21)&\":MC:%0%a~%0%b~%0%c~%0%d~%0%e~%0%f~%0%g~%0%h~%0%i~%0%j~%0%k~%0%l~%0%m~%0%n~%0%o~%0%p~%0%q~%0%r~%0%s~%0%t~%0%u~%0%v~%0%w~%0%x~%0%y~%0%z}\"","v":"{1:MC:%0%a~%0%b~%0%c~%0%d~%0%e~%0%f~%0%g~%0%h~%0%i~%0%j~%0%k~%0%l~%0%m~%0%n~%0%o~%0%p~%0%q~%0%r~%0%s~%0%t~%0%u~%0%v~%0%w~%0%x~%0%y~%0%z}"},"","","%0%","=","",null,null,null,6,"{1:MC:%0%a~%0%b~%0%c~%0%d~%0%e~%0%f~%0%g~%0%h~%0%i~%0%j~%0%k~%0%l~%0%m~%0%n~%0%o~%0%p~%0%q~%0%r~%0%s~%0%t~%0%u~%0%v~%0%w~%0%x~%0%y~%0%z}","","","%0%","=",""]
[7,{"$f":"\"{\"&IF('Embedded Answer (Cloze) Strings'!$D$21=\"\",1,'Embedded Answer (Cloze) Strings'!$D$21)&\":MC:%0%a~%0%b~%0%c~%0%d~%0%e~%0%f~%0%g~%0%h~%0%i~%0%j~%0%k~%0%l~%0%m~%0%n~%0%o~%0%p~%0%q~%0%r~%0%s~%0%t~%0%u~%0%v~%0%w~%0%x~%0%y~%0%z}\"","v":"{1:MC:%0%a~%0%b~%0%c~%0%d~%0%e~%0%f~%0%g~%0%h~%0%i~%0%j~%0%k~%0%l~%0%m~%0%n~%0%o~%0%p~%0%q~%0%r~%0%s~%0%t~%0%u~%0%v~%0%w~%0%x~%0%y~%0%z}"},"","","%0%","=","",null,null,null,7,"{1:MC:%0%a~%0%b~%0%c~%0%d~%0%e~%0%f~%0%g~%0%h~%0%i~%0%j~%0%k~%0%l~%0%m~%0%n~%0%o~%0%p~%0%q~%0%r~%0%s~%0%t~%0%u~%0%v~%0%w~%0%x~%0%y~%0%z}","","","%0%","=",""]
[8,{"$f":"\"{\"&IF('Embedded Answer (Cloze) Strings'!$D$21=\"\",1,'Embedded Answer (Cloze) Strings'!$D$21)&\":MC:%0%a~%0%b~%0%c~%0%d~%0%e~%0%f~%0%g~%0%h~%0%i~%0%j~%0%k~%0%l~%0%m~%0%n~%0%o~%0%p~%0%q~%0%r~%0%s~%0%t~%0%u~%0%v~%0%w~%0%x~%0%y~%0%z}\"","v":"{1:MC:%0%a~%0%b~%0%c~%0%d~%0%e~%0%f~%0%g~%0%h~%0%i~%0%j~%0%k~%0%l~%0%m~%0%n~%0%o~%0%p~%0%q~%0%r~%0%s~%0%t~%0%u~%0%v~%0%w~%0%x~%0%y~%0%z}"},"","","%0%","=","",null,null,null,8,"{1:MC:%0%a~%0%b~%0%c~%0%d~%0%e~%0%f~%0%g~%0%h~%0%i~%0%j~%0%k~%0%l~%0%m~%0%n~%0%o~%0%p~%0%q~%0%r~%0%s~%0%t~%0%u~%0%v~%0%w~%0%x~%0%y~%0%z}","","","%0%","=",""]
[9,{"$f":"\"{\"&IF('Embedded Answer (Cloze) Strings'!$D$21=\"\",1,'Embedded Answer (Cloze) Strings'!$D$21)&\":MC:%0%a~%0%b~%0%c~%0%d~%0%e~%0%f~%0%g~%0%h~%0%i~%0%j~%0%k~%0%l~%0%m~%0%n~%0%o~%0%p~%0%q~%0%r~%0%s~%0%t~%0%u~%0%v~%0%w~%0%x~%0%y~%0%z}\"","v":"{1:MC:%0%a~%0%b~%0%c~%0%d~%0%e~%0%f~%0%g~%0%h~%0%i~%0%j~%0%k~%0%l~%0%m~%0%n~%0%o~%0%p~%0%q~%0%r~%0%s~%0%t~%0%u~%0%v~%0%w~%0%x~%0%y~%0%z}"},"","","%0%","=","",null,null,null,9,"{1:MC:%0%a~%0%b~%0%c~%0%d~%0%e~%0%f~%0%g~%0%h~%0%i~%0%j~%0%k~%0%l~%0%m~%0%n~%0%o~%0%p~%0%q~%0%r~%0%s~%0%t~%0%u~%0%v~%0%w~%0%x~%0%y~%0%z}","","","%0%","=",""]
[10,{"$f":"\"{\"&IF('Embedded Answer (Cloze) Strings'!$D$21=\"\",1,'Embedded Answer (Cloze) Strings'!$D$21)&\":MC:%0%a~%0%b~%0%c~%0%d~%0%e~%0%f~%0%g~%0%h~%0%i~%0%j~%0%k~%0%l~%0%m~%0%n~%0%o~%0%p~%0%q~%0%r~%0%s~%0%t~%0%u~%0%v~%0%w~%0%x~%0%y~%0%z}\"","v":"{1:MC:%0%a~%0%b~%0%c~%0%d~%0%e~%0%f~%0%g~%0%h~%0%i~%0%j~%0%k~%0%l~%0%m~%0%n~%0%o~%0%p~%0%q~%0%r~%0%s~%0%t~%0%u~%0%v~%0%w~%0%x~%0%y~%0%z}"},"","","%0%","=","",null,null,null,10,"{1:MC:%0%a~%0%b~%0%c~%0%d~%0%e~%0%f~%0%g~%0%h~%0%i~%0%j~%0%k~%0%l~%0%m~%0%n~%0%o~%0%p~%0%q~%0%r~%0%s~%0%t~%0%u~%0%v~%0%w~%0%x~%0%y~%0%z}","","","%0%","=",""]
[11,{"$f":"\"{\"&IF('Embedded Answer (Cloze) Strings'!$D$21=\"\",1,'Embedded Answer (Cloze) Strings'!$D$21)&\":MC:%0%a~%0%b~%0%c~%0%d~%0%e~%0%f~%0%g~%0%h~%0%i~%0%j~%0%k~%0%l~%0%m~%0%n~%0%o~%0%p~%0%q~%0%r~%0%s~%0%t~%0%u~%0%v~%0%w~%0%x~%0%y~%0%z}\"","v":"{1:MC:%0%a~%0%b~%0%c~%0%d~%0%e~%0%f~%0%g~%0%h~%0%i~%0%j~%0%k~%0%l~%0%m~%0%n~%0%o~%0%p~%0%q~%0%r~%0%s~%0%t~%0%u~%0%v~%0%w~%0%x~%0%y~%0%z}"},"","","%0%","=","",null,null,null,11,"{1:MC:%0%a~%0%b~%0%c~%0%d~%0%e~%0%f~%0%g~%0%h~%0%i~%0%j~%0%k~%0%l~%0%m~%0%n~%0%o~%0%p~%0%q~%0%r~%0%s~%0%t~%0%u~%0%v~%0%w~%0%x~%0%y~%0%z}","","","%0%","=",""]
[12,{"$f":"\"{\"&IF('Embedded Answer (Cloze) Strings'!$D$21=\"\",1,'Embedded Answer (Cloze) Strings'!$D$21)&\":MC:%0%a~%0%b~%0%c~%0%d~%0%e~%0%f~%0%g~%0%h~%0%i~%0%j~%0%k~%0%l~%0%m~%0%n~%0%o~%0%p~%0%q~%0%r~%0%s~%0%t~%0%u~%0%v~%0%w~%0%x~%0%y~%0%z}\"","v":"{1:MC:%0%a~%0%b~%0%c~%0%d~%0%e~%0%f~%0%g~%0%h~%0%i~%0%j~%0%k~%0%l~%0%m~%0%n~%0%o~%0%p~%0%q~%0%r~%0%s~%0%t~%0%u~%0%v~%0%w~%0%x~%0%y~%0%z}"},"","","%0%","=","",null,null,null,12,"{1:MC:%0%a~%0%b~%0%c~%0%d~%0%e~%0%f~%0%g~%0%h~%0%i~%0%j~%0%k~%0%l~%0%m~%0%n~%0%o~%0%p~%0%q~%0%r~%0%s~%0%t~%0%u~%0%v~%0%w~%0%x~%0%y~%0%z}","","","%0%","=",""]
[13,{"$f":"\"{\"&IF('Embedded Answer (Cloze) Strings'!$D$21=\"\",1,'Embedded Answer (Cloze) Strings'!$D$21)&\":MC:%0%a~%0%b~%0%c~%0%d~%0%e~%0%f~%0%g~%0%h~%0%i~%0%j~%0%k~%0%l~%0%m~%0%n~%0%o~%0%p~%0%q~%0%r~%0%s~%0%t~%0%u~%0%v~%0%w~%0%x~%0%y~%0%z}\"","v":"{1:MC:%0%a~%0%b~%0%c~%0%d~%0%e~%0%f~%0%g~%0%h~%0%i~%0%j~%0%k~%0%l~%0%m~%0%n~%0%o~%0%p~%0%q~%0%r~%0%s~%0%t~%0%u~%0%v~%0%w~%0%x~%0%y~%0%z}"},"","","%0%","=","",null,null,null,13,"{1:MC:%0%a~%0%b~%0%c~%0%d~%0%e~%0%f~%0%g~%0%h~%0%i~%0%j~%0%k~%0%l~%0%m~%0%n~%0%o~%0%p~%0%q~%0%r~%0%s~%0%t~%0%u~%0%v~%0%w~%0%x~%0%y~%0%z}","","","%0%","=",""]
[14,{"$f":"\"{\"&IF('Embedded Answer (Cloze) Strings'!$D$21=\"\",1,'Embedded Answer (Cloze) Strings'!$D$21)&\":MC:%0%a~%0%b~%0%c~%0%d~%0%e~%0%f~%0%g~%0%h~%0%i~%0%j~%0%k~%0%l~%0%m~%0%n~%0%o~%0%p~%0%q~%0%r~%0%s~%0%t~%0%u~%0%v~%0%w~%0%x~%0%y~%0%z}\"","v":"{1:MC:%0%a~%0%b~%0%c~%0%d~%0%e~%0%f~%0%g~%0%h~%0%i~%0%j~%0%k~%0%l~%0%m~%0%n~%0%o~%0%p~%0%q~%0%r~%0%s~%0%t~%0%u~%0%v~%0%w~%0%x~%0%y~%0%z}"},"","","%0%","=","",null,null,null,14,"{1:MC:%0%a~%0%b~%0%c~%0%d~%0%e~%0%f~%0%g~%0%h~%0%i~%0%j~%0%k~%0%l~%0%m~%0%n~%0%o~%0%p~%0%q~%0%r~%0%s~%0%t~%0%u~%0%v~%0%w~%0%x~%0%y~%0%z}","","","%0%","=",""]
[15,{"$f":"\"{\"&IF('Embedded Answer (Cloze) Strings'!$D$21=\"\",1,'Embedded Answer (Cloze) Strings'!$D$21)&\":MC:%0%a~%0%b~%0%c~%0%d~%0%e~%0%f~%0%g~%0%h~%0%i~%0%j~%0%k~%0%l~%0%m~%0%n~%0%o~%0%p~%0%q~%0%r~%0%s~%0%t~%0%u~%0%v~%0%w~%0%x~%0%y~%0%z}\"","v":"{1:MC:%0%a~%0%b~%0%c~%0%d~%0%e~%0%f~%0%g~%0%h~%0%i~%0%j~%0%k~%0%l~%0%m~%0%n~%0%o~%0%p~%0%q~%0%r~%0%s~%0%t~%0%u~%0%v~%0%w~%0%x~%0%y~%0%z}"},"","","%0%","=","",null,null,null,15,"{1:MC:%0%a~%0%b~%0%c~%0%d~%0%e~%0%f~%0%g~%0%h~%0%i~%0%j~%0%k~%0%l~%0%m~%0%n~%0%o~%0%p~%0%q~%0%r~%0%s~%0%t~%0%u~%0%v~%0%w~%0%x~%0%y~%0%z}","","","%0%","=",""]
[16,{"$f":"\"{\"&IF('Embedded Answer (Cloze) Strings'!$D$21=\"\",1,'Embedded Answer (Cloze) Strings'!$D$21)&\":MC:%0%a~%0%b~%0%c~%0%d~%0%e~%0%f~%0%g~%0%h~%0%i~%0%j~%0%k~%0%l~%0%m~%0%n~%0%o~%0%p~%0%q~%0%r~%0%s~%0%t~%0%u~%0%v~%0%w~%0%x~%0%y~%0%z}\"","v":"{1:MC:%0%a~%0%b~%0%c~%0%d~%0%e~%0%f~%0%g~%0%h~%0%i~%0%j~%0%k~%0%l~%0%m~%0%n~%0%o~%0%p~%0%q~%0%r~%0%s~%0%t~%0%u~%0%v~%0%w~%0%x~%0%y~%0%z}"},"","","%0%","=","",null,null,null,16,"{1:MC:%0%a~%0%b~%0%c~%0%d~%0%e~%0%f~%0%g~%0%h~%0%i~%0%j~%0%k~%0%l~%0%m~%0%n~%0%o~%0%p~%0%q~%0%r~%0%s~%0%t~%0%u~%0%v~%0%w~%0%x~%0%y~%0%z}","","","%0%","=",""]
[17,{"$f":"\"{\"&IF('Embedded Answer (Cloze) Strings'!$D$21=\"\",1,'Embedded Answer (Cloze) Strings'!$D$21)&\":MC:%0%a~%0%b~%0%c~%0%d~%0%e~%0%f~%0%g~%0%h~%0%i~%0%j~%0%k~%0%l~%0%m~%0%n~%0%o~%0%p~%0%q~%0%r~%0%s~%0%t~%0%u~%0%v~%0%w~%0%x~%0%y~%0%z}\"","v":"{1:MC:%0%a~%0%b~%0%c~%0%d~%0%e~%0%f~%0%g~%0%h~%0%i~%0%j~%0%k~%0%l~%0%m~%0%n~%0%o~%0%p~%0%q~%0%r~%0%s~%0%t~%0%u~%0%v~%0%w~%0%x~%0%y~%0%z}"},"","","%0%","=","",null,null,null,17,"{1:MC:%0%a~%0%b~%0%c~%0%d~%0%e~%0%f~%0%g~%0%h~%0%i~%0%j~%0%k~%0%l~%0%m~%0%n~%0%o~%0%p~%0%q~%0%r~%0%s~%0%t~%0%u~%0%v~%0%w~%0%x~%0%y~%0%z}","","","%0%","=",""]
[18,{"$f":"\"{\"&IF('Embedded Answer (Cloze) Strings'!$D$21=\"\",1,'Embedded Answer (Cloze) Strings'!$D$21)&\":MC:%0%a~%0%b~%0%c~%0%d~%0%e~%0%f~%0%g~%0%h~%0%i~%0%j~%0%k~%0%l~%0%m~%0%n~%0%o~%0%p~%0%q~%0%r~%0%s~%0%t~%0%u~%0%v~%0%w~%0%x~%0%y~%0%z}\"","v":"{1:MC:%0%a~%0%b~%0%c~%0%d~%0%e~%0%f~%0%g~%0%h~%0%i~%0%j~%0%k~%0%l~%0%m~%0%n~%0%o~%0%p~%0%q~%0%r~%0%s~%0%t~%0%u~%0%v~%0%w~%0%x~%0%y~%0%z}"},"","","%0%","=","",null,null,null,18,"{1:MC:%0%a~%0%b~%0%c~%0%d~%0%e~%0%f~%0%g~%0%h~%0%i~%0%j~%0%k~%0%l~%0%m~%0%n~%0%o~%0%p~%0%q~%0%r~%0%s~%0%t~%0%u~%0%v~%0%w~%0%x~%0%y~%0%z}","","","%0%","=",""]
[19,{"$f":"\"{\"&IF('Embedded Answer (Cloze) Strings'!$D$21=\"\",1,'Embedded Answer (Cloze) Strings'!$D$21)&\":MC:%0%a~%0%b~%0%c~%0%d~%0%e~%0%f~%0%g~%0%h~%0%i~%0%j~%0%k~%0%l~%0%m~%0%n~%0%o~%0%p~%0%q~%0%r~%0%s~%0%t~%0%u~%0%v~%0%w~%0%x~%0%y~%0%z}\"","v":"{1:MC:%0%a~%0%b~%0%c~%0%d~%0%e~%0%f~%0%g~%0%h~%0%i~%0%j~%0%k~%0%l~%0%m~%0%n~%0%o~%0%p~%0%q~%0%r~%0%s~%0%t~%0%u~%0%v~%0%w~%0%x~%0%y~%0%z}"},"","","%0%","=","",null,null,null,19,"{1:MC:%0%a~%0%b~%0%c~%0%d~%0%e~%0%f~%0%g~%0%h~%0%i~%0%j~%0%k~%0%l~%0%m~%0%n~%0%o~%0%p~%0%q~%0%r~%0%s~%0%t~%0%u~%0%v~%0%w~%0%x~%0%y~%0%z}","","","%0%","=",""]
[20,{"$f":"\"{\"&IF('Embedded Answer (Cloze) Strings'!$D$21=\"\",1,'Embedded Answer (Cloze) Strings'!$D$21)&\":MC:%0%a~%0%b~%0%c~%0%d~%0%e~%0%f~%0%g~%0%h~%0%i~%0%j~%0%k~%0%l~%0%m~%0%n~%0%o~%0%p~%0%q~%0%r~%0%s~%0%t~%0%u~%0%v~%0%w~%0%x~%0%y~%0%z}\"","v":"{1:MC:%0%a~%0%b~%0%c~%0%d~%0%e~%0%f~%0%g~%0%h~%0%i~%0%j~%0%k~%0%l~%0%m~%0%n~%0%o~%0%p~%0%q~%0%r~%0%s~%0%t~%0%u~%0%v~%0%w~%0%x~%0%y~%0%z}"},"","","%0%","=","",null,null,null,20,"{1:MC:%0%a~%0%b~%0%c~%0%d~%0%e~%0%f~%0%g~%0%h~%0%i~%0%j~%0%k~%0%l~%0%m~%0%n~%0%o~%0%p~%0%q~%0%r~%0%s~%0%t~%0%u~%0%v~%0%w~%0%x~%0%y~%0%z}","","","%0%","=",""]
[]
[null,null,null,null,null,null,20,null,null,null,null,null,null,null,null,null,20]
[null,null,null,null,null,null,"Type word here (lowecase only):",{"$f":"'Embedded Answer (Cloze) Strings'!$F$22","v":0},null,null,null,null,null,null,null,null,"Type word here (lowecase only):",{"$f":"'GIFT Import Strings'!$I$22","v":0}]
["Index","Original","String","Letter","Wrong","Right","Copy this code and paste as plain text into Moodle:",{"$f":"G460&G461&G462&G463&G464&G465&G466&G467&G468&G469&G470&G471&G472&G473&G474&G475&G476&G477&G478&G479","v":"{1:MC:%0%a~%0%b~%0%c~%0%d~%0%e~%0%f~%0%g~%0%h~%0%i~%0%j~%0%k~%0%l~%0%m~%0%n~%0%o~%0%p~%0%q~%0%r~%0%s~%0%t~%0%u~%0%v~%0%w~%0%x~%0%y~%0%z}"},null,null,"Index","Original","String","Letter","Wrong","Right","Copy this code and paste as plain text into Moodle:",{"$f":"Q460&Q461&Q462&Q463&Q464&Q465&Q466&Q467&Q468&Q469&Q470&Q471&Q472&Q473&Q474&Q475&Q476&Q477&Q478&Q479","v":"{1:MC:%0%a~%0%b~%0%c~%0%d~%0%e~%0%f~%0%g~%0%h~%0%i~%0%j~%0%k~%0%l~%0%m~%0%n~%0%o~%0%p~%0%q~%0%r~%0%s~%0%t~%0%u~%0%v~%0%w~%0%x~%0%y~%0%z}"}]
[1,{"$f":"\"{\"&IF('Embedded Answer (Cloze) Strings'!$D$22=\"\",1,'Embedded Answer (Cloze) Strings'!$D$22)&\":MC:%0%a~%0%b~%0%c~%0%d~%0%e~%0%f~%0%g~%0%h~%0%i~%0%j~%0%k~%0%l~%0%m~%0%n~%0%o~%0%p~%0%q~%0%r~%0%s~%0%t~%0%u~%0%v~%0%w~%0%x~%0%y~%0%z}\"","v":"{1:MC:%0%a~%0%b~%0%c~%0%d~%0%e~%0%f~%0%g~%0%h~%0%i~%0%j~%0%k~%0%l~%0%m~%0%n~%0%o~%0%p~%0%q~%0%r~%0%s~%0%t~%0%u~%0%v~%0%w~%0%x~%0%y~%0%z}"},{"$f":"IF(LEN($H$458)>=$A460,LEFT($H$458,$A460),\"\")","v":"0"},{"$f":"RIGHT(C460,1)","v":"0"},{"$f":"\"%0%\"&D460","v":"%0%0"},{"$f":"\"=\"&D460","v":"=0"},{"$f":"IF(D460=\"\",\"\",SUBSTITUTE(B460,E460,F460))","v":"{1:MC:%0%a~%0%b~%0%c~%0%d~%0%e~%0%f~%0%g~%0%h~%0%i~%0%j~%0%k~%0%l~%0%m~%0%n~%0%o~%0%p~%0%q~%0%r~%0%s~%0%t~%0%u~%0%v~%0%w~%0%x~%0%y~%0%z}"},null,null,null,1,"{1:MC:%0%a~%0%b~%0%c~%0%d~%0%e~%0%f~%0%g~%0%h~%0%i~%0%j~%0%k~%0%l~%0%m~%0%n~%0%o~%0%p~%0%q~%0%r~%0%s~%0%t~%0%u~%0%v~%0%w~%0%x~%0%y~%0%z}",{"$f":"IF(LEN($H$2)>=$A460,LEFT($H$2,$A460),\"\")","v":"0"},{"$f":"RIGHT(M460,1)","v":"0"},{"$f":"\"%0%\"&N460","v":"%0%0"},{"$f":"\"=\"&N460","v":"=0"},{"$f":"IF(N460=\"\",\"\",SUBSTITUTE(L460,O460,P460))","v":"{1:MC:%0%a~%0%b~%0%c~%0%d~%0%e~%0%f~%0%g~%0%h~%0%i~%0%j~%0%k~%0%l~%0%m~%0%n~%0%o~%0%p~%0%q~%0%r~%0%s~%0%t~%0%u~%0%v~%0%w~%0%x~%0%y~%0%z}"}]
[2,{"$f":"\"{\"&IF('Embedded Answer (Cloze) Strings'!$D$22=\"\",1,'Embedded Answer (Cloze) Strings'!$D$22)&\":MC:%0%a~%0%b~%0%c~%0%d~%0%e~%0%f~%0%g~%0%h~%0%i~%0%j~%0%k~%0%l~%0%m~%0%n~%0%o~%0%p~%0%q~%0%r~%0%s~%0%t~%0%u~%0%v~%0%w~%0%x~%0%y~%0%z}\"","v":"{1:MC:%0%a~%0%b~%0%c~%0%d~%0%e~%0%f~%0%g~%0%h~%0%i~%0%j~%0%k~%0%l~%0%m~%0%n~%0%o~%0%p~%0%q~%0%r~%0%s~%0%t~%0%u~%0%v~%0%w~%0%x~%0%y~%0%z}"},"",{"$f":"RIGHT(C461,1)","v":""},{"$f":"\"%0%\"&D461","v":"%0%"},"=","",null,null,null,2,"{1:MC:%0%a~%0%b~%0%c~%0%d~%0%e~%0%f~%0%g~%0%h~%0%i~%0%j~%0%k~%0%l~%0%m~%0%n~%0%o~%0%p~%0%q~%0%r~%0%s~%0%t~%0%u~%0%v~%0%w~%0%x~%0%y~%0%z}","",{"$f":"RIGHT(M461,1)","v":""},{"$f":"\"%0%\"&N461","v":"%0%"},{"$f":"\"=\"&N461","v":"="},{"$f":"IF(N461=\"\",\"\",SUBSTITUTE(L461,O461,P461))","v":""}]
[3,{"$f":"\"{\"&IF('Embedded Answer (Cloze) Strings'!$D$22=\"\",1,'Embedded Answer (Cloze) Strings'!$D$22)&\":MC:%0%a~%0%b~%0%c~%0%d~%0%e~%0%f~%0%g~%0%h~%0%i~%0%j~%0%k~%0%l~%0%m~%0%n~%0%o~%0%p~%0%q~%0%r~%0%s~%0%t~%0%u~%0%v~%0%w~%0%x~%0%y~%0%z}\"","v":"{1:MC:%0%a~%0%b~%0%c~%0%d~%0%e~%0%f~%0%g~%0%h~%0%i~%0%j~%0%k~%0%l~%0%m~%0%n~%0%o~%0%p~%0%q~%0%r~%0%s~%0%t~%0%u~%0%v~%0%w~%0%x~%0%y~%0%z}"},"","","%0%","=","",null,null,null,3,"{1:MC:%0%a~%0%b~%0%c~%0%d~%0%e~%0%f~%0%g~%0%h~%0%i~%0%j~%0%k~%0%l~%0%m~%0%n~%0%o~%0%p~%0%q~%0%r~%0%s~%0%t~%0%u~%0%v~%0%w~%0%x~%0%y~%0%z}","","","%0%","=",""]
[4,{"$f":"\"{\"&IF('Embedded Answer (Cloze) Strings'!$D$22=\"\",1,'Embedded Answer (Cloze) Strings'!$D$22)&\":MC:%0%a~%0%b~%0%c~%0%d~%0%e~%0%f~%0%g~%0%h~%0%i~%0%j~%0%k~%0%l~%0%m~%0%n~%0%o~%0%p~%0%q~%0%r~%0%s~%0%t~%0%u~%0%v~%0%w~%0%x~%0%y~%0%z}\"","v":"{1:MC:%0%a~%0%b~%0%c~%0%d~%0%e~%0%f~%0%g~%0%h~%0%i~%0%j~%0%k~%0%l~%0%m~%0%n~%0%o~%0%p~%0%q~%0%r~%0%s~%0%t~%0%u~%0%v~%0%w~%0%x~%0%y~%0%z}"},"","","%0%","=","",null,null,null,4,"{1:MC:%0%a~%0%b~%0%c~%0%d~%0%e~%0%f~%0%g~%0%h~%0%i~%0%j~%0%k~%0%l~%0%m~%0%n~%0%o~%0%p~%0%q~%0%r~%0%s~%0%t~%0%u~%0%v~%0%w~%0%x~%0%y~%0%z}","","","%0%","=",""]
[5,{"$f":"\"{\"&IF('Embedded Answer (Cloze) Strings'!$D$22=\"\",1,'Embedded Answer (Cloze) Strings'!$D$22)&\":MC:%0%a~%0%b~%0%c~%0%d~%0%e~%0%f~%0%g~%0%h~%0%i~%0%j~%0%k~%0%l~%0%m~%0%n~%0%o~%0%p~%0%q~%0%r~%0%s~%0%t~%0%u~%0%v~%0%w~%0%x~%0%y~%0%z}\"","v":"{1:MC:%0%a~%0%b~%0%c~%0%d~%0%e~%0%f~%0%g~%0%h~%0%i~%0%j~%0%k~%0%l~%0%m~%0%n~%0%o~%0%p~%0%q~%0%r~%0%s~%0%t~%0%u~%0%v~%0%w~%0%x~%0%y~%0%z}"},"","","%0%","=","",null,null,null,5,"{1:MC:%0%a~%0%b~%0%c~%0%d~%0%e~%0%f~%0%g~%0%h~%0%i~%0%j~%0%k~%0%l~%0%m~%0%n~%0%o~%0%p~%0%q~%0%r~%0%s~%0%t~%0%u~%0%v~%0%w~%0%x~%0%y~%0%z}","","","%0%","=",""]
[6,{"$f":"\"{\"&IF('Embedded Answer (Cloze) Strings'!$D$22=\"\",1,'Embedded Answer (Cloze) Strings'!$D$22)&\":MC:%0%a~%0%b~%0%c~%0%d~%0%e~%0%f~%0%g~%0%h~%0%i~%0%j~%0%k~%0%l~%0%m~%0%n~%0%o~%0%p~%0%q~%0%r~%0%s~%0%t~%0%u~%0%v~%0%w~%0%x~%0%y~%0%z}\"","v":"{1:MC:%0%a~%0%b~%0%c~%0%d~%0%e~%0%f~%0%g~%0%h~%0%i~%0%j~%0%k~%0%l~%0%m~%0%n~%0%o~%0%p~%0%q~%0%r~%0%s~%0%t~%0%u~%0%v~%0%w~%0%x~%0%y~%0%z}"},"","","%0%","=","",null,null,null,6,"{1:MC:%0%a~%0%b~%0%c~%0%d~%0%e~%0%f~%0%g~%0%h~%0%i~%0%j~%0%k~%0%l~%0%m~%0%n~%0%o~%0%p~%0%q~%0%r~%0%s~%0%t~%0%u~%0%v~%0%w~%0%x~%0%y~%0%z}","","","%0%","=",""]
[7,{"$f":"\"{\"&IF('Embedded Answer (Cloze) Strings'!$D$22=\"\",1,'Embedded Answer (Cloze) Strings'!$D$22)&\":MC:%0%a~%0%b~%0%c~%0%d~%0%e~%0%f~%0%g~%0%h~%0%i~%0%j~%0%k~%0%l~%0%m~%0%n~%0%o~%0%p~%0%q~%0%r~%0%s~%0%t~%0%u~%0%v~%0%w~%0%x~%0%y~%0%z}\"","v":"{1:MC:%0%a~%0%b~%0%c~%0%d~%0%e~%0%f~%0%g~%0%h~%0%i~%0%j~%0%k~%0%l~%0%m~%0%n~%0%o~%0%p~%0%q~%0%r~%0%s~%0%t~%0%u~%0%v~%0%w~%0%x~%0%y~%0%z}"},"","","%0%","=","",null,null,null,7,"{1:MC:%0%a~%0%b~%0%c~%0%d~%0%e~%0%f~%0%g~%0%h~%0%i~%0%j~%0%k~%0%l~%0%m~%0%n~%0%o~%0%p~%0%q~%0%r~%0%s~%0%t~%0%u~%0%v~%0%w~%0%x~%0%y~%0%z}","","","%0%","=",""]
[8,{"$f":"\"{\"&IF('Embedded Answer (Cloze) Strings'!$D$22=\"\",1,'Embedded Answer (Cloze) Strings'!$D$22)&\":MC:%0%a~%0%b~%0%c~%0%d~%0%e~%0%f~%0%g~%0%h~%0%i~%0%j~%0%k~%0%l~%0%m~%0%n~%0%o~%0%p~%0%q~%0%r~%0%s~%0%t~%0%u~%0%v~%0%w~%0%x~%0%y~%0%z}\"","v":"{1:MC:%0%a~%0%b~%0%c~%0%d~%0%e~%0%f~%0%g~%0%h~%0%i~%0%j~%0%k~%0%l~%0%m~%0%n~%0%o~%0%p~%0%q~%0%r~%0%s~%0%t~%0%u~%0%v~%0%w~%0%x~%0%y~%0%z}"},"","","%0%","=","",null,null,null,8,"{1:MC:%0%a~%0%b~%0%c~%0%d~%0%e~%0%f~%0%g~%0%h~%0%i~%0%j~%0%k~%0%l~%0%m~%0%n~%0%o~%0%p~%0%q~%0%r~%0%s~%0%t~%0%u~%0%v~%0%w~%0%x~%0%y~%0%z}","","","%0%","=",""]
[9,{"$f":"\"{\"&IF('Embedded Answer (Cloze) Strings'!$D$22=\"\",1,'Embedded Answer (Cloze) Strings'!$D$22)&\":MC:%0%a~%0%b~%0%c~%0%d~%0%e~%0%f~%0%g~%0%h~%0%i~%0%j~%0%k~%0%l~%0%m~%0%n~%0%o~%0%p~%0%q~%0%r~%0%s~%0%t~%0%u~%0%v~%0%w~%0%x~%0%y~%0%z}\"","v":"{1:MC:%0%a~%0%b~%0%c~%0%d~%0%e~%0%f~%0%g~%0%h~%0%i~%0%j~%0%k~%0%l~%0%m~%0%n~%0%o~%0%p~%0%q~%0%r~%0%s~%0%t~%0%u~%0%v~%0%w~%0%x~%0%y~%0%z}"},"","","%0%","=","",null,null,null,9,"{1:MC:%0%a~%0%b~%0%c~%0%d~%0%e~%0%f~%0%g~%0%h~%0%i~%0%j~%0%k~%0%l~%0%m~%0%n~%0%o~%0%p~%0%q~%0%r~%0%s~%0%t~%0%u~%0%v~%0%w~%0%x~%0%y~%0%z}","","","%0%","=",""]
[10,{"$f":"\"{\"&IF('Embedded Answer (Cloze) Strings'!$D$22=\"\",1,'Embedded Answer (Cloze) Strings'!$D$22)&\":MC:%0%a~%0%b~%0%c~%0%d~%0%e~%0%f~%0%g~%0%h~%0%i~%0%j~%0%k~%0%l~%0%m~%0%n~%0%o~%0%p~%0%q~%0%r~%0%s~%0%t~%0%u~%0%v~%0%w~%0%x~%0%y~%0%z}\"","v":"{1:MC:%0%a~%0%b~%0%c~%0%d~%0%e~%0%f~%0%g~%0%h~%0%i~%0%j~%0%k~%0%l~%0%m~%0%n~%0%o~%0%p~%0%q~%0%r~%0%s~%0%t~%0%u~%0%v~%0%w~%0%x~%0%y~%0%z}"},"","","%0%","=","",null,null,null,10,"{1:MC:%0%a~%0%b~%0%c~%0%d~%0%e~%0%f~%0%g~%0%h~%0%i~%0%j~%0%k~%0%l~%0%m~%0%n~%0%o~%0%p~%0%q~%0%r~%0%s~%0%t~%0%u~%0%v~%0%w~%0%x~%0%y~%0%z}","","","%0%","=",""]
[11,{"$f":"\"{\"&IF('Embedded Answer (Cloze) Strings'!$D$22=\"\",1,'Embedded Answer (Cloze) Strings'!$D$22)&\":MC:%0%a~%0%b~%0%c~%0%d~%0%e~%0%f~%0%g~%0%h~%0%i~%0%j~%0%k~%0%l~%0%m~%0%n~%0%o~%0%p~%0%q~%0%r~%0%s~%0%t~%0%u~%0%v~%0%w~%0%x~%0%y~%0%z}\"","v":"{1:MC:%0%a~%0%b~%0%c~%0%d~%0%e~%0%f~%0%g~%0%h~%0%i~%0%j~%0%k~%0%l~%0%m~%0%n~%0%o~%0%p~%0%q~%0%r~%0%s~%0%t~%0%u~%0%v~%0%w~%0%x~%0%y~%0%z}"},"","","%0%","=","",null,null,null,11,"{1:MC:%0%a~%0%b~%0%c~%0%d~%0%e~%0%f~%0%g~%0%h~%0%i~%0%j~%0%k~%0%l~%0%m~%0%n~%0%o~%0%p~%0%q~%0%r~%0%s~%0%t~%0%u~%0%v~%0%w~%0%x~%0%y~%0%z}","","","%0%","=",""]
[12,{"$f":"\"{\"&IF('Embedded Answer (Cloze) Strings'!$D$22=\"\",1,'Embedded Answer (Cloze) Strings'!$D$22)&\":MC:%0%a~%0%b~%0%c~%0%d~%0%e~%0%f~%0%g~%0%h~%0%i~%0%j~%0%k~%0%l~%0%m~%0%n~%0%o~%0%p~%0%q~%0%r~%0%s~%0%t~%0%u~%0%v~%0%w~%0%x~%0%y~%0%z}\"","v":"{1:MC:%0%a~%0%b~%0%c~%0%d~%0%e~%0%f~%0%g~%0%h~%0%i~%0%j~%0%k~%0%l~%0%m~%0%n~%0%o~%0%p~%0%q~%0%r~%0%s~%0%t~%0%u~%0%v~%0%w~%0%x~%0%y~%0%z}"},"","","%0%","=","",null,null,null,12,"{1:MC:%0%a~%0%b~%0%c~%0%d~%0%e~%0%f~%0%g~%0%h~%0%i~%0%j~%0%k~%0%l~%0%m~%0%n~%0%o~%0%p~%0%q~%0%r~%0%s~%0%t~%0%u~%0%v~%0%w~%0%x~%0%y~%0%z}","","","%0%","=",""]
[13,{"$f":"\"{\"&IF('Embedded Answer (Cloze) Strings'!$D$22=\"\",1,'Embedded Answer (Cloze) Strings'!$D$22)&\":MC:%0%a~%0%b~%0%c~%0%d~%0%e~%0%f~%0%g~%0%h~%0%i~%0%j~%0%k~%0%l~%0%m~%0%n~%0%o~%0%p~%0%q~%0%r~%0%s~%0%t~%0%u~%0%v~%0%w~%0%x~%0%y~%0%z}\"","v":"{1:MC:%0%a~%0%b~%0%c~%0%d~%0%e~%0%f~%0%g~%0%h~%0%i~%0%j~%0%k~%0%l~%0%m~%0%n~%0%o~%0%p~%0%q~%0%r~%0%s~%0%t~%0%u~%0%v~%0%w~%0%x~%0%y~%0%z}"},"","","%0%","=","",null,null,null,13,"{1:MC:%0%a~%0%b~%0%c~%0%d~%0%e~%0%f~%0%g~%0%h~%0%i~%0%j~%0%k~%0%l~%0%m~%0%n~%0%o~%0%p~%0%q~%0%r~%0%s~%0%t~%0%u~%0%v~%0%w~%0%x~%0%y~%0%z}","","","%0%","=",""]
[14,{"$f":"\"{\"&IF('Embedded Answer (Cloze) Strings'!$D$22=\"\",1,'Embedded Answer (Cloze) Strings'!$D$22)&\":MC:%0%a~%0%b~%0%c~%0%d~%0%e~%0%f~%0%g~%0%h~%0%i~%0%j~%0%k~%0%l~%0%m~%0%n~%0%o~%0%p~%0%q~%0%r~%0%s~%0%t~%0%u~%0%v~%0%w~%0%x~%0%y~%0%z}\"","v":"{1:MC:%0%a~%0%b~%0%c~%0%d~%0%e~%0%f~%0%g~%0%h~%0%i~%0%j~%0%k~%0%l~%0%m~%0%n~%0%o~%0%p~%0%q~%0%r~%0%s~%0%t~%0%u~%0%v~%0%w~%0%x~%0%y~%0%z}"},"","","%0%","=","",null,null,null,14,"{1:MC:%0%a~%0%b~%0%c~%0%d~%0%e~%0%f~%0%g~%0%h~%0%i~%0%j~%0%k~%0%l~%0%m~%0%n~%0%o~%0%p~%0%q~%0%r~%0%s~%0%t~%0%u~%0%v~%0%w~%0%x~%0%y~%0%z}","","","%0%","=",""]
[15,{"$f":"\"{\"&IF('Embedded Answer (Cloze) Strings'!$D$22=\"\",1,'Embedded Answer (Cloze) Strings'!$D$22)&\":MC:%0%a~%0%b~%0%c~%0%d~%0%e~%0%f~%0%g~%0%h~%0%i~%0%j~%0%k~%0%l~%0%m~%0%n~%0%o~%0%p~%0%q~%0%r~%0%s~%0%t~%0%u~%0%v~%0%w~%0%x~%0%y~%0%z}\"","v":"{1:MC:%0%a~%0%b~%0%c~%0%d~%0%e~%0%f~%0%g~%0%h~%0%i~%0%j~%0%k~%0%l~%0%m~%0%n~%0%o~%0%p~%0%q~%0%r~%0%s~%0%t~%0%u~%0%v~%0%w~%0%x~%0%y~%0%z}"},"","","%0%","=","",null,null,null,15,"{1:MC:%0%a~%0%b~%0%c~%0%d~%0%e~%0%f~%0%g~%0%h~%0%i~%0%j~%0%k~%0%l~%0%m~%0%n~%0%o~%0%p~%0%q~%0%r~%0%s~%0%t~%0%u~%0%v~%0%w~%0%x~%0%y~%0%z}","","","%0%","=",""]
[16,{"$f":"\"{\"&IF('Embedded Answer (Cloze) Strings'!$D$22=\"\",1,'Embedded Answer (Cloze) Strings'!$D$22)&\":MC:%0%a~%0%b~%0%c~%0%d~%0%e~%0%f~%0%g~%0%h~%0%i~%0%j~%0%k~%0%l~%0%m~%0%n~%0%o~%0%p~%0%q~%0%r~%0%s~%0%t~%0%u~%0%v~%0%w~%0%x~%0%y~%0%z}\"","v":"{1:MC:%0%a~%0%b~%0%c~%0%d~%0%e~%0%f~%0%g~%0%h~%0%i~%0%j~%0%k~%0%l~%0%m~%0%n~%0%o~%0%p~%0%q~%0%r~%0%s~%0%t~%0%u~%0%v~%0%w~%0%x~%0%y~%0%z}"},"","","%0%","=","",null,null,null,16,"{1:MC:%0%a~%0%b~%0%c~%0%d~%0%e~%0%f~%0%g~%0%h~%0%i~%0%j~%0%k~%0%l~%0%m~%0%n~%0%o~%0%p~%0%q~%0%r~%0%s~%0%t~%0%u~%0%v~%0%w~%0%x~%0%y~%0%z}","","","%0%","=",""]
[17,{"$f":"\"{\"&IF('Embedded Answer (Cloze) Strings'!$D$22=\"\",1,'Embedded Answer (Cloze) Strings'!$D$22)&\":MC:%0%a~%0%b~%0%c~%0%d~%0%e~%0%f~%0%g~%0%h~%0%i~%0%j~%0%k~%0%l~%0%m~%0%n~%0%o~%0%p~%0%q~%0%r~%0%s~%0%t~%0%u~%0%v~%0%w~%0%x~%0%y~%0%z}\"","v":"{1:MC:%0%a~%0%b~%0%c~%0%d~%0%e~%0%f~%0%g~%0%h~%0%i~%0%j~%0%k~%0%l~%0%m~%0%n~%0%o~%0%p~%0%q~%0%r~%0%s~%0%t~%0%u~%0%v~%0%w~%0%x~%0%y~%0%z}"},"","","%0%","=","",null,null,null,17,"{1:MC:%0%a~%0%b~%0%c~%0%d~%0%e~%0%f~%0%g~%0%h~%0%i~%0%j~%0%k~%0%l~%0%m~%0%n~%0%o~%0%p~%0%q~%0%r~%0%s~%0%t~%0%u~%0%v~%0%w~%0%x~%0%y~%0%z}","","","%0%","=",""]
[18,{"$f":"\"{\"&IF('Embedded Answer (Cloze) Strings'!$D$22=\"\",1,'Embedded Answer (Cloze) Strings'!$D$22)&\":MC:%0%a~%0%b~%0%c~%0%d~%0%e~%0%f~%0%g~%0%h~%0%i~%0%j~%0%k~%0%l~%0%m~%0%n~%0%o~%0%p~%0%q~%0%r~%0%s~%0%t~%0%u~%0%v~%0%w~%0%x~%0%y~%0%z}\"","v":"{1:MC:%0%a~%0%b~%0%c~%0%d~%0%e~%0%f~%0%g~%0%h~%0%i~%0%j~%0%k~%0%l~%0%m~%0%n~%0%o~%0%p~%0%q~%0%r~%0%s~%0%t~%0%u~%0%v~%0%w~%0%x~%0%y~%0%z}"},"","","%0%","=","",null,null,null,18,"{1:MC:%0%a~%0%b~%0%c~%0%d~%0%e~%0%f~%0%g~%0%h~%0%i~%0%j~%0%k~%0%l~%0%m~%0%n~%0%o~%0%p~%0%q~%0%r~%0%s~%0%t~%0%u~%0%v~%0%w~%0%x~%0%y~%0%z}","","","%0%","=",""]
[19,{"$f":"\"{\"&IF('Embedded Answer (Cloze) Strings'!$D$22=\"\",1,'Embedded Answer (Cloze) Strings'!$D$22)&\":MC:%0%a~%0%b~%0%c~%0%d~%0%e~%0%f~%0%g~%0%h~%0%i~%0%j~%0%k~%0%l~%0%m~%0%n~%0%o~%0%p~%0%q~%0%r~%0%s~%0%t~%0%u~%0%v~%0%w~%0%x~%0%y~%0%z}\"","v":"{1:MC:%0%a~%0%b~%0%c~%0%d~%0%e~%0%f~%0%g~%0%h~%0%i~%0%j~%0%k~%0%l~%0%m~%0%n~%0%o~%0%p~%0%q~%0%r~%0%s~%0%t~%0%u~%0%v~%0%w~%0%x~%0%y~%0%z}"},"","","%0%","=","",null,null,null,19,"{1:MC:%0%a~%0%b~%0%c~%0%d~%0%e~%0%f~%0%g~%0%h~%0%i~%0%j~%0%k~%0%l~%0%m~%0%n~%0%o~%0%p~%0%q~%0%r~%0%s~%0%t~%0%u~%0%v~%0%w~%0%x~%0%y~%0%z}","","","%0%","=",""]
[20,{"$f":"\"{\"&IF('Embedded Answer (Cloze) Strings'!$D$22=\"\",1,'Embedded Answer (Cloze) Strings'!$D$22)&\":MC:%0%a~%0%b~%0%c~%0%d~%0%e~%0%f~%0%g~%0%h~%0%i~%0%j~%0%k~%0%l~%0%m~%0%n~%0%o~%0%p~%0%q~%0%r~%0%s~%0%t~%0%u~%0%v~%0%w~%0%x~%0%y~%0%z}\"","v":"{1:MC:%0%a~%0%b~%0%c~%0%d~%0%e~%0%f~%0%g~%0%h~%0%i~%0%j~%0%k~%0%l~%0%m~%0%n~%0%o~%0%p~%0%q~%0%r~%0%s~%0%t~%0%u~%0%v~%0%w~%0%x~%0%y~%0%z}"},"","","%0%","=","",null,null,null,20,"{1:MC:%0%a~%0%b~%0%c~%0%d~%0%e~%0%f~%0%g~%0%h~%0%i~%0%j~%0%k~%0%l~%0%m~%0%n~%0%o~%0%p~%0%q~%0%r~%0%s~%0%t~%0%u~%0%v~%0%w~%0%x~%0%y~%0%z}","","","%0%","=",""]
[]
[]
[null,null,null,null,null,null,3,{"$f":"H3","v":"{1:MC:%0%a~%0%b~%0%c~%0%d~%0%e~%0%f~%0%g~%0%h~%0%i~%0%j~%0%k~%0%l~%0%m~%0%n~%0%o~%0%p~%0%q~%0%r~%0%s~%0%t~%0%u~%0%v~%0%w~%0%x~%0%y~%0%z}"}," ",null,null,null,null,null,null,null,3,{"$f":"R3","v":"{1:MC:%0%a~%0%b~%0%c~%0%d~%0%e~%0%f~%0%g~%0%h~%0%i~%0%j~%0%k~%0%l~%0%m~%0%n~%0%o~%0%p~%0%q~%0%r~%0%s~%0%t~%0%u~%0%v~%0%w~%0%x~%0%y~%0%z}"}," "]
[null,null,null,null,null,null,null,{"$f":"H27","v":"{1:MC:%0%a~%0%b~%0%c~%0%d~%0%e~%0%f~%0%g~%0%h~%0%i~%0%j~%0%k~%0%l~%0%m~%0%n~%0%o~%0%p~%0%q~%0%r~%0%s~%0%t~%0%u~%0%v~%0%w~%0%x~%0%y~%0%z}"}," ",null,null,null,null,null,null,null,null,{"$f":"R27","v":"{1:MC:%0%a~%0%b~%0%c~%0%d~%0%e~%0%f~%0%g~%0%h~%0%i~%0%j~%0%k~%0%l~%0%m~%0%n~%0%o~%0%p~%0%q~%0%r~%0%s~%0%t~%0%u~%0%v~%0%w~%0%x~%0%y~%0%z}"}," "]
[null,null,null,null,null,null,27,{"$f":"H51","v":"{1:MC:%0%a~%0%b~%0%c~%0%d~%0%e~%0%f~%0%g~%0%h~%0%i~%0%j~%0%k~%0%l~%0%m~%0%n~%0%o~%0%p~%0%q~%0%r~%0%s~%0%t~%0%u~%0%v~%0%w~%0%x~%0%y~%0%z}"}," ",null,null,null,null,null,null,null,27,{"$f":"R51","v":"{1:MC:%0%a~%0%b~%0%c~%0%d~%0%e~%0%f~%0%g~%0%h~%0%i~%0%j~%0%k~%0%l~%0%m~%0%n~%0%o~%0%p~%0%q~%0%r~%0%s~%0%t~%0%u~%0%v~%0%w~%0%x~%0%y~%0%z}"}," "]
[null,null,null,null,null,null,null,{"$f":"H75","v":"{1:MC:%0%a~%0%b~%0%c~%0%d~%0%e~%0%f~%0%g~%0%h~%0%i~%0%j~%0%k~%0%l~%0%m~%0%n~%0%o~%0%p~%0%q~%0%r~%0%s~%0%t~%0%u~%0%v~%0%w~%0%x~%0%y~%0%z}"}," ",null,null,null,null,null,null,null,null,{"$f":"R75","v":"{1:MC:%0%a~%0%b~%0%c~%0%d~%0%e~%0%f~%0%g~%0%h~%0%i~%0%j~%0%k~%0%l~%0%m~%0%n~%0%o~%0%p~%0%q~%0%r~%0%s~%0%t~%0%u~%0%v~%0%w~%0%x~%0%y~%0%z}"}," "]
[null,null,null,null,null,null,51,{"$f":"H99","v":"{1:MC:%0%a~%0%b~%0%c~%0%d~%0%e~%0%f~%0%g~%0%h~%0%i~%0%j~%0%k~%0%l~%0%m~%0%n~%0%o~%0%p~%0%q~%0%r~%0%s~%0%t~%0%u~%0%v~%0%w~%0%x~%0%y~%0%z}"}," ",null,null,null,null,null,null,null,51,{"$f":"R99","v":"{1:MC:%0%a~%0%b~%0%c~%0%d~%0%e~%0%f~%0%g~%0%h~%0%i~%0%j~%0%k~%0%l~%0%m~%0%n~%0%o~%0%p~%0%q~%0%r~%0%s~%0%t~%0%u~%0%v~%0%w~%0%x~%0%y~%0%z}"}," "]
[null,null,null,null,null,null,null,{"$f":"H123","v":"{1:MC:%0%a~%0%b~%0%c~%0%d~%0%e~%0%f~%0%g~%0%h~%0%i~%0%j~%0%k~%0%l~%0%m~%0%n~%0%o~%0%p~%0%q~%0%r~%0%s~%0%t~%0%u~%0%v~%0%w~%0%x~%0%y~%0%z}"}," ",null,null,null,null,null,null,null,null,{"$f":"R123","v":"{1:MC:%0%a~%0%b~%0%c~%0%d~%0%e~%0%f~%0%g~%0%h~%0%i~%0%j~%0%k~%0%l~%0%m~%0%n~%0%o~%0%p~%0%q~%0%r~%0%s~%0%t~%0%u~%0%v~%0%w~%0%x~%0%y~%0%z}"}," "]
[null,null,null,null,null,null,{"$f":"G486+24","v":75},{"$f":"H147","v":"{1:MC:%0%a~%0%b~%0%c~%0%d~%0%e~%0%f~%0%g~%0%h~%0%i~%0%j~%0%k~%0%l~%0%m~%0%n~%0%o~%0%p~%0%q~%0%r~%0%s~%0%t~%0%u~%0%v~%0%w~%0%x~%0%y~%0%z}"}," ",null,null,null,null,null,null,null,{"$f":"Q486+24","v":75},{"$f":"R147","v":"{1:MC:%0%a~%0%b~%0%c~%0%d~%0%e~%0%f~%0%g~%0%h~%0%i~%0%j~%0%k~%0%l~%0%m~%0%n~%0%o~%0%p~%0%q~%0%r~%0%s~%0%t~%0%u~%0%v~%0%w~%0%x~%0%y~%0%z}"}," "]
[null,null,null,null,null,null,null,{"$f":"H171","v":"{1:MC:%0%a~%0%b~%0%c~%0%d~%0%e~%0%f~%0%g~%0%h~%0%i~%0%j~%0%k~%0%l~%0%m~%0%n~%0%o~%0%p~%0%q~%0%r~%0%s~%0%t~%0%u~%0%v~%0%w~%0%x~%0%y~%0%z}"}," ",null,null,null,null,null,null,null,null,{"$f":"R171","v":"{1:MC:%0%a~%0%b~%0%c~%0%d~%0%e~%0%f~%0%g~%0%h~%0%i~%0%j~%0%k~%0%l~%0%m~%0%n~%0%o~%0%p~%0%q~%0%r~%0%s~%0%t~%0%u~%0%v~%0%w~%0%x~%0%y~%0%z}"}," "]
[null,null,null,null,null,null,{"$f":"G488+24","v":99},{"$f":"H195","v":"{1:MC:%0%a~%0%b~%0%c~%0%d~%0%e~%0%f~%0%g~%0%h~%0%i~%0%j~%0%k~%0%l~%0%m~%0%n~%0%o~%0%p~%0%q~%0%r~%0%s~%0%t~%0%u~%0%v~%0%w~%0%x~%0%y~%0%z}"}," ",null,null,null,null,null,null,null,{"$f":"Q488+24","v":99},{"$f":"R195","v":"{1:MC:%0%a~%0%b~%0%c~%0%d~%0%e~%0%f~%0%g~%0%h~%0%i~%0%j~%0%k~%0%l~%0%m~%0%n~%0%o~%0%p~%0%q~%0%r~%0%s~%0%t~%0%u~%0%v~%0%w~%0%x~%0%y~%0%z}"}," "]
[null,null,null,null,null,null,null,{"$f":"H219","v":"{1:MC:%0%a~%0%b~%0%c~%0%d~%0%e~%0%f~%0%g~%0%h~%0%i~%0%j~%0%k~%0%l~%0%m~%0%n~%0%o~%0%p~%0%q~%0%r~%0%s~%0%t~%0%u~%0%v~%0%w~%0%x~%0%y~%0%z}"}," ",null,null,null,null,null,null,null,null,{"$f":"R219","v":"{1:MC:%0%a~%0%b~%0%c~%0%d~%0%e~%0%f~%0%g~%0%h~%0%i~%0%j~%0%k~%0%l~%0%m~%0%n~%0%o~%0%p~%0%q~%0%r~%0%s~%0%t~%0%u~%0%v~%0%w~%0%x~%0%y~%0%z}"}," "]
[null,null,null,null,null,null,{"$f":"G490+24","v":123},{"$f":"H243","v":"{1:MC:%0%a~%0%b~%0%c~%0%d~%0%e~%0%f~%0%g~%0%h~%0%i~%0%j~%0%k~%0%l~%0%m~%0%n~%0%o~%0%p~%0%q~%0%r~%0%s~%0%t~%0%u~%0%v~%0%w~%0%x~%0%y~%0%z}"}," ",null,null,null,null,null,null,null,{"$f":"Q490+24","v":123},{"$f":"R243","v":"{1:MC:%0%a~%0%b~%0%c~%0%d~%0%e~%0%f~%0%g~%0%h~%0%i~%0%j~%0%k~%0%l~%0%m~%0%n~%0%o~%0%p~%0%q~%0%r~%0%s~%0%t~%0%u~%0%v~%0%w~%0%x~%0%y~%0%z}"}," "]
[null,null,null,null,null,null,null,{"$f":"H267","v":"{1:MC:%0%a~%0%b~%0%c~%0%d~%0%e~%0%f~%0%g~%0%h~%0%i~%0%j~%0%k~%0%l~%0%m~%0%n~%0%o~%0%p~%0%q~%0%r~%0%s~%0%t~%0%u~%0%v~%0%w~%0%x~%0%y~%0%z}"}," ",null,null,null,null,null,null,null,null,{"$f":"R267","v":"{1:MC:%0%a~%0%b~%0%c~%0%d~%0%e~%0%f~%0%g~%0%h~%0%i~%0%j~%0%k~%0%l~%0%m~%0%n~%0%o~%0%p~%0%q~%0%r~%0%s~%0%t~%0%u~%0%v~%0%w~%0%x~%0%y~%0%z}"}," "]
[null,null,null,null,null,null,{"$f":"G492+24","v":147},{"$f":"H291","v":"{1:MC:%0%a~%0%b~%0%c~%0%d~%0%e~%0%f~%0%g~%0%h~%0%i~%0%j~%0%k~%0%l~%0%m~%0%n~%0%o~%0%p~%0%q~%0%r~%0%s~%0%t~%0%u~%0%v~%0%w~%0%x~%0%y~%0%z}"}," ",null,null,null,null,null,null,null,{"$f":"Q492+24","v":147},{"$f":"R291","v":"{1:MC:%0%a~%0%b~%0%c~%0%d~%0%e~%0%f~%0%g~%0%h~%0%i~%0%j~%0%k~%0%l~%0%m~%0%n~%0%o~%0%p~%0%q~%0%r~%0%s~%0%t~%0%u~%0%v~%0%w~%0%x~%0%y~%0%z}"}," "]
[null,null,null,null,null,null,null,{"$f":"H315","v":"{1:MC:%0%a~%0%b~%0%c~%0%d~%0%e~%0%f~%0%g~%0%h~%0%i~%0%j~%0%k~%0%l~%0%m~%0%n~%0%o~%0%p~%0%q~%0%r~%0%s~%0%t~%0%u~%0%v~%0%w~%0%x~%0%y~%0%z}"}," ",null,null,null,null,null,null,null,null,{"$f":"R315","v":"{1:MC:%0%a~%0%b~%0%c~%0%d~%0%e~%0%f~%0%g~%0%h~%0%i~%0%j~%0%k~%0%l~%0%m~%0%n~%0%o~%0%p~%0%q~%0%r~%0%s~%0%t~%0%u~%0%v~%0%w~%0%x~%0%y~%0%z}"}," "]
[null,null,null,null,null,null,{"$f":"G494+24","v":171},{"$f":"H339","v":"{1:MC:%0%a~%0%b~%0%c~%0%d~%0%e~%0%f~%0%g~%0%h~%0%i~%0%j~%0%k~%0%l~%0%m~%0%n~%0%o~%0%p~%0%q~%0%r~%0%s~%0%t~%0%u~%0%v~%0%w~%0%x~%0%y~%0%z}"}," ",null,null,null,null,null,null,null,{"$f":"Q494+24","v":171},{"$f":"R339","v":"{1:MC:%0%a~%0%b~%0%c~%0%d~%0%e~%0%f~%0%g~%0%h~%0%i~%0%j~%0%k~%0%l~%0%m~%0%n~%0%o~%0%p~%0%q~%0%r~%0%s~%0%t~%0%u~%0%v~%0%w~%0%x~%0%y~%0%z}"}," "]
[null,null,null,null,null,null,null,{"$f":"H363","v":"{1:MC:%0%a~%0%b~%0%c~%0%d~%0%e~%0%f~%0%g~%0%h~%0%i~%0%j~%0%k~%0%l~%0%m~%0%n~%0%o~%0%p~%0%q~%0%r~%0%s~%0%t~%0%u~%0%v~%0%w~%0%x~%0%y~%0%z}"}," ",null,null,null,null,null,null,null,null,{"$f":"R363","v":"{1:MC:%0%a~%0%b~%0%c~%0%d~%0%e~%0%f~%0%g~%0%h~%0%i~%0%j~%0%k~%0%l~%0%m~%0%n~%0%o~%0%p~%0%q~%0%r~%0%s~%0%t~%0%u~%0%v~%0%w~%0%x~%0%y~%0%z}"}," "]
[null,null,null,null,null,null,{"$f":"G496+24","v":195},{"$f":"H387","v":"{1:MC:%0%a~%0%b~%0%c~%0%d~%0%e~%0%f~%0%g~%0%h~%0%i~%0%j~%0%k~%0%l~%0%m~%0%n~%0%o~%0%p~%0%q~%0%r~%0%s~%0%t~%0%u~%0%v~%0%w~%0%x~%0%y~%0%z}"}," ",null,null,null,null,null,null,null,{"$f":"Q496+24","v":195},{"$f":"R387","v":"{1:MC:%0%a~%0%b~%0%c~%0%d~%0%e~%0%f~%0%g~%0%h~%0%i~%0%j~%0%k~%0%l~%0%m~%0%n~%0%o~%0%p~%0%q~%0%r~%0%s~%0%t~%0%u~%0%v~%0%w~%0%x~%0%y~%0%z}"}," "]
[null,null,null,null,null,null,null,{"$f":"H411","v":"{1:MC:%0%a~%0%b~%0%c~%0%d~%0%e~%0%f~%0%g~%0%h~%0%i~%0%j~%0%k~%0%l~%0%m~%0%n~%0%o~%0%p~%0%q~%0%r~%0%s~%0%t~%0%u~%0%v~%0%w~%0%x~%0%y~%0%z}"}," ",null,null,null,null,null,null,null,null,{"$f":"R411","v":"{1:MC:%0%a~%0%b~%0%c~%0%d~%0%e~%0%f~%0%g~%0%h~%0%i~%0%j~%0%k~%0%l~%0%m~%0%n~%0%o~%0%p~%0%q~%0%r~%0%s~%0%t~%0%u~%0%v~%0%w~%0%x~%0%y~%0%z}"}," "]
[null,null,null,null,null,null,{"$f":"G498+24","v":219},{"$f":"H435","v":"{1:MC:%0%a~%0%b~%0%c~%0%d~%0%e~%0%f~%0%g~%0%h~%0%i~%0%j~%0%k~%0%l~%0%m~%0%n~%0%o~%0%p~%0%q~%0%r~%0%s~%0%t~%0%u~%0%v~%0%w~%0%x~%0%y~%0%z}"}," ",null,null,null,null,null,null,null,{"$f":"Q498+24","v":219},{"$f":"R435","v":"{1:MC:%0%a~%0%b~%0%c~%0%d~%0%e~%0%f~%0%g~%0%h~%0%i~%0%j~%0%k~%0%l~%0%m~%0%n~%0%o~%0%p~%0%q~%0%r~%0%s~%0%t~%0%u~%0%v~%0%w~%0%x~%0%y~%0%z}"}," "]
[null,null,null,null,null,null,null,{"$f":"H459","v":"{1:MC:%0%a~%0%b~%0%c~%0%d~%0%e~%0%f~%0%g~%0%h~%0%i~%0%j~%0%k~%0%l~%0%m~%0%n~%0%o~%0%p~%0%q~%0%r~%0%s~%0%t~%0%u~%0%v~%0%w~%0%x~%0%y~%0%z}"}," ",null,null,null,null,null,null,null,null,{"$f":"R459","v":"{1:MC:%0%a~%0%b~%0%c~%0%d~%0%e~%0%f~%0%g~%0%h~%0%i~%0%j~%0%k~%0%l~%0%m~%0%n~%0%o~%0%p~%0%q~%0%r~%0%s~%0%t~%0%u~%0%v~%0%w~%0%x~%0%y~%0%z}"}," "]
[null,null,null,null,null,null,{"$f":"G500+24","v":243},null," "]
[]
[null,null,null,null,null,null,{"$f":"G502+24","v":267}]
[]
[null,null,null,null,null,null,{"$f":"G504+24","v":291}]
[]
[null,null,null,null,null,null,{"$f":"G506+24","v":315}]
[]
[null,null,null,null,null,null,{"$f":"G508+24","v":339}]
[]
[null,null,null,null,null,null,{"$f":"G510+24","v":363}]
[]
[null,null,null,null,null,null,{"$f":"G512+24","v":387}]
[]
[null,null,null,null,null,null,{"$f":"G514+24","v":411}]
[]
[null,null,null,null,null,null,{"$f":"G516+24","v":435}]
[]
[null,null,null,null,null,null,{"$f":"G518+24","v":459}]